Workbook

Sheet Dashboard
A1: Pine Ridge Learning Institute Academic Calendar Planner
A3: Selected Academic Year | B3: 2026-2027
A4: As of Date | B4: 46272
A5: Lookahead Days | B5: 30
A8: Active Events | B8: =COUNTIFS('Calendar Events'!$B$6:$B$205,$B$3,'Calendar Events'!$F$6:$F$205,"<>",'Calendar Events'!$K$6:$K$205,"<>Cancelled")
A9: Upcoming Events | B9: =COUNTIFS('Calendar Events'!$B$6:$B$205,$B$3,'Calendar Events'!$D$6:$D$205,">="&$B$4,'Calendar Events'!$D$6:$D$205,"<="&$B$4+$B$5,'Calendar Events'!$K$6:$K$205,"<>Cancelled")
A10: Completed Events | B10: =COUNTIFS('Calendar Events'!$B$6:$B$205,$B$3,'Calendar Events'!$K$6:$K$205,"Completed")
A11: Events Requiring Review | B11: =COUNTIFS('Calendar Events'!$B$6:$B$205,$B$3,'Calendar Events'!$P$6:$P$205,"<>")
A12: Owner Conflicts | B12: =COUNTIFS('Calendar Events'!$B$6:$B$205,$B$3,'Calendar Events'!$O$6:$O$205,"Yes")
A13: Next Event Date | B13: =IFERROR(AGGREGATE(15,6,'Calendar Events'!$D$6:$D$205/(('Calendar Events'!$B$6:$B$205=$B$3)*('Calendar Events'!$D$6:$D$205>=$B$4)*('Calendar Events'!$K$6:$K$205<>"Cancelled")),1),"")
A14: Next Event | B14: =IF($B$13="","",IFERROR(INDEX('Calendar Events'!$F$6:$F$205,MATCH(1,INDEX(('Calendar Events'!$B$6:$B$205=$B$3)*('Calendar Events'!$D$6:$D$205=$B$13)*('Calendar Events'!$K$6:$K$205<>"Cancelled"),0),0)),""))
A18: Event Category | B18: Active Events | D18: Month | E18: Events Starting
A19: Instruction | B19: =COUNTIFS('Calendar Events'!$B$6:$B$205,$B$3,'Calendar Events'!$G$6:$G$205,A19,'Calendar Events'!$K$6:$K$205,"<>Cancelled") | D19: =IFERROR(DATE(YEAR(MINIFS('Academic Terms'!$C$6:$C$101,'Academic Terms'!$A$6:$A$101,$B$3)),MONTH(MINIFS('Academic Terms'!$C$6:$C$101,'Academic Terms'!$A$6:$A$101,$B$3)),1),"") | E19: =IF(D19="","",COUNTIFS('Calendar Events'!$B$6:$B$205,$B$3,'Calendar Events'!$D$6:$D$205,">="&D19,'Calendar Events'!$D$6:$D$205,"<"&EDATE(D19,1),'Calendar Events'!$K$6:$K$205,"<>Cancelled"))
A20: Registration | B20: =COUNTIFS('Calendar Events'!$B$6:$B$205,$B$3,'Calendar Events'!$G$6:$G$205,A20,'Calendar Events'!$K$6:$K$205,"<>Cancelled") | D20: =IF(D19="","",EDATE(D19,1)) | E20: =IF(D20="","",COUNTIFS('Calendar Events'!$B$6:$B$205,$B$3,'Calendar Events'!$D$6:$D$205,">="&D20,'Calendar Events'!$D$6:$D$205,"<"&EDATE(D20,1),'Calendar Events'!$K$6:$K$205,"<>Cancelled"))
A21: Assessment | B21: =COUNTIFS('Calendar Events'!$B$6:$B$205,$B$3,'Calendar Events'!$G$6:$G$205,A21,'Calendar Events'!$K$6:$K$205,"<>Cancelled") | D21: =IF(D20="","",EDATE(D20,1)) | E21: =IF(D21="","",COUNTIFS('Calendar Events'!$B$6:$B$205,$B$3,'Calendar Events'!$D$6:$D$205,">="&D21,'Calendar Events'!$D$6:$D$205,"<"&EDATE(D21,1),'Calendar Events'!$K$6:$K$205,"<>Cancelled"))
A22: Break/Holiday | B22: =COUNTIFS('Calendar Events'!$B$6:$B$205,$B$3,'Calendar Events'!$G$6:$G$205,A22,'Calendar Events'!$K$6:$K$205,"<>Cancelled") | D22: =IF(D21="","",EDATE(D21,1)) | E22: =IF(D22="","",COUNTIFS('Calendar Events'!$B$6:$B$205,$B$3,'Calendar Events'!$D$6:$D$205,">="&D22,'Calendar Events'!$D$6:$D$205,"<"&EDATE(D22,1),'Calendar Events'!$K$6:$K$205,"<>Cancelled"))
A23: Faculty Activity | B23: =COUNTIFS('Calendar Events'!$B$6:$B$205,$B$3,'Calendar Events'!$G$6:$G$205,A23,'Calendar Events'!$K$6:$K$205,"<>Cancelled") | D23: =IF(D22="","",EDATE(D22,1)) | E23: =IF(D23="","",COUNTIFS('Calendar Events'!$B$6:$B$205,$B$3,'Calendar Events'!$D$6:$D$205,">="&D23,'Calendar Events'!$D$6:$D$205,"<"&EDATE(D23,1),'Calendar Events'!$K$6:$K$205,"<>Cancelled"))
A24: Student Support | B24: =COUNTIFS('Calendar Events'!$B$6:$B$205,$B$3,'Calendar Events'!$G$6:$G$205,A24,'Calendar Events'!$K$6:$K$205,"<>Cancelled") | D24: =IF(D23="","",EDATE(D23,1)) | E24: =IF(D24="","",COUNTIFS('Calendar Events'!$B$6:$B$205,$B$3,'Calendar Events'!$D$6:$D$205,">="&D24,'Calendar Events'!$D$6:$D$205,"<"&EDATE(D24,1),'Calendar Events'!$K$6:$K$205,"<>Cancelled"))
A25: Ceremony | B25: =COUNTIFS('Calendar Events'!$B$6:$B$205,$B$3,'Calendar Events'!$G$6:$G$205,A25,'Calendar Events'!$K$6:$K$205,"<>Cancelled") | D25: =IF(D24="","",EDATE(D24,1)) | E25: =IF(D25="","",COUNTIFS('Calendar Events'!$B$6:$B$205,$B$3,'Calendar Events'!$D$6:$D$205,">="&D25,'Calendar Events'!$D$6:$D$205,"<"&EDATE(D25,1),'Calendar Events'!$K$6:$K$205,"<>Cancelled"))
A26: Deadline | B26: =COUNTIFS('Calendar Events'!$B$6:$B$205,$B$3,'Calendar Events'!$G$6:$G$205,A26,'Calendar Events'!$K$6:$K$205,"<>Cancelled") | D26: =IF(D25="","",EDATE(D25,1)) | E26: =IF(D26="","",COUNTIFS('Calendar Events'!$B$6:$B$205,$B$3,'Calendar Events'!$D$6:$D$205,">="&D26,'Calendar Events'!$D$6:$D$205,"<"&EDATE(D26,1),'Calendar Events'!$K$6:$K$205,"<>Cancelled"))
A27: Other | B27: =COUNTIFS('Calendar Events'!$B$6:$B$205,$B$3,'Calendar Events'!$G$6:$G$205,A27,'Calendar Events'!$K$6:$K$205,"<>Cancelled") | D27: =IF(D26="","",EDATE(D26,1)) | E27: =IF(D27="","",COUNTIFS('Calendar Events'!$B$6:$B$205,$B$3,'Calendar Events'!$D$6:$D$205,">="&D27,'Calendar Events'!$D$6:$D$205,"<"&EDATE(D27,1),'Calendar Events'!$K$6:$K$205,"<>Cancelled"))
B28: ="" | D28: =IF(D27="","",EDATE(D27,1)) | E28: =IF(D28="","",COUNTIFS('Calendar Events'!$B$6:$B$205,$B$3,'Calendar Events'!$D$6:$D$205,">="&D28,'Calendar Events'!$D$6:$D$205,"<"&EDATE(D28,1),'Calendar Events'!$K$6:$K$205,"<>Cancelled"))
B29: ="" | D29: =IF(D28="","",EDATE(D28,1)) | E29: =IF(D29="","",COUNTIFS('Calendar Events'!$B$6:$B$205,$B$3,'Calendar Events'!$D$6:$D$205,">="&D29,'Calendar Events'!$D$6:$D$205,"<"&EDATE(D29,1),'Calendar Events'!$K$6:$K$205,"<>Cancelled"))
B30: ="" | D30: =IF(D29="","",EDATE(D29,1)) | E30: =IF(D30="","",COUNTIFS('Calendar Events'!$B$6:$B$205,$B$3,'Calendar Events'!$D$6:$D$205,">="&D30,'Calendar Events'!$D$6:$D$205,"<"&EDATE(D30,1),'Calendar Events'!$K$6:$K$205,"<>Cancelled"))
B31: ="" | D31: ="" | E31: =""
B32: ="" | D32: ="" | E32: =""
B33: ="" | D33: ="" | E33: =""
B34: ="" | D34: ="" | E34: =""
B35: ="" | D35: ="" | E35: =""
B36: ="" | D36: ="" | E36: =""
B37: ="" | D37: ="" | E37: =""
B38: ="" | D38: ="" | E38: =""
B39: ="" | D39: ="" | E39: =""
B40: ="" | D40: ="" | E40: =""
B41: ="" | D41: ="" | E41: =""
B42: ="" | D42: ="" | E42: =""
... B101: ="" | D101: ="" | E101: =""

Sheet Month View
A1: Monthly Academic Calendar
A2: Selected Month | B2: 46266
B4: Sunday | C4: Monday | D4: Tuesday | E4: Wednesday | F4: Thursday | G4: Friday | H4: Saturday
B5: =DATE(YEAR($B$2),MONTH($B$2),1)-WEEKDAY(DATE(YEAR($B$2),MONTH($B$2),1),1)+1+0 | C5: =DATE(YEAR($B$2),MONTH($B$2),1)-WEEKDAY(DATE(YEAR($B$2),MONTH($B$2),1),1)+1+1 | D5: =DATE(YEAR($B$2),MONTH($B$2),1)-WEEKDAY(DATE(YEAR($B$2),MONTH($B$2),1),1)+1+2 | E5: =DATE(YEAR($B$2),MONTH($B$2),1)-WEEKDAY(DATE(YEAR($B$2),MONTH($B$2),1),1)+1+3 | F5: =DATE(YEAR($B$2),MONTH($B$2),1)-WEEKDAY(DATE(YEAR($B$2),MONTH($B$2),1),1)+1+4 | G5: =DATE(YEAR($B$2),MONTH($B$2),1)-WEEKDAY(DATE(YEAR($B$2),MONTH($B$2),1),1)+1+5 | H5: =DATE(YEAR($B$2),MONTH($B$2),1)-WEEKDAY(DATE(YEAR($B$2),MONTH($B$2),1),1)+1+6
B6: =DATE(YEAR($B$2),MONTH($B$2),1)-WEEKDAY(DATE(YEAR($B$2),MONTH($B$2),1),1)+1+7 | C6: =DATE(YEAR($B$2),MONTH($B$2),1)-WEEKDAY(DATE(YEAR($B$2),MONTH($B$2),1),1)+1+8 | D6: =DATE(YEAR($B$2),MONTH($B$2),1)-WEEKDAY(DATE(YEAR($B$2),MONTH($B$2),1),1)+1+9 | E6: =DATE(YEAR($B$2),MONTH($B$2),1)-WEEKDAY(DATE(YEAR($B$2),MONTH($B$2),1),1)+1+10 | F6: =DATE(YEAR($B$2),MONTH($B$2),1)-WEEKDAY(DATE(YEAR($B$2),MONTH($B$2),1),1)+1+11 | G6: =DATE(YEAR($B$2),MONTH($B$2),1)-WEEKDAY(DATE(YEAR($B$2),MONTH($B$2),1),1)+1+12 | H6: =DATE(YEAR($B$2),MONTH($B$2),1)-WEEKDAY(DATE(YEAR($B$2),MONTH($B$2),1),1)+1+13
B7: =DATE(YEAR($B$2),MONTH($B$2),1)-WEEKDAY(DATE(YEAR($B$2),MONTH($B$2),1),1)+1+14 | C7: =DATE(YEAR($B$2),MONTH($B$2),1)-WEEKDAY(DATE(YEAR($B$2),MONTH($B$2),1),1)+1+15 | D7: =DATE(YEAR($B$2),MONTH($B$2),1)-WEEKDAY(DATE(YEAR($B$2),MONTH($B$2),1),1)+1+16 | E7: =DATE(YEAR($B$2),MONTH($B$2),1)-WEEKDAY(DATE(YEAR($B$2),MONTH($B$2),1),1)+1+17 | F7: =DATE(YEAR($B$2),MONTH($B$2),1)-WEEKDAY(DATE(YEAR($B$2),MONTH($B$2),1),1)+1+18 | G7: =DATE(YEAR($B$2),MONTH($B$2),1)-WEEKDAY(DATE(YEAR($B$2),MONTH($B$2),1),1)+1+19 | H7: =DATE(YEAR($B$2),MONTH($B$2),1)-WEEKDAY(DATE(YEAR($B$2),MONTH($B$2),1),1)+1+20
B8: =DATE(YEAR($B$2),MONTH($B$2),1)-WEEKDAY(DATE(YEAR($B$2),MONTH($B$2),1),1)+1+21 | C8: =DATE(YEAR($B$2),MONTH($B$2),1)-WEEKDAY(DATE(YEAR($B$2),MONTH($B$2),1),1)+1+22 | D8: =DATE(YEAR($B$2),MONTH($B$2),1)-WEEKDAY(DATE(YEAR($B$2),MONTH($B$2),1),1)+1+23 | E8: =DATE(YEAR($B$2),MONTH($B$2),1)-WEEKDAY(DATE(YEAR($B$2),MONTH($B$2),1),1)+1+24 | F8: =DATE(YEAR($B$2),MONTH($B$2),1)-WEEKDAY(DATE(YEAR($B$2),MONTH($B$2),1),1)+1+25 | G8: =DATE(YEAR($B$2),MONTH($B$2),1)-WEEKDAY(DATE(YEAR($B$2),MONTH($B$2),1),1)+1+26 | H8: =DATE(YEAR($B$2),MONTH($B$2),1)-WEEKDAY(DATE(YEAR($B$2),MONTH($B$2),1),1)+1+27
B9: =DATE(YEAR($B$2),MONTH($B$2),1)-WEEKDAY(DATE(YEAR($B$2),MONTH($B$2),1),1)+1+28 | C9: =DATE(YEAR($B$2),MONTH($B$2),1)-WEEKDAY(DATE(YEAR($B$2),MONTH($B$2),1),1)+1+29 | D9: =DATE(YEAR($B$2),MONTH($B$2),1)-WEEKDAY(DATE(YEAR($B$2),MONTH($B$2),1),1)+1+30 | E9: =DATE(YEAR($B$2),MONTH($B$2),1)-WEEKDAY(DATE(YEAR($B$2),MONTH($B$2),1),1)+1+31 | F9: =DATE(YEAR($B$2),MONTH($B$2),1)-WEEKDAY(DATE(YEAR($B$2),MONTH($B$2),1),1)+1+32 | G9: =DATE(YEAR($B$2),MONTH($B$2),1)-WEEKDAY(DATE(YEAR($B$2),MONTH($B$2),1),1)+1+33 | H9: =DATE(YEAR($B$2),MONTH($B$2),1)-WEEKDAY(DATE(YEAR($B$2),MONTH($B$2),1),1)+1+34
B10: =DATE(YEAR($B$2),MONTH($B$2),1)-WEEKDAY(DATE(YEAR($B$2),MONTH($B$2),1),1)+1+35 | C10: =DATE(YEAR($B$2),MONTH($B$2),1)-WEEKDAY(DATE(YEAR($B$2),MONTH($B$2),1),1)+1+36 | D10: =DATE(YEAR($B$2),MONTH($B$2),1)-WEEKDAY(DATE(YEAR($B$2),MONTH($B$2),1),1)+1+37 | E10: =DATE(YEAR($B$2),MONTH($B$2),1)-WEEKDAY(DATE(YEAR($B$2),MONTH($B$2),1),1)+1+38 | F10: =DATE(YEAR($B$2),MONTH($B$2),1)-WEEKDAY(DATE(YEAR($B$2),MONTH($B$2),1),1)+1+39 | G10: =DATE(YEAR($B$2),MONTH($B$2),1)-WEEKDAY(DATE(YEAR($B$2),MONTH($B$2),1),1)+1+40 | H10: =DATE(YEAR($B$2),MONTH($B$2),1)-WEEKDAY(DATE(YEAR($B$2),MONTH($B$2),1),1)+1+41
B11: =DATE(YEAR($B$2),MONTH($B$2),1)-WEEKDAY(DATE(YEAR($B$2),MONTH($B$2),1),1)+1+42 | C11: =DATE(YEAR($B$2),MONTH($B$2),1)-WEEKDAY(DATE(YEAR($B$2),MONTH($B$2),1),1)+1+43 | D11: =DATE(YEAR($B$2),MONTH($B$2),1)-WEEKDAY(DATE(YEAR($B$2),MONTH($B$2),1),1)+1+44 | E11: =DATE(YEAR($B$2),MONTH($B$2),1)-WEEKDAY(DATE(YEAR($B$2),MONTH($B$2),1),1)+1+45 | F11: =DATE(YEAR($B$2),MONTH($B$2),1)-WEEKDAY(DATE(YEAR($B$2),MONTH($B$2),1),1)+1+46 | G11: =DATE(YEAR($B$2),MONTH($B$2),1)-WEEKDAY(DATE(YEAR($B$2),MONTH($B$2),1),1)+1+47 | H11: =DATE(YEAR($B$2),MONTH($B$2),1)-WEEKDAY(DATE(YEAR($B$2),MONTH($B$2),1),1)+1+48
B12: =DATE(YEAR($B$2),MONTH($B$2),1)-WEEKDAY(DATE(YEAR($B$2),MONTH($B$2),1),1)+1+49 | C12: =DATE(YEAR($B$2),MONTH($B$2),1)-WEEKDAY(DATE(YEAR($B$2),MONTH($B$2),1),1)+1+50 | D12: =DATE(YEAR($B$2),MONTH($B$2),1)-WEEKDAY(DATE(YEAR($B$2),MONTH($B$2),1),1)+1+51 | E12: =DATE(YEAR($B$2),MONTH($B$2),1)-WEEKDAY(DATE(YEAR($B$2),MONTH($B$2),1),1)+1+52 | F12: =DATE(YEAR($B$2),MONTH($B$2),1)-WEEKDAY(DATE(YEAR($B$2),MONTH($B$2),1),1)+1+53 | G12: =DATE(YEAR($B$2),MONTH($B$2),1)-WEEKDAY(DATE(YEAR($B$2),MONTH($B$2),1),1)+1+54 | H12: =DATE(YEAR($B$2),MONTH($B$2),1)-WEEKDAY(DATE(YEAR($B$2),MONTH($B$2),1),1)+1+55
B13: =DATE(YEAR($B$2),MONTH($B$2),1)-WEEKDAY(DATE(YEAR($B$2),MONTH($B$2),1),1)+1+56 | C13: =DATE(YEAR($B$2),MONTH($B$2),1)-WEEKDAY(DATE(YEAR($B$2),MONTH($B$2),1),1)+1+57 | D13: =DATE(YEAR($B$2),MONTH($B$2),1)-WEEKDAY(DATE(YEAR($B$2),MONTH($B$2),1),1)+1+58 | E13: =DATE(YEAR($B$2),MONTH($B$2),1)-WEEKDAY(DATE(YEAR($B$2),MONTH($B$2),1),1)+1+59 | F13: =DATE(YEAR($B$2),MONTH($B$2),1)-WEEKDAY(DATE(YEAR($B$2),MONTH($B$2),1),1)+1+60 | G13: =DATE(YEAR($B$2),MONTH($B$2),1)-WEEKDAY(DATE(YEAR($B$2),MONTH($B$2),1),1)+1+61 | H13: =DATE(YEAR($B$2),MONTH($B$2),1)-WEEKDAY(DATE(YEAR($B$2),MONTH($B$2),1),1)+1+62
B14: =DATE(YEAR($B$2),MONTH($B$2),1)-WEEKDAY(DATE(YEAR($B$2),MONTH($B$2),1),1)+1+63 | C14: =DATE(YEAR($B$2),MONTH($B$2),1)-WEEKDAY(DATE(YEAR($B$2),MONTH($B$2),1),1)+1+64 | D14: =DATE(YEAR($B$2),MONTH($B$2),1)-WEEKDAY(DATE(YEAR($B$2),MONTH($B$2),1),1)+1+65 | E14: =DATE(YEAR($B$2),MONTH($B$2),1)-WEEKDAY(DATE(YEAR($B$2),MONTH($B$2),1),1)+1+66 | F14: =DATE(YEAR($B$2),MONTH($B$2),1)-WEEKDAY(DATE(YEAR($B$2),MONTH($B$2),1),1)+1+67 | G14: =DATE(YEAR($B$2),MONTH($B$2),1)-WEEKDAY(DATE(YEAR($B$2),MONTH($B$2),1),1)+1+68 | H14: =DATE(YEAR($B$2),MONTH($B$2),1)-WEEKDAY(DATE(YEAR($B$2),MONTH($B$2),1),1)+1+69
B15: =DATE(YEAR($B$2),MONTH($B$2),1)-WEEKDAY(DATE(YEAR($B$2),MONTH($B$2),1),1)+1+70 | C15: =DATE(YEAR($B$2),MONTH($B$2),1)-WEEKDAY(DATE(YEAR($B$2),MONTH($B$2),1),1)+1+71 | D15: =DATE(YEAR($B$2),MONTH($B$2),1)-WEEKDAY(DATE(YEAR($B$2),MONTH($B$2),1),1)+1+72 | E15: =DATE(YEAR($B$2),MONTH($B$2),1)-WEEKDAY(DATE(YEAR($B$2),MONTH($B$2),1),1)+1+73 | F15: =DATE(YEAR($B$2),MONTH($B$2),1)-WEEKDAY(DATE(YEAR($B$2),MONTH($B$2),1),1)+1+74 | G15: =DATE(YEAR($B$2),MONTH($B$2),1)-WEEKDAY(DATE(YEAR($B$2),MONTH($B$2),1),1)+1+75 | H15: =DATE(YEAR($B$2),MONTH($B$2),1)-WEEKDAY(DATE(YEAR($B$2),MONTH($B$2),1),1)+1+76
B16: =DATE(YEAR($B$2),MONTH($B$2),1)-WEEKDAY(DATE(YEAR($B$2),MONTH($B$2),1),1)+1+77 | C16: =DATE(YEAR($B$2),MONTH($B$2),1)-WEEKDAY(DATE(YEAR($B$2),MONTH($B$2),1),1)+1+78 | D16: =DATE(YEAR($B$2),MONTH($B$2),1)-WEEKDAY(DATE(YEAR($B$2),MONTH($B$2),1),1)+1+79 | E16: =DATE(YEAR($B$2),MONTH($B$2),1)-WEEKDAY(DATE(YEAR($B$2),MONTH($B$2),1),1)+1+80 | F16: =DATE(YEAR($B$2),MONTH($B$2),1)-WEEKDAY(DATE(YEAR($B$2),MONTH($B$2),1),1)+1+81 | G16: =DATE(YEAR($B$2),MONTH($B$2),1)-WEEKDAY(DATE(YEAR($B$2),MONTH($B$2),1),1)+1+82 | H16: =DATE(YEAR($B$2),MONTH($B$2),1)-WEEKDAY(DATE(YEAR($B$2),MONTH($B$2),1),1)+1+83
B17: =DATE(YEAR($B$2),MONTH($B$2),1)-WEEKDAY(DATE(YEAR($B$2),MONTH($B$2),1),1)+1+84 | C17: =DATE(YEAR($B$2),MONTH($B$2),1)-WEEKDAY(DATE(YEAR($B$2),MONTH($B$2),1),1)+1+85 | D17: =DATE(YEAR($B$2),MONTH($B$2),1)-WEEKDAY(DATE(YEAR($B$2),MONTH($B$2),1),1)+1+86 | E17: =DATE(YEAR($B$2),MONTH($B$2),1)-WEEKDAY(DATE(YEAR($B$2),MONTH($B$2),1),1)+1+87 | F17: =DATE(YEAR($B$2),MONTH($B$2),1)-WEEKDAY(DATE(YEAR($B$2),MONTH($B$2),1),1)+1+88 | G17: =DATE(YEAR($B$2),MONTH($B$2),1)-WEEKDAY(DATE(YEAR($B$2),MONTH($B$2),1),1)+1+89 | H17: =DATE(YEAR($B$2),MONTH($B$2),1)-WEEKDAY(DATE(YEAR($B$2),MONTH($B$2),1),1)+1+90
B18: =DATE(YEAR($B$2),MONTH($B$2),1)-WEEKDAY(DATE(YEAR($B$2),MONTH($B$2),1),1)+1+91 | C18: =DATE(YEAR($B$2),MONTH($B$2),1)-WEEKDAY(DATE(YEAR($B$2),MONTH($B$2),1),1)+1+92 | D18: =DATE(YEAR($B$2),MONTH($B$2),1)-WEEKDAY(DATE(YEAR($B$2),MONTH($B$2),1),1)+1+93 | E18: =DATE(YEAR($B$2),MONTH($B$2),1)-WEEKDAY(DATE(YEAR($B$2),MONTH($B$2),1),1)+1+94 | F18: =DATE(YEAR($B$2),MONTH($B$2),1)-WEEKDAY(DATE(YEAR($B$2),MONTH($B$2),1),1)+1+95 | G18: =DATE(YEAR($B$2),MONTH($B$2),1)-WEEKDAY(DATE(YEAR($B$2),MONTH($B$2),1),1)+1+96 | H18: =DATE(YEAR($B$2),MONTH($B$2),1)-WEEKDAY(DATE(YEAR($B$2),MONTH($B$2),1),1)+1+97
B19: =DATE(YEAR($B$2),MONTH($B$2),1)-WEEKDAY(DATE(YEAR($B$2),MONTH($B$2),1),1)+1+98 | C19: =DATE(YEAR($B$2),MONTH($B$2),1)-WEEKDAY(DATE(YEAR($B$2),MONTH($B$2),1),1)+1+99 | D19: =DATE(YEAR($B$2),MONTH($B$2),1)-WEEKDAY(DATE(YEAR($B$2),MONTH($B$2),1),1)+1+100 | E19: =DATE(YEAR($B$2),MONTH($B$2),1)-WEEKDAY(DATE(YEAR($B$2),MONTH($B$2),1),1)+1+101 | F19: =DATE(YEAR($B$2),MONTH($B$2),1)-WEEKDAY(DATE(YEAR($B$2),MONTH($B$2),1),1)+1+102 | G19: =DATE(YEAR($B$2),MONTH($B$2),1)-WEEKDAY(DATE(YEAR($B$2),MONTH($B$2),1),1)+1+103 | H19: =DATE(YEAR($B$2),MONTH($B$2),1)-WEEKDAY(DATE(YEAR($B$2),MONTH($B$2),1),1)+1+104
B20: =DATE(YEAR($B$2),MONTH($B$2),1)-WEEKDAY(DATE(YEAR($B$2),MONTH($B$2),1),1)+1+105 | C20: =DATE(YEAR($B$2),MONTH($B$2),1)-WEEKDAY(DATE(YEAR($B$2),MONTH($B$2),1),1)+1+106 | D20: =DATE(YEAR($B$2),MONTH($B$2),1)-WEEKDAY(DATE(YEAR($B$2),MONTH($B$2),1),1)+1+107 | E20: =DATE(YEAR($B$2),MONTH($B$2),1)-WEEKDAY(DATE(YEAR($B$2),MONTH($B$2),1),1)+1+108 | F20: =DATE(YEAR($B$2),MONTH($B$2),1)-WEEKDAY(DATE(YEAR($B$2),MONTH($B$2),1),1)+1+109 | G20: =DATE(YEAR($B$2),MONTH($B$2),1)-WEEKDAY(DATE(YEAR($B$2),MONTH($B$2),1),1)+1+110 | H20: =DATE(YEAR($B$2),MONTH($B$2),1)-WEEKDAY(DATE(YEAR($B$2),MONTH($B$2),1),1)+1+111
B21: =DATE(YEAR($B$2),MONTH($B$2),1)-WEEKDAY(DATE(YEAR($B$2),MONTH($B$2),1),1)+1+112 | C21: =DATE(YEAR($B$2),MONTH($B$2),1)-WEEKDAY(DATE(YEAR($B$2),MONTH($B$2),1),1)+1+113 | D21: =DATE(YEAR($B$2),MONTH($B$2),1)-WEEKDAY(DATE(YEAR($B$2),MONTH($B$2),1),1)+1+114 | E21: =DATE(YEAR($B$2),MONTH($B$2),1)-WEEKDAY(DATE(YEAR($B$2),MONTH($B$2),1),1)+1+115 | F21: =DATE(YEAR($B$2),MONTH($B$2),1)-WEEKDAY(DATE(YEAR($B$2),MONTH($B$2),1),1)+1+116 | G21: =DATE(YEAR($B$2),MONTH($B$2),1)-WEEKDAY(DATE(YEAR($B$2),MONTH($B$2),1),1)+1+117 | H21: =DATE(YEAR($B$2),MONTH($B$2),1)-WEEKDAY(DATE(YEAR($B$2),MONTH($B$2),1),1)+1+118
B22: =DATE(YEAR($B$2),MONTH($B$2),1)-WEEKDAY(DATE(YEAR($B$2),MONTH($B$2),1),1)+1+119 | C22: =DATE(YEAR($B$2),MONTH($B$2),1)-WEEKDAY(DATE(YEAR($B$2),MONTH($B$2),1),1)+1+120 | D22: =DATE(YEAR($B$2),MONTH($B$2),1)-WEEKDAY(DATE(YEAR($B$2),MONTH($B$2),1),1)+1+121 | E22: =DATE(YEAR($B$2),MONTH($B$2),1)-WEEKDAY(DATE(YEAR($B$2),MONTH($B$2),1),1)+1+122 | F22: =DATE(YEAR($B$2),MONTH($B$2),1)-WEEKDAY(DATE(YEAR($B$2),MONTH($B$2),1),1)+1+123 | G22: =DATE(YEAR($B$2),MONTH($B$2),1)-WEEKDAY(DATE(YEAR($B$2),MONTH($B$2),1),1)+1+124 | H22: =DATE(YEAR($B$2),MONTH($B$2),1)-WEEKDAY(DATE(YEAR($B$2),MONTH($B$2),1),1)+1+125
B23: =DATE(YEAR($B$2),MONTH($B$2),1)-WEEKDAY(DATE(YEAR($B$2),MONTH($B$2),1),1)+1+126 | C23: =DATE(YEAR($B$2),MONTH($B$2),1)-WEEKDAY(DATE(YEAR($B$2),MONTH($B$2),1),1)+1+127 | D23: =DATE(YEAR($B$2),MONTH($B$2),1)-WEEKDAY(DATE(YEAR($B$2),MONTH($B$2),1),1)+1+128 | E23: =DATE(YEAR($B$2),MONTH($B$2),1)-WEEKDAY(DATE(YEAR($B$2),MONTH($B$2),1),1)+1+129 | F23: =DATE(YEAR($B$2),MONTH($B$2),1)-WEEKDAY(DATE(YEAR($B$2),MONTH($B$2),1),1)+1+130 | G23: =DATE(YEAR($B$2),MONTH($B$2),1)-WEEKDAY(DATE(YEAR($B$2),MONTH($B$2),1),1)+1+131 | H23: =DATE(YEAR($B$2),MONTH($B$2),1)-WEEKDAY(DATE(YEAR($B$2),MONTH($B$2),1),1)+1+132
B24: =DATE(YEAR($B$2),MONTH($B$2),1)-WEEKDAY(DATE(YEAR($B$2),MONTH($B$2),1),1)+1+133 | C24: =DATE(YEAR($B$2),MONTH($B$2),1)-WEEKDAY(DATE(YEAR($B$2),MONTH($B$2),1),1)+1+134 | D24: =DATE(YEAR($B$2),MONTH($B$2),1)-WEEKDAY(DATE(YEAR($B$2),MONTH($B$2),1),1)+1+135 | E24: =DATE(YEAR($B$2),MONTH($B$2),1)-WEEKDAY(DATE(YEAR($B$2),MONTH($B$2),1),1)+1+136 | F24: =DATE(YEAR($B$2),MONTH($B$2),1)-WEEKDAY(DATE(YEAR($B$2),MONTH($B$2),1),1)+1+137 | G24: =DATE(YEAR($B$2),MONTH($B$2),1)-WEEKDAY(DATE(YEAR($B$2),MONTH($B$2),1),1)+1+138 | H24: =DATE(YEAR($B$2),MONTH($B$2),1)-WEEKDAY(DATE(YEAR($B$2),MONTH($B$2),1),1)+1+139
B25: =DATE(YEAR($B$2),MONTH($B$2),1)-WEEKDAY(DATE(YEAR($B$2),MONTH($B$2),1),1)+1+140 | C25: =DATE(YEAR($B$2),MONTH($B$2),1)-WEEKDAY(DATE(YEAR($B$2),MONTH($B$2),1),1)+1+141 | D25: =DATE(YEAR($B$2),MONTH($B$2),1)-WEEKDAY(DATE(YEAR($B$2),MONTH($B$2),1),1)+1+142 | E25: =DATE(YEAR($B$2),MONTH($B$2),1)-WEEKDAY(DATE(YEAR($B$2),MONTH($B$2),1),1)+1+143 | F25: =DATE(YEAR($B$2),MONTH($B$2),1)-WEEKDAY(DATE(YEAR($B$2),MONTH($B$2),1),1)+1+144 | G25: =DATE(YEAR($B$2),MONTH($B$2),1)-WEEKDAY(DATE(YEAR($B$2),MONTH($B$2),1),1)+1+145 | H25: =DATE(YEAR($B$2),MONTH($B$2),1)-WEEKDAY(DATE(YEAR($B$2),MONTH($B$2),1),1)+1+146
B26: =DATE(YEAR($B$2),MONTH($B$2),1)-WEEKDAY(DATE(YEAR($B$2),MONTH($B$2),1),1)+1+147 | C26: =DATE(YEAR($B$2),MONTH($B$2),1)-WEEKDAY(DATE(YEAR($B$2),MONTH($B$2),1),1)+1+148 | D26: =DATE(YEAR($B$2),MONTH($B$2),1)-WEEKDAY(DATE(YEAR($B$2),MONTH($B$2),1),1)+1+149 | E26: =DATE(YEAR($B$2),MONTH($B$2),1)-WEEKDAY(DATE(YEAR($B$2),MONTH($B$2),1),1)+1+150 | F26: =DATE(YEAR($B$2),MONTH($B$2),1)-WEEKDAY(DATE(YEAR($B$2),MONTH($B$2),1),1)+1+151 | G26: =DATE(YEAR($B$2),MONTH($B$2),1)-WEEKDAY(DATE(YEAR($B$2),MONTH($B$2),1),1)+1+152 | H26: =DATE(YEAR($B$2),MONTH($B$2),1)-WEEKDAY(DATE(YEAR($B$2),MONTH($B$2),1),1)+1+153
B27: =DATE(YEAR($B$2),MONTH($B$2),1)-WEEKDAY(DATE(YEAR($B$2),MONTH($B$2),1),1)+1+154 | C27: =DATE(YEAR($B$2),MONTH($B$2),1)-WEEKDAY(DATE(YEAR($B$2),MONTH($B$2),1),1)+1+155 | D27: =DATE(YEAR($B$2),MONTH($B$2),1)-WEEKDAY(DATE(YEAR($B$2),MONTH($B$2),1),1)+1+156 | E27: =DATE(YEAR($B$2),MONTH($B$2),1)-WEEKDAY(DATE(YEAR($B$2),MONTH($B$2),1),1)+1+157 | F27: =DATE(YEAR($B$2),MONTH($B$2),1)-WEEKDAY(DATE(YEAR($B$2),MONTH($B$2),1),1)+1+158 | G27: =DATE(YEAR($B$2),MONTH($B$2),1)-WEEKDAY(DATE(YEAR($B$2),MONTH($B$2),1),1)+1+159 | H27: =DATE(YEAR($B$2),MONTH($B$2),1)-WEEKDAY(DATE(YEAR($B$2),MONTH($B$2),1),1)+1+160
B28: =DATE(YEAR($B$2),MONTH($B$2),1)-WEEKDAY(DATE(YEAR($B$2),MONTH($B$2),1),1)+1+161 | C28: =DATE(YEAR($B$2),MONTH($B$2),1)-WEEKDAY(DATE(YEAR($B$2),MONTH($B$2),1),1)+1+162 | D28: =DATE(YEAR($B$2),MONTH($B$2),1)-WEEKDAY(DATE(YEAR($B$2),MONTH($B$2),1),1)+1+163 | E28: =DATE(YEAR($B$2),MONTH($B$2),1)-WEEKDAY(DATE(YEAR($B$2),MONTH($B$2),1),1)+1+164 | F28: =DATE(YEAR($B$2),MONTH($B$2),1)-WEEKDAY(DATE(YEAR($B$2),MONTH($B$2),1),1)+1+165 | G28: =DATE(YEAR($B$2),MONTH($B$2),1)-WEEKDAY(DATE(YEAR($B$2),MONTH($B$2),1),1)+1+166 | H28: =DATE(YEAR($B$2),MONTH($B$2),1)-WEEKDAY(DATE(YEAR($B$2),MONTH($B$2),1),1)+1+167
B29: =DATE(YEAR($B$2),MONTH($B$2),1)-WEEKDAY(DATE(YEAR($B$2),MONTH($B$2),1),1)+1+168 | C29: =DATE(YEAR($B$2),MONTH($B$2),1)-WEEKDAY(DATE(YEAR($B$2),MONTH($B$2),1),1)+1+169 | D29: =DATE(YEAR($B$2),MONTH($B$2),1)-WEEKDAY(DATE(YEAR($B$2),MONTH($B$2),1),1)+1+170 | E29: =DATE(YEAR($B$2),MONTH($B$2),1)-WEEKDAY(DATE(YEAR($B$2),MONTH($B$2),1),1)+1+171 | F29: =DATE(YEAR($B$2),MONTH($B$2),1)-WEEKDAY(DATE(YEAR($B$2),MONTH($B$2),1),1)+1+172 | G29: =DATE(YEAR($B$2),MONTH($B$2),1)-WEEKDAY(DATE(YEAR($B$2),MONTH($B$2),1),1)+1+173 | H29: =DATE(YEAR($B$2),MONTH($B$2),1)-WEEKDAY(DATE(YEAR($B$2),MONTH($B$2),1),1)+1+174
B30: =DATE(YEAR($B$2),MONTH($B$2),1)-WEEKDAY(DATE(YEAR($B$2),MONTH($B$2),1),1)+1+175 | C30: =DATE(YEAR($B$2),MONTH($B$2),1)-WEEKDAY(DATE(YEAR($B$2),MONTH($B$2),1),1)+1+176 | D30: =DATE(YEAR($B$2),MONTH($B$2),1)-WEEKDAY(DATE(YEAR($B$2),MONTH($B$2),1),1)+1+177 | E30: =DATE(YEAR($B$2),MONTH($B$2),1)-WEEKDAY(DATE(YEAR($B$2),MONTH($B$2),1),1)+1+178 | F30: =DATE(YEAR($B$2),MONTH($B$2),1)-WEEKDAY(DATE(YEAR($B$2),MONTH($B$2),1),1)+1+179 | G30: =DATE(YEAR($B$2),MONTH($B$2),1)-WEEKDAY(DATE(YEAR($B$2),MONTH($B$2),1),1)+1+180 | H30: =DATE(YEAR($B$2),MONTH($B$2),1)-WEEKDAY(DATE(YEAR($B$2),MONTH($B$2),1),1)+1+181
B31: =DATE(YEAR($B$2),MONTH($B$2),1)-WEEKDAY(DATE(YEAR($B$2),MONTH($B$2),1),1)+1+182 | C31: =DATE(YEAR($B$2),MONTH($B$2),1)-WEEKDAY(DATE(YEAR($B$2),MONTH($B$2),1),1)+1+183 | D31: =DATE(YEAR($B$2),MONTH($B$2),1)-WEEKDAY(DATE(YEAR($B$2),MONTH($B$2),1),1)+1+184 | E31: =DATE(YEAR($B$2),MONTH($B$2),1)-WEEKDAY(DATE(YEAR($B$2),MONTH($B$2),1),1)+1+185 | F31: =DATE(YEAR($B$2),MONTH($B$2),1)-WEEKDAY(DATE(YEAR($B$2),MONTH($B$2),1),1)+1+186 | G31: =DATE(YEAR($B$2),MONTH($B$2),1)-WEEKDAY(DATE(YEAR($B$2),MONTH($B$2),1),1)+1+187 | H31: =DATE(YEAR($B$2),MONTH($B$2),1)-WEEKDAY(DATE(YEAR($B$2),MONTH($B$2),1),1)+1+188
B32: =DATE(YEAR($B$2),MONTH($B$2),1)-WEEKDAY(DATE(YEAR($B$2),MONTH($B$2),1),1)+1+189 | C32: =DATE(YEAR($B$2),MONTH($B$2),1)-WEEKDAY(DATE(YEAR($B$2),MONTH($B$2),1),1)+1+190 | D32: =DATE(YEAR($B$2),MONTH($B$2),1)-WEEKDAY(DATE(YEAR($B$2),MONTH($B$2),1),1)+1+191 | E32: =DATE(YEAR($B$2),MONTH($B$2),1)-WEEKDAY(DATE(YEAR($B$2),MONTH($B$2),1),1)+1+192 | F32: =DATE(YEAR($B$2),MONTH($B$2),1)-WEEKDAY(DATE(YEAR($B$2),MONTH($B$2),1),1)+1+193 | G32: =DATE(YEAR($B$2),MONTH($B$2),1)-WEEKDAY(DATE(YEAR($B$2),MONTH($B$2),1),1)+1+194 | H32: =DATE(YEAR($B$2),MONTH($B$2),1)-WEEKDAY(DATE(YEAR($B$2),MONTH($B$2),1),1)+1+195
B33: =DATE(YEAR($B$2),MONTH($B$2),1)-WEEKDAY(DATE(YEAR($B$2),MONTH($B$2),1),1)+1+196 | C33: =DATE(YEAR($B$2),MONTH($B$2),1)-WEEKDAY(DATE(YEAR($B$2),MONTH($B$2),1),1)+1+197 | D33: =DATE(YEAR($B$2),MONTH($B$2),1)-WEEKDAY(DATE(YEAR($B$2),MONTH($B$2),1),1)+1+198 | E33: =DATE(YEAR($B$2),MONTH($B$2),1)-WEEKDAY(DATE(YEAR($B$2),MONTH($B$2),1),1)+1+199 | F33: =DATE(YEAR($B$2),MONTH($B$2),1)-WEEKDAY(DATE(YEAR($B$2),MONTH($B$2),1),1)+1+200 | G33: =DATE(YEAR($B$2),MONTH($B$2),1)-WEEKDAY(DATE(YEAR($B$2),MONTH($B$2),1),1)+1+201 | H33: =DATE(YEAR($B$2),MONTH($B$2),1)-WEEKDAY(DATE(YEAR($B$2),MONTH($B$2),1),1)+1+202
B34: =DATE(YEAR($B$2),MONTH($B$2),1)-WEEKDAY(DATE(YEAR($B$2),MONTH($B$2),1),1)+1+203 | C34: =DATE(YEAR($B$2),MONTH($B$2),1)-WEEKDAY(DATE(YEAR($B$2),MONTH($B$2),1),1)+1+204 | D34: =DATE(YEAR($B$2),MONTH($B$2),1)-WEEKDAY(DATE(YEAR($B$2),MONTH($B$2),1),1)+1+205 | E34: =DATE(YEAR($B$2),MONTH($B$2),1)-WEEKDAY(DATE(YEAR($B$2),MONTH($B$2),1),1)+1+206 | F34: =DATE(YEAR($B$2),MONTH($B$2),1)-WEEKDAY(DATE(YEAR($B$2),MONTH($B$2),1),1)+1+207 | G34: =DATE(YEAR($B$2),MONTH($B$2),1)-WEEKDAY(DATE(YEAR($B$2),MONTH($B$2),1),1)+1+208 | H34: =DATE(YEAR($B$2),MONTH($B$2),1)-WEEKDAY(DATE(YEAR($B$2),MONTH($B$2),1),1)+1+209
B35: =DATE(YEAR($B$2),MONTH($B$2),1)-WEEKDAY(DATE(YEAR($B$2),MONTH($B$2),1),1)+1+210 | C35: =DATE(YEAR($B$2),MONTH($B$2),1)-WEEKDAY(DATE(YEAR($B$2),MONTH($B$2),1),1)+1+211 | D35: =DATE(YEAR($B$2),MONTH($B$2),1)-WEEKDAY(DATE(YEAR($B$2),MONTH($B$2),1),1)+1+212 | E35: =DATE(YEAR($B$2),MONTH($B$2),1)-WEEKDAY(DATE(YEAR($B$2),MONTH($B$2),1),1)+1+213 | F35: =DATE(YEAR($B$2),MONTH($B$2),1)-WEEKDAY(DATE(YEAR($B$2),MONTH($B$2),1),1)+1+214 | G35: =DATE(YEAR($B$2),MONTH($B$2),1)-WEEKDAY(DATE(YEAR($B$2),MONTH($B$2),1),1)+1+215 | H35: =DATE(YEAR($B$2),MONTH($B$2),1)-WEEKDAY(DATE(YEAR($B$2),MONTH($B$2),1),1)+1+216
B36: =DATE(YEAR($B$2),MONTH($B$2),1)-WEEKDAY(DATE(YEAR($B$2),MONTH($B$2),1),1)+1+217 | C36: =DATE(YEAR($B$2),MONTH($B$2),1)-WEEKDAY(DATE(YEAR($B$2),MONTH($B$2),1),1)+1+218 | D36: =DATE(YEAR($B$2),MONTH($B$2),1)-WEEKDAY(DATE(YEAR($B$2),MONTH($B$2),1),1)+1+219 | E36: =DATE(YEAR($B$2),MONTH($B$2),1)-WEEKDAY(DATE(YEAR($B$2),MONTH($B$2),1),1)+1+220 | F36: =DATE(YEAR($B$2),MONTH($B$2),1)-WEEKDAY(DATE(YEAR($B$2),MONTH($B$2),1),1)+1+221 | G36: =DATE(YEAR($B$2),MONTH($B$2),1)-WEEKDAY(DATE(YEAR($B$2),MONTH($B$2),1),1)+1+222 | H36: =DATE(YEAR($B$2),MONTH($B$2),1)-WEEKDAY(DATE(YEAR($B$2),MONTH($B$2),1),1)+1+223
B37: =DATE(YEAR($B$2),MONTH($B$2),1)-WEEKDAY(DATE(YEAR($B$2),MONTH($B$2),1),1)+1+224 | C37: =DATE(YEAR($B$2),MONTH($B$2),1)-WEEKDAY(DATE(YEAR($B$2),MONTH($B$2),1),1)+1+225 | D37: =DATE(YEAR($B$2),MONTH($B$2),1)-WEEKDAY(DATE(YEAR($B$2),MONTH($B$2),1),1)+1+226 | E37: =DATE(YEAR($B$2),MONTH($B$2),1)-WEEKDAY(DATE(YEAR($B$2),MONTH($B$2),1),1)+1+227 | F37: =DATE(YEAR($B$2),MONTH($B$2),1)-WEEKDAY(DATE(YEAR($B$2),MONTH($B$2),1),1)+1+228 | G37: =DATE(YEAR($B$2),MONTH($B$2),1)-WEEKDAY(DATE(YEAR($B$2),MONTH($B$2),1),1)+1+229 | H37: =DATE(YEAR($B$2),MONTH($B$2),1)-WEEKDAY(DATE(YEAR($B$2),MONTH($B$2),1),1)+1+230
B38: =DATE(YEAR($B$2),MONTH($B$2),1)-WEEKDAY(DATE(YEAR($B$2),MONTH($B$2),1),1)+1+231 | C38: =DATE(YEAR($B$2),MONTH($B$2),1)-WEEKDAY(DATE(YEAR($B$2),MONTH($B$2),1),1)+1+232 | D38: =DATE(YEAR($B$2),MONTH($B$2),1)-WEEKDAY(DATE(YEAR($B$2),MONTH($B$2),1),1)+1+233 | E38: =DATE(YEAR($B$2),MONTH($B$2),1)-WEEKDAY(DATE(YEAR($B$2),MONTH($B$2),1),1)+1+234 | F38: =DATE(YEAR($B$2),MONTH($B$2),1)-WEEKDAY(DATE(YEAR($B$2),MONTH($B$2),1),1)+1+235 | G38: =DATE(YEAR($B$2),MONTH($B$2),1)-WEEKDAY(DATE(YEAR($B$2),MONTH($B$2),1),1)+1+236 | H38: =DATE(YEAR($B$2),MONTH($B$2),1)-WEEKDAY(DATE(YEAR($B$2),MONTH($B$2),1),1)+1+237
B39: =DATE(YEAR($B$2),MONTH($B$2),1)-WEEKDAY(DATE(YEAR($B$2),MONTH($B$2),1),1)+1+238 | C39: =DATE(YEAR($B$2),MONTH($B$2),1)-WEEKDAY(DATE(YEAR($B$2),MONTH($B$2),1),1)+1+239 | D39: =DATE(YEAR($B$2),MONTH($B$2),1)-WEEKDAY(DATE(YEAR($B$2),MONTH($B$2),1),1)+1+240 | E39: =DATE(YEAR($B$2),MONTH($B$2),1)-WEEKDAY(DATE(YEAR($B$2),MONTH($B$2),1),1)+1+241 | F39: =DATE(YEAR($B$2),MONTH($B$2),1)-WEEKDAY(DATE(YEAR($B$2),MONTH($B$2),1),1)+1+242 | G39: =DATE(YEAR($B$2),MONTH($B$2),1)-WEEKDAY(DATE(YEAR($B$2),MONTH($B$2),1),1)+1+243 | H39: =DATE(YEAR($B$2),MONTH($B$2),1)-WEEKDAY(DATE(YEAR($B$2),MONTH($B$2),1),1)+1+244
B40: =DATE(YEAR($B$2),MONTH($B$2),1)-WEEKDAY(DATE(YEAR($B$2),MONTH($B$2),1),1)+1+245 | C40: =DATE(YEAR($B$2),MONTH($B$2),1)-WEEKDAY(DATE(YEAR($B$2),MONTH($B$2),1),1)+1+246 | D40: =DATE(YEAR($B$2),MONTH($B$2),1)-WEEKDAY(DATE(YEAR($B$2),MONTH($B$2),1),1)+1+247 | E40: =DATE(YEAR($B$2),MONTH($B$2),1)-WEEKDAY(DATE(YEAR($B$2),MONTH($B$2),1),1)+1+248 | F40: =DATE(YEAR($B$2),MONTH($B$2),1)-WEEKDAY(DATE(YEAR($B$2),MONTH($B$2),1),1)+1+249 | G40: =DATE(YEAR($B$2),MONTH($B$2),1)-WEEKDAY(DATE(YEAR($B$2),MONTH($B$2),1),1)+1+250 | H40: =DATE(YEAR($B$2),MONTH($B$2),1)-WEEKDAY(DATE(YEAR($B$2),MONTH($B$2),1),1)+1+251
B41: =DATE(YEAR($B$2),MONTH($B$2),1)-WEEKDAY(DATE(YEAR($B$2),MONTH($B$2),1),1)+1+252 | C41: =DATE(YEAR($B$2),MONTH($B$2),1)-WEEKDAY(DATE(YEAR($B$2),MONTH($B$2),1),1)+1+253 | D41: =DATE(YEAR($B$2),MONTH($B$2),1)-WEEKDAY(DATE(YEAR($B$2),MONTH($B$2),1),1)+1+254 | E41: =DATE(YEAR($B$2),MONTH($B$2),1)-WEEKDAY(DATE(YEAR($B$2),MONTH($B$2),1),1)+1+255 | F41: =DATE(YEAR($B$2),MONTH($B$2),1)-WEEKDAY(DATE(YEAR($B$2),MONTH($B$2),1),1)+1+256 | G41: =DATE(YEAR($B$2),MONTH($B$2),1)-WEEKDAY(DATE(YEAR($B$2),MONTH($B$2),1),1)+1+257 | H41: =DATE(YEAR($B$2),MONTH($B$2),1)-WEEKDAY(DATE(YEAR($B$2),MONTH($B$2),1),1)+1+258
B42: =DATE(YEAR($B$2),MONTH($B$2),1)-WEEKDAY(DATE(YEAR($B$2),MONTH($B$2),1),1)+1+259 | C42: =DATE(YEAR($B$2),MONTH($B$2),1)-WEEKDAY(DATE(YEAR($B$2),MONTH($B$2),1),1)+1+260 | D42: =DATE(YEAR($B$2),MONTH($B$2),1)-WEEKDAY(DATE(YEAR($B$2),MONTH($B$2),1),1)+1+261 | E42: =DATE(YEAR($B$2),MONTH($B$2),1)-WEEKDAY(DATE(YEAR($B$2),MONTH($B$2),1),1)+1+262 | F42: =DATE(YEAR($B$2),MONTH($B$2),1)-WEEKDAY(DATE(YEAR($B$2),MONTH($B$2),1),1)+1+263 | G42: =DATE(YEAR($B$2),MONTH($B$2),1)-WEEKDAY(DATE(YEAR($B$2),MONTH($B$2),1),1)+1+264 | H42: =DATE(YEAR($B$2),MONTH($B$2),1)-WEEKDAY(DATE(YEAR($B$2),MONTH($B$2),1),1)+1+265
B43: =DATE(YEAR($B$2),MONTH($B$2),1)-WEEKDAY(DATE(YEAR($B$2),MONTH($B$2),1),1)+1+266 | C43: =DATE(YEAR($B$2),MONTH($B$2),1)-WEEKDAY(DATE(YEAR($B$2),MONTH($B$2),1),1)+1+267 | D43: =DATE(YEAR($B$2),MONTH($B$2),1)-WEEKDAY(DATE(YEAR($B$2),MONTH($B$2),1),1)+1+268 | E43: =DATE(YEAR($B$2),MONTH($B$2),1)-WEEKDAY(DATE(YEAR($B$2),MONTH($B$2),1),1)+1+269 | F43: =DATE(YEAR($B$2),MONTH($B$2),1)-WEEKDAY(DATE(YEAR($B$2),MONTH($B$2),1),1)+1+270 | G43: =DATE(YEAR($B$2),MONTH($B$2),1)-WEEKDAY(DATE(YEAR($B$2),MONTH($B$2),1),1)+1+271 | H43: =DATE(YEAR($B$2),MONTH($B$2),1)-WEEKDAY(DATE(YEAR($B$2),MONTH($B$2),1),1)+1+272
B44: =DATE(YEAR($B$2),MONTH($B$2),1)-WEEKDAY(DATE(YEAR($B$2),MONTH($B$2),1),1)+1+273 | C44: =DATE(YEAR($B$2),MONTH($B$2),1)-WEEKDAY(DATE(YEAR($B$2),MONTH($B$2),1),1)+1+274 | D44: =DATE(YEAR($B$2),MONTH($B$2),1)-WEEKDAY(DATE(YEAR($B$2),MONTH($B$2),1),1)+1+275 | E44: =DATE(YEAR($B$2),MONTH($B$2),1)-WEEKDAY(DATE(YEAR($B$2),MONTH($B$2),1),1)+1+276 | F44: =DATE(YEAR($B$2),MONTH($B$2),1)-WEEKDAY(DATE(YEAR($B$2),MONTH($B$2),1),1)+1+277 | G44: =DATE(YEAR($B$2),MONTH($B$2),1)-WEEKDAY(DATE(YEAR($B$2),MONTH($B$2),1),1)+1+278 | H44: =DATE(YEAR($B$2),MONTH($B$2),1)-WEEKDAY(DATE(YEAR($B$2),MONTH($B$2),1),1)+1+279
B45: =DATE(YEAR($B$2),MONTH($B$2),1)-WEEKDAY(DATE(YEAR($B$2),MONTH($B$2),1),1)+1+280 | C45: =DATE(YEAR($B$2),MONTH($B$2),1)-WEEKDAY(DATE(YEAR($B$2),MONTH($B$2),1),1)+1+281 | D45: =DATE(YEAR($B$2),MONTH($B$2),1)-WEEKDAY(DATE(YEAR($B$2),MONTH($B$2),1),1)+1+282 | E45: =DATE(YEAR($B$2),MONTH($B$2),1)-WEEKDAY(DATE(YEAR($B$2),MONTH($B$2),1),1)+1+283 | F45: =DATE(YEAR($B$2),MONTH($B$2),1)-WEEKDAY(DATE(YEAR($B$2),MONTH($B$2),1),1)+1+284 | G45: =DATE(YEAR($B$2),MONTH($B$2),1)-WEEKDAY(DATE(YEAR($B$2),MONTH($B$2),1),1)+1+285 | H45: =DATE(YEAR($B$2),MONTH($B$2),1)-WEEKDAY(DATE(YEAR($B$2),MONTH($B$2),1),1)+1+286
B46: =DATE(YEAR($B$2),MONTH($B$2),1)-WEEKDAY(DATE(YEAR($B$2),MONTH($B$2),1),1)+1+287 | C46: =DATE(YEAR($B$2),MONTH($B$2),1)-WEEKDAY(DATE(YEAR($B$2),MONTH($B$2),1),1)+1+288 | D46: =DATE(YEAR($B$2),MONTH($B$2),1)-WEEKDAY(DATE(YEAR($B$2),MONTH($B$2),1),1)+1+289 | E46: =DATE(YEAR($B$2),MONTH($B$2),1)-WEEKDAY(DATE(YEAR($B$2),MONTH($B$2),1),1)+1+290 | F46: =DATE(YEAR($B$2),MONTH($B$2),1)-WEEKDAY(DATE(YEAR($B$2),MONTH($B$2),1),1)+1+291 | G46: =DATE(YEAR($B$2),MONTH($B$2),1)-WEEKDAY(DATE(YEAR($B$2),MONTH($B$2),1),1)+1+292 | H46: =DATE(YEAR($B$2),MONTH($B$2),1)-WEEKDAY(DATE(YEAR($B$2),MONTH($B$2),1),1)+1+293
B47: =DATE(YEAR($B$2),MONTH($B$2),1)-WEEKDAY(DATE(YEAR($B$2),MONTH($B$2),1),1)+1+294 | C47: =DATE(YEAR($B$2),MONTH($B$2),1)-WEEKDAY(DATE(YEAR($B$2),MONTH($B$2),1),1)+1+295 | D47: =DATE(YEAR($B$2),MONTH($B$2),1)-WEEKDAY(DATE(YEAR($B$2),MONTH($B$2),1),1)+1+296 | E47: =DATE(YEAR($B$2),MONTH($B$2),1)-WEEKDAY(DATE(YEAR($B$2),MONTH($B$2),1),1)+1+297 | F47: =DATE(YEAR($B$2),MONTH($B$2),1)-WEEKDAY(DATE(YEAR($B$2),MONTH($B$2),1),1)+1+298 | G47: =DATE(YEAR($B$2),MONTH($B$2),1)-WEEKDAY(DATE(YEAR($B$2),MONTH($B$2),1),1)+1+299 | H47: =DATE(YEAR($B$2),MONTH($B$2),1)-WEEKDAY(DATE(YEAR($B$2),MONTH($B$2),1),1)+1+300
B48: =DATE(YEAR($B$2),MONTH($B$2),1)-WEEKDAY(DATE(YEAR($B$2),MONTH($B$2),1),1)+1+301 | C48: =DATE(YEAR($B$2),MONTH($B$2),1)-WEEKDAY(DATE(YEAR($B$2),MONTH($B$2),1),1)+1+302 | D48: =DATE(YEAR($B$2),MONTH($B$2),1)-WEEKDAY(DATE(YEAR($B$2),MONTH($B$2),1),1)+1+303 | E48: =DATE(YEAR($B$2),MONTH($B$2),1)-WEEKDAY(DATE(YEAR($B$2),MONTH($B$2),1),1)+1+304 | F48: =DATE(YEAR($B$2),MONTH($B$2),1)-WEEKDAY(DATE(YEAR($B$2),MONTH($B$2),1),1)+1+305 | G48: =DATE(YEAR($B$2),MONTH($B$2),1)-WEEKDAY(DATE(YEAR($B$2),MONTH($B$2),1),1)+1+306 | H48: =DATE(YEAR($B$2),MONTH($B$2),1)-WEEKDAY(DATE(YEAR($B$2),MONTH($B$2),1),1)+1+307
B49: =DATE(YEAR($B$2),MONTH($B$2),1)-WEEKDAY(DATE(YEAR($B$2),MONTH($B$2),1),1)+1+308 | C49: =DATE(YEAR($B$2),MONTH($B$2),1)-WEEKDAY(DATE(YEAR($B$2),MONTH($B$2),1),1)+1+309 | D49: =DATE(YEAR($B$2),MONTH($B$2),1)-WEEKDAY(DATE(YEAR($B$2),MONTH($B$2),1),1)+1+310 | E49: =DATE(YEAR($B$2),MONTH($B$2),1)-WEEKDAY(DATE(YEAR($B$2),MONTH($B$2),1),1)+1+311 | F49: =DATE(YEAR($B$2),MONTH($B$2),1)-WEEKDAY(DATE(YEAR($B$2),MONTH($B$2),1),1)+1+312 | G49: =DATE(YEAR($B$2),MONTH($B$2),1)-WEEKDAY(DATE(YEAR($B$2),MONTH($B$2),1),1)+1+313 | H49: =DATE(YEAR($B$2),MONTH($B$2),1)-WEEKDAY(DATE(YEAR($B$2),MONTH($B$2),1),1)+1+314
B50: =DATE(YEAR($B$2),MONTH($B$2),1)-WEEKDAY(DATE(YEAR($B$2),MONTH($B$2),1),1)+1+315 | C50: =DATE(YEAR($B$2),MONTH($B$2),1)-WEEKDAY(DATE(YEAR($B$2),MONTH($B$2),1),1)+1+316 | D50: =DATE(YEAR($B$2),MONTH($B$2),1)-WEEKDAY(DATE(YEAR($B$2),MONTH($B$2),1),1)+1+317 | E50: =DATE(YEAR($B$2),MONTH($B$2),1)-WEEKDAY(DATE(YEAR($B$2),MONTH($B$2),1),1)+1+318 | F50: =DATE(YEAR($B$2),MONTH($B$2),1)-WEEKDAY(DATE(YEAR($B$2),MONTH($B$2),1),1)+1+319 | G50: =DATE(YEAR($B$2),MONTH($B$2),1)-WEEKDAY(DATE(YEAR($B$2),MONTH($B$2),1),1)+1+320 | H50: =DATE(YEAR($B$2),MONTH($B$2),1)-WEEKDAY(DATE(YEAR($B$2),MONTH($B$2),1),1)+1+321
B51: =DATE(YEAR($B$2),MONTH($B$2),1)-WEEKDAY(DATE(YEAR($B$2),MONTH($B$2),1),1)+1+322 | C51: =DATE(YEAR($B$2),MONTH($B$2),1)-WEEKDAY(DATE(YEAR($B$2),MONTH($B$2),1),1)+1+323 | D51: =DATE(YEAR($B$2),MONTH($B$2),1)-WEEKDAY(DATE(YEAR($B$2),MONTH($B$2),1),1)+1+324 | E51: =DATE(YEAR($B$2),MONTH($B$2),1)-WEEKDAY(DATE(YEAR($B$2),MONTH($B$2),1),1)+1+325 | F51: =DATE(YEAR($B$2),MONTH($B$2),1)-WEEKDAY(DATE(YEAR($B$2),MONTH($B$2),1),1)+1+326 | G51: =DATE(YEAR($B$2),MONTH($B$2),1)-WEEKDAY(DATE(YEAR($B$2),MONTH($B$2),1),1)+1+327 | H51: =DATE(YEAR($B$2),MONTH($B$2),1)-WEEKDAY(DATE(YEAR($B$2),MONTH($B$2),1),1)+1+328
B52: =DATE(YEAR($B$2),MONTH($B$2),1)-WEEKDAY(DATE(YEAR($B$2),MONTH($B$2),1),1)+1+329 | C52: =DATE(YEAR($B$2),MONTH($B$2),1)-WEEKDAY(DATE(YEAR($B$2),MONTH($B$2),1),1)+1+330 | D52: =DATE(YEAR($B$2),MONTH($B$2),1)-WEEKDAY(DATE(YEAR($B$2),MONTH($B$2),1),1)+1+331 | E52: =DATE(YEAR($B$2),MONTH($B$2),1)-WEEKDAY(DATE(YEAR($B$2),MONTH($B$2),1),1)+1+332 | F52: =DATE(YEAR($B$2),MONTH($B$2),1)-WEEKDAY(DATE(YEAR($B$2),MONTH($B$2),1),1)+1+333 | G52: =DATE(YEAR($B$2),MONTH($B$2),1)-WEEKDAY(DATE(YEAR($B$2),MONTH($B$2),1),1)+1+334 | H52: =DATE(YEAR($B$2),MONTH($B$2),1)-WEEKDAY(DATE(YEAR($B$2),MONTH($B$2),1),1)+1+335
B53: =DATE(YEAR($B$2),MONTH($B$2),1)-WEEKDAY(DATE(YEAR($B$2),MONTH($B$2),1),1)+1+336 | C53: =DATE(YEAR($B$2),MONTH($B$2),1)-WEEKDAY(DATE(YEAR($B$2),MONTH($B$2),1),1)+1+337 | D53: =DATE(YEAR($B$2),MONTH($B$2),1)-WEEKDAY(DATE(YEAR($B$2),MONTH($B$2),1),1)+1+338 | E53: =DATE(YEAR($B$2),MONTH($B$2),1)-WEEKDAY(DATE(YEAR($B$2),MONTH($B$2),1),1)+1+339 | F53: =DATE(YEAR($B$2),MONTH($B$2),1)-WEEKDAY(DATE(YEAR($B$2),MONTH($B$2),1),1)+1+340 | G53: =DATE(YEAR($B$2),MONTH($B$2),1)-WEEKDAY(DATE(YEAR($B$2),MONTH($B$2),1),1)+1+341 | H53: =DATE(YEAR($B$2),MONTH($B$2),1)-WEEKDAY(DATE(YEAR($B$2),MONTH($B$2),1),1)+1+342
B54: =DATE(YEAR($B$2),MONTH($B$2),1)-WEEKDAY(DATE(YEAR($B$2),MONTH($B$2),1),1)+1+343 | C54: =DATE(YEAR($B$2),MONTH($B$2),1)-WEEKDAY(DATE(YEAR($B$2),MONTH($B$2),1),1)+1+344 | D54: =DATE(YEAR($B$2),MONTH($B$2),1)-WEEKDAY(DATE(YEAR($B$2),MONTH($B$2),1),1)+1+345 | E54: =DATE(YEAR($B$2),MONTH($B$2),1)-WEEKDAY(DATE(YEAR($B$2),MONTH($B$2),1),1)+1+346 | F54: =DATE(YEAR($B$2),MONTH($B$2),1)-WEEKDAY(DATE(YEAR($B$2),MONTH($B$2),1),1)+1+347 | G54: =DATE(YEAR($B$2),MONTH($B$2),1)-WEEKDAY(DATE(YEAR($B$2),MONTH($B$2),1),1)+1+348 | H54: =DATE(YEAR($B$2),MONTH($B$2),1)-WEEKDAY(DATE(YEAR($B$2),MONTH($B$2),1),1)+1+349
B55: =DATE(YEAR($B$2),MONTH($B$2),1)-WEEKDAY(DATE(YEAR($B$2),MONTH($B$2),1),1)+1+350 | C55: =DATE(YEAR($B$2),MONTH($B$2),1)-WEEKDAY(DATE(YEAR($B$2),MONTH($B$2),1),1)+1+351 | D55: =DATE(YEAR($B$2),MONTH($B$2),1)-WEEKDAY(DATE(YEAR($B$2),MONTH($B$2),1),1)+1+352 | E55: =DATE(YEAR($B$2),MONTH($B$2),1)-WEEKDAY(DATE(YEAR($B$2),MONTH($B$2),1),1)+1+353 | F55: =DATE(YEAR($B$2),MONTH($B$2),1)-WEEKDAY(DATE(YEAR($B$2),MONTH($B$2),1),1)+1+354 | G55: =DATE(YEAR($B$2),MONTH($B$2),1)-WEEKDAY(DATE(YEAR($B$2),MONTH($B$2),1),1)+1+355 | H55: =DATE(YEAR($B$2),MONTH($B$2),1)-WEEKDAY(DATE(YEAR($B$2),MONTH($B$2),1),1)+1+356
B56: =DATE(YEAR($B$2),MONTH($B$2),1)-WEEKDAY(DATE(YEAR($B$2),MONTH($B$2),1),1)+1+357 | C56: =DATE(YEAR($B$2),MONTH($B$2),1)-WEEKDAY(DATE(YEAR($B$2),MONTH($B$2),1),1)+1+358 | D56: =DATE(YEAR($B$2),MONTH($B$2),1)-WEEKDAY(DATE(YEAR($B$2),MONTH($B$2),1),1)+1+359 | E56: =DATE(YEAR($B$2),MONTH($B$2),1)-WEEKDAY(DATE(YEAR($B$2),MONTH($B$2),1),1)+1+360 | F56: =DATE(YEAR($B$2),MONTH($B$2),1)-WEEKDAY(DATE(YEAR($B$2),MONTH($B$2),1),1)+1+361 | G56: =DATE(YEAR($B$2),MONTH($B$2),1)-WEEKDAY(DATE(YEAR($B$2),MONTH($B$2),1),1)+1+362 | H56: =DATE(YEAR($B$2),MONTH($B$2),1)-WEEKDAY(DATE(YEAR($B$2),MONTH($B$2),1),1)+1+363
B57: =DATE(YEAR($B$2),MONTH($B$2),1)-WEEKDAY(DATE(YEAR($B$2),MONTH($B$2),1),1)+1+364 | C57: =DATE(YEAR($B$2),MONTH($B$2),1)-WEEKDAY(DATE(YEAR($B$2),MONTH($B$2),1),1)+1+365 | D57: =DATE(YEAR($B$2),MONTH($B$2),1)-WEEKDAY(DATE(YEAR($B$2),MONTH($B$2),1),1)+1+366 | E57: =DATE(YEAR($B$2),MONTH($B$2),1)-WEEKDAY(DATE(YEAR($B$2),MONTH($B$2),1),1)+1+367 | F57: =DATE(YEAR($B$2),MONTH($B$2),1)-WEEKDAY(DATE(YEAR($B$2),MONTH($B$2),1),1)+1+368 | G57: =DATE(YEAR($B$2),MONTH($B$2),1)-WEEKDAY(DATE(YEAR($B$2),MONTH($B$2),1),1)+1+369 | H57: =DATE(YEAR($B$2),MONTH($B$2),1)-WEEKDAY(DATE(YEAR($B$2),MONTH($B$2),1),1)+1+370
B58: =DATE(YEAR($B$2),MONTH($B$2),1)-WEEKDAY(DATE(YEAR($B$2),MONTH($B$2),1),1)+1+371 | C58: =DATE(YEAR($B$2),MONTH($B$2),1)-WEEKDAY(DATE(YEAR($B$2),MONTH($B$2),1),1)+1+372 | D58: =DATE(YEAR($B$2),MONTH($B$2),1)-WEEKDAY(DATE(YEAR($B$2),MONTH($B$2),1),1)+1+373 | E58: =DATE(YEAR($B$2),MONTH($B$2),1)-WEEKDAY(DATE(YEAR($B$2),MONTH($B$2),1),1)+1+374 | F58: =DATE(YEAR($B$2),MONTH($B$2),1)-WEEKDAY(DATE(YEAR($B$2),MONTH($B$2),1),1)+1+375 | G58: =DATE(YEAR($B$2),MONTH($B$2),1)-WEEKDAY(DATE(YEAR($B$2),MONTH($B$2),1),1)+1+376 | H58: =DATE(YEAR($B$2),MONTH($B$2),1)-WEEKDAY(DATE(YEAR($B$2),MONTH($B$2),1),1)+1+377
B59: =DATE(YEAR($B$2),MONTH($B$2),1)-WEEKDAY(DATE(YEAR($B$2),MONTH($B$2),1),1)+1+378 | C59: =DATE(YEAR($B$2),MONTH($B$2),1)-WEEKDAY(DATE(YEAR($B$2),MONTH($B$2),1),1)+1+379 | D59: =DATE(YEAR($B$2),MONTH($B$2),1)-WEEKDAY(DATE(YEAR($B$2),MONTH($B$2),1),1)+1+380 | E59: =DATE(YEAR($B$2),MONTH($B$2),1)-WEEKDAY(DATE(YEAR($B$2),MONTH($B$2),1),1)+1+381 | F59: =DATE(YEAR($B$2),MONTH($B$2),1)-WEEKDAY(DATE(YEAR($B$2),MONTH($B$2),1),1)+1+382 | G59: =DATE(YEAR($B$2),MONTH($B$2),1)-WEEKDAY(DATE(YEAR($B$2),MONTH($B$2),1),1)+1+383 | H59: =DATE(YEAR($B$2),MONTH($B$2),1)-WEEKDAY(DATE(YEAR($B$2),MONTH($B$2),1),1)+1+384
B60: =DATE(YEAR($B$2),MONTH($B$2),1)-WEEKDAY(DATE(YEAR($B$2),MONTH($B$2),1),1)+1+385 | C60: =DATE(YEAR($B$2),MONTH($B$2),1)-WEEKDAY(DATE(YEAR($B$2),MONTH($B$2),1),1)+1+386 | D60: =DATE(YEAR($B$2),MONTH($B$2),1)-WEEKDAY(DATE(YEAR($B$2),MONTH($B$2),1),1)+1+387 | E60: =DATE(YEAR($B$2),MONTH($B$2),1)-WEEKDAY(DATE(YEAR($B$2),MONTH($B$2),1),1)+1+388 | F60: =DATE(YEAR($B$2),MONTH($B$2),1)-WEEKDAY(DATE(YEAR($B$2),MONTH($B$2),1),1)+1+389 | G60: =DATE(YEAR($B$2),MONTH($B$2),1)-WEEKDAY(DATE(YEAR($B$2),MONTH($B$2),1),1)+1+390 | H60: =DATE(YEAR($B$2),MONTH($B$2),1)-WEEKDAY(DATE(YEAR($B$2),MONTH($B$2),1),1)+1+391
B61: =DATE(YEAR($B$2),MONTH($B$2),1)-WEEKDAY(DATE(YEAR($B$2),MONTH($B$2),1),1)+1+392 | C61: =DATE(YEAR($B$2),MONTH($B$2),1)-WEEKDAY(DATE(YEAR($B$2),MONTH($B$2),1),1)+1+393 | D61: =DATE(YEAR($B$2),MONTH($B$2),1)-WEEKDAY(DATE(YEAR($B$2),MONTH($B$2),1),1)+1+394 | E61: =DATE(YEAR($B$2),MONTH($B$2),1)-WEEKDAY(DATE(YEAR($B$2),MONTH($B$2),1),1)+1+395 | F61: =DATE(YEAR($B$2),MONTH($B$2),1)-WEEKDAY(DATE(YEAR($B$2),MONTH($B$2),1),1)+1+396 | G61: =DATE(YEAR($B$2),MONTH($B$2),1)-WEEKDAY(DATE(YEAR($B$2),MONTH($B$2),1),1)+1+397 | H61: =DATE(YEAR($B$2),MONTH($B$2),1)-WEEKDAY(DATE(YEAR($B$2),MONTH($B$2),1),1)+1+398
B62: =DATE(YEAR($B$2),MONTH($B$2),1)-WEEKDAY(DATE(YEAR($B$2),MONTH($B$2),1),1)+1+399 | C62: =DATE(YEAR($B$2),MONTH($B$2),1)-WEEKDAY(DATE(YEAR($B$2),MONTH($B$2),1),1)+1+400 | D62: =DATE(YEAR($B$2),MONTH($B$2),1)-WEEKDAY(DATE(YEAR($B$2),MONTH($B$2),1),1)+1+401 | E62: =DATE(YEAR($B$2),MONTH($B$2),1)-WEEKDAY(DATE(YEAR($B$2),MONTH($B$2),1),1)+1+402 | F62: =DATE(YEAR($B$2),MONTH($B$2),1)-WEEKDAY(DATE(YEAR($B$2),MONTH($B$2),1),1)+1+403 | G62: =DATE(YEAR($B$2),MONTH($B$2),1)-WEEKDAY(DATE(YEAR($B$2),MONTH($B$2),1),1)+1+404 | H62: =DATE(YEAR($B$2),MONTH($B$2),1)-WEEKDAY(DATE(YEAR($B$2),MONTH($B$2),1),1)+1+405
B63: =DATE(YEAR($B$2),MONTH($B$2),1)-WEEKDAY(DATE(YEAR($B$2),MONTH($B$2),1),1)+1+406 | C63: =DATE(YEAR($B$2),MONTH($B$2),1)-WEEKDAY(DATE(YEAR($B$2),MONTH($B$2),1),1)+1+407 | D63: =DATE(YEAR($B$2),MONTH($B$2),1)-WEEKDAY(DATE(YEAR($B$2),MONTH($B$2),1),1)+1+408 | E63: =DATE(YEAR($B$2),MONTH($B$2),1)-WEEKDAY(DATE(YEAR($B$2),MONTH($B$2),1),1)+1+409 | F63: =DATE(YEAR($B$2),MONTH($B$2),1)-WEEKDAY(DATE(YEAR($B$2),MONTH($B$2),1),1)+1+410 | G63: =DATE(YEAR($B$2),MONTH($B$2),1)-WEEKDAY(DATE(YEAR($B$2),MONTH($B$2),1),1)+1+411 | H63: =DATE(YEAR($B$2),MONTH($B$2),1)-WEEKDAY(DATE(YEAR($B$2),MONTH($B$2),1),1)+1+412
B64: =DATE(YEAR($B$2),MONTH($B$2),1)-WEEKDAY(DATE(YEAR($B$2),MONTH($B$2),1),1)+1+413 | C64: =DATE(YEAR($B$2),MONTH($B$2),1)-WEEKDAY(DATE(YEAR($B$2),MONTH($B$2),1),1)+1+414 | D64: =DATE(YEAR($B$2),MONTH($B$2),1)-WEEKDAY(DATE(YEAR($B$2),MONTH($B$2),1),1)+1+415 | E64: =DATE(YEAR($B$2),MONTH($B$2),1)-WEEKDAY(DATE(YEAR($B$2),MONTH($B$2),1),1)+1+416 | F64: =DATE(YEAR($B$2),MONTH($B$2),1)-WEEKDAY(DATE(YEAR($B$2),MONTH($B$2),1),1)+1+417 | G64: =DATE(YEAR($B$2),MONTH($B$2),1)-WEEKDAY(DATE(YEAR($B$2),MONTH($B$2),1),1)+1+418 | H64: =DATE(YEAR($B$2),MONTH($B$2),1)-WEEKDAY(DATE(YEAR($B$2),MONTH($B$2),1),1)+1+419
B65: =DATE(YEAR($B$2),MONTH($B$2),1)-WEEKDAY(DATE(YEAR($B$2),MONTH($B$2),1),1)+1+420 | C65: =DATE(YEAR($B$2),MONTH($B$2),1)-WEEKDAY(DATE(YEAR($B$2),MONTH($B$2),1),1)+1+421 | D65: =DATE(YEAR($B$2),MONTH($B$2),1)-WEEKDAY(DATE(YEAR($B$2),MONTH($B$2),1),1)+1+422 | E65: =DATE(YEAR($B$2),MONTH($B$2),1)-WEEKDAY(DATE(YEAR($B$2),MONTH($B$2),1),1)+1+423 | F65: =DATE(YEAR($B$2),MONTH($B$2),1)-WEEKDAY(DATE(YEAR($B$2),MONTH($B$2),1),1)+1+424 | G65: =DATE(YEAR($B$2),MONTH($B$2),1)-WEEKDAY(DATE(YEAR($B$2),MONTH($B$2),1),1)+1+425 | H65: =DATE(YEAR($B$2),MONTH($B$2),1)-WEEKDAY(DATE(YEAR($B$2),MONTH($B$2),1),1)+1+426
B66: =DATE(YEAR($B$2),MONTH($B$2),1)-WEEKDAY(DATE(YEAR($B$2),MONTH($B$2),1),1)+1+427 | C66: =DATE(YEAR($B$2),MONTH($B$2),1)-WEEKDAY(DATE(YEAR($B$2),MONTH($B$2),1),1)+1+428 | D66: =DATE(YEAR($B$2),MONTH($B$2),1)-WEEKDAY(DATE(YEAR($B$2),MONTH($B$2),1),1)+1+429 | E66: =DATE(YEAR($B$2),MONTH($B$2),1)-WEEKDAY(DATE(YEAR($B$2),MONTH($B$2),1),1)+1+430 | F66: =DATE(YEAR($B$2),MONTH($B$2),1)-WEEKDAY(DATE(YEAR($B$2),MONTH($B$2),1),1)+1+431 | G66: =DATE(YEAR($B$2),MONTH($B$2),1)-WEEKDAY(DATE(YEAR($B$2),MONTH($B$2),1),1)+1+432 | H66: =DATE(YEAR($B$2),MONTH($B$2),1)-WEEKDAY(DATE(YEAR($B$2),MONTH($B$2),1),1)+1+433
B67: =DATE(YEAR($B$2),MONTH($B$2),1)-WEEKDAY(DATE(YEAR($B$2),MONTH($B$2),1),1)+1+434 | C67: =DATE(YEAR($B$2),MONTH($B$2),1)-WEEKDAY(DATE(YEAR($B$2),MONTH($B$2),1),1)+1+435 | D67: =DATE(YEAR($B$2),MONTH($B$2),1)-WEEKDAY(DATE(YEAR($B$2),MONTH($B$2),1),1)+1+436 | E67: =DATE(YEAR($B$2),MONTH($B$2),1)-WEEKDAY(DATE(YEAR($B$2),MONTH($B$2),1),1)+1+437 | F67: =DATE(YEAR($B$2),MONTH($B$2),1)-WEEKDAY(DATE(YEAR($B$2),MONTH($B$2),1),1)+1+438 | G67: =DATE(YEAR($B$2),MONTH($B$2),1)-WEEKDAY(DATE(YEAR($B$2),MONTH($B$2),1),1)+1+439 | H67: =DATE(YEAR($B$2),MONTH($B$2),1)-WEEKDAY(DATE(YEAR($B$2),MONTH($B$2),1),1)+1+440
B68: =DATE(YEAR($B$2),MONTH($B$2),1)-WEEKDAY(DATE(YEAR($B$2),MONTH($B$2),1),1)+1+441 | C68: =DATE(YEAR($B$2),MONTH($B$2),1)-WEEKDAY(DATE(YEAR($B$2),MONTH($B$2),1),1)+1+442 | D68: =DATE(YEAR($B$2),MONTH($B$2),1)-WEEKDAY(DATE(YEAR($B$2),MONTH($B$2),1),1)+1+443 | E68: =DATE(YEAR($B$2),MONTH($B$2),1)-WEEKDAY(DATE(YEAR($B$2),MONTH($B$2),1),1)+1+444 | F68: =DATE(YEAR($B$2),MONTH($B$2),1)-WEEKDAY(DATE(YEAR($B$2),MONTH($B$2),1),1)+1+445 | G68: =DATE(YEAR($B$2),MONTH($B$2),1)-WEEKDAY(DATE(YEAR($B$2),MONTH($B$2),1),1)+1+446 | H68: =DATE(YEAR($B$2),MONTH($B$2),1)-WEEKDAY(DATE(YEAR($B$2),MONTH($B$2),1),1)+1+447
B69: =DATE(YEAR($B$2),MONTH($B$2),1)-WEEKDAY(DATE(YEAR($B$2),MONTH($B$2),1),1)+1+448 | C69: =DATE(YEAR($B$2),MONTH($B$2),1)-WEEKDAY(DATE(YEAR($B$2),MONTH($B$2),1),1)+1+449 | D69: =DATE(YEAR($B$2),MONTH($B$2),1)-WEEKDAY(DATE(YEAR($B$2),MONTH($B$2),1),1)+1+450 | E69: =DATE(YEAR($B$2),MONTH($B$2),1)-WEEKDAY(DATE(YEAR($B$2),MONTH($B$2),1),1)+1+451 | F69: =DATE(YEAR($B$2),MONTH($B$2),1)-WEEKDAY(DATE(YEAR($B$2),MONTH($B$2),1),1)+1+452 | G69: =DATE(YEAR($B$2),MONTH($B$2),1)-WEEKDAY(DATE(YEAR($B$2),MONTH($B$2),1),1)+1+453 | H69: =DATE(YEAR($B$2),MONTH($B$2),1)-WEEKDAY(DATE(YEAR($B$2),MONTH($B$2),1),1)+1+454
B70: =DATE(YEAR($B$2),MONTH($B$2),1)-WEEKDAY(DATE(YEAR($B$2),MONTH($B$2),1),1)+1+455 | C70: =DATE(YEAR($B$2),MONTH($B$2),1)-WEEKDAY(DATE(YEAR($B$2),MONTH($B$2),1),1)+1+456 | D70: =DATE(YEAR($B$2),MONTH($B$2),1)-WEEKDAY(DATE(YEAR($B$2),MONTH($B$2),1),1)+1+457 | E70: =DATE(YEAR($B$2),MONTH($B$2),1)-WEEKDAY(DATE(YEAR($B$2),MONTH($B$2),1),1)+1+458 | F70: =DATE(YEAR($B$2),MONTH($B$2),1)-WEEKDAY(DATE(YEAR($B$2),MONTH($B$2),1),1)+1+459 | G70: =DATE(YEAR($B$2),MONTH($B$2),1)-WEEKDAY(DATE(YEAR($B$2),MONTH($B$2),1),1)+1+460 | H70: =DATE(YEAR($B$2),MONTH($B$2),1)-WEEKDAY(DATE(YEAR($B$2),MONTH($B$2),1),1)+1+461
B71: =DATE(YEAR($B$2),MONTH($B$2),1)-WEEKDAY(DATE(YEAR($B$2),MONTH($B$2),1),1)+1+462 | C71: =DATE(YEAR($B$2),MONTH($B$2),1)-WEEKDAY(DATE(YEAR($B$2),MONTH($B$2),1),1)+1+463 | D71: =DATE(YEAR($B$2),MONTH($B$2),1)-WEEKDAY(DATE(YEAR($B$2),MONTH($B$2),1),1)+1+464 | E71: =DATE(YEAR($B$2),MONTH($B$2),1)-WEEKDAY(DATE(YEAR($B$2),MONTH($B$2),1),1)+1+465 | F71: =DATE(YEAR($B$2),MONTH($B$2),1)-WEEKDAY(DATE(YEAR($B$2),MONTH($B$2),1),1)+1+466 | G71: =DATE(YEAR($B$2),MONTH($B$2),1)-WEEKDAY(DATE(YEAR($B$2),MONTH($B$2),1),1)+1+467 | H71: =DATE(YEAR($B$2),MONTH($B$2),1)-WEEKDAY(DATE(YEAR($B$2),MONTH($B$2),1),1)+1+468
B72: =DATE(YEAR($B$2),MONTH($B$2),1)-WEEKDAY(DATE(YEAR($B$2),MONTH($B$2),1),1)+1+469 | C72: =DATE(YEAR($B$2),MONTH($B$2),1)-WEEKDAY(DATE(YEAR($B$2),MONTH($B$2),1),1)+1+470 | D72: =DATE(YEAR($B$2),MONTH($B$2),1)-WEEKDAY(DATE(YEAR($B$2),MONTH($B$2),1),1)+1+471 | E72: =DATE(YEAR($B$2),MONTH($B$2),1)-WEEKDAY(DATE(YEAR($B$2),MONTH($B$2),1),1)+1+472 | F72: =DATE(YEAR($B$2),MONTH($B$2),1)-WEEKDAY(DATE(YEAR($B$2),MONTH($B$2),1),1)+1+473 | G72: =DATE(YEAR($B$2),MONTH($B$2),1)-WEEKDAY(DATE(YEAR($B$2),MONTH($B$2),1),1)+1+474 | H72: =DATE(YEAR($B$2),MONTH($B$2),1)-WEEKDAY(DATE(YEAR($B$2),MONTH($B$2),1),1)+1+475
B73: =DATE(YEAR($B$2),MONTH($B$2),1)-WEEKDAY(DATE(YEAR($B$2),MONTH($B$2),1),1)+1+476 | C73: =DATE(YEAR($B$2),MONTH($B$2),1)-WEEKDAY(DATE(YEAR($B$2),MONTH($B$2),1),1)+1+477 | D73: =DATE(YEAR($B$2),MONTH($B$2),1)-WEEKDAY(DATE(YEAR($B$2),MONTH($B$2),1),1)+1+478 | E73: =DATE(YEAR($B$2),MONTH($B$2),1)-WEEKDAY(DATE(YEAR($B$2),MONTH($B$2),1),1)+1+479 | F73: =DATE(YEAR($B$2),MONTH($B$2),1)-WEEKDAY(DATE(YEAR($B$2),MONTH($B$2),1),1)+1+480 | G73: =DATE(YEAR($B$2),MONTH($B$2),1)-WEEKDAY(DATE(YEAR($B$2),MONTH($B$2),1),1)+1+481 | H73: =DATE(YEAR($B$2),MONTH($B$2),1)-WEEKDAY(DATE(YEAR($B$2),MONTH($B$2),1),1)+1+482
B74: =DATE(YEAR($B$2),MONTH($B$2),1)-WEEKDAY(DATE(YEAR($B$2),MONTH($B$2),1),1)+1+483 | C74: =DATE(YEAR($B$2),MONTH($B$2),1)-WEEKDAY(DATE(YEAR($B$2),MONTH($B$2),1),1)+1+484 | D74: =DATE(YEAR($B$2),MONTH($B$2),1)-WEEKDAY(DATE(YEAR($B$2),MONTH($B$2),1),1)+1+485 | E74: =DATE(YEAR($B$2),MONTH($B$2),1)-WEEKDAY(DATE(YEAR($B$2),MONTH($B$2),1),1)+1+486 | F74: =DATE(YEAR($B$2),MONTH($B$2),1)-WEEKDAY(DATE(YEAR($B$2),MONTH($B$2),1),1)+1+487 | G74: =DATE(YEAR($B$2),MONTH($B$2),1)-WEEKDAY(DATE(YEAR($B$2),MONTH($B$2),1),1)+1+488 | H74: =DATE(YEAR($B$2),MONTH($B$2),1)-WEEKDAY(DATE(YEAR($B$2),MONTH($B$2),1),1)+1+489
B75: =DATE(YEAR($B$2),MONTH($B$2),1)-WEEKDAY(DATE(YEAR($B$2),MONTH($B$2),1),1)+1+490 | C75: =DATE(YEAR($B$2),MONTH($B$2),1)-WEEKDAY(DATE(YEAR($B$2),MONTH($B$2),1),1)+1+491 | D75: =DATE(YEAR($B$2),MONTH($B$2),1)-WEEKDAY(DATE(YEAR($B$2),MONTH($B$2),1),1)+1+492 | E75: =DATE(YEAR($B$2),MONTH($B$2),1)-WEEKDAY(DATE(YEAR($B$2),MONTH($B$2),1),1)+1+493 | F75: =DATE(YEAR($B$2),MONTH($B$2),1)-WEEKDAY(DATE(YEAR($B$2),MONTH($B$2),1),1)+1+494 | G75: =DATE(YEAR($B$2),MONTH($B$2),1)-WEEKDAY(DATE(YEAR($B$2),MONTH($B$2),1),1)+1+495 | H75: =DATE(YEAR($B$2),MONTH($B$2),1)-WEEKDAY(DATE(YEAR($B$2),MONTH($B$2),1),1)+1+496
B76: =DATE(YEAR($B$2),MONTH($B$2),1)-WEEKDAY(DATE(YEAR($B$2),MONTH($B$2),1),1)+1+497 | C76: =DATE(YEAR($B$2),MONTH($B$2),1)-WEEKDAY(DATE(YEAR($B$2),MONTH($B$2),1),1)+1+498 | D76: =DATE(YEAR($B$2),MONTH($B$2),1)-WEEKDAY(DATE(YEAR($B$2),MONTH($B$2),1),1)+1+499 | E76: =DATE(YEAR($B$2),MONTH($B$2),1)-WEEKDAY(DATE(YEAR($B$2),MONTH($B$2),1),1)+1+500 | F76: =DATE(YEAR($B$2),MONTH($B$2),1)-WEEKDAY(DATE(YEAR($B$2),MONTH($B$2),1),1)+1+501 | G76: =DATE(YEAR($B$2),MONTH($B$2),1)-WEEKDAY(DATE(YEAR($B$2),MONTH($B$2),1),1)+1+502 | H76: =DATE(YEAR($B$2),MONTH($B$2),1)-WEEKDAY(DATE(YEAR($B$2),MONTH($B$2),1),1)+1+503
B77: =DATE(YEAR($B$2),MONTH($B$2),1)-WEEKDAY(DATE(YEAR($B$2),MONTH($B$2),1),1)+1+504 | C77: =DATE(YEAR($B$2),MONTH($B$2),1)-WEEKDAY(DATE(YEAR($B$2),MONTH($B$2),1),1)+1+505 | D77: =DATE(YEAR($B$2),MONTH($B$2),1)-WEEKDAY(DATE(YEAR($B$2),MONTH($B$2),1),1)+1+506 | E77: =DATE(YEAR($B$2),MONTH($B$2),1)-WEEKDAY(DATE(YEAR($B$2),MONTH($B$2),1),1)+1+507 | F77: =DATE(YEAR($B$2),MONTH($B$2),1)-WEEKDAY(DATE(YEAR($B$2),MONTH($B$2),1),1)+1+508 | G77: =DATE(YEAR($B$2),MONTH($B$2),1)-WEEKDAY(DATE(YEAR($B$2),MONTH($B$2),1),1)+1+509 | H77: =DATE(YEAR($B$2),MONTH($B$2),1)-WEEKDAY(DATE(YEAR($B$2),MONTH($B$2),1),1)+1+510
B78: =DATE(YEAR($B$2),MONTH($B$2),1)-WEEKDAY(DATE(YEAR($B$2),MONTH($B$2),1),1)+1+511 | C78: =DATE(YEAR($B$2),MONTH($B$2),1)-WEEKDAY(DATE(YEAR($B$2),MONTH($B$2),1),1)+1+512 | D78: =DATE(YEAR($B$2),MONTH($B$2),1)-WEEKDAY(DATE(YEAR($B$2),MONTH($B$2),1),1)+1+513 | E78: =DATE(YEAR($B$2),MONTH($B$2),1)-WEEKDAY(DATE(YEAR($B$2),MONTH($B$2),1),1)+1+514 | F78: =DATE(YEAR($B$2),MONTH($B$2),1)-WEEKDAY(DATE(YEAR($B$2),MONTH($B$2),1),1)+1+515 | G78: =DATE(YEAR($B$2),MONTH($B$2),1)-WEEKDAY(DATE(YEAR($B$2),MONTH($B$2),1),1)+1+516 | H78: =DATE(YEAR($B$2),MONTH($B$2),1)-WEEKDAY(DATE(YEAR($B$2),MONTH($B$2),1),1)+1+517
B79: =DATE(YEAR($B$2),MONTH($B$2),1)-WEEKDAY(DATE(YEAR($B$2),MONTH($B$2),1),1)+1+518 | C79: =DATE(YEAR($B$2),MONTH($B$2),1)-WEEKDAY(DATE(YEAR($B$2),MONTH($B$2),1),1)+1+519 | D79: =DATE(YEAR($B$2),MONTH($B$2),1)-WEEKDAY(DATE(YEAR($B$2),MONTH($B$2),1),1)+1+520 | E79: =DATE(YEAR($B$2),MONTH($B$2),1)-WEEKDAY(DATE(YEAR($B$2),MONTH($B$2),1),1)+1+521 | F79: =DATE(YEAR($B$2),MONTH($B$2),1)-WEEKDAY(DATE(YEAR($B$2),MONTH($B$2),1),1)+1+522 | G79: =DATE(YEAR($B$2),MONTH($B$2),1)-WEEKDAY(DATE(YEAR($B$2),MONTH($B$2),1),1)+1+523 | H79: =DATE(YEAR($B$2),MONTH($B$2),1)-WEEKDAY(DATE(YEAR($B$2),MONTH($B$2),1),1)+1+524
B80: =DATE(YEAR($B$2),MONTH($B$2),1)-WEEKDAY(DATE(YEAR($B$2),MONTH($B$2),1),1)+1+525 | C80: =DATE(YEAR($B$2),MONTH($B$2),1)-WEEKDAY(DATE(YEAR($B$2),MONTH($B$2),1),1)+1+526 | D80: =DATE(YEAR($B$2),MONTH($B$2),1)-WEEKDAY(DATE(YEAR($B$2),MONTH($B$2),1),1)+1+527 | E80: =DATE(YEAR($B$2),MONTH($B$2),1)-WEEKDAY(DATE(YEAR($B$2),MONTH($B$2),1),1)+1+528 | F80: =DATE(YEAR($B$2),MONTH($B$2),1)-WEEKDAY(DATE(YEAR($B$2),MONTH($B$2),1),1)+1+529 | G80: =DATE(YEAR($B$2),MONTH($B$2),1)-WEEKDAY(DATE(YEAR($B$2),MONTH($B$2),1),1)+1+530 | H80: =DATE(YEAR($B$2),MONTH($B$2),1)-WEEKDAY(DATE(YEAR($B$2),MONTH($B$2),1),1)+1+531
B81: =DATE(YEAR($B$2),MONTH($B$2),1)-WEEKDAY(DATE(YEAR($B$2),MONTH($B$2),1),1)+1+532 | C81: =DATE(YEAR($B$2),MONTH($B$2),1)-WEEKDAY(DATE(YEAR($B$2),MONTH($B$2),1),1)+1+533 | D81: =DATE(YEAR($B$2),MONTH($B$2),1)-WEEKDAY(DATE(YEAR($B$2),MONTH($B$2),1),1)+1+534 | E81: =DATE(YEAR($B$2),MONTH($B$2),1)-WEEKDAY(DATE(YEAR($B$2),MONTH($B$2),1),1)+1+535 | F81: =DATE(YEAR($B$2),MONTH($B$2),1)-WEEKDAY(DATE(YEAR($B$2),MONTH($B$2),1),1)+1+536 | G81: =DATE(YEAR($B$2),MONTH($B$2),1)-WEEKDAY(DATE(YEAR($B$2),MONTH($B$2),1),1)+1+537 | H81: =DATE(YEAR($B$2),MONTH($B$2),1)-WEEKDAY(DATE(YEAR($B$2),MONTH($B$2),1),1)+1+538
B82: =DATE(YEAR($B$2),MONTH($B$2),1)-WEEKDAY(DATE(YEAR($B$2),MONTH($B$2),1),1)+1+539 | C82: =DATE(YEAR($B$2),MONTH($B$2),1)-WEEKDAY(DATE(YEAR($B$2),MONTH($B$2),1),1)+1+540 | D82: =DATE(YEAR($B$2),MONTH($B$2),1)-WEEKDAY(DATE(YEAR($B$2),MONTH($B$2),1),1)+1+541 | E82: =DATE(YEAR($B$2),MONTH($B$2),1)-WEEKDAY(DATE(YEAR($B$2),MONTH($B$2),1),1)+1+542 | F82: =DATE(YEAR($B$2),MONTH($B$2),1)-WEEKDAY(DATE(YEAR($B$2),MONTH($B$2),1),1)+1+543 | G82: =DATE(YEAR($B$2),MONTH($B$2),1)-WEEKDAY(DATE(YEAR($B$2),MONTH($B$2),1),1)+1+544 | H82: =DATE(YEAR($B$2),MONTH($B$2),1)-WEEKDAY(DATE(YEAR($B$2),MONTH($B$2),1),1)+1+545
B83: =DATE(YEAR($B$2),MONTH($B$2),1)-WEEKDAY(DATE(YEAR($B$2),MONTH($B$2),1),1)+1+546 | C83: =DATE(YEAR($B$2),MONTH($B$2),1)-WEEKDAY(DATE(YEAR($B$2),MONTH($B$2),1),1)+1+547 | D83: =DATE(YEAR($B$2),MONTH($B$2),1)-WEEKDAY(DATE(YEAR($B$2),MONTH($B$2),1),1)+1+548 | E83: =DATE(YEAR($B$2),MONTH($B$2),1)-WEEKDAY(DATE(YEAR($B$2),MONTH($B$2),1),1)+1+549 | F83: =DATE(YEAR($B$2),MONTH($B$2),1)-WEEKDAY(DATE(YEAR($B$2),MONTH($B$2),1),1)+1+550 | G83: =DATE(YEAR($B$2),MONTH($B$2),1)-WEEKDAY(DATE(YEAR($B$2),MONTH($B$2),1),1)+1+551 | H83: =DATE(YEAR($B$2),MONTH($B$2),1)-WEEKDAY(DATE(YEAR($B$2),MONTH($B$2),1),1)+1+552
B84: =DATE(YEAR($B$2),MONTH($B$2),1)-WEEKDAY(DATE(YEAR($B$2),MONTH($B$2),1),1)+1+553 | C84: =DATE(YEAR($B$2),MONTH($B$2),1)-WEEKDAY(DATE(YEAR($B$2),MONTH($B$2),1),1)+1+554 | D84: =DATE(YEAR($B$2),MONTH($B$2),1)-WEEKDAY(DATE(YEAR($B$2),MONTH($B$2),1),1)+1+555 | E84: =DATE(YEAR($B$2),MONTH($B$2),1)-WEEKDAY(DATE(YEAR($B$2),MONTH($B$2),1),1)+1+556 | F84: =DATE(YEAR($B$2),MONTH($B$2),1)-WEEKDAY(DATE(YEAR($B$2),MONTH($B$2),1),1)+1+557 | G84: =DATE(YEAR($B$2),MONTH($B$2),1)-WEEKDAY(DATE(YEAR($B$2),MONTH($B$2),1),1)+1+558 | H84: =DATE(YEAR($B$2),MONTH($B$2),1)-WEEKDAY(DATE(YEAR($B$2),MONTH($B$2),1),1)+1+559
B85: =DATE(YEAR($B$2),MONTH($B$2),1)-WEEKDAY(DATE(YEAR($B$2),MONTH($B$2),1),1)+1+560 | C85: =DATE(YEAR($B$2),MONTH($B$2),1)-WEEKDAY(DATE(YEAR($B$2),MONTH($B$2),1),1)+1+561 | D85: =DATE(YEAR($B$2),MONTH($B$2),1)-WEEKDAY(DATE(YEAR($B$2),MONTH($B$2),1),1)+1+562 | E85: =DATE(YEAR($B$2),MONTH($B$2),1)-WEEKDAY(DATE(YEAR($B$2),MONTH($B$2),1),1)+1+563 | F85: =DATE(YEAR($B$2),MONTH($B$2),1)-WEEKDAY(DATE(YEAR($B$2),MONTH($B$2),1),1)+1+564 | G85: =DATE(YEAR($B$2),MONTH($B$2),1)-WEEKDAY(DATE(YEAR($B$2),MONTH($B$2),1),1)+1+565 | H85: =DATE(YEAR($B$2),MONTH($B$2),1)-WEEKDAY(DATE(YEAR($B$2),MONTH($B$2),1),1)+1+566
B86: =DATE(YEAR($B$2),MONTH($B$2),1)-WEEKDAY(DATE(YEAR($B$2),MONTH($B$2),1),1)+1+567 | C86: =DATE(YEAR($B$2),MONTH($B$2),1)-WEEKDAY(DATE(YEAR($B$2),MONTH($B$2),1),1)+1+568 | D86: =DATE(YEAR($B$2),MONTH($B$2),1)-WEEKDAY(DATE(YEAR($B$2),MONTH($B$2),1),1)+1+569 | E86: =DATE(YEAR($B$2),MONTH($B$2),1)-WEEKDAY(DATE(YEAR($B$2),MONTH($B$2),1),1)+1+570 | F86: =DATE(YEAR($B$2),MONTH($B$2),1)-WEEKDAY(DATE(YEAR($B$2),MONTH($B$2),1),1)+1+571 | G86: =DATE(YEAR($B$2),MONTH($B$2),1)-WEEKDAY(DATE(YEAR($B$2),MONTH($B$2),1),1)+1+572 | H86: =DATE(YEAR($B$2),MONTH($B$2),1)-WEEKDAY(DATE(YEAR($B$2),MONTH($B$2),1),1)+1+573
B87: =DATE(YEAR($B$2),MONTH($B$2),1)-WEEKDAY(DATE(YEAR($B$2),MONTH($B$2),1),1)+1+574 | C87: =DATE(YEAR($B$2),MONTH($B$2),1)-WEEKDAY(DATE(YEAR($B$2),MONTH($B$2),1),1)+1+575 | D87: =DATE(YEAR($B$2),MONTH($B$2),1)-WEEKDAY(DATE(YEAR($B$2),MONTH($B$2),1),1)+1+576 | E87: =DATE(YEAR($B$2),MONTH($B$2),1)-WEEKDAY(DATE(YEAR($B$2),MONTH($B$2),1),1)+1+577 | F87: =DATE(YEAR($B$2),MONTH($B$2),1)-WEEKDAY(DATE(YEAR($B$2),MONTH($B$2),1),1)+1+578 | G87: =DATE(YEAR($B$2),MONTH($B$2),1)-WEEKDAY(DATE(YEAR($B$2),MONTH($B$2),1),1)+1+579 | H87: =DATE(YEAR($B$2),MONTH($B$2),1)-WEEKDAY(DATE(YEAR($B$2),MONTH($B$2),1),1)+1+580
B88: =DATE(YEAR($B$2),MONTH($B$2),1)-WEEKDAY(DATE(YEAR($B$2),MONTH($B$2),1),1)+1+581 | C88: =DATE(YEAR($B$2),MONTH($B$2),1)-WEEKDAY(DATE(YEAR($B$2),MONTH($B$2),1),1)+1+582 | D88: =DATE(YEAR($B$2),MONTH($B$2),1)-WEEKDAY(DATE(YEAR($B$2),MONTH($B$2),1),1)+1+583 | E88: =DATE(YEAR($B$2),MONTH($B$2),1)-WEEKDAY(DATE(YEAR($B$2),MONTH($B$2),1),1)+1+584 | F88: =DATE(YEAR($B$2),MONTH($B$2),1)-WEEKDAY(DATE(YEAR($B$2),MONTH($B$2),1),1)+1+585 | G88: =DATE(YEAR($B$2),MONTH($B$2),1)-WEEKDAY(DATE(YEAR($B$2),MONTH($B$2),1),1)+1+586 | H88: =DATE(YEAR($B$2),MONTH($B$2),1)-WEEKDAY(DATE(YEAR($B$2),MONTH($B$2),1),1)+1+587
B89: =DATE(YEAR($B$2),MONTH($B$2),1)-WEEKDAY(DATE(YEAR($B$2),MONTH($B$2),1),1)+1+588 | C89: =DATE(YEAR($B$2),MONTH($B$2),1)-WEEKDAY(DATE(YEAR($B$2),MONTH($B$2),1),1)+1+589 | D89: =DATE(YEAR($B$2),MONTH($B$2),1)-WEEKDAY(DATE(YEAR($B$2),MONTH($B$2),1),1)+1+590 | E89: =DATE(YEAR($B$2),MONTH($B$2),1)-WEEKDAY(DATE(YEAR($B$2),MONTH($B$2),1),1)+1+591 | F89: =DATE(YEAR($B$2),MONTH($B$2),1)-WEEKDAY(DATE(YEAR($B$2),MONTH($B$2),1),1)+1+592 | G89: =DATE(YEAR($B$2),MONTH($B$2),1)-WEEKDAY(DATE(YEAR($B$2),MONTH($B$2),1),1)+1+593 | H89: =DATE(YEAR($B$2),MONTH($B$2),1)-WEEKDAY(DATE(YEAR($B$2),MONTH($B$2),1),1)+1+594
B90: =DATE(YEAR($B$2),MONTH($B$2),1)-WEEKDAY(DATE(YEAR($B$2),MONTH($B$2),1),1)+1+595 | C90: =DATE(YEAR($B$2),MONTH($B$2),1)-WEEKDAY(DATE(YEAR($B$2),MONTH($B$2),1),1)+1+596 | D90: =DATE(YEAR($B$2),MONTH($B$2),1)-WEEKDAY(DATE(YEAR($B$2),MONTH($B$2),1),1)+1+597 | E90: =DATE(YEAR($B$2),MONTH($B$2),1)-WEEKDAY(DATE(YEAR($B$2),MONTH($B$2),1),1)+1+598 | F90: =DATE(YEAR($B$2),MONTH($B$2),1)-WEEKDAY(DATE(YEAR($B$2),MONTH($B$2),1),1)+1+599 | G90: =DATE(YEAR($B$2),MONTH($B$2),1)-WEEKDAY(DATE(YEAR($B$2),MONTH($B$2),1),1)+1+600 | H90: =DATE(YEAR($B$2),MONTH($B$2),1)-WEEKDAY(DATE(YEAR($B$2),MONTH($B$2),1),1)+1+601
B91: =DATE(YEAR($B$2),MONTH($B$2),1)-WEEKDAY(DATE(YEAR($B$2),MONTH($B$2),1),1)+1+602 | C91: =DATE(YEAR($B$2),MONTH($B$2),1)-WEEKDAY(DATE(YEAR($B$2),MONTH($B$2),1),1)+1+603 | D91: =DATE(YEAR($B$2),MONTH($B$2),1)-WEEKDAY(DATE(YEAR($B$2),MONTH($B$2),1),1)+1+604 | E91: =DATE(YEAR($B$2),MONTH($B$2),1)-WEEKDAY(DATE(YEAR($B$2),MONTH($B$2),1),1)+1+605 | F91: =DATE(YEAR($B$2),MONTH($B$2),1)-WEEKDAY(DATE(YEAR($B$2),MONTH($B$2),1),1)+1+606 | G91: =DATE(YEAR($B$2),MONTH($B$2),1)-WEEKDAY(DATE(YEAR($B$2),MONTH($B$2),1),1)+1+607 | H91: =DATE(YEAR($B$2),MONTH($B$2),1)-WEEKDAY(DATE(YEAR($B$2),MONTH($B$2),1),1)+1+608
B92: =DATE(YEAR($B$2),MONTH($B$2),1)-WEEKDAY(DATE(YEAR($B$2),MONTH($B$2),1),1)+1+609 | C92: =DATE(YEAR($B$2),MONTH($B$2),1)-WEEKDAY(DATE(YEAR($B$2),MONTH($B$2),1),1)+1+610 | D92: =DATE(YEAR($B$2),MONTH($B$2),1)-WEEKDAY(DATE(YEAR($B$2),MONTH($B$2),1),1)+1+611 | E92: =DATE(YEAR($B$2),MONTH($B$2),1)-WEEKDAY(DATE(YEAR($B$2),MONTH($B$2),1),1)+1+612 | F92: =DATE(YEAR($B$2),MONTH($B$2),1)-WEEKDAY(DATE(YEAR($B$2),MONTH($B$2),1),1)+1+613 | G92: =DATE(YEAR($B$2),MONTH($B$2),1)-WEEKDAY(DATE(YEAR($B$2),MONTH($B$2),1),1)+1+614 | H92: =DATE(YEAR($B$2),MONTH($B$2),1)-WEEKDAY(DATE(YEAR($B$2),MONTH($B$2),1),1)+1+615
B93: =DATE(YEAR($B$2),MONTH($B$2),1)-WEEKDAY(DATE(YEAR($B$2),MONTH($B$2),1),1)+1+616 | C93: =DATE(YEAR($B$2),MONTH($B$2),1)-WEEKDAY(DATE(YEAR($B$2),MONTH($B$2),1),1)+1+617 | D93: =DATE(YEAR($B$2),MONTH($B$2),1)-WEEKDAY(DATE(YEAR($B$2),MONTH($B$2),1),1)+1+618 | E93: =DATE(YEAR($B$2),MONTH($B$2),1)-WEEKDAY(DATE(YEAR($B$2),MONTH($B$2),1),1)+1+619 | F93: =DATE(YEAR($B$2),MONTH($B$2),1)-WEEKDAY(DATE(YEAR($B$2),MONTH($B$2),1),1)+1+620 | G93: =DATE(YEAR($B$2),MONTH($B$2),1)-WEEKDAY(DATE(YEAR($B$2),MONTH($B$2),1),1)+1+621 | H93: =DATE(YEAR($B$2),MONTH($B$2),1)-WEEKDAY(DATE(YEAR($B$2),MONTH($B$2),1),1)+1+622
B94: =DATE(YEAR($B$2),MONTH($B$2),1)-WEEKDAY(DATE(YEAR($B$2),MONTH($B$2),1),1)+1+623 | C94: =DATE(YEAR($B$2),MONTH($B$2),1)-WEEKDAY(DATE(YEAR($B$2),MONTH($B$2),1),1)+1+624 | D94: =DATE(YEAR($B$2),MONTH($B$2),1)-WEEKDAY(DATE(YEAR($B$2),MONTH($B$2),1),1)+1+625 | E94: =DATE(YEAR($B$2),MONTH($B$2),1)-WEEKDAY(DATE(YEAR($B$2),MONTH($B$2),1),1)+1+626 | F94: =DATE(YEAR($B$2),MONTH($B$2),1)-WEEKDAY(DATE(YEAR($B$2),MONTH($B$2),1),1)+1+627 | G94: =DATE(YEAR($B$2),MONTH($B$2),1)-WEEKDAY(DATE(YEAR($B$2),MONTH($B$2),1),1)+1+628 | H94: =DATE(YEAR($B$2),MONTH($B$2),1)-WEEKDAY(DATE(YEAR($B$2),MONTH($B$2),1),1)+1+629
B95: =DATE(YEAR($B$2),MONTH($B$2),1)-WEEKDAY(DATE(YEAR($B$2),MONTH($B$2),1),1)+1+630 | C95: =DATE(YEAR($B$2),MONTH($B$2),1)-WEEKDAY(DATE(YEAR($B$2),MONTH($B$2),1),1)+1+631 | D95: =DATE(YEAR($B$2),MONTH($B$2),1)-WEEKDAY(DATE(YEAR($B$2),MONTH($B$2),1),1)+1+632 | E95: =DATE(YEAR($B$2),MONTH($B$2),1)-WEEKDAY(DATE(YEAR($B$2),MONTH($B$2),1),1)+1+633 | F95: =DATE(YEAR($B$2),MONTH($B$2),1)-WEEKDAY(DATE(YEAR($B$2),MONTH($B$2),1),1)+1+634 | G95: =DATE(YEAR($B$2),MONTH($B$2),1)-WEEKDAY(DATE(YEAR($B$2),MONTH($B$2),1),1)+1+635 | H95: =DATE(YEAR($B$2),MONTH($B$2),1)-WEEKDAY(DATE(YEAR($B$2),MONTH($B$2),1),1)+1+636
B96: =DATE(YEAR($B$2),MONTH($B$2),1)-WEEKDAY(DATE(YEAR($B$2),MONTH($B$2),1),1)+1+637 | C96: =DATE(YEAR($B$2),MONTH($B$2),1)-WEEKDAY(DATE(YEAR($B$2),MONTH($B$2),1),1)+1+638 | D96: =DATE(YEAR($B$2),MONTH($B$2),1)-WEEKDAY(DATE(YEAR($B$2),MONTH($B$2),1),1)+1+639 | E96: =DATE(YEAR($B$2),MONTH($B$2),1)-WEEKDAY(DATE(YEAR($B$2),MONTH($B$2),1),1)+1+640 | F96: =DATE(YEAR($B$2),MONTH($B$2),1)-WEEKDAY(DATE(YEAR($B$2),MONTH($B$2),1),1)+1+641 | G96: =DATE(YEAR($B$2),MONTH($B$2),1)-WEEKDAY(DATE(YEAR($B$2),MONTH($B$2),1),1)+1+642 | H96: =DATE(YEAR($B$2),MONTH($B$2),1)-WEEKDAY(DATE(YEAR($B$2),MONTH($B$2),1),1)+1+643
B97: =DATE(YEAR($B$2),MONTH($B$2),1)-WEEKDAY(DATE(YEAR($B$2),MONTH($B$2),1),1)+1+644 | C97: =DATE(YEAR($B$2),MONTH($B$2),1)-WEEKDAY(DATE(YEAR($B$2),MONTH($B$2),1),1)+1+645 | D97: =DATE(YEAR($B$2),MONTH($B$2),1)-WEEKDAY(DATE(YEAR($B$2),MONTH($B$2),1),1)+1+646 | E97: =DATE(YEAR($B$2),MONTH($B$2),1)-WEEKDAY(DATE(YEAR($B$2),MONTH($B$2),1),1)+1+647 | F97: =DATE(YEAR($B$2),MONTH($B$2),1)-WEEKDAY(DATE(YEAR($B$2),MONTH($B$2),1),1)+1+648 | G97: =DATE(YEAR($B$2),MONTH($B$2),1)-WEEKDAY(DATE(YEAR($B$2),MONTH($B$2),1),1)+1+649 | H97: =DATE(YEAR($B$2),MONTH($B$2),1)-WEEKDAY(DATE(YEAR($B$2),MONTH($B$2),1),1)+1+650
B98: =DATE(YEAR($B$2),MONTH($B$2),1)-WEEKDAY(DATE(YEAR($B$2),MONTH($B$2),1),1)+1+651 | C98: =DATE(YEAR($B$2),MONTH($B$2),1)-WEEKDAY(DATE(YEAR($B$2),MONTH($B$2),1),1)+1+652 | D98: =DATE(YEAR($B$2),MONTH($B$2),1)-WEEKDAY(DATE(YEAR($B$2),MONTH($B$2),1),1)+1+653 | E98: =DATE(YEAR($B$2),MONTH($B$2),1)-WEEKDAY(DATE(YEAR($B$2),MONTH($B$2),1),1)+1+654 | F98: =DATE(YEAR($B$2),MONTH($B$2),1)-WEEKDAY(DATE(YEAR($B$2),MONTH($B$2),1),1)+1+655 | G98: =DATE(YEAR($B$2),MONTH($B$2),1)-WEEKDAY(DATE(YEAR($B$2),MONTH($B$2),1),1)+1+656 | H98: =DATE(YEAR($B$2),MONTH($B$2),1)-WEEKDAY(DATE(YEAR($B$2),MONTH($B$2),1),1)+1+657
B99: =DATE(YEAR($B$2),MONTH($B$2),1)-WEEKDAY(DATE(YEAR($B$2),MONTH($B$2),1),1)+1+658 | C99: =DATE(YEAR($B$2),MONTH($B$2),1)-WEEKDAY(DATE(YEAR($B$2),MONTH($B$2),1),1)+1+659 | D99: =DATE(YEAR($B$2),MONTH($B$2),1)-WEEKDAY(DATE(YEAR($B$2),MONTH($B$2),1),1)+1+660 | E99: =DATE(YEAR($B$2),MONTH($B$2),1)-WEEKDAY(DATE(YEAR($B$2),MONTH($B$2),1),1)+1+661 | F99: =DATE(YEAR($B$2),MONTH($B$2),1)-WEEKDAY(DATE(YEAR($B$2),MONTH($B$2),1),1)+1+662 | G99: =DATE(YEAR($B$2),MONTH($B$2),1)-WEEKDAY(DATE(YEAR($B$2),MONTH($B$2),1),1)+1+663 | H99: =DATE(YEAR($B$2),MONTH($B$2),1)-WEEKDAY(DATE(YEAR($B$2),MONTH($B$2),1),1)+1+664
B100: =DATE(YEAR($B$2),MONTH($B$2),1)-WEEKDAY(DATE(YEAR($B$2),MONTH($B$2),1),1)+1+665 | C100: =DATE(YEAR($B$2),MONTH($B$2),1)-WEEKDAY(DATE(YEAR($B$2),MONTH($B$2),1),1)+1+666 | D100: =DATE(YEAR($B$2),MONTH($B$2),1)-WEEKDAY(DATE(YEAR($B$2),MONTH($B$2),1),1)+1+667 | E100: =DATE(YEAR($B$2),MONTH($B$2),1)-WEEKDAY(DATE(YEAR($B$2),MONTH($B$2),1),1)+1+668 | F100: =DATE(YEAR($B$2),MONTH($B$2),1)-WEEKDAY(DATE(YEAR($B$2),MONTH($B$2),1),1)+1+669 | G100: =DATE(YEAR($B$2),MONTH($B$2),1)-WEEKDAY(DATE(YEAR($B$2),MONTH($B$2),1),1)+1+670 | H100: =DATE(YEAR($B$2),MONTH($B$2),1)-WEEKDAY(DATE(YEAR($B$2),MONTH($B$2),1),1)+1+671
B101: =DATE(YEAR($B$2),MONTH($B$2),1)-WEEKDAY(DATE(YEAR($B$2),MONTH($B$2),1),1)+1+672 | C101: =DATE(YEAR($B$2),MONTH($B$2),1)-WEEKDAY(DATE(YEAR($B$2),MONTH($B$2),1),1)+1+673 | D101: =DATE(YEAR($B$2),MONTH($B$2),1)-WEEKDAY(DATE(YEAR($B$2),MONTH($B$2),1),1)+1+674 | E101: =DATE(YEAR($B$2),MONTH($B$2),1)-WEEKDAY(DATE(YEAR($B$2),MONTH($B$2),1),1)+1+675 | F101: =DATE(YEAR($B$2),MONTH($B$2),1)-WEEKDAY(DATE(YEAR($B$2),MONTH($B$2),1),1)+1+676 | G101: =DATE(YEAR($B$2),MONTH($B$2),1)-WEEKDAY(DATE(YEAR($B$2),MONTH($B$2),1),1)+1+677 | H101: =DATE(YEAR($B$2),MONTH($B$2),1)-WEEKDAY(DATE(YEAR($B$2),MONTH($B$2),1),1)+1+678

Sheet Calendar Events
A1: Academic Calendar Events
A2: Enter one row per event. Blue cells are editable; gray cells are calculated.
A5: Event ID | B5: Academic Year | C5: Term | D5: Start Date | E5: End Date | F5: Event Name | G5: Category | H5: Campus Status | I5: Audience | J5: Owner | K5: Status | L5: Notes | M5: Duration (Days) | N5: Outside Term? | O5: Owner Conflict? | P5: Review Alert
A6: EVT-2026-001 | B6: 2026-2027 | C6: Fall Term | D6: 46254 | E6: 46255 | F6: Faculty Planning Retreat | G6: Faculty Activity | H6: Open | I6: Faculty | J6: Academic Affairs Team | K6: Completed | L6: Planning sessions before fall classes begin. | M6: =IF(OR(D6="",E6=""),"",IF(E6<D6,"",E6-D6+1)) | N6: =IF(OR(B6="",C6="",D6="",E6=""),"",IF(COUNTIFS('Academic Terms'!$A$6:$A$101,B6,'Academic Terms'!$B$6:$B$101,C6)<>1,"Term not found",IF(OR(D6<SUMIFS('Academic Terms'!$C$6:$C$101,'Academic Terms'!$A$6:$A$101,B6,'Academic Terms'!$B$6:$B$101,C6),E6>SUMIFS('Academic Terms'!$D$6:$D$101,'Academic Terms'!$A$6:$A$101,B6,'Academic Terms'!$B$6:$B$101,C6)),"Yes","No"))) | O6: =IF(OR(A6="",B6="",D6="",E6="",J6="",K6="Cancelled"),"",IF(SUMPRODUCT(--($A$6:$A$205<>A6),--($B$6:$B$205=B6),--($J$6:$J$205=J6),--($D$6:$D$205<=E6),--($E$6:$E$205>=D6),--($K$6:$K$205<>"Cancelled"))>0,"Yes","No")) | P6: =IF(COUNTA(A6:L6)=0,"",IF(OR(A6="",B6="",C6="",D6="",E6="",F6="",G6="",K6=""),"Missing required fields",IF(COUNTIF($A$6:$A$205,A6)>1,"Duplicate Event ID",IF(E6<D6,"End date before start date",IF(N6="Term not found","Term not found",IF(N6="Yes","Outside term",IF(O6="Yes","Owner conflict",IF(AND(E6<Dashboard!$B$4,K6<>"Completed",K6<>"Cancelled"),"Past event not completed",""))))))))
A7: EVT-2026-002 | B7: 2026-2027 | C7: Fall Term | D7: 46258 | E7: 46258 | F7: Fall Classes Begin | G7: Instruction | H7: Open | I7: All Learners | J7: Registrar Team | K7: Completed | L7: First instructional day of the fall term. | M7: =IF(OR(D7="",E7=""),"",IF(E7<D7,"",E7-D7+1)) | N7: =IF(OR(B7="",C7="",D7="",E7=""),"",IF(COUNTIFS('Academic Terms'!$A$6:$A$101,B7,'Academic Terms'!$B$6:$B$101,C7)<>1,"Term not found",IF(OR(D7<SUMIFS('Academic Terms'!$C$6:$C$101,'Academic Terms'!$A$6:$A$101,B7,'Academic Terms'!$B$6:$B$101,C7),E7>SUMIFS('Academic Terms'!$D$6:$D$101,'Academic Terms'!$A$6:$A$101,B7,'Academic Terms'!$B$6:$B$101,C7)),"Yes","No"))) | O7: =IF(OR(A7="",B7="",D7="",E7="",J7="",K7="Cancelled"),"",IF(SUMPRODUCT(--($A$6:$A$205<>A7),--($B$6:$B$205=B7),--($J$6:$J$205=J7),--($D$6:$D$205<=E7),--($E$6:$E$205>=D7),--($K$6:$K$205<>"Cancelled"))>0,"Yes","No")) | P7: =IF(COUNTA(A7:L7)=0,"",IF(OR(A7="",B7="",C7="",D7="",E7="",F7="",G7="",K7=""),"Missing required fields",IF(COUNTIF($A$6:$A$205,A7)>1,"Duplicate Event ID",IF(E7<D7,"End date before start date",IF(N7="Term not found","Term not found",IF(N7="Yes","Outside term",IF(O7="Yes","Owner conflict",IF(AND(E7<Dashboard!$B$4,K7<>"Completed",K7<>"Cancelled"),"Past event not completed",""))))))))
A8: EVT-2026-003 | B8: 2026-2027 | C8: Fall Term | D8: 46269 | E8: 46269 | F8: Fall Add and Drop Deadline | G8: Deadline | H8: Open | I8: All Learners | J8: Registrar Team | K8: Completed | L8: Schedule changes close at the end of the day. | M8: =IF(OR(D8="",E8=""),"",IF(E8<D8,"",E8-D8+1)) | N8: =IF(OR(B8="",C8="",D8="",E8=""),"",IF(COUNTIFS('Academic Terms'!$A$6:$A$101,B8,'Academic Terms'!$B$6:$B$101,C8)<>1,"Term not found",IF(OR(D8<SUMIFS('Academic Terms'!$C$6:$C$101,'Academic Terms'!$A$6:$A$101,B8,'Academic Terms'!$B$6:$B$101,C8),E8>SUMIFS('Academic Terms'!$D$6:$D$101,'Academic Terms'!$A$6:$A$101,B8,'Academic Terms'!$B$6:$B$101,C8)),"Yes","No"))) | O8: =IF(OR(A8="",B8="",D8="",E8="",J8="",K8="Cancelled"),"",IF(SUMPRODUCT(--($A$6:$A$205<>A8),--($B$6:$B$205=B8),--($J$6:$J$205=J8),--($D$6:$D$205<=E8),--($E$6:$E$205>=D8),--($K$6:$K$205<>"Cancelled"))>0,"Yes","No")) | P8: =IF(COUNTA(A8:L8)=0,"",IF(OR(A8="",B8="",C8="",D8="",E8="",F8="",G8="",K8=""),"Missing required fields",IF(COUNTIF($A$6:$A$205,A8)>1,"Duplicate Event ID",IF(E8<D8,"End date before start date",IF(N8="Term not found","Term not found",IF(N8="Yes","Outside term",IF(O8="Yes","Owner conflict",IF(AND(E8<Dashboard!$B$4,K8<>"Completed",K8<>"Cancelled"),"Past event not completed",""))))))))
A9: EVT-2026-004 | B9: 2026-2027 | C9: Fall Term | D9: 46275 | E9: 46275 | F9: Learner Success Workshop | G9: Student Support | H9: Open | I9: All Learners | J9: Learner Services Team | K9: Confirmed | L9: Time-management and study-planning workshop. | M9: =IF(OR(D9="",E9=""),"",IF(E9<D9,"",E9-D9+1)) | N9: =IF(OR(B9="",C9="",D9="",E9=""),"",IF(COUNTIFS('Academic Terms'!$A$6:$A$101,B9,'Academic Terms'!$B$6:$B$101,C9)<>1,"Term not found",IF(OR(D9<SUMIFS('Academic Terms'!$C$6:$C$101,'Academic Terms'!$A$6:$A$101,B9,'Academic Terms'!$B$6:$B$101,C9),E9>SUMIFS('Academic Terms'!$D$6:$D$101,'Academic Terms'!$A$6:$A$101,B9,'Academic Terms'!$B$6:$B$101,C9)),"Yes","No"))) | O9: =IF(OR(A9="",B9="",D9="",E9="",J9="",K9="Cancelled"),"",IF(SUMPRODUCT(--($A$6:$A$205<>A9),--($B$6:$B$205=B9),--($J$6:$J$205=J9),--($D$6:$D$205<=E9),--($E$6:$E$205>=D9),--($K$6:$K$205<>"Cancelled"))>0,"Yes","No")) | P9: =IF(COUNTA(A9:L9)=0,"",IF(OR(A9="",B9="",C9="",D9="",E9="",F9="",G9="",K9=""),"Missing required fields",IF(COUNTIF($A$6:$A$205,A9)>1,"Duplicate Event ID",IF(E9<D9,"End date before start date",IF(N9="Term not found","Term not found",IF(N9="Yes","Outside term",IF(O9="Yes","Owner conflict",IF(AND(E9<Dashboard!$B$4,K9<>"Completed",K9<>"Cancelled"),"Past event not completed",""))))))))
A10: EVT-2026-005 | B10: 2026-2027 | C10: Fall Term | D10: 46307 | E10: 46311 | F10: Fall Midterm Assessments | G10: Assessment | H10: Open | I10: All Learners | J10: Assessment Team | K10: Confirmed | L10: Program areas schedule assessments during this period. | M10: =IF(OR(D10="",E10=""),"",IF(E10<D10,"",E10-D10+1)) | N10: =IF(OR(B10="",C10="",D10="",E10=""),"",IF(COUNTIFS('Academic Terms'!$A$6:$A$101,B10,'Academic Terms'!$B$6:$B$101,C10)<>1,"Term not found",IF(OR(D10<SUMIFS('Academic Terms'!$C$6:$C$101,'Academic Terms'!$A$6:$A$101,B10,'Academic Terms'!$B$6:$B$101,C10),E10>SUMIFS('Academic Terms'!$D$6:$D$101,'Academic Terms'!$A$6:$A$101,B10,'Academic Terms'!$B$6:$B$101,C10)),"Yes","No"))) | O10: =IF(OR(A10="",B10="",D10="",E10="",J10="",K10="Cancelled"),"",IF(SUMPRODUCT(--($A$6:$A$205<>A10),--($B$6:$B$205=B10),--($J$6:$J$205=J10),--($D$6:$D$205<=E10),--($E$6:$E$205>=D10),--($K$6:$K$205<>"Cancelled"))>0,"Yes","No")) | P10: =IF(COUNTA(A10:L10)=0,"",IF(OR(A10="",B10="",C10="",D10="",E10="",F10="",G10="",K10=""),"Missing required fields",IF(COUNTIF($A$6:$A$205,A10)>1,"Duplicate Event ID",IF(E10<D10,"End date before start date",IF(N10="Term not found","Term not found",IF(N10="Yes","Outside term",IF(O10="Yes","Owner conflict",IF(AND(E10<Dashboard!$B$4,K10<>"Completed",K10<>"Cancelled"),"Past event not completed",""))))))))
A11: EVT-2026-006 | B11: 2026-2027 | C11: Fall Term | D11: 46318 | E11: 46318 | F11: Founders Day Closure | G11: Break/Holiday | H11: Closed | I11: All Learners | J11: Campus Operations Team | K11: Confirmed | L11: Fictional institutional closure. | M11: =IF(OR(D11="",E11=""),"",IF(E11<D11,"",E11-D11+1)) | N11: =IF(OR(B11="",C11="",D11="",E11=""),"",IF(COUNTIFS('Academic Terms'!$A$6:$A$101,B11,'Academic Terms'!$B$6:$B$101,C11)<>1,"Term not found",IF(OR(D11<SUMIFS('Academic Terms'!$C$6:$C$101,'Academic Terms'!$A$6:$A$101,B11,'Academic Terms'!$B$6:$B$101,C11),E11>SUMIFS('Academic Terms'!$D$6:$D$101,'Academic Terms'!$A$6:$A$101,B11,'Academic Terms'!$B$6:$B$101,C11)),"Yes","No"))) | O11: =IF(OR(A11="",B11="",D11="",E11="",J11="",K11="Cancelled"),"",IF(SUMPRODUCT(--($A$6:$A$205<>A11),--($B$6:$B$205=B11),--($J$6:$J$205=J11),--($D$6:$D$205<=E11),--($E$6:$E$205>=D11),--($K$6:$K$205<>"Cancelled"))>0,"Yes","No")) | P11: =IF(COUNTA(A11:L11)=0,"",IF(OR(A11="",B11="",C11="",D11="",E11="",F11="",G11="",K11=""),"Missing required fields",IF(COUNTIF($A$6:$A$205,A11)>1,"Duplicate Event ID",IF(E11<D11,"End date before start date",IF(N11="Term not found","Term not found",IF(N11="Yes","Outside term",IF(O11="Yes","Owner conflict",IF(AND(E11<Dashboard!$B$4,K11<>"Completed",K11<>"Cancelled"),"Past event not completed",""))))))))
A12: EVT-2026-007 | B12: 2026-2027 | C12: Fall Term | D12: 46328 | E12: 46339 | F12: Winter Registration Window | G12: Registration | H12: Open | I12: All Learners | J12: Registrar Team | K12: Planned | L12: Registration window for winter courses. | M12: =IF(OR(D12="",E12=""),"",IF(E12<D12,"",E12-D12+1)) | N12: =IF(OR(B12="",C12="",D12="",E12=""),"",IF(COUNTIFS('Academic Terms'!$A$6:$A$101,B12,'Academic Terms'!$B$6:$B$101,C12)<>1,"Term not found",IF(OR(D12<SUMIFS('Academic Terms'!$C$6:$C$101,'Academic Terms'!$A$6:$A$101,B12,'Academic Terms'!$B$6:$B$101,C12),E12>SUMIFS('Academic Terms'!$D$6:$D$101,'Academic Terms'!$A$6:$A$101,B12,'Academic Terms'!$B$6:$B$101,C12)),"Yes","No"))) | O12: =IF(OR(A12="",B12="",D12="",E12="",J12="",K12="Cancelled"),"",IF(SUMPRODUCT(--($A$6:$A$205<>A12),--($B$6:$B$205=B12),--($J$6:$J$205=J12),--($D$6:$D$205<=E12),--($E$6:$E$205>=D12),--($K$6:$K$205<>"Cancelled"))>0,"Yes","No")) | P12: =IF(COUNTA(A12:L12)=0,"",IF(OR(A12="",B12="",C12="",D12="",E12="",F12="",G12="",K12=""),"Missing required fields",IF(COUNTIF($A$6:$A$205,A12)>1,"Duplicate Event ID",IF(E12<D12,"End date before start date",IF(N12="Term not found","Term not found",IF(N12="Yes","Outside term",IF(O12="Yes","Owner conflict",IF(AND(E12<Dashboard!$B$4,K12<>"Completed",K12<>"Cancelled"),"Past event not completed",""))))))))
A13: EVT-2026-008 | B13: 2026-2027 | C13: Fall Term | D13: 46367 | E13: 46367 | F13: Fall Instruction Ends | G13: Instruction | H13: Open | I13: All Learners | J13: Academic Affairs Team | K13: Planned | L13: Final scheduled instructional day. | M13: =IF(OR(D13="",E13=""),"",IF(E13<D13,"",E13-D13+1)) | N13: =IF(OR(B13="",C13="",D13="",E13=""),"",IF(COUNTIFS('Academic Terms'!$A$6:$A$101,B13,'Academic Terms'!$B$6:$B$101,C13)<>1,"Term not found",IF(OR(D13<SUMIFS('Academic Terms'!$C$6:$C$101,'Academic Terms'!$A$6:$A$101,B13,'Academic Terms'!$B$6:$B$101,C13),E13>SUMIFS('Academic Terms'!$D$6:$D$101,'Academic Terms'!$A$6:$A$101,B13,'Academic Terms'!$B$6:$B$101,C13)),"Yes","No"))) | O13: =IF(OR(A13="",B13="",D13="",E13="",J13="",K13="Cancelled"),"",IF(SUMPRODUCT(--($A$6:$A$205<>A13),--($B$6:$B$205=B13),--($J$6:$J$205=J13),--($D$6:$D$205<=E13),--($E$6:$E$205>=D13),--($K$6:$K$205<>"Cancelled"))>0,"Yes","No")) | P13: =IF(COUNTA(A13:L13)=0,"",IF(OR(A13="",B13="",C13="",D13="",E13="",F13="",G13="",K13=""),"Missing required fields",IF(COUNTIF($A$6:$A$205,A13)>1,"Duplicate Event ID",IF(E13<D13,"End date before start date",IF(N13="Term not found","Term not found",IF(N13="Yes","Outside term",IF(O13="Yes","Owner conflict",IF(AND(E13<Dashboard!$B$4,K13<>"Completed",K13<>"Cancelled"),"Past event not completed",""))))))))
A14: EVT-2027-009 | B14: 2026-2027 | C14: Winter Term | D14: 46391 | E14: 46391 | F14: Winter Classes Begin | G14: Instruction | H14: Open | I14: All Learners | J14: Registrar Team | K14: Planned | L14: First instructional day of the winter term. | M14: =IF(OR(D14="",E14=""),"",IF(E14<D14,"",E14-D14+1)) | N14: =IF(OR(B14="",C14="",D14="",E14=""),"",IF(COUNTIFS('Academic Terms'!$A$6:$A$101,B14,'Academic Terms'!$B$6:$B$101,C14)<>1,"Term not found",IF(OR(D14<SUMIFS('Academic Terms'!$C$6:$C$101,'Academic Terms'!$A$6:$A$101,B14,'Academic Terms'!$B$6:$B$101,C14),E14>SUMIFS('Academic Terms'!$D$6:$D$101,'Academic Terms'!$A$6:$A$101,B14,'Academic Terms'!$B$6:$B$101,C14)),"Yes","No"))) | O14: =IF(OR(A14="",B14="",D14="",E14="",J14="",K14="Cancelled"),"",IF(SUMPRODUCT(--($A$6:$A$205<>A14),--($B$6:$B$205=B14),--($J$6:$J$205=J14),--($D$6:$D$205<=E14),--($E$6:$E$205>=D14),--($K$6:$K$205<>"Cancelled"))>0,"Yes","No")) | P14: =IF(COUNTA(A14:L14)=0,"",IF(OR(A14="",B14="",C14="",D14="",E14="",F14="",G14="",K14=""),"Missing required fields",IF(COUNTIF($A$6:$A$205,A14)>1,"Duplicate Event ID",IF(E14<D14,"End date before start date",IF(N14="Term not found","Term not found",IF(N14="Yes","Outside term",IF(O14="Yes","Owner conflict",IF(AND(E14<Dashboard!$B$4,K14<>"Completed",K14<>"Cancelled"),"Past event not completed",""))))))))
A15: EVT-2027-010 | B15: 2026-2027 | C15: Spring Term | D15: 46475 | E15: 46475 | F15: Spring Classes Begin | G15: Instruction | H15: Open | I15: All Learners | J15: Registrar Team | K15: Planned | L15: First instructional day of the spring term. | M15: =IF(OR(D15="",E15=""),"",IF(E15<D15,"",E15-D15+1)) | N15: =IF(OR(B15="",C15="",D15="",E15=""),"",IF(COUNTIFS('Academic Terms'!$A$6:$A$101,B15,'Academic Terms'!$B$6:$B$101,C15)<>1,"Term not found",IF(OR(D15<SUMIFS('Academic Terms'!$C$6:$C$101,'Academic Terms'!$A$6:$A$101,B15,'Academic Terms'!$B$6:$B$101,C15),E15>SUMIFS('Academic Terms'!$D$6:$D$101,'Academic Terms'!$A$6:$A$101,B15,'Academic Terms'!$B$6:$B$101,C15)),"Yes","No"))) | O15: =IF(OR(A15="",B15="",D15="",E15="",J15="",K15="Cancelled"),"",IF(SUMPRODUCT(--($A$6:$A$205<>A15),--($B$6:$B$205=B15),--($J$6:$J$205=J15),--($D$6:$D$205<=E15),--($E$6:$E$205>=D15),--($K$6:$K$205<>"Cancelled"))>0,"Yes","No")) | P15: =IF(COUNTA(A15:L15)=0,"",IF(OR(A15="",B15="",C15="",D15="",E15="",F15="",G15="",K15=""),"Missing required fields",IF(COUNTIF($A$6:$A$205,A15)>1,"Duplicate Event ID",IF(E15<D15,"End date before start date",IF(N15="Term not found","Term not found",IF(N15="Yes","Outside term",IF(O15="Yes","Owner conflict",IF(AND(E15<Dashboard!$B$4,K15<>"Completed",K15<>"Cancelled"),"Past event not completed",""))))))))
M16: =IF(OR(D16="",E16=""),"",IF(E16<D16,"",E16-D16+1)) | N16: =IF(OR(B16="",C16="",D16="",E16=""),"",IF(COUNTIFS('Academic Terms'!$A$6:$A$101,B16,'Academic Terms'!$B$6:$B$101,C16)<>1,"Term not found",IF(OR(D16<SUMIFS('Academic Terms'!$C$6:$C$101,'Academic Terms'!$A$6:$A$101,B16,'Academic Terms'!$B$6:$B$101,C16),E16>SUMIFS('Academic Terms'!$D$6:$D$101,'Academic Terms'!$A$6:$A$101,B16,'Academic Terms'!$B$6:$B$101,C16)),"Yes","No"))) | O16: =IF(OR(A16="",B16="",D16="",E16="",J16="",K16="Cancelled"),"",IF(SUMPRODUCT(--($A$6:$A$205<>A16),--($B$6:$B$205=B16),--($J$6:$J$205=J16),--($D$6:$D$205<=E16),--($E$6:$E$205>=D16),--($K$6:$K$205<>"Cancelled"))>0,"Yes","No")) | P16: =IF(COUNTA(A16:L16)=0,"",IF(OR(A16="",B16="",C16="",D16="",E16="",F16="",G16="",K16=""),"Missing required fields",IF(COUNTIF($A$6:$A$205,A16)>1,"Duplicate Event ID",IF(E16<D16,"End date before start date",IF(N16="Term not found","Term not found",IF(N16="Yes","Outside term",IF(O16="Yes","Owner conflict",IF(AND(E16<Dashboard!$B$4,K16<>"Completed",K16<>"Cancelled"),"Past event not completed",""))))))))
M17: =IF(OR(D17="",E17=""),"",IF(E17<D17,"",E17-D17+1)) | N17: =IF(OR(B17="",C17="",D17="",E17=""),"",IF(COUNTIFS('Academic Terms'!$A$6:$A$101,B17,'Academic Terms'!$B$6:$B$101,C17)<>1,"Term not found",IF(OR(D17<SUMIFS('Academic Terms'!$C$6:$C$101,'Academic Terms'!$A$6:$A$101,B17,'Academic Terms'!$B$6:$B$101,C17),E17>SUMIFS('Academic Terms'!$D$6:$D$101,'Academic Terms'!$A$6:$A$101,B17,'Academic Terms'!$B$6:$B$101,C17)),"Yes","No"))) | O17: =IF(OR(A17="",B17="",D17="",E17="",J17="",K17="Cancelled"),"",IF(SUMPRODUCT(--($A$6:$A$205<>A17),--($B$6:$B$205=B17),--($J$6:$J$205=J17),--($D$6:$D$205<=E17),--($E$6:$E$205>=D17),--($K$6:$K$205<>"Cancelled"))>0,"Yes","No")) | P17: =IF(COUNTA(A17:L17)=0,"",IF(OR(A17="",B17="",C17="",D17="",E17="",F17="",G17="",K17=""),"Missing required fields",IF(COUNTIF($A$6:$A$205,A17)>1,"Duplicate Event ID",IF(E17<D17,"End date before start date",IF(N17="Term not found","Term not found",IF(N17="Yes","Outside term",IF(O17="Yes","Owner conflict",IF(AND(E17<Dashboard!$B$4,K17<>"Completed",K17<>"Cancelled"),"Past event not completed",""))))))))
M18: =IF(OR(D18="",E18=""),"",IF(E18<D18,"",E18-D18+1)) | N18: =IF(OR(B18="",C18="",D18="",E18=""),"",IF(COUNTIFS('Academic Terms'!$A$6:$A$101,B18,'Academic Terms'!$B$6:$B$101,C18)<>1,"Term not found",IF(OR(D18<SUMIFS('Academic Terms'!$C$6:$C$101,'Academic Terms'!$A$6:$A$101,B18,'Academic Terms'!$B$6:$B$101,C18),E18>SUMIFS('Academic Terms'!$D$6:$D$101,'Academic Terms'!$A$6:$A$101,B18,'Academic Terms'!$B$6:$B$101,C18)),"Yes","No"))) | O18: =IF(OR(A18="",B18="",D18="",E18="",J18="",K18="Cancelled"),"",IF(SUMPRODUCT(--($A$6:$A$205<>A18),--($B$6:$B$205=B18),--($J$6:$J$205=J18),--($D$6:$D$205<=E18),--($E$6:$E$205>=D18),--($K$6:$K$205<>"Cancelled"))>0,"Yes","No")) | P18: =IF(COUNTA(A18:L18)=0,"",IF(OR(A18="",B18="",C18="",D18="",E18="",F18="",G18="",K18=""),"Missing required fields",IF(COUNTIF($A$6:$A$205,A18)>1,"Duplicate Event ID",IF(E18<D18,"End date before start date",IF(N18="Term not found","Term not found",IF(N18="Yes","Outside term",IF(O18="Yes","Owner conflict",IF(AND(E18<Dashboard!$B$4,K18<>"Completed",K18<>"Cancelled"),"Past event not completed",""))))))))
M19: =IF(OR(D19="",E19=""),"",IF(E19<D19,"",E19-D19+1)) | N19: =IF(OR(B19="",C19="",D19="",E19=""),"",IF(COUNTIFS('Academic Terms'!$A$6:$A$101,B19,'Academic Terms'!$B$6:$B$101,C19)<>1,"Term not found",IF(OR(D19<SUMIFS('Academic Terms'!$C$6:$C$101,'Academic Terms'!$A$6:$A$101,B19,'Academic Terms'!$B$6:$B$101,C19),E19>SUMIFS('Academic Terms'!$D$6:$D$101,'Academic Terms'!$A$6:$A$101,B19,'Academic Terms'!$B$6:$B$101,C19)),"Yes","No"))) | O19: =IF(OR(A19="",B19="",D19="",E19="",J19="",K19="Cancelled"),"",IF(SUMPRODUCT(--($A$6:$A$205<>A19),--($B$6:$B$205=B19),--($J$6:$J$205=J19),--($D$6:$D$205<=E19),--($E$6:$E$205>=D19),--($K$6:$K$205<>"Cancelled"))>0,"Yes","No")) | P19: =IF(COUNTA(A19:L19)=0,"",IF(OR(A19="",B19="",C19="",D19="",E19="",F19="",G19="",K19=""),"Missing required fields",IF(COUNTIF($A$6:$A$205,A19)>1,"Duplicate Event ID",IF(E19<D19,"End date before start date",IF(N19="Term not found","Term not found",IF(N19="Yes","Outside term",IF(O19="Yes","Owner conflict",IF(AND(E19<Dashboard!$B$4,K19<>"Completed",K19<>"Cancelled"),"Past event not completed",""))))))))
M20: =IF(OR(D20="",E20=""),"",IF(E20<D20,"",E20-D20+1)) | N20: =IF(OR(B20="",C20="",D20="",E20=""),"",IF(COUNTIFS('Academic Terms'!$A$6:$A$101,B20,'Academic Terms'!$B$6:$B$101,C20)<>1,"Term not found",IF(OR(D20<SUMIFS('Academic Terms'!$C$6:$C$101,'Academic Terms'!$A$6:$A$101,B20,'Academic Terms'!$B$6:$B$101,C20),E20>SUMIFS('Academic Terms'!$D$6:$D$101,'Academic Terms'!$A$6:$A$101,B20,'Academic Terms'!$B$6:$B$101,C20)),"Yes","No"))) | O20: =IF(OR(A20="",B20="",D20="",E20="",J20="",K20="Cancelled"),"",IF(SUMPRODUCT(--($A$6:$A$205<>A20),--($B$6:$B$205=B20),--($J$6:$J$205=J20),--($D$6:$D$205<=E20),--($E$6:$E$205>=D20),--($K$6:$K$205<>"Cancelled"))>0,"Yes","No")) | P20: =IF(COUNTA(A20:L20)=0,"",IF(OR(A20="",B20="",C20="",D20="",E20="",F20="",G20="",K20=""),"Missing required fields",IF(COUNTIF($A$6:$A$205,A20)>1,"Duplicate Event ID",IF(E20<D20,"End date before start date",IF(N20="Term not found","Term not found",IF(N20="Yes","Outside term",IF(O20="Yes","Owner conflict",IF(AND(E20<Dashboard!$B$4,K20<>"Completed",K20<>"Cancelled"),"Past event not completed",""))))))))
M21: =IF(OR(D21="",E21=""),"",IF(E21<D21,"",E21-D21+1)) | N21: =IF(OR(B21="",C21="",D21="",E21=""),"",IF(COUNTIFS('Academic Terms'!$A$6:$A$101,B21,'Academic Terms'!$B$6:$B$101,C21)<>1,"Term not found",IF(OR(D21<SUMIFS('Academic Terms'!$C$6:$C$101,'Academic Terms'!$A$6:$A$101,B21,'Academic Terms'!$B$6:$B$101,C21),E21>SUMIFS('Academic Terms'!$D$6:$D$101,'Academic Terms'!$A$6:$A$101,B21,'Academic Terms'!$B$6:$B$101,C21)),"Yes","No"))) | O21: =IF(OR(A21="",B21="",D21="",E21="",J21="",K21="Cancelled"),"",IF(SUMPRODUCT(--($A$6:$A$205<>A21),--($B$6:$B$205=B21),--($J$6:$J$205=J21),--($D$6:$D$205<=E21),--($E$6:$E$205>=D21),--($K$6:$K$205<>"Cancelled"))>0,"Yes","No")) | P21: =IF(COUNTA(A21:L21)=0,"",IF(OR(A21="",B21="",C21="",D21="",E21="",F21="",G21="",K21=""),"Missing required fields",IF(COUNTIF($A$6:$A$205,A21)>1,"Duplicate Event ID",IF(E21<D21,"End date before start date",IF(N21="Term not found","Term not found",IF(N21="Yes","Outside term",IF(O21="Yes","Owner conflict",IF(AND(E21<Dashboard!$B$4,K21<>"Completed",K21<>"Cancelled"),"Past event not completed",""))))))))
M22: =IF(OR(D22="",E22=""),"",IF(E22<D22,"",E22-D22+1)) | N22: =IF(OR(B22="",C22="",D22="",E22=""),"",IF(COUNTIFS('Academic Terms'!$A$6:$A$101,B22,'Academic Terms'!$B$6:$B$101,C22)<>1,"Term not found",IF(OR(D22<SUMIFS('Academic Terms'!$C$6:$C$101,'Academic Terms'!$A$6:$A$101,B22,'Academic Terms'!$B$6:$B$101,C22),E22>SUMIFS('Academic Terms'!$D$6:$D$101,'Academic Terms'!$A$6:$A$101,B22,'Academic Terms'!$B$6:$B$101,C22)),"Yes","No"))) | O22: =IF(OR(A22="",B22="",D22="",E22="",J22="",K22="Cancelled"),"",IF(SUMPRODUCT(--($A$6:$A$205<>A22),--($B$6:$B$205=B22),--($J$6:$J$205=J22),--($D$6:$D$205<=E22),--($E$6:$E$205>=D22),--($K$6:$K$205<>"Cancelled"))>0,"Yes","No")) | P22: =IF(COUNTA(A22:L22)=0,"",IF(OR(A22="",B22="",C22="",D22="",E22="",F22="",G22="",K22=""),"Missing required fields",IF(COUNTIF($A$6:$A$205,A22)>1,"Duplicate Event ID",IF(E22<D22,"End date before start date",IF(N22="Term not found","Term not found",IF(N22="Yes","Outside term",IF(O22="Yes","Owner conflict",IF(AND(E22<Dashboard!$B$4,K22<>"Completed",K22<>"Cancelled"),"Past event not completed",""))))))))
M23: =IF(OR(D23="",E23=""),"",IF(E23<D23,"",E23-D23+1)) | N23: =IF(OR(B23="",C23="",D23="",E23=""),"",IF(COUNTIFS('Academic Terms'!$A$6:$A$101,B23,'Academic Terms'!$B$6:$B$101,C23)<>1,"Term not found",IF(OR(D23<SUMIFS('Academic Terms'!$C$6:$C$101,'Academic Terms'!$A$6:$A$101,B23,'Academic Terms'!$B$6:$B$101,C23),E23>SUMIFS('Academic Terms'!$D$6:$D$101,'Academic Terms'!$A$6:$A$101,B23,'Academic Terms'!$B$6:$B$101,C23)),"Yes","No"))) | O23: =IF(OR(A23="",B23="",D23="",E23="",J23="",K23="Cancelled"),"",IF(SUMPRODUCT(--($A$6:$A$205<>A23),--($B$6:$B$205=B23),--($J$6:$J$205=J23),--($D$6:$D$205<=E23),--($E$6:$E$205>=D23),--($K$6:$K$205<>"Cancelled"))>0,"Yes","No")) | P23: =IF(COUNTA(A23:L23)=0,"",IF(OR(A23="",B23="",C23="",D23="",E23="",F23="",G23="",K23=""),"Missing required fields",IF(COUNTIF($A$6:$A$205,A23)>1,"Duplicate Event ID",IF(E23<D23,"End date before start date",IF(N23="Term not found","Term not found",IF(N23="Yes","Outside term",IF(O23="Yes","Owner conflict",IF(AND(E23<Dashboard!$B$4,K23<>"Completed",K23<>"Cancelled"),"Past event not completed",""))))))))
M24: =IF(OR(D24="",E24=""),"",IF(E24<D24,"",E24-D24+1)) | N24: =IF(OR(B24="",C24="",D24="",E24=""),"",IF(COUNTIFS('Academic Terms'!$A$6:$A$101,B24,'Academic Terms'!$B$6:$B$101,C24)<>1,"Term not found",IF(OR(D24<SUMIFS('Academic Terms'!$C$6:$C$101,'Academic Terms'!$A$6:$A$101,B24,'Academic Terms'!$B$6:$B$101,C24),E24>SUMIFS('Academic Terms'!$D$6:$D$101,'Academic Terms'!$A$6:$A$101,B24,'Academic Terms'!$B$6:$B$101,C24)),"Yes","No"))) | O24: =IF(OR(A24="",B24="",D24="",E24="",J24="",K24="Cancelled"),"",IF(SUMPRODUCT(--($A$6:$A$205<>A24),--($B$6:$B$205=B24),--($J$6:$J$205=J24),--($D$6:$D$205<=E24),--($E$6:$E$205>=D24),--($K$6:$K$205<>"Cancelled"))>0,"Yes","No")) | P24: =IF(COUNTA(A24:L24)=0,"",IF(OR(A24="",B24="",C24="",D24="",E24="",F24="",G24="",K24=""),"Missing required fields",IF(COUNTIF($A$6:$A$205,A24)>1,"Duplicate Event ID",IF(E24<D24,"End date before start date",IF(N24="Term not found","Term not found",IF(N24="Yes","Outside term",IF(O24="Yes","Owner conflict",IF(AND(E24<Dashboard!$B$4,K24<>"Completed",K24<>"Cancelled"),"Past event not completed",""))))))))
M25: =IF(OR(D25="",E25=""),"",IF(E25<D25,"",E25-D25+1)) | N25: =IF(OR(B25="",C25="",D25="",E25=""),"",IF(COUNTIFS('Academic Terms'!$A$6:$A$101,B25,'Academic Terms'!$B$6:$B$101,C25)<>1,"Term not found",IF(OR(D25<SUMIFS('Academic Terms'!$C$6:$C$101,'Academic Terms'!$A$6:$A$101,B25,'Academic Terms'!$B$6:$B$101,C25),E25>SUMIFS('Academic Terms'!$D$6:$D$101,'Academic Terms'!$A$6:$A$101,B25,'Academic Terms'!$B$6:$B$101,C25)),"Yes","No"))) | O25: =IF(OR(A25="",B25="",D25="",E25="",J25="",K25="Cancelled"),"",IF(SUMPRODUCT(--($A$6:$A$205<>A25),--($B$6:$B$205=B25),--($J$6:$J$205=J25),--($D$6:$D$205<=E25),--($E$6:$E$205>=D25),--($K$6:$K$205<>"Cancelled"))>0,"Yes","No")) | P25: =IF(COUNTA(A25:L25)=0,"",IF(OR(A25="",B25="",C25="",D25="",E25="",F25="",G25="",K25=""),"Missing required fields",IF(COUNTIF($A$6:$A$205,A25)>1,"Duplicate Event ID",IF(E25<D25,"End date before start date",IF(N25="Term not found","Term not found",IF(N25="Yes","Outside term",IF(O25="Yes","Owner conflict",IF(AND(E25<Dashboard!$B$4,K25<>"Completed",K25<>"Cancelled"),"Past event not completed",""))))))))
M26: =IF(OR(D26="",E26=""),"",IF(E26<D26,"",E26-D26+1)) | N26: =IF(OR(B26="",C26="",D26="",E26=""),"",IF(COUNTIFS('Academic Terms'!$A$6:$A$101,B26,'Academic Terms'!$B$6:$B$101,C26)<>1,"Term not found",IF(OR(D26<SUMIFS('Academic Terms'!$C$6:$C$101,'Academic Terms'!$A$6:$A$101,B26,'Academic Terms'!$B$6:$B$101,C26),E26>SUMIFS('Academic Terms'!$D$6:$D$101,'Academic Terms'!$A$6:$A$101,B26,'Academic Terms'!$B$6:$B$101,C26)),"Yes","No"))) | O26: =IF(OR(A26="",B26="",D26="",E26="",J26="",K26="Cancelled"),"",IF(SUMPRODUCT(--($A$6:$A$205<>A26),--($B$6:$B$205=B26),--($J$6:$J$205=J26),--($D$6:$D$205<=E26),--($E$6:$E$205>=D26),--($K$6:$K$205<>"Cancelled"))>0,"Yes","No")) | P26: =IF(COUNTA(A26:L26)=0,"",IF(OR(A26="",B26="",C26="",D26="",E26="",F26="",G26="",K26=""),"Missing required fields",IF(COUNTIF($A$6:$A$205,A26)>1,"Duplicate Event ID",IF(E26<D26,"End date before start date",IF(N26="Term not found","Term not found",IF(N26="Yes","Outside term",IF(O26="Yes","Owner conflict",IF(AND(E26<Dashboard!$B$4,K26<>"Completed",K26<>"Cancelled"),"Past event not completed",""))))))))
M27: =IF(OR(D27="",E27=""),"",IF(E27<D27,"",E27-D27+1)) | N27: =IF(OR(B27="",C27="",D27="",E27=""),"",IF(COUNTIFS('Academic Terms'!$A$6:$A$101,B27,'Academic Terms'!$B$6:$B$101,C27)<>1,"Term not found",IF(OR(D27<SUMIFS('Academic Terms'!$C$6:$C$101,'Academic Terms'!$A$6:$A$101,B27,'Academic Terms'!$B$6:$B$101,C27),E27>SUMIFS('Academic Terms'!$D$6:$D$101,'Academic Terms'!$A$6:$A$101,B27,'Academic Terms'!$B$6:$B$101,C27)),"Yes","No"))) | O27: =IF(OR(A27="",B27="",D27="",E27="",J27="",K27="Cancelled"),"",IF(SUMPRODUCT(--($A$6:$A$205<>A27),--($B$6:$B$205=B27),--($J$6:$J$205=J27),--($D$6:$D$205<=E27),--($E$6:$E$205>=D27),--($K$6:$K$205<>"Cancelled"))>0,"Yes","No")) | P27: =IF(COUNTA(A27:L27)=0,"",IF(OR(A27="",B27="",C27="",D27="",E27="",F27="",G27="",K27=""),"Missing required fields",IF(COUNTIF($A$6:$A$205,A27)>1,"Duplicate Event ID",IF(E27<D27,"End date before start date",IF(N27="Term not found","Term not found",IF(N27="Yes","Outside term",IF(O27="Yes","Owner conflict",IF(AND(E27<Dashboard!$B$4,K27<>"Completed",K27<>"Cancelled"),"Past event not completed",""))))))))
... M205: =IF(OR(D205="",E205=""),"",IF(E205<D205,"",E205-D205+1)) | N205: =IF(OR(B205="",C205="",D205="",E205=""),"",IF(COUNTIFS('Academic Terms'!$A$6:$A$101,B205,'Academic Terms'!$B$6:$B$101,C205)<>1,"Term not found",IF(OR(D205<SUMIFS('Academic Terms'!$C$6:$C$101,'Academic Terms'!$A$6:$A$101,B205,'Academic Terms'!$B$6:$B$101,C205),E205>SUMIFS('Academic Terms'!$D$6:$D$101,'Academic Terms'!$A$6:$A$101,B205,'Academic Terms'!$B$6:$B$101,C205)),"Yes","No"))) | O205: =IF(OR(A205="",B205="",D205="",E205="",J205="",K205="Cancelled"),"",IF(SUMPRODUCT(--($A$6:$A$205<>A205),--($B$6:$B$205=B205),--($J$6:$J$205=J205),--($D$6:$D$205<=E205),--($E$6:$E$205>=D205),--($K$6:$K$205<>"Cancelled"))>0,"Yes","No")) | P205: =IF(COUNTA(A205:L205)=0,"",IF(OR(A205="",B205="",C205="",D205="",E205="",F205="",G205="",K205=""),"Missing required fields",IF(COUNTIF($A$6:$A$205,A205)>1,"Duplicate Event ID",IF(E205<D205,"End date before start date",IF(N205="Term not found","Term not found",IF(N205="Yes","Outside term",IF(O205="Yes","Owner conflict",IF(AND(E205<Dashboard!$B$4,K205<>"Completed",K205<>"Cancelled"),"Past event not completed",""))))))))

Sheet Academic Terms
A1: Academic Terms
A2: Define each academic term once. Term names should be unique within an academic year.
A5: Academic Year | B5: Term Name | C5: Term Start Date | D5: Term End Date | E5: Instruction Start Date | F5: Instruction End Date | G5: Term Status | H5: Notes | I5: Term Days | J5: Review Alert
A6: 2026-2027 | B6: Fall Term | C6: 46258 | D6: 46374 | E6: 46258 | F6: 46367 | G6: Published | H6: Main fall academic term. | I6: =IF(OR(C6="",D6=""),"",IF(D6<C6,"",D6-C6+1)) | J6: =IF(COUNTA(A6:H6)=0,"",IF(OR(A6="",B6="",C6="",D6="",G6=""),"Missing required fields",IF(COUNTIFS($A$6:$A$101,A6,$B$6:$B$101,B6)>1,"Duplicate term",IF(D6<C6,"Term end before start",IF(AND(OR(E6<>"",F6<>""),OR(E6="",F6="")),"Complete both instruction dates",IF(AND(E6<>"",F6<>"",F6<E6),"Instruction end before start",IF(AND(E6<>"",F6<>"",OR(E6<C6,F6>D6)),"Instruction dates outside term","")))))))
A7: 2026-2027 | B7: Winter Term | C7: 46391 | D7: 46465 | E7: 46391 | F7: 46458 | G7: Published | H7: Main winter academic term. | I7: =IF(OR(C7="",D7=""),"",IF(D7<C7,"",D7-C7+1)) | J7: =IF(COUNTA(A7:H7)=0,"",IF(OR(A7="",B7="",C7="",D7="",G7=""),"Missing required fields",IF(COUNTIFS($A$6:$A$101,A7,$B$6:$B$101,B7)>1,"Duplicate term",IF(D7<C7,"Term end before start",IF(AND(OR(E7<>"",F7<>""),OR(E7="",F7="")),"Complete both instruction dates",IF(AND(E7<>"",F7<>"",F7<E7),"Instruction end before start",IF(AND(E7<>"",F7<>"",OR(E7<C7,F7>D7)),"Instruction dates outside term","")))))))
A8: 2026-2027 | B8: Spring Term | C8: 46475 | D8: 46549 | E8: 46475 | F8: 46542 | G8: Planning | H8: Main spring academic term. | I8: =IF(OR(C8="",D8=""),"",IF(D8<C8,"",D8-C8+1)) | J8: =IF(COUNTA(A8:H8)=0,"",IF(OR(A8="",B8="",C8="",D8="",G8=""),"Missing required fields",IF(COUNTIFS($A$6:$A$101,A8,$B$6:$B$101,B8)>1,"Duplicate term",IF(D8<C8,"Term end before start",IF(AND(OR(E8<>"",F8<>""),OR(E8="",F8="")),"Complete both instruction dates",IF(AND(E8<>"",F8<>"",F8<E8),"Instruction end before start",IF(AND(E8<>"",F8<>"",OR(E8<C8,F8>D8)),"Instruction dates outside term","")))))))
A9: 2026-2027 | B9: Summer Term | C9: 46559 | D9: 46612 | E9: 46559 | F9: 46605 | G9: Planning | H9: Main summer academic term. | I9: =IF(OR(C9="",D9=""),"",IF(D9<C9,"",D9-C9+1)) | J9: =IF(COUNTA(A9:H9)=0,"",IF(OR(A9="",B9="",C9="",D9="",G9=""),"Missing required fields",IF(COUNTIFS($A$6:$A$101,A9,$B$6:$B$101,B9)>1,"Duplicate term",IF(D9<C9,"Term end before start",IF(AND(OR(E9<>"",F9<>""),OR(E9="",F9="")),"Complete both instruction dates",IF(AND(E9<>"",F9<>"",F9<E9),"Instruction end before start",IF(AND(E9<>"",F9<>"",OR(E9<C9,F9>D9)),"Instruction dates outside term","")))))))
I10: =IF(OR(C10="",D10=""),"",IF(D10<C10,"",D10-C10+1)) | J10: =IF(COUNTA(A10:H10)=0,"",IF(OR(A10="",B10="",C10="",D10="",G10=""),"Missing required fields",IF(COUNTIFS($A$6:$A$101,A10,$B$6:$B$101,B10)>1,"Duplicate term",IF(D10<C10,"Term end before start",IF(AND(OR(E10<>"",F10<>""),OR(E10="",F10="")),"Complete both instruction dates",IF(AND(E10<>"",F10<>"",F10<E10),"Instruction end before start",IF(AND(E10<>"",F10<>"",OR(E10<C10,F10>D10)),"Instruction dates outside term","")))))))
I11: =IF(OR(C11="",D11=""),"",IF(D11<C11,"",D11-C11+1)) | J11: =IF(COUNTA(A11:H11)=0,"",IF(OR(A11="",B11="",C11="",D11="",G11=""),"Missing required fields",IF(COUNTIFS($A$6:$A$101,A11,$B$6:$B$101,B11)>1,"Duplicate term",IF(D11<C11,"Term end before start",IF(AND(OR(E11<>"",F11<>""),OR(E11="",F11="")),"Complete both instruction dates",IF(AND(E11<>"",F11<>"",F11<E11),"Instruction end before start",IF(AND(E11<>"",F11<>"",OR(E11<C11,F11>D11)),"Instruction dates outside term","")))))))
I12: =IF(OR(C12="",D12=""),"",IF(D12<C12,"",D12-C12+1)) | J12: =IF(COUNTA(A12:H12)=0,"",IF(OR(A12="",B12="",C12="",D12="",G12=""),"Missing required fields",IF(COUNTIFS($A$6:$A$101,A12,$B$6:$B$101,B12)>1,"Duplicate term",IF(D12<C12,"Term end before start",IF(AND(OR(E12<>"",F12<>""),OR(E12="",F12="")),"Complete both instruction dates",IF(AND(E12<>"",F12<>"",F12<E12),"Instruction end before start",IF(AND(E12<>"",F12<>"",OR(E12<C12,F12>D12)),"Instruction dates outside term","")))))))
I13: =IF(OR(C13="",D13=""),"",IF(D13<C13,"",D13-C13+1)) | J13: =IF(COUNTA(A13:H13)=0,"",IF(OR(A13="",B13="",C13="",D13="",G13=""),"Missing required fields",IF(COUNTIFS($A$6:$A$101,A13,$B$6:$B$101,B13)>1,"Duplicate term",IF(D13<C13,"Term end before start",IF(AND(OR(E13<>"",F13<>""),OR(E13="",F13="")),"Complete both instruction dates",IF(AND(E13<>"",F13<>"",F13<E13),"Instruction end before start",IF(AND(E13<>"",F13<>"",OR(E13<C13,F13>D13)),"Instruction dates outside term","")))))))
I14: =IF(OR(C14="",D14=""),"",IF(D14<C14,"",D14-C14+1)) | J14: =IF(COUNTA(A14:H14)=0,"",IF(OR(A14="",B14="",C14="",D14="",G14=""),"Missing required fields",IF(COUNTIFS($A$6:$A$101,A14,$B$6:$B$101,B14)>1,"Duplicate term",IF(D14<C14,"Term end before start",IF(AND(OR(E14<>"",F14<>""),OR(E14="",F14="")),"Complete both instruction dates",IF(AND(E14<>"",F14<>"",F14<E14),"Instruction end before start",IF(AND(E14<>"",F14<>"",OR(E14<C14,F14>D14)),"Instruction dates outside term","")))))))
I15: =IF(OR(C15="",D15=""),"",IF(D15<C15,"",D15-C15+1)) | J15: =IF(COUNTA(A15:H15)=0,"",IF(OR(A15="",B15="",C15="",D15="",G15=""),"Missing required fields",IF(COUNTIFS($A$6:$A$101,A15,$B$6:$B$101,B15)>1,"Duplicate term",IF(D15<C15,"Term end before start",IF(AND(OR(E15<>"",F15<>""),OR(E15="",F15="")),"Complete both instruction dates",IF(AND(E15<>"",F15<>"",F15<E15),"Instruction end before start",IF(AND(E15<>"",F15<>"",OR(E15<C15,F15>D15)),"Instruction dates outside term","")))))))
I16: =IF(OR(C16="",D16=""),"",IF(D16<C16,"",D16-C16+1)) | J16: =IF(COUNTA(A16:H16)=0,"",IF(OR(A16="",B16="",C16="",D16="",G16=""),"Missing required fields",IF(COUNTIFS($A$6:$A$101,A16,$B$6:$B$101,B16)>1,"Duplicate term",IF(D16<C16,"Term end before start",IF(AND(OR(E16<>"",F16<>""),OR(E16="",F16="")),"Complete both instruction dates",IF(AND(E16<>"",F16<>"",F16<E16),"Instruction end before start",IF(AND(E16<>"",F16<>"",OR(E16<C16,F16>D16)),"Instruction dates outside term","")))))))
I17: =IF(OR(C17="",D17=""),"",IF(D17<C17,"",D17-C17+1)) | J17: =IF(COUNTA(A17:H17)=0,"",IF(OR(A17="",B17="",C17="",D17="",G17=""),"Missing required fields",IF(COUNTIFS($A$6:$A$101,A17,$B$6:$B$101,B17)>1,"Duplicate term",IF(D17<C17,"Term end before start",IF(AND(OR(E17<>"",F17<>""),OR(E17="",F17="")),"Complete both instruction dates",IF(AND(E17<>"",F17<>"",F17<E17),"Instruction end before start",IF(AND(E17<>"",F17<>"",OR(E17<C17,F17>D17)),"Instruction dates outside term","")))))))
I18: =IF(OR(C18="",D18=""),"",IF(D18<C18,"",D18-C18+1)) | J18: =IF(COUNTA(A18:H18)=0,"",IF(OR(A18="",B18="",C18="",D18="",G18=""),"Missing required fields",IF(COUNTIFS($A$6:$A$101,A18,$B$6:$B$101,B18)>1,"Duplicate term",IF(D18<C18,"Term end before start",IF(AND(OR(E18<>"",F18<>""),OR(E18="",F18="")),"Complete both instruction dates",IF(AND(E18<>"",F18<>"",F18<E18),"Instruction end before start",IF(AND(E18<>"",F18<>"",OR(E18<C18,F18>D18)),"Instruction dates outside term","")))))))
I19: =IF(OR(C19="",D19=""),"",IF(D19<C19,"",D19-C19+1)) | J19: =IF(COUNTA(A19:H19)=0,"",IF(OR(A19="",B19="",C19="",D19="",G19=""),"Missing required fields",IF(COUNTIFS($A$6:$A$101,A19,$B$6:$B$101,B19)>1,"Duplicate term",IF(D19<C19,"Term end before start",IF(AND(OR(E19<>"",F19<>""),OR(E19="",F19="")),"Complete both instruction dates",IF(AND(E19<>"",F19<>"",F19<E19),"Instruction end before start",IF(AND(E19<>"",F19<>"",OR(E19<C19,F19>D19)),"Instruction dates outside term","")))))))
I20: =IF(OR(C20="",D20=""),"",IF(D20<C20,"",D20-C20+1)) | J20: =IF(COUNTA(A20:H20)=0,"",IF(OR(A20="",B20="",C20="",D20="",G20=""),"Missing required fields",IF(COUNTIFS($A$6:$A$101,A20,$B$6:$B$101,B20)>1,"Duplicate term",IF(D20<C20,"Term end before start",IF(AND(OR(E20<>"",F20<>""),OR(E20="",F20="")),"Complete both instruction dates",IF(AND(E20<>"",F20<>"",F20<E20),"Instruction end before start",IF(AND(E20<>"",F20<>"",OR(E20<C20,F20>D20)),"Instruction dates outside term","")))))))
I21: =IF(OR(C21="",D21=""),"",IF(D21<C21,"",D21-C21+1)) | J21: =IF(COUNTA(A21:H21)=0,"",IF(OR(A21="",B21="",C21="",D21="",G21=""),"Missing required fields",IF(COUNTIFS($A$6:$A$101,A21,$B$6:$B$101,B21)>1,"Duplicate term",IF(D21<C21,"Term end before start",IF(AND(OR(E21<>"",F21<>""),OR(E21="",F21="")),"Complete both instruction dates",IF(AND(E21<>"",F21<>"",F21<E21),"Instruction end before start",IF(AND(E21<>"",F21<>"",OR(E21<C21,F21>D21)),"Instruction dates outside term","")))))))
... I101: =IF(OR(C101="",D101=""),"",IF(D101<C101,"",D101-C101+1)) | J101: =IF(COUNTA(A101:H101)=0,"",IF(OR(A101="",B101="",C101="",D101="",G101=""),"Missing required fields",IF(COUNTIFS($A$6:$A$101,A101,$B$6:$B$101,B101)>1,"Duplicate term",IF(D101<C101,"Term end before start",IF(AND(OR(E101<>"",F101<>""),OR(E101="",F101="")),"Complete both instruction dates",IF(AND(E101<>"",F101<>"",F101<E101),"Instruction end before start",IF(AND(E101<>"",F101<>"",OR(E101<C101,F101>D101)),"Instruction dates outside term","")))))))

Sheet Instructions
A1: Instructions
A3: About This Workbook
A4: Use this workbook to plan academic terms, deadlines, instructional milestones, closures, assessments, and related events for Pine Ridge Learning Institute. All included names and records are fictional examples.
A6: Recommended Workflow
A7: 1. Review or update term dates on the Academic Terms sheet.
A8: 2. Enter calendar events on the Calendar Events sheet.
A9: 3. Use the Review Alert column to correct missing fields, date issues, duplicate IDs, term exceptions, and owner conflicts.
A10: 4. Set the academic year, as-of date, and lookahead period on the Dashboard.
A11: 5. Choose a month on the Month View sheet to review daily event volume.
A13: Input Color Key
A14: Blue cells identify user-entered settings or data.
A15: Gray cells identify calculated formulas.
... A36: This workbook is an operational planning tool and does not provide legal, regulatory, accreditation, or compliance guidance.
