Workbook

Sheet Dashboard
A1: Pine Ridge Learning Institute Academic Calendar Planner
A3: Selected Academic Year | B3: 2026-2027
A4: As of Date | B4: 46272
A5: Lookahead Days | B5: 30
A8: Active Events | B8: =COUNTIFS('Calendar Events'!$B$6:$B$205,$B$3,'Calendar Events'!$F$6:$F$205,"<>",'Calendar Events'!$K$6:$K$205,"<>Cancelled")
A9: Upcoming Events | B9: =COUNTIFS('Calendar Events'!$B$6:$B$205,$B$3,'Calendar Events'!$D$6:$D$205,">="&$B$4,'Calendar Events'!$D$6:$D$205,"<="&$B$4+$B$5,'Calendar Events'!$K$6:$K$205,"<>Cancelled")
A10: Completed Events | B10: =COUNTIFS('Calendar Events'!$B$6:$B$205,$B$3,'Calendar Events'!$K$6:$K$205,"Completed")
A11: Events Requiring Review | B11: =COUNTIFS('Calendar Events'!$B$6:$B$205,$B$3,'Calendar Events'!$P$6:$P$205,"<>")
A12: Owner Conflicts | B12: =COUNTIFS('Calendar Events'!$B$6:$B$205,$B$3,'Calendar Events'!$O$6:$O$205,"Yes")
A13: Next Event Date | B13: =IFERROR(AGGREGATE(15,6,'Calendar Events'!$D$6:$D$205/(('Calendar Events'!$B$6:$B$205=$B$3)*('Calendar Events'!$D$6:$D$205>=$B$4)*('Calendar Events'!$K$6:$K$205<>"Cancelled")),1),"")
A14: Next Event | B14: =IF($B$13="","",IFERROR(INDEX('Calendar Events'!$F$6:$F$205,MATCH(1,INDEX(('Calendar Events'!$B$6:$B$205=$B$3)*('Calendar Events'!$D$6:$D$205=$B$13)*('Calendar Events'!$K$6:$K$205<>"Cancelled"),0),0)),""))
A18: Event Category | B18: Active Events | D18: Month | E18: Events Starting
A19: Instruction | B19: =COUNTIFS('Calendar Events'!$B$6:$B$205,$B$3,'Calendar Events'!$G$6:$G$205,A19,'Calendar Events'!$K$6:$K$205,"<>Cancelled") | D19: =IFERROR(DATE(YEAR(MINIFS('Academic Terms'!$C$6:$C$101,'Academic Terms'!$A$6:$A$101,$B$3)),MONTH(MINIFS('Academic Terms'!$C$6:$C$101,'Academic Terms'!$A$6:$A$101,$B$3)),1),"") | E19: =IF(D19="","",COUNTIFS('Calendar Events'!$B$6:$B$205,$B$3,'Calendar Events'!$D$6:$D$205,">="&D19,'Calendar Events'!$D$6:$D$205,"<"&EDATE(D19,1),'Calendar Events'!$K$6:$K$205,"<>Cancelled"))
A20: Registration | B20: =COUNTIFS('Calendar Events'!$B$6:$B$205,$B$3,'Calendar Events'!$G$6:$G$205,A20,'Calendar Events'!$K$6:$K$205,"<>Cancelled") | D20: =IF(D19="","",EDATE(D19,1)) | E20: =IF(D20="","",COUNTIFS('Calendar Events'!$B$6:$B$205,$B$3,'Calendar Events'!$D$6:$D$205,">="&D20,'Calendar Events'!$D$6:$D$205,"<"&EDATE(D20,1),'Calendar Events'!$K$6:$K$205,"<>Cancelled"))
A21: Assessment | B21: =COUNTIFS('Calendar Events'!$B$6:$B$205,$B$3,'Calendar Events'!$G$6:$G$205,A21,'Calendar Events'!$K$6:$K$205,"<>Cancelled") | D21: =IF(D20="","",EDATE(D20,1)) | E21: =IF(D21="","",COUNTIFS('Calendar Events'!$B$6:$B$205,$B$3,'Calendar Events'!$D$6:$D$205,">="&D21,'Calendar Events'!$D$6:$D$205,"<"&EDATE(D21,1),'Calendar Events'!$K$6:$K$205,"<>Cancelled"))
A22: Break/Holiday | B22: =COUNTIFS('Calendar Events'!$B$6:$B$205,$B$3,'Calendar Events'!$G$6:$G$205,A22,'Calendar Events'!$K$6:$K$205,"<>Cancelled") | D22: =IF(D21="","",EDATE(D21,1)) | E22: =IF(D22="","",COUNTIFS('Calendar Events'!$B$6:$B$205,$B$3,'Calendar Events'!$D$6:$D$205,">="&D22,'Calendar Events'!$D$6:$D$205,"<"&EDATE(D22,1),'Calendar Events'!$K$6:$K$205,"<>Cancelled"))
A23: Faculty Activity | B23: =COUNTIFS('Calendar Events'!$B$6:$B$205,$B$3,'Calendar Events'!$G$6:$G$205,A23,'Calendar Events'!$K$6:$K$205,"<>Cancelled") | D23: =IF(D22="","",EDATE(D22,1)) | E23: =IF(D23="","",COUNTIFS('Calendar Events'!$B$6:$B$205,$B$3,'Calendar Events'!$D$6:$D$205,">="&D23,'Calendar Events'!$D$6:$D$205,"<"&EDATE(D23,1),'Calendar Events'!$K$6:$K$205,"<>Cancelled"))
A24: Student Support | B24: =COUNTIFS('Calendar Events'!$B$6:$B$205,$B$3,'Calendar Events'!$G$6:$G$205,A24,'Calendar Events'!$K$6:$K$205,"<>Cancelled") | D24: =IF(D23="","",EDATE(D23,1)) | E24: =IF(D24="","",COUNTIFS('Calendar Events'!$B$6:$B$205,$B$3,'Calendar Events'!$D$6:$D$205,">="&D24,'Calendar Events'!$D$6:$D$205,"<"&EDATE(D24,1),'Calendar Events'!$K$6:$K$205,"<>Cancelled"))
A25: Ceremony | B25: =COUNTIFS('Calendar Events'!$B$6:$B$205,$B$3,'Calendar Events'!$G$6:$G$205,A25,'Calendar Events'!$K$6:$K$205,"<>Cancelled") | D25: =IF(D24="","",EDATE(D24,1)) | E25: =IF(D25="","",COUNTIFS('Calendar Events'!$B$6:$B$205,$B$3,'Calendar Events'!$D$6:$D$205,">="&D25,'Calendar Events'!$D$6:$D$205,"<"&EDATE(D25,1),'Calendar Events'!$K$6:$K$205,"<>Cancelled"))
A26: Deadline | B26: =COUNTIFS('Calendar Events'!$B$6:$B$205,$B$3,'Calendar Events'!$G$6:$G$205,A26,'Calendar Events'!$K$6:$K$205,"<>Cancelled") | D26: =IF(D25="","",EDATE(D25,1)) | E26: =IF(D26="","",COUNTIFS('Calendar Events'!$B$6:$B$205,$B$3,'Calendar Events'!$D$6:$D$205,">="&D26,'Calendar Events'!$D$6:$D$205,"<"&EDATE(D26,1),'Calendar Events'!$K$6:$K$205,"<>Cancelled"))
A27: Other | B27: =COUNTIFS('Calendar Events'!$B$6:$B$205,$B$3,'Calendar Events'!$G$6:$G$205,A27,'Calendar Events'!$K$6:$K$205,"<>Cancelled") | D27: =IF(D26="","",EDATE(D26,1)) | E27: =IF(D27="","",COUNTIFS('Calendar Events'!$B$6:$B$205,$B$3,'Calendar Events'!$D$6:$D$205,">="&D27,'Calendar Events'!$D$6:$D$205,"<"&EDATE(D27,1),'Calendar Events'!$K$6:$K$205,"<>Cancelled"))
B28: ="" | D28: =IF(D27="","",EDATE(D27,1)) | E28: =IF(D28="","",COUNTIFS('Calendar Events'!$B$6:$B$205,$B$3,'Calendar Events'!$D$6:$D$205,">="&D28,'Calendar Events'!$D$6:$D$205,"<"&EDATE(D28,1),'Calendar Events'!$K$6:$K$205,"<>Cancelled"))
B29: ="" | D29: =IF(D28="","",EDATE(D28,1)) | E29: =IF(D29="","",COUNTIFS('Calendar Events'!$B$6:$B$205,$B$3,'Calendar Events'!$D$6:$D$205,">="&D29,'Calendar Events'!$D$6:$D$205,"<"&EDATE(D29,1),'Calendar Events'!$K$6:$K$205,"<>Cancelled"))
B30: ="" | D30: =IF(D29="","",EDATE(D29,1)) | E30: =IF(D30="","",COUNTIFS('Calendar Events'!$B$6:$B$205,$B$3,'Calendar Events'!$D$6:$D$205,">="&D30,'Calendar Events'!$D$6:$D$205,"<"&EDATE(D30,1),'Calendar Events'!$K$6:$K$205,"<>Cancelled"))
B31: ="" | D31: ="" | E31: =""
B32: ="" | D32: ="" | E32: =""
B33: ="" | D33: ="" | E33: =""
B34: ="" | D34: ="" | E34: =""
B35: ="" | D35: ="" | E35: =""
B36: ="" | D36: ="" | E36: =""
B37: ="" | D37: ="" | E37: =""
B38: ="" | D38: ="" | E38: =""
B39: ="" | D39: ="" | E39: =""
B40: ="" | D40: ="" | E40: =""
B41: ="" | D41: ="" | E41: =""
B42: ="" | D42: ="" | E42: =""
... B101: ="" | D101: ="" | E101: =""

Sheet Month View
A1: Monthly Academic Calendar
A2: Selected Month | B2: 46266
B4: Sunday | C4: Monday | D4: Tuesday | E4: Wednesday | F4: Thursday | G4: Friday | H4: Saturday
B5: =DATE(YEAR($B$2),MONTH($B$2),1)-WEEKDAY(DATE(YEAR($B$2),MONTH($B$2),1),1)+1+0 | C5: =DATE(YEAR($B$2),MONTH($B$2),1)-WEEKDAY(DATE(YEAR($B$2),MONTH($B$2),1),1)+1+1 | D5: =DATE(YEAR($B$2),MONTH($B$2),1)-WEEKDAY(DATE(YEAR($B$2),MONTH($B$2),1),1)+1+2 | E5: =DATE(YEAR($B$2),MONTH($B$2),1)-WEEKDAY(DATE(YEAR($B$2),MONTH($B$2),1),1)+1+3 | F5: =DATE(YEAR($B$2),MONTH($B$2),1)-WEEKDAY(DATE(YEAR($B$2),MONTH($B$2),1),1)+1+4 | G5: =DATE(YEAR($B$2),MONTH($B$2),1)-WEEKDAY(DATE(YEAR($B$2),MONTH($B$2),1),1)+1+5 | H5: =DATE(YEAR($B$2),MONTH($B$2),1)-WEEKDAY(DATE(YEAR($B$2),MONTH($B$2),1),1)+1+6
B6: =DATE(YEAR($B$2),MONTH($B$2),1)-WEEKDAY(DATE(YEAR($B$2),MONTH($B$2),1),1)+1+7 | C6: =DATE(YEAR($B$2),MONTH($B$2),1)-WEEKDAY(DATE(YEAR($B$2),MONTH($B$2),1),1)+1+8 | D6: =DATE(YEAR($B$2),MONTH($B$2),1)-WEEKDAY(DATE(YEAR($B$2),MONTH($B$2),1),1)+1+9 | E6: =DATE(YEAR($B$2),MONTH($B$2),1)-WEEKDAY(DATE(YEAR($B$2),MONTH($B$2),1),1)+1+10 | F6: =DATE(YEAR($B$2),MONTH($B$2),1)-WEEKDAY(DATE(YEAR($B$2),MONTH($B$2),1),1)+1+11 | G6: =DATE(YEAR($B$2),MONTH($B$2),1)-WEEKDAY(DATE(YEAR($B$2),MONTH($B$2),1),1)+1+12 | H6: =DATE(YEAR($B$2),MONTH($B$2),1)-WEEKDAY(DATE(YEAR($B$2),MONTH($B$2),1),1)+1+13
B7: =DATE(YEAR($B$2),MONTH($B$2),1)-WEEKDAY(DATE(YEAR($B$2),MONTH($B$2),1),1)+1+14 | C7: =DATE(YEAR($B$2),MONTH($B$2),1)-WEEKDAY(DATE(YEAR($B$2),MONTH($B$2),1),1)+1+15 | D7: =DATE(YEAR($B$2),MONTH($B$2),1)-WEEKDAY(DATE(YEAR($B$2),MONTH($B$2),1),1)+1+16 | E7: =DATE(YEAR($B$2),MONTH($B$2),1)-WEEKDAY(DATE(YEAR($B$2),MONTH($B$2),1),1)+1+17 | F7: =DATE(YEAR($B$2),MONTH($B$2),1)-WEEKDAY(DATE(YEAR($B$2),MONTH($B$2),1),1)+1+18 | G7: =DATE(YEAR($B$2),MONTH($B$2),1)-WEEKDAY(DATE(YEAR($B$2),MONTH($B$2),1),1)+1+19 | H7: =DATE(YEAR($B$2),MONTH($B$2),1)-WEEKDAY(DATE(YEAR($B$2),MONTH($B$2),1),1)+1+20
B8: =DATE(YEAR($B$2),MONTH($B$2),1)-WEEKDAY(DATE(YEAR($B$2),MONTH($B$2),1),1)+1+21 | C8: =DATE(YEAR($B$2),MONTH($B$2),1)-WEEKDAY(DATE(YEAR($B$2),MONTH($B$2),1),1)+1+22 | D8: =DATE(YEAR($B$2),MONTH($B$2),1)-WEEKDAY(DATE(YEAR($B$2),MONTH($B$2),1),1)+1+23 | E8: =DATE(YEAR($B$2),MONTH($B$2),1)-WEEKDAY(DATE(YEAR($B$2),MONTH($B$2),1),1)+1+24 | F8: =DATE(YEAR($B$2),MONTH($B$2),1)-WEEKDAY(DATE(YEAR($B$2),MONTH($B$2),1),1)+1+25 | G8: =DATE(YEAR($B$2),MONTH($B$2),1)-WEEKDAY(DATE(YEAR($B$2),MONTH($B$2),1),1)+1+26 | H8: =DATE(YEAR($B$2),MONTH($B$2),1)-WEEKDAY(DATE(YEAR($B$2),MONTH($B$2),1),1)+1+27
B9: =DATE(YEAR($B$2),MONTH($B$2),1)-WEEKDAY(DATE(YEAR($B$2),MONTH($B$2),1),1)+1+28 | C9: =DATE(YEAR($B$2),MONTH($B$2),1)-WEEKDAY(DATE(YEAR($B$2),MONTH($B$2),1),1)+1+29 | D9: =DATE(YEAR($B$2),MONTH($B$2),1)-WEEKDAY(DATE(YEAR($B$2),MONTH($B$2),1),1)+1+30 | E9: =DATE(YEAR($B$2),MONTH($B$2),1)-WEEKDAY(DATE(YEAR($B$2),MONTH($B$2),1),1)+1+31 | F9: =DATE(YEAR($B$2),MONTH($B$2),1)-WEEKDAY(DATE(YEAR($B$2),MONTH($B$2),1),1)+1+32 | G9: =DATE(YEAR($B$2),MONTH($B$2),1)-WEEKDAY(DATE(YEAR($B$2),MONTH($B$2),1),1)+1+33 | H9: =DATE(YEAR($B$2),MONTH($B$2),1)-WEEKDAY(DATE(YEAR($B$2),MONTH($B$2),1),1)+1+34
B10: =DATE(YEAR($B$2),MONTH($B$2),1)-WEEKDAY(DATE(YEAR($B$2),MONTH($B$2),1),1)+1+35 | C10: =DATE(YEAR($B$2),MONTH($B$2),1)-WEEKDAY(DATE(YEAR($B$2),MONTH($B$2),1),1)+1+36 | D10: =DATE(YEAR($B$2),MONTH($B$2),1)-WEEKDAY(DATE(YEAR($B$2),MONTH($B$2),1),1)+1+37 | E10: =DATE(YEAR($B$2),MONTH($B$2),1)-WEEKDAY(DATE(YEAR($B$2),MONTH($B$2),1),1)+1+38 | F10: =DATE(YEAR($B$2),MONTH($B$2),1)-WEEKDAY(DATE(YEAR($B$2),MONTH($B$2),1),1)+1+39 | G10: =DATE(YEAR($B$2),MONTH($B$2),1)-WEEKDAY(DATE(YEAR($B$2),MONTH($B$2),1),1)+1+40 | H10: =DATE(YEAR($B$2),MONTH($B$2),1)-WEEKDAY(DATE(YEAR($B$2),MONTH($B$2),1),1)+1+41
B11: =DATE(YEAR($B$2),MONTH($B$2),1)-WEEKDAY(DATE(YEAR($B$2),MONTH($B$2),1),1)+1+42 | C11: =DATE(YEAR($B$2),MONTH($B$2),1)-WEEKDAY(DATE(YEAR($B$2),MONTH($B$2),1),1)+1+43 | D11: =DATE(YEAR($B$2),MONTH($B$2),1)-WEEKDAY(DATE(YEAR($B$2),MONTH($B$2),1),1)+1+44 | E11: =DATE(YEAR($B$2),MONTH($B$2),1)-WEEKDAY(DATE(YEAR($B$2),MONTH($B$2),1),1)+1+45 | F11: =DATE(YEAR($B$2),MONTH($B$2),1)-WEEKDAY(DATE(YEAR($B$2),MONTH($B$2),1),1)+1+46 | G11: =DATE(YEAR($B$2),MONTH($B$2),1)-WEEKDAY(DATE(YEAR($B$2),MONTH($B$2),1),1)+1+47 | H11: =DATE(YEAR($B$2),MONTH($B$2),1)-WEEKDAY(DATE(YEAR($B$2),MONTH($B$2),1),1)+1+48
B12: =DATE(YEAR($B$2),MONTH($B$2),1)-WEEKDAY(DATE(YEAR($B$2),MONTH($B$2),1),1)+1+49 | C12: =DATE(YEAR($B$2),MONTH($B$2),1)-WEEKDAY(DATE(YEAR($B$2),MONTH($B$2),1),1)+1+50 | D12: =DATE(YEAR($B$2),MONTH($B$2),1)-WEEKDAY(DATE(YEAR($B$2),MONTH($B$2),1),1)+1+51 | E12: =DATE(YEAR($B$2),MONTH($B$2),1)-WEEKDAY(DATE(YEAR($B$2),MONTH($B$2),1),1)+1+52 | F12: =DATE(YEAR($B$2),MONTH($B$2),1)-WEEKDAY(DATE(YEAR($B$2),MONTH($B$2),1),1)+1+53 | G12: =DATE(YEAR($B$2),MONTH($B$2),1)-WEEKDAY(DATE(YEAR($B$2),MONTH($B$2),1),1)+1+54 | H12: =DATE(YEAR($B$2),MONTH($B$2),1)-WEEKDAY(DATE(YEAR($B$2),MONTH($B$2),1),1)+1+55
B13: =DATE(YEAR($B$2),MONTH($B$2),1)-WEEKDAY(DATE(YEAR($B$2),MONTH($B$2),1),1)+1+56 | C13: =DATE(YEAR($B$2),MONTH($B$2),1)-WEEKDAY(DATE(YEAR($B$2),MONTH($B$2),1),1)+1+57 | D13: =DATE(YEAR($B$2),MONTH($B$2),1)-WEEKDAY(DATE(YEAR($B$2),MONTH($B$2),1),1)+1+58 | E13: =DATE(YEAR($B$2),MONTH($B$2),1)-WEEKDAY(DATE(YEAR($B$2),MONTH($B$2),1),1)+1+59 | F13: =DATE(YEAR($B$2),MONTH($B$2),1)-WEEKDAY(DATE(YEAR($B$2),MONTH($B$2),1),1)+1+60 | G13: =DATE(YEAR($B$2),MONTH($B$2),1)-WEEKDAY(DATE(YEAR($B$2),MONTH($B$2),1),1)+1+61 | H13: =DATE(YEAR($B$2),MONTH($B$2),1)-WEEKDAY(DATE(YEAR($B$2),MONTH($B$2),1),1)+1+62
B14: =DATE(YEAR($B$2),MONTH($B$2),1)-WEEKDAY(DATE(YEAR($B$2),MONTH($B$2),1),1)+1+63 | C14: =DATE(YEAR($B$2),MONTH($B$2),1)-WEEKDAY(DATE(YEAR($B$2),MONTH($B$2),1),1)+1+64 | D14: =DATE(YEAR($B$2),MONTH($B$2),1)-WEEKDAY(DATE(YEAR($B$2),MONTH($B$2),1),1)+1+65 | E14: =DATE(YEAR($B$2),MONTH($B$2),1)-WEEKDAY(DATE(YEAR($B$2),MONTH($B$2),1),1)+1+66 | F14: =DATE(YEAR($B$2),MONTH($B$2),1)-WEEKDAY(DATE(YEAR($B$2),MONTH($B$2),1),1)+1+67 | G14: =DATE(YEAR($B$2),MONTH($B$2),1)-WEEKDAY(DATE(YEAR($B$2),MONTH($B$2),1),1)+1+68 | H14: =DATE(YEAR($B$2),MONTH($B$2),1)-WEEKDAY(DATE(YEAR($B$2),MONTH($B$2),1),1)+1+69
B15: =DATE(YEAR($B$2),MONTH($B$2),1)-WEEKDAY(DATE(YEAR($B$2),MONTH($B$2),1),1)+1+70 | C15: =DATE(YEAR($B$2),MONTH($B$2),1)-WEEKDAY(DATE(YEAR($B$2),MONTH($B$2),1),1)+1+71 | D15: =DATE(YEAR($B$2),MONTH($B$2),1)-WEEKDAY(DATE(YEAR($B$2),MONTH($B$2),1),1)+1+72 | E15: =DATE(YEAR($B$2),MONTH($B$2),1)-WEEKDAY(DATE(YEAR($B$2),MONTH($B$2),1),1)+1+73 | F15: =DATE(YEAR($B$2),MONTH($B$2),1)-WEEKDAY(DATE(YEAR($B$2),MONTH($B$2),1),1)+1+74 | G15: =DATE(YEAR($B$2),MONTH($B$2),1)-WEEKDAY(DATE(YEAR($B$2),MONTH($B$2),1),1)+1+75 | H15: =DATE(YEAR($B$2),MONTH($B$2),1)-WEEKDAY(DATE(YEAR($B$2),MONTH($B$2),1),1)+1+76
B16: =DATE(YEAR($B$2),MONTH($B$2),1)-WEEKDAY(DATE(YEAR($B$2),MONTH($B$2),1),1)+1+77 | C16: =DATE(YEAR($B$2),MONTH($B$2),1)-WEEKDAY(DATE(YEAR($B$2),MONTH($B$2),1),1)+1+78 | D16: =DATE(YEAR($B$2),MONTH($B$2),1)-WEEKDAY(DATE(YEAR($B$2),MONTH($B$2),1),1)+1+79 | E16: =DATE(YEAR($B$2),MONTH($B$2),1)-WEEKDAY(DATE(YEAR($B$2),MONTH($B$2),1),1)+1+80 | F16: =DATE(YEAR($B$2),MONTH($B$2),1)-WEEKDAY(DATE(YEAR($B$2),MONTH($B$2),1),1)+1+81 | G16: =DATE(YEAR($B$2),MONTH($B$2),1)-WEEKDAY(DATE(YEAR($B$2),MONTH($B$2),1),1)+1+82 | H16: =DATE(YEAR($B$2),MONTH($B$2),1)-WEEKDAY(DATE(YEAR($B$2),MONTH($B$2),1),1)+1+83
B17: =DATE(YEAR($B$2),MONTH($B$2),1)-WEEKDAY(DATE(YEAR($B$2),MONTH($B$2),1),1)+1+84 | C17: =DATE(YEAR($B$2),MONTH($B$2),1)-WEEKDAY(DATE(YEAR($B$2),MONTH($B$2),1),1)+1+85 | D17: =DATE(YEAR($B$2),MONTH($B$2),1)-WEEKDAY(DATE(YEAR($B$2),MONTH($B$2),1),1)+1+86 | E17: =DATE(YEAR($B$2),MONTH($B$2),1)-WEEKDAY(DATE(YEAR($B$2),MONTH($B$2),1),1)+1+87 | F17: =DATE(YEAR($B$2),MONTH($B$2),1)-WEEKDAY(DATE(YEAR($B$2),MONTH($B$2),1),1)+1+88 | G17: =DATE(YEAR($B$2),MONTH($B$2),1)-WEEKDAY(DATE(YEAR($B$2),MONTH($B$2),1),1)+1+89 | H17: =DATE(YEAR($B$2),MONTH($B$2),1)-WEEKDAY(DATE(YEAR($B$2),MONTH($B$2),1),1)+1+90
B18: =DATE(YEAR($B$2),MONTH($B$2),1)-WEEKDAY(DATE(YEAR($B$2),MONTH($B$2),1),1)+1+91 | C18: =DATE(YEAR($B$2),MONTH($B$2),1)-WEEKDAY(DATE(YEAR($B$2),MONTH($B$2),1),1)+1+92 | D18: =DATE(YEAR($B$2),MONTH($B$2),1)-WEEKDAY(DATE(YEAR($B$2),MONTH($B$2),1),1)+1+93 | E18: =DATE(YEAR($B$2),MONTH($B$2),1)-WEEKDAY(DATE(YEAR($B$2),MONTH($B$2),1),1)+1+94 | F18: =DATE(YEAR($B$2),MONTH($B$2),1)-WEEKDAY(DATE(YEAR($B$2),MONTH($B$2),1),1)+1+95 | G18: =DATE(YEAR($B$2),MONTH($B$2),1)-WEEKDAY(DATE(YEAR($B$2),MONTH($B$2),1),1)+1+96 | H18: =DATE(YEAR($B$2),MONTH($B$2),1)-WEEKDAY(DATE(YEAR($B$2),MONTH($B$2),1),1)+1+97
B19: =DATE(YEAR($B$2),MONTH($B$2),1)-WEEKDAY(DATE(YEAR($B$2),MONTH($B$2),1),1)+1+98 | C19: =DATE(YEAR($B$2),MONTH($B$2),1)-WEEKDAY(DATE(YEAR($B$2),MONTH($B$2),1),1)+1+99 | D19: =DATE(YEAR($B$2),MONTH($B$2),1)-WEEKDAY(DATE(YEAR($B$2),MONTH($B$2),1),1)+1+100 | E19: =DATE(YEAR($B$2),MONTH($B$2),1)-WEEKDAY(DATE(YEAR($B$2),MONTH($B$2),1),1)+1+101 | F19: =DATE(YEAR($B$2),MONTH($B$2),1)-WEEKDAY(DATE(YEAR($B$2),MONTH($B$2),1),1)+1+102 | G19: =DATE(YEAR($B$2),MONTH($B$2),1)-WEEKDAY(DATE(YEAR($B$2),MONTH($B$2),1),1)+1+103 | H19: =DATE(YEAR($B$2),MONTH($B$2),1)-WEEKDAY(DATE(YEAR($B$2),MONTH($B$2),1),1)+1+104
B20: =DATE(YEAR($B$2),MONTH($B$2),1)-WEEKDAY(DATE(YEAR($B$2),MONTH($B$2),1),1)+1+105 | C20: =DATE(YEAR($B$2),MONTH($B$2),1)-WEEKDAY(DATE(YEAR($B$2),MONTH($B$2),1),1)+1+106 | D20: =DATE(YEAR($B$2),MONTH($B$2),1)-WEEKDAY(DATE(YEAR($B$2),MONTH($B$2),1),1)+1+107 | E20: =DATE(YEAR($B$2),MONTH($B$2),1)-WEEKDAY(DATE(YEAR($B$2),MONTH($B$2),1),1)+1+108 | F20: =DATE(YEAR($B$2),MONTH($B$2),1)-WEEKDAY(DATE(YEAR($B$2),MONTH($B$2),1),1)+1+109 | G20: =DATE(YEAR($B$2),MONTH($B$2),1)-WEEKDAY(DATE(YEAR($B$2),MONTH($B$2),1),1)+1+110 | H20: =DATE(YEAR($B$2),MONTH($B$2),1)-WEEKDAY(DATE(YEAR($B$2),MONTH($B$2),1),1)+1+111
B21: =DATE(YEAR($B$2),MONTH($B$2),1)-WEEKDAY(DATE(YEAR($B$2),MONTH($B$2),1),1)+1+112 | C21: =DATE(YEAR($B$2),MONTH($B$2),1)-WEEKDAY(DATE(YEAR($B$2),MONTH($B$2),1),1)+1+113 | D21: =DATE(YEAR($B$2),MONTH($B$2),1)-WEEKDAY(DATE(YEAR($B$2),MONTH($B$2),1),1)+1+114 | E21: =DATE(YEAR($B$2),MONTH($B$2),1)-WEEKDAY(DATE(YEAR($B$2),MONTH($B$2),1),1)+1+115 | F21: =DATE(YEAR($B$2),MONTH($B$2),1)-WEEKDAY(DATE(YEAR($B$2),MONTH($B$2),1),1)+1+116 | G21: =DATE(YEAR($B$2),MONTH($B$2),1)-WEEKDAY(DATE(YEAR($B$2),MONTH($B$2),1),1)+1+117 | H21: =DATE(YEAR($B$2),MONTH($B$2),1)-WEEKDAY(DATE(YEAR($B$2),MONTH($B$2),1),1)+1+118
B22: =DATE(YEAR($B$2),MONTH($B$2),1)-WEEKDAY(DATE(YEAR($B$2),MONTH($B$2),1),1)+1+119 | C22: =DATE(YEAR($B$2),MONTH($B$2),1)-WEEKDAY(DATE(YEAR($B$2),MONTH($B$2),1),1)+1+120 | D22: =DATE(YEAR($B$2),MONTH($B$2),1)-WEEKDAY(DATE(YEAR($B$2),MONTH($B$2),1),1)+1+121 | E22: =DATE(YEAR($B$2),MONTH($B$2),1)-WEEKDAY(DATE(YEAR($B$2),MONTH($B$2),1),1)+1+122 | F22: =DATE(YEAR($B$2),MONTH($B$2),1)-WEEKDAY(DATE(YEAR($B$2),MONTH($B$2),1),1)+1+123 | G22: =DATE(YEAR($B$2),MONTH($B$2),1)-WEEKDAY(DATE(YEAR($B$2),MONTH($B$2),1),1)+1+124 | H22: =DATE(YEAR($B$2),MONTH($B$2),1)-WEEKDAY(DATE(YEAR($B$2),MONTH($B$2),1),1)+1+125
B23: =DATE(YEAR($B$2),MONTH($B$2),1)-WEEKDAY(DATE(YEAR($B$2),MONTH($B$2),1),1)+1+126 | C23: =DATE(YEAR($B$2),MONTH($B$2),1)-WEEKDAY(DATE(YEAR($B$2),MONTH($B$2),1),1)+1+127 | D23: =DATE(YEAR($B$2),MONTH($B$2),1)-WEEKDAY(DATE(YEAR($B$2),MONTH($B$2),1),1)+1+128 | E23: =DATE(YEAR($B$2),MONTH($B$2),1)-WEEKDAY(DATE(YEAR($B$2),MONTH($B$2),1),1)+1+129 | F23: =DATE(YEAR($B$2),MONTH($B$2),1)-WEEKDAY(DATE(YEAR($B$2),MONTH($B$2),1),1)+1+130 | G23: =DATE(YEAR($B$2),MONTH($B$2),1)-WEEKDAY(DATE(YEAR($B$2),MONTH($B$2),1),1)+1+131 | H23: =DATE(YEAR($B$2),MONTH($B$2),1)-WEEKDAY(DATE(YEAR($B$2),MONTH($B$2),1),1)+1+132
B24: =DATE(YEAR($B$2),MONTH($B$2),1)-WEEKDAY(DATE(YEAR($B$2),MONTH($B$2),1),1)+1+133 | C24: =DATE(YEAR($B$2),MONTH($B$2),1)-WEEKDAY(DATE(YEAR($B$2),MONTH($B$2),1),1)+1+134 | D24: =DATE(YEAR($B$2),MONTH($B$2),1)-WEEKDAY(DATE(YEAR($B$2),MONTH($B$2),1),1)+1+135 | E24: =DATE(YEAR($B$2),MONTH($B$2),1)-WEEKDAY(DATE(YEAR($B$2),MONTH($B$2),1),1)+1+136 | F24: =DATE(YEAR($B$2),MONTH($B$2),1)-WEEKDAY(DATE(YEAR($B$2),MONTH($B$2),1),1)+1+137 | G24: =DATE(YEAR($B$2),MONTH($B$2),1)-WEEKDAY(DATE(YEAR($B$2),MONTH($B$2),1),1)+1+138 | H24: =DATE(YEAR($B$2),MONTH($B$2),1)-WEEKDAY(DATE(YEAR($B$2),MONTH($B$2),1),1)+1+139
B25: =DATE(YEAR($B$2),MONTH($B$2),1)-WEEKDAY(DATE(YEAR($B$2),MONTH($B$2),1),1)+1+140 | C25: =DATE(YEAR($B$2),MONTH($B$2),1)-WEEKDAY(DATE(YEAR($B$2),MONTH($B$2),1),1)+1+141 | D25: =DATE(YEAR($B$2),MONTH($B$2),1)-WEEKDAY(DATE(YEAR($B$2),MONTH($B$2),1),1)+1+142 | E25: =DATE(YEAR($B$2),MONTH($B$2),1)-WEEKDAY(DATE(YEAR($B$2),MONTH($B$2),1),1)+1+143 | F25: =DATE(YEAR($B$2),MONTH($B$2),1)-WEEKDAY(DATE(YEAR($B$2),MONTH($B$2),1),1)+1+144 | G25: =DATE(YEAR($B$2),MONTH($B$2),1)-WEEKDAY(DATE(YEAR($B$2),MONTH($B$2),1),1)+1+145 | H25: =DATE(YEAR($B$2),MONTH($B$2),1)-WEEKDAY(DATE(YEAR($B$2),MONTH($B$2),1),1)+1+146
B26: =DATE(YEAR($B$2),MONTH($B$2),1)-WEEKDAY(DATE(YEAR($B$2),MONTH($B$2),1),1)+1+147 | C26: =DATE(YEAR($B$2),MONTH($B$2),1)-WEEKDAY(DATE(YEAR($B$2),MONTH($B$2),1),1)+1+148 | D26: =DATE(YEAR($B$2),MONTH($B$2),1)-WEEKDAY(DATE(YEAR($B$2),MONTH($B$2),1),1)+1+149 | E26: =DATE(YEAR($B$2),MONTH($B$2),1)-WEEKDAY(DATE(YEAR($B$2),MONTH($B$2),1),1)+1+150 | F26: =DATE(YEAR($B$2),MONTH($B$2),1)-WEEKDAY(DATE(YEAR($B$2),MONTH($B$2),1),1)+1+151 | G26: =DATE(YEAR($B$2),MONTH($B$2),1)-WEEKDAY(DATE(YEAR($B$2),MONTH($B$2),1),1)+1+152 | H26: =DATE(YEAR($B$2),MONTH($B$2),1)-WEEKDAY(DATE(YEAR($B$2),MONTH($B$2),1),1)+1+153
B27: =DATE(YEAR($B$2),MONTH($B$2),1)-WEEKDAY(DATE(YEAR($B$2),MONTH($B$2),1),1)+1+154 | C27: =DATE(YEAR($B$2),MONTH($B$2),1)-WEEKDAY(DATE(YEAR($B$2),MONTH($B$2),1),1)+1+155 | D27: =DATE(YEAR($B$2),MONTH($B$2),1)-WEEKDAY(DATE(YEAR($B$2),MONTH($B$2),1),1)+1+156 | E27: =DATE(YEAR($B$2),MONTH($B$2),1)-WEEKDAY(DATE(YEAR($B$2),MONTH($B$2),1),1)+1+157 | F27: =DATE(YEAR($B$2),MONTH($B$2),1)-WEEKDAY(DATE(YEAR($B$2),MONTH($B$2),1),1)+1+158 | G27: =DATE(YEAR($B$2),MONTH($B$2),1)-WEEKDAY(DATE(YEAR($B$2),MONTH($B$2),1),1)+1+159 | H27: =DATE(YEAR($B$2),MONTH($B$2),1)-WEEKDAY(DATE(YEAR($B$2),MONTH($B$2),1),1)+1+160
B28: =DATE(YEAR($B$2),MONTH($B$2),1)-WEEKDAY(DATE(YEAR($B$2),MONTH($B$2),1),1)+1+161 | C28: =DATE(YEAR($B$2),MONTH($B$2),1)-WEEKDAY(DATE(YEAR($B$2),MONTH($B$2),1),1)+1+162 | D28: =DATE(YEAR($B$2),MONTH($B$2),1)-WEEKDAY(DATE(YEAR($B$2),MONTH($B$2),1),1)+1+163 | E28: =DATE(YEAR($B$2),MONTH($B$2),1)-WEEKDAY(DATE(YEAR($B$2),MONTH($B$2),1),1)+1+164 | F28: =DATE(YEAR($B$2),MONTH($B$2),1)-WEEKDAY(DATE(YEAR($B$2),MONTH($B$2),1),1)+1+165 | G28: =DATE(YEAR($B$2),MONTH($B$2),1)-WEEKDAY(DATE(YEAR($B$2),MONTH($B$2),1),1)+1+166 | H28: =DATE(YEAR($B$2),MONTH($B$2),1)-WEEKDAY(DATE(YEAR($B$2),MONTH($B$2),1),1)+1+167
B29: =DATE(YEAR($B$2),MONTH($B$2),1)-WEEKDAY(DATE(YEAR($B$2),MONTH($B$2),1),1)+1+168 | C29: =DATE(YEAR($B$2),MONTH($B$2),1)-WEEKDAY(DATE(YEAR($B$2),MONTH($B$2),1),1)+1+169 | D29: =DATE(YEAR($B$2),MONTH($B$2),1)-WEEKDAY(DATE(YEAR($B$2),MONTH($B$2),1),1)+1+170 | E29: =DATE(YEAR($B$2),MONTH($B$2),1)-WEEKDAY(DATE(YEAR($B$2),MONTH($B$2),1),1)+1+171 | F29: =DATE(YEAR($B$2),MONTH($B$2),1)-WEEKDAY(DATE(YEAR($B$2),MONTH($B$2),1),1)+1+172 | G29: =DATE(YEAR($B$2),MONTH($B$2),1)-WEEKDAY(DATE(YEAR($B$2),MONTH($B$2),1),1)+1+173 | H29: =DATE(YEAR($B$2),MONTH($B$2),1)-WEEKDAY(DATE(YEAR($B$2),MONTH($B$2),1),1)+1+174
B30: =DATE(YEAR($B$2),MONTH($B$2),1)-WEEKDAY(DATE(YEAR($B$2),MONTH($B$2),1),1)+1+175 | C30: =DATE(YEAR($B$2),MONTH($B$2),1)-WEEKDAY(DATE(YEAR($B$2),MONTH($B$2),1),1)+1+176 | D30: =DATE(YEAR($B$2),MONTH($B$2),1)-WEEKDAY(DATE(YEAR($B$2),MONTH($B$2),1),1)+1+177 | E30: =DATE(YEAR($B$2),MONTH($B$2),1)-WEEKDAY(DATE(YEAR($B$2),MONTH($B$2),1),1)+1+178 | F30: =DATE(YEAR($B$2),MONTH($B$2),1)-WEEKDAY(DATE(YEAR($B$2),MONTH($B$2),1),1)+1+179 | G30: =DATE(YEAR($B$2),MONTH($B$2),1)-WEEKDAY(DATE(YEAR($B$2),MONTH($B$2),1),1)+1+180 | H30: =DATE(YEAR($B$2),MONTH($B$2),1)-WEEKDAY(DATE(YEAR($B$2),MONTH($B$2),1),1)+1+181
B31: =DATE(YEAR($B$2),MONTH($B$2),1)-WEEKDAY(DATE(YEAR($B$2),MONTH($B$2),1),1)+1+182 | C31: =DATE(YEAR($B$2),MONTH($B$2),1)-WEEKDAY(DATE(YEAR($B$2),MONTH($B$2),1),1)+1+183 | D31: =DATE(YEAR($B$2),MONTH($B$2),1)-WEEKDAY(DATE(YEAR($B$2),MONTH($B$2),1),1)+1+184 | E31: =DATE(YEAR($B$2),MONTH($B$2),1)-WEEKDAY(DATE(YEAR($B$2),MONTH($B$2),1),1)+1+185 | F31: =DATE(YEAR($B$2),MONTH($B$2),1)-WEEKDAY(DATE(YEAR($B$2),MONTH($B$2),1),1)+1+186 | G31: =DATE(YEAR($B$2),MONTH($B$2),1)-WEEKDAY(DATE(YEAR($B$2),MONTH($B$2),1),1)+1+187 | H31: =DATE(YEAR($B$2),MONTH($B$2),1)-WEEKDAY(DATE(YEAR($B$2),MONTH($B$2),1),1)+1+188
B32: =DATE(YEAR($B$2),MONTH($B$2),1)-WEEKDAY(DATE(YEAR($B$2),MONTH($B$2),1),1)+1+189 | C32: =DATE(YEAR($B$2),MONTH($B$2),1)-WEEKDAY(DATE(YEAR($B$2),MONTH($B$2),1),1)+1+190 | D32: =DATE(YEAR($B$2),MONTH($B$2),1)-WEEKDAY(DATE(YEAR($B$2),MONTH($B$2),1),1)+1+191 | E32: =DATE(YEAR($B$2),MONTH($B$2),1)-WEEKDAY(DATE(YEAR($B$2),MONTH($B$2),1),1)+1+192 | F32: =DATE(YEAR($B$2),MONTH($B$2),1)-WEEKDAY(DATE(YEAR($B$2),MONTH($B$2),1),1)+1+193 | G32: =DATE(YEAR($B$2),MONTH($B$2),1)-WEEKDAY(DATE(YEAR($B$2),MONTH($B$2),1),1)+1+194 | H32: =DATE(YEAR($B$2),MONTH($B$2),1)-WEEKDAY(DATE(YEAR($B$2),MONTH($B$2),1),1)+1+195
B33: =DATE(YEAR($B$2),MONTH($B$2),1)-WEEKDAY(DATE(YEAR($B$2),MONTH($B$2),1),1)+1+196 | C33: =DATE(YEAR($B$2),MONTH($B$2),1)-WEEKDAY(DATE(YEAR($B$2),MONTH($B$2),1),1)+1+197 | D33: =DATE(YEAR($B$2),MONTH($B$2),1)-WEEKDAY(DATE(YEAR($B$2),MONTH($B$2),1),1)+1+198 | E33: =DATE(YEAR($B$2),MONTH($B$2),1)-WEEKDAY(DATE(YEAR($B$2),MONTH($B$2),1),1)+1+199 | F33: =DATE(YEAR($B$2),MONTH($B$2),1)-WEEKDAY(DATE(YEAR($B$2),MONTH($B$2),1),1)+1+200 | G33: =DATE(YEAR($B$2),MONTH($B$2),1)-WEEKDAY(DATE(YEAR($B$2),MONTH($B$2),1),1)+1+201 | H33: =DATE(YEAR($B$2),MONTH($B$2),1)-WEEKDAY(DATE(YEAR($B$2),MONTH($B$2),1),1)+1+202
B34: =DATE(YEAR($B$2),MONTH($B$2),1)-WEEKDAY(DATE(YEAR($B$2),MONTH($B$2),1),1)+1+203 | C34: =DATE(YEAR($B$2),MONTH($B$2),1)-WEEKDAY(DATE(YEAR($B$2),MONTH($B$2),1),1)+1+204 | D34: =DATE(YEAR($B$2),MONTH($B$2),1)-WEEKDAY(DATE(YEAR($B$2),MONTH($B$2),1),1)+1+205 | E34: =DATE(YEAR($B$2),MONTH($B$2),1)-WEEKDAY(DATE(YEAR($B$2),MONTH($B$2),1),1)+1+206 | F34: =DATE(YEAR($B$2),MONTH($B$2),1)-WEEKDAY(DATE(YEAR($B$2),MONTH($B$2),1),1)+1+207 | G34: =DATE(YEAR($B$2),MONTH($B$2),1)-WEEKDAY(DATE(YEAR($B$2),MONTH($B$2),1),1)+1+208 | H34: =DATE(YEAR($B$2),MONTH($B$2),1)-WEEKDAY(DATE(YEAR($B$2),MONTH($B$2),1),1)+1+209
B35: =DATE(YEAR($B$2),MONTH($B$2),1)-WEEKDAY(DATE(YEAR($B$2),MONTH($B$2),1),1)+1+210 | C35: =DATE(YEAR($B$2),MONTH($B$2),1)-WEEKDAY(DATE(YEAR($B$2),MONTH($B$2),1),1)+1+211 | D35: =DATE(YEAR($B$2),MONTH($B$2),1)-WEEKDAY(DATE(YEAR($B$2),MONTH($B$2),1),1)+1+212 | E35: =DATE(YEAR($B$2),MONTH($B$2),1)-WEEKDAY(DATE(YEAR($B$2),MONTH($B$2),1),1)+1+213 | F35: =DATE(YEAR($B$2),MONTH($B$2),1)-WEEKDAY(DATE(YEAR($B$2),MONTH($B$2),1),1)+1+214 | G35: =DATE(YEAR($B$2),MONTH($B$2),1)-WEEKDAY(DATE(YEAR($B$2),MONTH($B$2),1),1)+1+215 | H35: =DATE(YEAR($B$2),MONTH($B$2),1)-WEEKDAY(DATE(YEAR($B$2),MONTH($B$2),1),1)+1+216
B36: =DATE(YEAR($B$2),MONTH($B$2),1)-WEEKDAY(DATE(YEAR($B$2),MONTH($B$2),1),1)+1+217 | C36: =DATE(YEAR($B$2),MONTH($B$2),1)-WEEKDAY(DATE(YEAR($B$2),MONTH($B$2),1),1)+1+218 | D36: =DATE(YEAR($B$2),MONTH($B$2),1)-WEEKDAY(DATE(YEAR($B$2),MONTH($B$2),1),1)+1+219 | E36: =DATE(YEAR($B$2),MONTH($B$2),1)-WEEKDAY(DATE(YEAR($B$2),MONTH($B$2),1),1)+1+220 | F36: =DATE(YEAR($B$2),MONTH($B$2),1)-WEEKDAY(DATE(YEAR($B$2),MONTH($B$2),1),1)+1+221 | G36: =DATE(YEAR($B$2),MONTH($B$2),1)-WEEKDAY(DATE(YEAR($B$2),MONTH($B$2),1),1)+1+222 | H36: =DATE(YEAR($B$2),MONTH($B$2),1)-WEEKDAY(DATE(YEAR($B$2),MONTH($B$2),1),1)+1+223
B37: =DATE(YEAR($B$2),MONTH($B$2),1)-WEEKDAY(DATE(YEAR($B$2),MONTH($B$2),1),1)+1+224 | C37: =DATE(YEAR($B$2),MONTH($B$2),1)-WEEKDAY(DATE(YEAR($B$2),MONTH($B$2),1),1)+1+225 | D37: =DATE(YEAR($B$2),MONTH($B$2),1)-WEEKDAY(DATE(YEAR($B$2),MONTH($B$2),1),1)+1+226 | E37: =DATE(YEAR($B$2),MONTH($B$2),1)-WEEKDAY(DATE(YEAR($B$2),MONTH($B$2),1),1)+1+227 | F37: =DATE(YEAR($B$2),MONTH($B$2),1)-WEEKDAY(DATE(YEAR($B$2),MONTH($B$2),1),1)+1+228 | G37: =DATE(YEAR($B$2),MONTH($B$2),1)-WEEKDAY(DATE(YEAR($B$2),MONTH($B$2),1),1)+1+229 | H37: =DATE(YEAR($B$2),MONTH($B$2),1)-WEEKDAY(DATE(YEAR($B$2),MONTH($B$2),1),1)+1+230
B38: =DATE(YEAR($B$2),MONTH($B$2),1)-WEEKDAY(DATE(YEAR($B$2),MONTH($B$2),1),1)+1+231 | C38: =DATE(YEAR($B$2),MONTH($B$2),1)-WEEKDAY(DATE(YEAR($B$2),MONTH($B$2),1),1)+1+232 | D38: =DATE(YEAR($B$2),MONTH($B$2),1)-WEEKDAY(DATE(YEAR($B$2),MONTH($B$2),1),1)+1+233 | E38: =DATE(YEAR($B$2),MONTH($B$2),1)-WEEKDAY(DATE(YEAR($B$2),MONTH($B$2),1),1)+1+234 | F38: =DATE(YEAR($B$2),MONTH($B$2),1)-WEEKDAY(DATE(YEAR($B$2),MONTH($B$2),1),1)+1+235 | G38: =DATE(YEAR($B$2),MONTH($B$2),1)-WEEKDAY(DATE(YEAR($B$2),MONTH($B$2),1),1)+1+236 | H38: =DATE(YEAR($B$2),MONTH($B$2),1)-WEEKDAY(DATE(YEAR($B$2),MONTH($B$2),1),1)+1+237
B39: =DATE(YEAR($B$2),MONTH($B$2),1)-WEEKDAY(DATE(YEAR($B$2),MONTH($B$2),1),1)+1+238 | C39: =DATE(YEAR($B$2),MONTH($B$2),1)-WEEKDAY(DATE(YEAR($B$2),MONTH($B$2),1),1)+1+239 | D39: =DATE(YEAR($B$2),MONTH($B$2),1)-WEEKDAY(DATE(YEAR($B$2),MONTH($B$2),1),1)+1+240 | E39: =DATE(YEAR($B$2),MONTH($B$2),1)-WEEKDAY(DATE(YEAR($B$2),MONTH($B$2),1),1)+1+241 | F39: =DATE(YEAR($B$2),MONTH($B$2),1)-WEEKDAY(DATE(YEAR($B$2),MONTH($B$2),1),1)+1+242 | G39: =DATE(YEAR($B$2),MONTH($B$2),1)-WEEKDAY(DATE(YEAR($B$2),MONTH($B$2),1),1)+1+243 | H39: =DATE(YEAR($B$2),MONTH($B$2),1)-WEEKDAY(DATE(YEAR($B$2),MONTH($B$2),1),1)+1+244
B40: =DATE(YEAR($B$2),MONTH($B$2),1)-WEEKDAY(DATE(YEAR($B$2),MONTH($B$2),1),1)+1+245 | C40: =DATE(YEAR($B$2),MONTH($B$2),1)-WEEKDAY(DATE(YEAR($B$2),MONTH($B$2),1),1)+1+246 | D40: =DATE(YEAR($B$2),MONTH($B$2),1)-WEEKDAY(DATE(YEAR($B$2),MONTH($B$2),1),1)+1+247 | E40: =DATE(YEAR($B$2),MONTH($B$2),1)-WEEKDAY(DATE(YEAR($B$2),MONTH($B$2),1),1)+1+248 | F40: =DATE(YEAR($B$2),MONTH($B$2),1)-WEEKDAY(DATE(YEAR($B$2),MONTH($B$2),1),1)+1+249 | G40: =DATE(YEAR($B$2),MONTH($B$2),1)-WEEKDAY(DATE(YEAR($B$2),MONTH($B$2),1),1)+1+250 | H40: =DATE(YEAR($B$2),MONTH($B$2),1)-WEEKDAY(DATE(YEAR($B$2),MONTH($B$2),1),1)+1+251
B41: =DATE(YEAR($B$2),MONTH($B$2),1)-WEEKDAY(DATE(YEAR($B$2),MONTH($B$2),1),1)+1+252 | C41: =DATE(YEAR($B$2),MONTH($B$2),1)-WEEKDAY(DATE(YEAR($B$2),MONTH($B$2),1),1)+1+253 | D41: =DATE(YEAR($B$2),MONTH($B$2),1)-WEEKDAY(DATE(YEAR($B$2),MONTH($B$2),1),1)+1+254 | E41: =DATE(YEAR($B$2),MONTH($B$2),1)-WEEKDAY(DATE(YEAR($B$2),MONTH($B$2),1),1)+1+255 | F41: =DATE(YEAR($B$2),MONTH($B$2),1)-WEEKDAY(DATE(YEAR($B$2),MONTH($B$2),1),1)+1+256 | G41: =DATE(YEAR($B$2),MONTH($B$2),1)-WEEKDAY(DATE(YEAR($B$2),MONTH($B$2),1),1)+1+257 | H41: =DATE(YEAR($B$2),MONTH($B$2),1)-WEEKDAY(DATE(YEAR($B$2),MONTH($B$2),1),1)+1+258
...

Sheet Calendar Events
A1: Academic Calendar Events
A2: Enter one row per event. Blue cells are editable; gray cells are calculated.
A5: Event ID | B5: Academic Year | C5: Term | D5: Start Date | E5: End Date | F5: Event Name | G5: Category | H5: Campus Status | I5: Audience | J5: Owner | K5: Status | L5: Notes | M5: Duration (Days) | N5: Outside Term? | O5: Owner Conflict? | P5: Review Alert
A6: EVT-2026-001 | B6: 2026-2027 | C6: Fall Term | D6: 46254 | E6: 46255 | F6: Faculty Planning Retreat | G6: Faculty Activity | H6: Open | I6: Faculty | J6: Academic Affairs Team | K6: Completed | L6: Planning sessions before fall classes begin. | M6: =IF(OR(D6="",E6=""),"",IF(E6<D6,"",E6-D6+1)) | N6: =IF(OR(B6="",C6="",D6="",E6=""),"",IF(COUNTIFS('Academic Terms'!$A$6:$A$101,B6,'Academic Terms'!$B$6:$B$101,C6)<>1,"Term not found",IF(OR(D6<SUMIFS('Academic Terms'!$C$6:$C$101,'Academic Terms'!$A$6:$A$101,B6,'Academic Terms'!$B$6:$B$101,C6),E6>SUMIFS('Academic Terms'!$D$6:$D$101,'Academic Terms'!$A$6:$A$101,B6,'Academic Terms'!$B$6:$B$101,C6)),"Yes","No"))) | O6: =IF(OR(A6="",B6="",D6="",E6="",J6="",K6="Cancelled"),"",IF(SUMPRODUCT(--($A$6:$A$205<>A6),--($B$6:$B$205=B6),--($J$6:$J$205=J6),--($D$6:$D$205<=E6),--($E$6:$E$205>=D6),--($K$6:$K$205<>"Cancelled"))>0,"Yes","No")) | P6: =IF(COUNTA(A6:L6)=0,"",IF(OR(A6="",B6="",C6="",D6="",E6="",F6="",G6="",K6=""),"Missing required fields",IF(COUNTIF($A$6:$A$205,A6)>1,"Duplicate Event ID",IF(E6<D6,"End date before start date",IF(N6="Term not found","Term not found",IF(N6="Yes","Outside term",IF(O6="Yes","Owner conflict",IF(AND(E6<Dashboard!$B$4,K6<>"Completed",K6<>"Cancelled"),"Past event not completed",""))))))))
A7: EVT-2026-002 | B7: 2026-2027 | C7: Fall Term | D7: 46258 | E7: 46258 | F7: Fall Classes Begin | G7: Instruction | H7: Open | I7: All Learners | J7: Registrar Team | K7: Completed | L7: First instructional day of the fall term. | M7: =IF(OR(D7="",E7=""),"",IF(E7<D7,"",E7-D7+1)) | N7: =IF(OR(B7="",C7="",D7="",E7=""),"",IF(COUNTIFS('Academic Terms'!$A$6:$A$101,B7,'Academic Terms'!$B$6:$B$101,C7)<>1,"Term not found",IF(OR(D7<SUMIFS('Academic Terms'!$C$6:$C$101,'Academic Terms'!$A$6:$A$101,B7,'Academic Terms'!$B$6:$B$101,C7),E7>SUMIFS('Academic Terms'!$D$6:$D$101,'Academic Terms'!$A$6:$A$101,B7,'Academic Terms'!$B$6:$B$101,C7)),"Yes","No"))) | O7: =IF(OR(A7="",B7="",D7="",E7="",J7="",K7="Cancelled"),"",IF(SUMPRODUCT(--($A$6:$A$205<>A7),--($B$6:$B$205=B7),--($J$6:$J$205=J7),--($D$6:$D$205<=E7),--($E$6:$E$205>=D7),--($K$6:$K$205<>"Cancelled"))>0,"Yes","No")) | P7: =IF(COUNTA(A7:L7)=0,"",IF(OR(A7="",B7="",C7="",D7="",E7="",F7="",G7="",K7=""),"Missing required fields",IF(COUNTIF($A$6:$A$205,A7)>1,"Duplicate Event ID",IF(E7<D7,"End date before start date",IF(N7="Term not found","Term not found",IF(N7="Yes","Outside term",IF(O7="Yes","Owner conflict",IF(AND(E7<Dashboard!$B$4,K7<>"Completed",K7<>"Cancelled"),"Past event not completed",""))))))))
A8: EVT-2026-003 | B8: 2026-2027 | C8: Fall Term | D8: 46269 | E8: 46269 | F8: Fall Add and Drop Deadline | G8: Deadline | H8: Open | I8: All Learners | J8: Registrar Team | K8: Completed | L8: Schedule changes close at the end of the day. | M8: =IF(OR(D8="",E8=""),"",IF(E8<D8,"",E8-D8+1)) | N8: =IF(OR(B8="",C8="",D8="",E8=""),"",IF(COUNTIFS('Academic Terms'!$A$6:$A$101,B8,'Academic Terms'!$B$6:$B$101,C8)<>1,"Term not found",IF(OR(D8<SUMIFS('Academic Terms'!$C$6:$C$101,'Academic Terms'!$A$6:$A$101,B8,'Academic Terms'!$B$6:$B$101,C8),E8>SUMIFS('Academic Terms'!$D$6:$D$101,'Academic Terms'!$A$6:$A$101,B8,'Academic Terms'!$B$6:$B$101,C8)),"Yes","No"))) | O8: =IF(OR(A8="",B8="",D8="",E8="",J8="",K8="Cancelled"),"",IF(SUMPRODUCT(--($A$6:$A$205<>A8),--($B$6:$B$205=B8),--($J$6:$J$205=J8),--($D$6:$D$205<=E8),--($E$6:$E$205>=D8),--($K$6:$K$205<>"Cancelled"))>0,"Yes","No")) | P8: =IF(COUNTA(A8:L8)=0,"",IF(OR(A8="",B8="",C8="",D8="",E8="",F8="",G8="",K8=""),"Missing required fields",IF(COUNTIF($A$6:$A$205,A8)>1,"Duplicate Event ID",IF(E8<D8,"End date before start date",IF(N8="Term not found","Term not found",IF(N8="Yes","Outside term",IF(O8="Yes","Owner conflict",IF(AND(E8<Dashboard!$B$4,K8<>"Completed",K8<>"Cancelled"),"Past event not completed",""))))))))
A9: EVT-2026-004 | B9: 2026-2027 | C9: Fall Term | D9: 46275 | E9: 46275 | F9: Learner Success Workshop | G9: Student Support | H9: Open | I9: All Learners | J9: Learner Services Team | K9: Confirmed | L9: Time-management and study-planning workshop. | M9: =IF(OR(D9="",E9=""),"",IF(E9<D9,"",E9-D9+1)) | N9: =IF(OR(B9="",C9="",D9="",E9=""),"",IF(COUNTIFS('Academic Terms'!$A$6:$A$101,B9,'Academic Terms'!$B$6:$B$101,C9)<>1,"Term not found",IF(OR(D9<SUMIFS('Academic Terms'!$C$6:$C$101,'Academic Terms'!$A$6:$A$101,B9,'Academic Terms'!$B$6:$B$101,C9),E9>SUMIFS('Academic Terms'!$D$6:$D$101,'Academic Terms'!$A$6:$A$101,B9,'Academic Terms'!$B$6:$B$101,C9)),"Yes","No"))) | O9: =IF(OR(A9="",B9="",D9="",E9="",J9="",K9="Cancelled"),"",IF(SUMPRODUCT(--($A$6:$A$205<>A9),--($B$6:$B$205=B9),--($J$6:$J$205=J9),--($D$6:$D$205<=E9),--($E$6:$E$205>=D9),--($K$6:$K$205<>"Cancelled"))>0,"Yes","No")) | P9: =IF(COUNTA(A9:L9)=0,"",IF(OR(A9="",B9="",C9="",D9="",E9="",F9="",G9="",K9=""),"Missing required fields",IF(COUNTIF($A$6:$A$205,A9)>1,"Duplicate Event ID",IF(E9<D9,"End date before start date",IF(N9="Term not found","Term not found",IF(N9="Yes","Outside term",IF(O9="Yes","Owner conflict",IF(AND(E9<Dashboard!$B$4,K9<>"Completed",K9<>"Cancelled"),"Past event not completed",""))))))))
A10: EVT-2026-005 | B10: 2026-2027 | C10: Fall Term | D10: 46307 | E10: 46311 | F10: Fall Midterm Assessments | G10: Assessment | H10: Open | I10: All Learners | J10: Assessment Team | K10: Confirmed | L10: Program areas schedule assessments during this period. | M10: =IF(OR(D10="",E10=""),"",IF(E10<D10,"",E10-D10+1)) | N10: =IF(OR(B10="",C10="",D10="",E10=""),"",IF(COUNTIFS('Academic Terms'!$A$6:$A$101,B10,'Academic Terms'!$B$6:$B$101,C10)<>1,"Term not found",IF(OR(D10<SUMIFS('Academic Terms'!$C$6:$C$101,'Academic Terms'!$A$6:$A$101,B10,'Academic Terms'!$B$6:$B$101,C10),E10>SUMIFS('Academic Terms'!$D$6:$D$101,'Academic Terms'!$A$6:$A$101,B10,'Academic Terms'!$B$6:$B$101,C10)),"Yes","No"))) | O10: =IF(OR(A10="",B10="",D10="",E10="",J10="",K10="Cancelled"),"",IF(SUMPRODUCT(--($A$6:$A$205<>A10),--($B$6:$B$205=B10),--($J$6:$J$205=J10),--($D$6:$D$205<=E10),--($E$6:$E$205>=D10),--($K$6:$K$205<>"Cancelled"))>0,"Yes","No")) | P10: =IF(COUNTA(A10:L10)=0,"",IF(OR(A10="",B10="",C10="",D10="",E10="",F10="",G10="",K10=""),"Missing required fields",IF(COUNTIF($A$6:$A$205,A10)>1,"Duplicate Event ID",IF(E10<D10,"End date before start date",IF(N10="Term not found","Term not found",IF(N10="Yes","Outside term",IF(O10="Yes","Owner conflict",IF(AND(E10<Dashboard!$B$4,K10<>"Completed",K10<>"Cancelled"),"Past event not completed",""))))))))
A11: EVT-2026-006 | B11: 2026-2027 | C11: Fall Term | D11: 46318 | E11: 46318 | F11: Founders Day Closure | G11: Break/Holiday | H11: Closed | I11: All Learners | J11: Campus Operations Team | K11: Confirmed | L11: Fictional institutional closure. | M11: =IF(OR(D11="",E11=""),"",IF(E11<D11,"",E11-D11+1)) | N11: =IF(OR(B11="",C11="",D11="",E11=""),"",IF(COUNTIFS('Academic Terms'!$A$6:$A$101,B11,'Academic Terms'!$B$6:$B$101,C11)<>1,"Term not found",IF(OR(D11<SUMIFS('Academic Terms'!$C$6:$C$101,'Academic Terms'!$A$6:$A$101,B11,'Academic Terms'!$B$6:$B$101,C11),E11>SUMIFS('Academic Terms'!$D$6:$D$101,'Academic Terms'!$A$6:$A$101,B11,'Academic Terms'!$B$6:$B$101,C11)),"Yes","No"))) | O11: =IF(OR(A11="",B11="",D11="",E11="",J11="",K11="Cancelled"),"",IF(SUMPRODUCT(--($A$6:$A$205<>A11),--($B$6:$B$205=B11),--($J$6:$J$205=J11),--($D$6:$D$205<=E11),--($E$6:$E$205>=D11),--($K$6:$K$205<>"Cancelled"))>0,"Yes","No")) | P11: =IF(COUNTA(A11:L11)=0,"",IF(OR(A11="",B11="",C11="",D11="",E11="",F11="",G11="",K11=""),"Missing required fields",IF(COUNTIF($A$6:$A$205,A11)>1,"Duplicate Event ID",IF(E11<D11,"End date before start date",IF(N11="Term not found","Term not found",IF(N11="Yes","Outside term",IF(O11="Yes","Owner conflict",IF(AND(E11<Dashboard!$B$4,K11<>"Completed",K11<>"Cancelled"),"Past event not completed",""))))))))
A12: EVT-2026-007 | B12: 2026-2027 | C12: Fall Term | D12: 46328 | E12: 46339 | F12: Winter Registration Window | G12: Registration | H12: Open | I12: All Learners | J12: Registrar Team | K12: Planned | L12: Registration window for winter courses. | M12: =IF(OR(D12="",E12=""),"",IF(E12<D12,"",E12-D12+1)) | N12: =IF(OR(B12="",C12="",D12="",E12=""),"",IF(COUNTIFS('Academic Terms'!$A$6:$A$101,B12,'Academic Terms'!$B$6:$B$101,C12)<>1,"Term not found",IF(OR(D12<SUMIFS('Academic Terms'!$C$6:$C$101,'Academic Terms'!$A$6:$A$101,B12,'Academic Terms'!$B$6:$B$101,C12),E12>SUMIFS('Academic Terms'!$D$6:$D$101,'Academic Terms'!$A$6:$A$101,B12,'Academic Terms'!$B$6:$B$101,C12)),"Yes","No"))) | O12: =IF(OR(A12="",B12="",D12="",E12="",J12="",K12="Cancelled"),"",IF(SUMPRODUCT(--($A$6:$A$205<>A12),--($B$6:$B$205=B12),--($J$6:$J$205=J12),--($D$6:$D$205<=E12),--($E$6:$E$205>=D12),--($K$6:$K$205<>"Cancelled"))>0,"Yes","No")) | P12: =IF(COUNTA(A12:L12)=0,"",IF(OR(A12="",B12="",C12="",D12="",E12="",F12="",G12="",K12=""),"Missing required fields",IF(COUNTIF($A$6:$A$205,A12)>1,"Duplicate Event ID",IF(E12<D12,"End date before start date",IF(N12="Term not found","Term not found",IF(N12="Yes","Outside term",IF(O12="Yes","Owner conflict",IF(AND(E12<Dashboard!$B$4,K12<>"Completed",K12<>"Cancelled"),"Past event not completed",""))))))))
A13: EVT-2026-008 | B13: 2026-2027 | C13: Fall Term | D13: 46367 | E13: 46367 | F13: Fall Instruction Ends | G13: Instruction | H13: Open | I13: All Learners | J13: Academic Affairs Team | K13: Planned | L13: Final scheduled instructional day. | M13: =IF(OR(D13="",E13=""),"",IF(E13<D13,"",E13-D13+1)) | N13: =IF(OR(B13="",C13="",D13="",E13=""),"",IF(COUNTIFS('Academic Terms'!$A$6:$A$101,B13,'Academic Terms'!$B$6:$B$101,C13)<>1,"Term not found",IF(OR(D13<SUMIFS('Academic Terms'!$C$6:$C$101,'Academic Terms'!$A$6:$A$101,B13,'Academic Terms'!$B$6:$B$101,C13),E13>SUMIFS('Academic Terms'!$D$6:$D$101,'Academic Terms'!$A$6:$A$101,B13,'Academic Terms'!$B$6:$B$101,C13)),"Yes","No"))) | O13: =IF(OR(A13="",B13="",D13="",E13="",J13="",K13="Cancelled"),"",IF(SUMPRODUCT(--($A$6:$A$205<>A13),--($B$6:$B$205=B13),--($J$6:$J$205=J13),--($D$6:$D$205<=E13),--($E$6:$E$205>=D13),--($K$6:$K$205<>"Cancelled"))>0,"Yes","No")) | P13: =IF(COUNTA(A13:L13)=0,"",IF(OR(A13="",B13="",C13="",D13="",E13="",F13="",G13="",K13=""),"Missing required fields",IF(COUNTIF($A$6:$A$205,A13)>1,"Duplicate Event ID",IF(E13<D13,"End date before start date",IF(N13="Term not found","Term not found",IF(N13="Yes","Outside term",IF(O13="Yes","Owner conflict",IF(AND(E13<Dashboard!$B$4,K13<>"Completed",K13<>"Cancelled"),"Past event not completed",""))))))))
A14: EVT-2027-009 | B14: 2026-2027 | C14: Winter Term | D14: 46391 | E14: 46391 | F14: Winter Classes Begin | G14: Instruction | H14: Open | I14: All Learners | J14: Registrar Team | K14: Planned | L14: First instructional day of the winter term. | M14: =IF(OR(D14="",E14=""),"",IF(E14<D14,"",E14-D14+1)) | N14: =IF(OR(B14="",C14="",D14="",E14=""),"",IF(COUNTIFS('Academic Terms'!$A$6:$A$101,B14,'Academic Terms'!$B$6:$B$101,C14)<>1,"Term not found",IF(OR(D14<SUMIFS('Academic Terms'!$C$6:$C$101,'Academic Terms'!$A$6:$A$101,B14,'Academic Terms'!$B$6:$B$101,C14),E14>SUMIFS('Academic Terms'!$D$6:$D$101,'Academic Terms'!$A$6:$A$101,B14,'Academic Terms'!$B$6:$B$101,C14)),"Yes","No"))) | O14: =IF(OR(A14="",B14="",D14="",E14="",J14="",K14="Cancelled"),"",IF(SUMPRODUCT(--($A$6:$A$205<>A14),--($B$6:$B$205=B14),--($J$6:$J$205=J14),--($D$6:$D$205<=E14),--($E$6:$E$205>=D14),--($K$6:$K$205<>"Cancelled"))>0,"Yes","No")) | P14: =IF(COUNTA(A14:L14)=0,"",IF(OR(A14="",B14="",C14="",D14="",E14="",F14="",G14="",K14=""),"Missing required fields",IF(COUNTIF($A$6:$A$205,A14)>1,"Duplicate Event ID",IF(E14<D14,"End date before start date",IF(N14="Term not found","Term not found",IF(N14="Yes","Outside term",IF(O14="Yes","Owner conflict",IF(AND(E14<Dashboard!$B$4,K14<>"Completed",K14<>"Cancelled"),"Past event not completed",""))))))))
A15: EVT-2027-010 | B15: 2026-2027 | C15: Spring Term | D15: 46475 | E15: 46475 | F15: Spring Classes Begin | G15: Instruction | H15: Open | I15: All Learners | J15: Registrar Team | K15: Planned | L15: First instructional day of the spring term. | M15: =IF(OR(D15="",E15=""),"",IF(E15<D15,"",E15-D15+1)) | N15: =IF(OR(B15="",C15="",D15="",E15=""),"",IF(COUNTIFS('Academic Terms'!$A$6:$A$101,B15,'Academic Terms'!$B$6:$B$101,C15)<>1,"Term not found",IF(OR(D15<SUMIFS('Academic Terms'!$C$6:$C$101,'Academic Terms'!$A$6:$A$101,B15,'Academic Terms'!$B$6:$B$101,C15),E15>SUMIFS('Academic Terms'!$D$6:$D$101,'Academic Terms'!$A$6:$A$101,B15,'Academic Terms'!$B$6:$B$101,C15)),"Yes","No"))) | O15: =IF(OR(A15="",B15="",D15="",E15="",J15="",K15="Cancelled"),"",IF(SUMPRODUCT(--($A$6:$A$205<>A15),--($B$6:$B$205=B15),--($J$6:$J$205=J15),--($D$6:$D$205<=E15),--($E$6:$E$205>=D15),--($K$6:$K$205<>"Cancelled"))>0,"Yes","No")) | P15: =IF(COUNTA(A15:L15)=0,"",IF(OR(A15="",B15="",C15="",D15="",E15="",F15="",G15="",K15=""),"Missing required fields",IF(COUNTIF($A$6:$A$205,A15)>1,"Duplicate Event ID",IF(E15<D15,"End date before start date",IF(N15="Term not found","Term not found",IF(N15="Yes","Outside term",IF(O15="Yes","Owner conflict",IF(AND(E15<Dashboard!$B$4,K15<>"Completed",K15<>"Cancelled"),"Past event not completed",""))))))))
M16: =IF(OR(D16="",E16=""),"",IF(E16<D16,"",E16-D16+1)) | N16: =IF(OR(B16="",C16="",D16="",E16=""),"",IF(COUNTIFS('Academic Terms'!$A$6:$A$101,B16,'Academic Terms'!$B$6:$B$101,C16)<>1,"Term not found",IF(OR(D16<SUMIFS('Academic Terms'!$C$6:$C$101,'Academic Terms'!$A$6:$A$101,B16,'Academic Terms'!$B$6:$B$101,C16),E16>SUMIFS('Academic Terms'!$D$6:$D$101,'Academic Terms'!$A$6:$A$101,B16,'Academic Terms'!$B$6:$B$101,C16)),"Yes","No"))) | O16: =IF(OR(A16="",B16="",D16="",E16="",J16="",K16="Cancelled"),"",IF(SUMPRODUCT(--($A$6:$A$205<>A16),--($B$6:$B$205=B16),--($J$6:$J$205=J16),--($D$6:$D$205<=E16),--($E$6:$E$205>=D16),--($K$6:$K$205<>"Cancelled"))>0,"Yes","No")) | P16: =IF(COUNTA(A16:L16)=0,"",IF(OR(A16="",B16="",C16="",D16="",E16="",F16="",G16="",K16=""),"Missing required fields",IF(COUNTIF($A$6:$A$205,A16)>1,"Duplicate Event ID",IF(E16<D16,"End date before start date",IF(N16="Term not found","Term not found",IF(N16="Yes","Outside term",IF(O16="Yes","Owner conflict",IF(AND(E16<Dashboard!$B$4,K16<>"Completed",K16<>"Cancelled"),"Past event not completed",""))))))))
M17: =IF(OR(D17="",E17=""),"",IF(E17<D17,"",E17-D17+1)) | N17: =IF(OR(B17="",C17="",D17="",E17=""),"",IF(COUNTIFS('Academic Terms'!$A$6:$A$101,B17,'Academic Terms'!$B$6:$B$101,C17)<>1,"Term not found",IF(OR(D17<SUMIFS('Academic Terms'!$C$6:$C$101,'Academic Terms'!$A$6:$A$101,B17,'Academic Terms'!$B$6:$B$101,C17),E17>SUMIFS('Academic Terms'!$D$6:$D$101,'Academic Terms'!$A$6:$A$101,B17,'Academic Terms'!$B$6:$B$101,C17)),"Yes","No"))) | O17: =IF(OR(A17="",B17="",D17="",E17="",J17="",K17="Cancelled"),"",IF(SUMPRODUCT(--($A$6:$A$205<>A17),--($B$6:$B$205=B17),--($J$6:$J$205=J17),--($D$6:$D$205<=E17),--($E$6:$E$205>=D17),--($K$6:$K$205<>"Cancelled"))>0,"Yes","No")) | P17: =IF(COUNTA(A17:L17)=0,"",IF(OR(A17="",B17="",C17="",D17="",E17="",F17="",G17="",K17=""),"Missing required fields",IF(COUNTIF($A$6:$A$205,A17)>1,"Duplicate Event ID",IF(E17<D17,"End date before start date",IF(N17="Term not found","Term not found",IF(N17="Yes","Outside term",IF(O17="Yes","Owner conflict",IF(AND(E17<Dashboard!$B$4,K17<>"Completed",K17<>"Cancelled"),"Past event not completed",""))))))))
M18: =IF(OR(D18="",E18=""),"",IF(E18<D18,"",E18-D18+1)) | N18: =IF(OR(B18="",C18="",D18="",E18=""),"",IF(COUNTIFS('Academic Terms'!$A$6:$A$101,B18,'Academic Terms'!$B$6:$B$101,C18)<>1,"Term not found",IF(OR(D18<SUMIFS('Academic Terms'!$C$6:$C$101,'Academic Terms'!$A$6:$A$101,B18,'Academic Terms'!$B$6:$B$101,C18),E18>SUMIFS('Academic Terms'!$D$6:$D$101,'Academic Terms'!$A$6:$A$101,B18,'Academic Terms'!$B$6:$B$101,C18)),"Yes","No"))) | O18: =IF(OR(A18="",B18="",D18="",E18="",J18="",K18="Cancelled"),"",IF(SUMPRODUCT(--($A$6:$A$205<>A18),--($B$6:$B$205=B18),--($J$6:$J$205=J18),--($D$6:$D$205<=E18),--($E$6:$E$205>=D18),--($K$6:$K$205<>"Cancelled"))>0,"Yes","No")) | P18: =IF(COUNTA(A18:L18)=0,"",IF(OR(A18="",B18="",C18="",D18="",E18="",F18="",G18="",K18=""),"Missing required fields",IF(COUNTIF($A$6:$A$205,A18)>1,"Duplicate Event ID",IF(E18<D18,"End date before start date",IF(N18="Term not found","Term not found",IF(N18="Yes","Outside term",IF(O18="Yes","Owner conflict",IF(AND(E18<Dashboard!$B$4,K18<>"Completed",K18<>"Cancelled"),"Past event not completed",""))))))))
M19: =IF(OR(D19="",E19=""),"",IF(E19<D19,"",E19-D19+1)) | N19: =IF(OR(B19="",C19="",D19="",E19=""),"",IF(COUNTIFS('Academic Terms'!$A$6:$A$101,B19,'Academic Terms'!$B$6:$B$101,C19)<>1,"Term not found",IF(OR(D19<SUMIFS('Academic Terms'!$C$6:$C$101,'Academic Terms'!$A$6:$A$101,B19,'Academic Terms'!$B$6:$B$101,C19),E19>SUMIFS('Academic Terms'!$D$6:$D$101,'Academic Terms'!$A$6:$A$101,B19,'Academic Terms'!$B$6:$B$101,C19)),"Yes","No"))) | O19: =IF(OR(A19="",B19="",D19="",E19="",J19="",K19="Cancelled"),"",IF(SUMPRODUCT(--($A$6:$A$205<>A19),--($B$6:$B$205=B19),--($J$6:$J$205=J19),--($D$6:$D$205<=E19),--($E$6:$E$205>=D19),--($K$6:$K$205<>"Cancelled"))>0,"Yes","No")) | P19: =IF(COUNTA(A19:L19)=0,"",IF(OR(A19="",B19="",C19="",D19="",E19="",F19="",G19="",K19=""),"Missing required fields",IF(COUNTIF($A$6:$A$205,A19)>1,"Duplicate Event ID",IF(E19<D19,"End date before start date",IF(N19="Term not found","Term not found",IF(N19="Yes","Outside term",IF(O19="Yes","Owner conflict",IF(AND(E19<Dashboard!$B$4,K19<>"Completed",K19<>"Cancelled"),"Past event not completed",""))))))))
M20: =IF(OR(D20="",E20=""),"",IF(E20<D20,"",E20-D20+1)) | N20: =IF(OR(B20="",C20="",D20="",E20=""),"",IF(COUNTIFS('Academic Terms'!$A$6:$A$101,B20,'Academic Terms'!$B$6:$B$101,C20)<>1,"Term not found",IF(OR(D20<SUMIFS('Academic Terms'!$C$6:$C$101,'Academic Terms'!$A$6:$A$101,B20,'Academic Terms'!$B$6:$B$101,C20),E20>SUMIFS('Academic Terms'!$D$6:$D$101,'Academic Terms'!$A$6:$A$101,B20,'Academic Terms'!$B$6:$B$101,C20)),"Yes","No"))) | O20: =IF(OR(A20="",B20="",D20="",E20="",J20="",K20="Cancelled"),"",IF(SUMPRODUCT(--($A$6:$A$205<>A20),--($B$6:$B$205=B20),--($J$6:$J$205=J20),--($D$6:$D$205<=E20),--($E$6:$E$205>=D20),--($K$6:$K$205<>"Cancelled"))>0,"Yes","No")) | P20: =IF(COUNTA(A20:L20)=0,"",IF(OR(A20="",B20="",C20="",D20="",E20="",F20="",G20="",K20=""),"Missing required fields",IF(COUNTIF($A$6:$A$205,A20)>1,"Duplicate Event ID",IF(E20<D20,"End date before start date",IF(N20="Term not found","Term not found",IF(N20="Yes","Outside term",IF(O20="Yes","Owner conflict",IF(AND(E20<Dashboard!$B$4,K20<>"Completed",K20<>"Cancelled"),"Past event not completed",""))))))))
M21: =IF(OR(D21="",E21=""),"",IF(E21<D21,"",E21-D21+1)) | N21: =IF(OR(B21="",C21="",D21="",E21=""),"",IF(COUNTIFS('Academic Terms'!$A$6:$A$101,B21,'Academic Terms'!$B$6:$B$101,C21)<>1,"Term not found",IF(OR(D21<SUMIFS('Academic Terms'!$C$6:$C$101,'Academic Terms'!$A$6:$A$101,B21,'Academic Terms'!$B$6:$B$101,C21),E21>SUMIFS('Academic Terms'!$D$6:$D$101,'Academic Terms'!$A$6:$A$101,B21,'Academic Terms'!$B$6:$B$101,C21)),"Yes","No"))) | O21: =IF(OR(A21="",B21="",D21="",E21="",J21="",K21="Cancelled"),"",IF(SUMPRODUCT(--($A$6:$A$205<>A21),--($B$6:$B$205=B21),--($J$6:$J$205=J21),--($D$6:$D$205<=E21),--($E$6:$E$205>=D21),--($K$6:$K$205<>"Cancelled"))>0,"Yes","No")) | P21: =IF(COUNTA(A21:L21)=0,"",IF(OR(A21="",B21="",C21="",D21="",E21="",F21="",G21="",K21=""),"Missing required fields",IF(COUNTIF($A$6:$A$205,A21)>1,"Duplicate Event ID",IF(E21<D21,"End date before start date",IF(N21="Term not found","Term not found",IF(N21="Yes","Outside term",IF(O21="Yes","Owner conflict",IF(AND(E21<Dashboard!$B$4,K21<>"Completed",K21<>"Cancelled"),"Past event not completed",""))))))))
M22: =IF(OR(D22="",E22=""),"",IF(E22<D22,"",E22-D22+1)) | N22: =IF(OR(B22="",C22="",D22="",E22=""),"",IF(COUNTIFS('Academic Terms'!$A$6:$A$101,B22,'Academic Terms'!$B$6:$B$101,C22)<>1,"Term not found",IF(OR(D22<SUMIFS('Academic Terms'!$C$6:$C$101,'Academic Terms'!$A$6:$A$101,B22,'Academic Terms'!$B$6:$B$101,C22),E22>SUMIFS('Academic Terms'!$D$6:$D$101,'Academic Terms'!$A$6:$A$101,B22,'Academic Terms'!$B$6:$B$101,C22)),"Yes","No"))) | O22: =IF(OR(A22="",B22="",D22="",E22="",J22="",K22="Cancelled"),"",IF(SUMPRODUCT(--($A$6:$A$205<>A22),--($B$6:$B$205=B22),--($J$6:$J$205=J22),--($D$6:$D$205<=E22),--($E$6:$E$205>=D22),--($K$6:$K$205<>"Cancelled"))>0,"Yes","No")) | P22: =IF(COUNTA(A22:L22)=0,"",IF(OR(A22="",B22="",C22="",D22="",E22="",F22="",G22="",K22=""),"Missing required fields",IF(COUNTIF($A$6:$A$205,A22)>1,"Duplicate Event ID",IF(E22<D22,"End date before start date",IF(N22="Term not found","Term not found",IF(N22="Yes","Outside term",IF(O22="Yes","Owner conflict",IF(AND(E22<Dashboard!$B$4,K22<>"Completed",K22<>"Cancelled"),"Past event not completed",""))))))))
M23: =IF(OR(D23="",E23=""),"",IF(E23<D23,"",E23-D23+1)) | N23: =IF(OR(B23="",C23="",D23="",E23=""),"",IF(COUNTIFS('Academic Terms'!$A$6:$A$101,B23,'Academic Terms'!$B$6:$B$101,C23)<>1,"Term not found",IF(OR(D23<SUMIFS('Academic Terms'!$C$6:$C$101,'Academic Terms'!$A$6:$A$101,B23,'Academic Terms'!$B$6:$B$101,C23),E23>SUMIFS('Academic Terms'!$D$6:$D$101,'Academic Terms'!$A$6:$A$101,B23,'Academic Terms'!$B$6:$B$101,C23)),"Yes","No"))) | O23: =IF(OR(A23="",B23="",D23="",E23="",J23="",K23="Cancelled"),"",IF(SUMPRODUCT(--($A$6:$A$205<>A23),--($B$6:$B$205=B23),--($J$6:$J$205=J23),--($D$6:$D$205<=E23),--($E$6:$E$205>=D23),--($K$6:$K$205<>"Cancelled"))>0,"Yes","No")) | P23: =IF(COUNTA(A23:L23)=0,"",IF(OR(A23="",B23="",C23="",D23="",E23="",F23="",G23="",K23=""),"Missing required fields",IF(COUNTIF($A$6:$A$205,A23)>1,"Duplicate Event ID",IF(E23<D23,"End date before start date",IF(N23="Term not found","Term not found",IF(N23="Yes","Outside term",IF(O23="Yes","Owner conflict",IF(AND(E23<Dashboard!$B$4,K23<>"Completed",K23<>"Cancelled"),"Past event not completed",""))))))))
M24: =IF(OR(D24="",E24=""),"",IF(E24<D24,"",E24-D24+1)) | N24: =IF(OR(B24="",C24="",D24="",E24=""),"",IF(COUNTIFS('Academic Terms'!$A$6:$A$101,B24,'Academic Terms'!$B$6:$B$101,C24)<>1,"Term not found",IF(OR(D24<SUMIFS('Academic Terms'!$C$6:$C$101,'Academic Terms'!$A$6:$A$101,B24,'Academic Terms'!$B$6:$B$101,C24),E24>SUMIFS('Academic Terms'!$D$6:$D$101,'Academic Terms'!$A$6:$A$101,B24,'Academic Terms'!$B$6:$B$101,C24)),"Yes","No"))) | O24: =IF(OR(A24="",B24="",D24="",E24="",J24="",K24="Cancelled"),"",IF(SUMPRODUCT(--($A$6:$A$205<>A24),--($B$6:$B$205=B24),--($J$6:$J$205=J24),--($D$6:$D$205<=E24),--($E$6:$E$205>=D24),--($K$6:$K$205<>"Cancelled"))>0,"Yes","No")) | P24: =IF(COUNTA(A24:L24)=0,"",IF(OR(A24="",B24="",C24="",D24="",E24="",F24="",G24="",K24=""),"Missing required fields",IF(COUNTIF($A$6:$A$205,A24)>1,"Duplicate Event ID",IF(E24<D24,"End date before start date",IF(N24="Term not found","Term not found",IF(N24="Yes","Outside term",IF(O24="Yes","Owner conflict",IF(AND(E24<Dashboard!$B$4,K24<>"Completed",K24<>"Cancelled"),"Past event not completed",""))))))))
M25: =IF(OR(D25="",E25=""),"",IF(E25<D25,"",E25-D25+1)) | N25: =IF(OR(B25="",C25="",D25="",E25=""),"",IF(COUNTIFS('Academic Terms'!$A$6:$A$101,B25,'Academic Terms'!$B$6:$B$101,C25)<>1,"Term not found",IF(OR(D25<SUMIFS('Academic Terms'!$C$6:$C$101,'Academic Terms'!$A$6:$A$101,B25,'Academic Terms'!$B$6:$B$101,C25),E25>SUMIFS('Academic Terms'!$D$6:$D$101,'Academic Terms'!$A$6:$A$101,B25,'Academic Terms'!$B$6:$B$101,C25)),"Yes","No"))) | O25: =IF(OR(A25="",B25="",D25="",E25="",J25="",K25="Cancelled"),"",IF(SUMPRODUCT(--($A$6:$A$205<>A25),--($B$6:$B$205=B25),--($J$6:$J$205=J25),--($D$6:$D$205<=E25),--($E$6:$E$205>=D25),--($K$6:$K$205<>"Cancelled"))>0,"Yes","No")) | P25: =IF(COUNTA(A25:L25)=0,"",IF(OR(A25="",B25="",C25="",D25="",E25="",F25="",G25="",K25=""),"Missing required fields",IF(COUNTIF($A$6:$A$205,A25)>1,"Duplicate Event ID",IF(E25<D25,"End date before start date",IF(N25="Term not found","Term not found",IF(N25="Yes","Outside term",IF(O25="Yes","Owner conflict",IF(AND(E25<Dashboard!$B$4,K25<>"Completed",K25<>"Cancelled"),"Past event not completed",""))))))))
M26: =IF(OR(D26="",E26=""),"",IF(E26<D26,"",E26-D26+1)) | N26: =IF(OR(B26="",C26="",D26="",E26=""),"",IF(COUNTIFS('Academic Terms'!$A$6:$A$101,B26,'Academic Terms'!$B$6:$B$101,C26)<>1,"Term not found",IF(OR(D26<SUMIFS('Academic Terms'!$C$6:$C$101,'Academic Terms'!$A$6:$A$101,B26,'Academic Terms'!$B$6:$B$101,C26),E26>SUMIFS('Academic Terms'!$D$6:$D$101,'Academic Terms'!$A$6:$A$101,B26,'Academic Terms'!$B$6:$B$101,C26)),"Yes","No"))) | O26: =IF(OR(A26="",B26="",D26="",E26="",J26="",K26="Cancelled"),"",IF(SUMPRODUCT(--($A$6:$A$205<>A26),--($B$6:$B$205=B26),--($J$6:$J$205=J26),--($D$6:$D$205<=E26),--($E$6:$E$205>=D26),--($K$6:$K$205<>"Cancelled"))>0,"Yes","No")) | P26: =IF(COUNTA(A26:L26)=0,"",IF(OR(A26="",B26="",C26="",D26="",E26="",F26="",G26="",K26=""),"Missing required fields",IF(COUNTIF($A$6:$A$205,A26)>1,"Duplicate Event ID",IF(E26<D26,"End date before start date",IF(N26="Term not found","Term not found",IF(N26="Yes","Outside term",IF(O26="Yes","Owner conflict",IF(AND(E26<Dashboard!$B$4,K26<>"Completed",K26<>"Cancelled"),"Past event not completed",""))))))))
M27: =IF(OR(D27="",E27=""),"",IF(E27<D27,"",E27-D27+1)) | N27: =IF(OR(B27="",C27="",D27="",E27=""),"",IF(COUNTIFS('Academic Terms'!$A$6:$A$101,B27,'Academic Terms'!$B$6:$B$101,C27)<>1,"Term not found",IF(OR(D27<SUMIFS('Academic Terms'!$C$6:$C$101,'Academic Terms'!$A$6:$A$101,B27,'Academic Terms'!$B$6:$B$101,C27),E27>SUMIFS('Academic Terms'!$D$6:$D$101,'Academic Terms'!$A$6:$A$101,B27,'Academic Terms'!$B$6:$B$101,C27)),"Yes","No"))) | O27: =IF(OR(A27="",B27="",D27="",E27="",J27="",K27="Cancelled"),"",IF(SUMPRODUCT(--($A$6:$A$205<>A27),--($B$6:$B$205=B27),--($J$6:$J$205=J27),--($D$6:$D$205<=E27),--($E$6:$E$205>=D27),--($K$6:$K$205<>"Cancelled"))>0,"Yes","No")) | P27: =IF(COUNTA(A27:L27)=0,"",IF(OR(A27="",B27="",C27="",D27="",E27="",F27="",G27="",K27=""),"Missing required fields",IF(COUNTIF($A$6:$A$205,A27)>1,"Duplicate Event ID",IF(E27<D27,"End date before start date",IF(N27="Term not found","Term not found",IF(N27="Yes","Outside term",IF(O27="Yes","Owner conflict",IF(AND(E27<Dashboard!$B$4,K27<>"Completed",K27<>"Cancelled"),"Past event not completed",""))))))))
... M205: =IF(OR(D205="",E205=""),"",IF(E205<D205,"",E205-D205+1)) | N205: =IF(OR(B205="",C205="",D205="",E205=""),"",IF(COUNTIFS('Academic Terms'!$A$6:$A$101,B205,'Academic Terms'!$B$6:$B$101,C205)<>1,"Term not found",IF(OR(D205<SUMIFS('Academic Terms'!$C$6:$C$101,'Academic Terms'!$A$6:$A$101,B205,'Academic Terms'!$B$6:$B$101,C205),E205>SUMIFS('Academic Terms'!$D$6:$D$101,'Academic Terms'!$A$6:$A$101,B205,'Academic Terms'!$B$6:$B$101,C205)),"Yes","No"))) | O205: =IF(OR(A205="",B205="",D205="",E205="",J205="",K205="Cancelled"),"",IF(SUMPRODUCT(--($A$6:$A$205<>A205),--($B$6:$B$205=B205),--($J$6:$J$205=J205),--($D$6:$D$205<=E205),--($E$6:$E$205>=D205),--($K$6:$K$205<>"Cancelled"))>0,"Yes","No")) | P205: =IF(COUNTA(A205:L205)=0,"",IF(OR(A205="",B205="",C205="",D205="",E205="",F205="",G205="",K205=""),"Missing required fields",IF(COUNTIF($A$6:$A$205,A205)>1,"Duplicate Event ID",IF(E205<D205,"End date before start date",IF(N205="Term not found","Term not found",IF(N205="Yes","Outside term",IF(O205="Yes","Owner conflict",IF(AND(E205<Dashboard!$B$4,K205<>"Completed",K205<>"Cancelled"),"Past event not completed",""))))))))

Sheet Academic Terms
A1: Academic Terms
A2: Define each academic term once. Term names should be unique within an academic year.
A5: Academic Year | B5: Term Name | C5: Term Start Date | D5: Term End Date | E5: Instruction Start Date | F5: Instruction End Date | G5: Term Status | H5: Notes | I5: Term Days | J5: Review Alert
A6: 2026-2027 | B6: Fall Term | C6: 46258 | D6: 46374 | E6: 46258 | F6: 46367 | G6: Published | H6: Main fall academic term. | I6: =IF(OR(C6="",D6=""),"",IF(D6<C6,"",D6-C6+1)) | J6: =IF(COUNTA(A6:H6)=0,"",IF(OR(A6="",B6="",C6="",D6="",G6=""),"Missing required fields",IF(COUNTIFS($A$6:$A$101,A6,$B$6:$B$101,B6)>1,"Duplicate term",IF(D6<C6,"Term end before start",IF(AND(OR(E6<>"",F6<>""),OR(E6="",F6="")),"Complete both instruction dates",IF(AND(E6<>"",F6<>"",F6<E6),"Instruction end before start",IF(AND(E6<>"",F6<>"",OR(E6<C6,F6>D6)),"Instruction dates outside term","")))))))
A7: 2026-2027 | B7: Winter Term | C7: 46391 | D7: 46465 | E7: 46391 | F7: 46458 | G7: Published | H7: Main winter academic term. | I7: =IF(OR(C7="",D7=""),"",IF(D7<C7,"",D7-C7+1)) | J7: =IF(COUNTA(A7:H7)=0,"",IF(OR(A7="",B7="",C7="",D7="",G7=""),"Missing required fields",IF(COUNTIFS($A$6:$A$101,A7,$B$6:$B$101,B7)>1,"Duplicate term",IF(D7<C7,"Term end before start",IF(AND(OR(E7<>"",F7<>""),OR(E7="",F7="")),"Complete both instruction dates",IF(AND(E7<>"",F7<>"",F7<E7),"Instruction end before start",IF(AND(E7<>"",F7<>"",OR(E7<C7,F7>D7)),"Instruction dates outside term","")))))))
A8: 2026-2027 | B8: Spring Term | C8: 46475 | D8: 46549 | E8: 46475 | F8: 46542 | G8: Planning | H8: Main spring academic term. | I8: =IF(OR(C8="",D8=""),"",IF(D8<C8,"",D8-C8+1)) | J8: =IF(COUNTA(A8:H8)=0,"",IF(OR(A8="",B8="",C8="",D8="",G8=""),"Missing required fields",IF(COUNTIFS($A$6:$A$101,A8,$B$6:$B$101,B8)>1,"Duplicate term",IF(D8<C8,"Term end before start",IF(AND(OR(E8<>"",F8<>""),OR(E8="",F8="")),"Complete both instruction dates",IF(AND(E8<>"",F8<>"",F8<E8),"Instruction end before start",IF(AND(E8<>"",F8<>"",OR(E8<C8,F8>D8)),"Instruction dates outside term","")))))))
A9: 2026-2027 | B9: Summer Term | C9: 46559 | D9: 46612 | E9: 46559 | F9: 46605 | G9: Planning | H9: Main summer academic term. | I9: =IF(OR(C9="",D9=""),"",IF(D9<C9,"",D9-C9+1)) | J9: =IF(COUNTA(A9:H9)=0,"",IF(OR(A9="",B9="",C9="",D9="",G9=""),"Missing required fields",IF(COUNTIFS($A$6:$A$101,A9,$B$6:$B$101,B9)>1,"Duplicate term",IF(D9<C9,"Term end before start",IF(AND(OR(E9<>"",F9<>""),OR(E9="",F9="")),"Complete both instruction dates",IF(AND(E9<>"",F9<>"",F9<E9),"Instruction end before start",IF(AND(E9<>"",F9<>"",OR(E9<C9,F9>D9)),"Instruction dates outside term","")))))))
I10: =IF(OR(C10="",D10=""),"",IF(D10<C10,"",D10-C10+1)) | J10: =IF(COUNTA(A10:H10)=0,"",IF(OR(A10="",B10="",C10="",D10="",G10=""),"Missing required fields",IF(COUNTIFS($A$6:$A$101,A10,$B$6:$B$101,B10)>1,"Duplicate term",IF(D10<C10,"Term end before start",IF(AND(OR(E10<>"",F10<>""),OR(E10="",F10="")),"Complete both instruction dates",IF(AND(E10<>"",F10<>"",F10<E10),"Instruction end before start",IF(AND(E10<>"",F10<>"",OR(E10<C10,F10>D10)),"Instruction dates outside term","")))))))
I11: =IF(OR(C11="",D11=""),"",IF(D11<C11,"",D11-C11+1)) | J11: =IF(COUNTA(A11:H11)=0,"",IF(OR(A11="",B11="",C11="",D11="",G11=""),"Missing required fields",IF(COUNTIFS($A$6:$A$101,A11,$B$6:$B$101,B11)>1,"Duplicate term",IF(D11<C11,"Term end before start",IF(AND(OR(E11<>"",F11<>""),OR(E11="",F11="")),"Complete both instruction dates",IF(AND(E11<>"",F11<>"",F11<E11),"Instruction end before start",IF(AND(E11<>"",F11<>"",OR(E11<C11,F11>D11)),"Instruction dates outside term","")))))))
