Workbook

Sheet Dashboard
A1: Add, Drop, and Withdrawal Dashboard
A2: Operational view of request volume, deadlines, approvals, and completion
A3: As of Date | B3: =Settings!$B$3
A5: Total Requests | D5: Open Requests | G5: Past Deadline - Open | J5: Due Within 3 Days | M5: Awaiting Approval
A6: =COUNTIF(tblRequests[Request ID],"<>") | D6: =COUNTIFS(tblRequests[Request ID],"<>",tblRequests[Open or Closed],"Open") | G6: =COUNTIFS(tblRequests[Alert],"Past Deadline - Open") | J6: =COUNTIFS(tblRequests[Alert],"Due Within 3 Days") | M6: =COUNTIFS(tblRequests[Status],"Awaiting Approval")
A8: Approved, Not Completed | D8: Completed Requests | G8: On-Time Submission Rate | J8: Average Days Open | M8: Records Needing Data Review
A9: =COUNTIFS(tblRequests[Status],"Approved",tblRequests[Completed Date],"") | D9: =COUNTIFS(tblRequests[Status],"Completed") | G9: =IFERROR(COUNTIFS(tblRequests[Submission Timing],"Submitted On Time")/(COUNTIFS(tblRequests[Submission Timing],"Submitted On Time")+COUNTIFS(tblRequests[Submission Timing],"Submitted Late")),"") | J9: =IFERROR(AVERAGEIFS(tblRequests[Request Age],tblRequests[Open or Closed],"Open"),"") | M9: =COUNTIFS(tblRequests[Alert],"Missing Required Field")+COUNTIFS(tblRequests[Alert],"Deadline Missing")+COUNTIFS(tblRequests[Alert],"Approval Mismatch")+COUNTIFS(tblRequests[Alert],"Closed Date Missing")
A13: Request Type | B13: Total | C13: Open | D13: Completed | F13: Status | G13: Count | J13: Alert | K13: Count
A14: Add | B14: =COUNTIFS(tblRequests[Request Type],$A14,tblRequests[Request ID],"<>") | C14: =COUNTIFS(tblRequests[Request Type],$A14,tblRequests[Open or Closed],"Open") | D14: =COUNTIFS(tblRequests[Request Type],$A14,tblRequests[Status],"Completed") | F14: Submitted | G14: =COUNTIFS(tblRequests[Status],F14,tblRequests[Request ID],"<>") | J14: Past Deadline - Open | K14: =COUNTIFS(tblRequests[Alert],J14)
A15: Drop | B15: =COUNTIFS(tblRequests[Request Type],$A15,tblRequests[Request ID],"<>") | C15: =COUNTIFS(tblRequests[Request Type],$A15,tblRequests[Open or Closed],"Open") | D15: =COUNTIFS(tblRequests[Request Type],$A15,tblRequests[Status],"Completed") | F15: Under Review | G15: =COUNTIFS(tblRequests[Status],F15,tblRequests[Request ID],"<>") | J15: Due Within 3 Days | K15: =COUNTIFS(tblRequests[Alert],J15)
A16: Withdrawal | B16: =COUNTIFS(tblRequests[Request Type],$A16,tblRequests[Request ID],"<>") | C16: =COUNTIFS(tblRequests[Request Type],$A16,tblRequests[Open or Closed],"Open") | D16: =COUNTIFS(tblRequests[Request Type],$A16,tblRequests[Status],"Completed") | F16: Awaiting Approval | G16: =COUNTIFS(tblRequests[Status],F16,tblRequests[Request ID],"<>") | J16: Approved - Complete Processing | K16: =COUNTIFS(tblRequests[Alert],J16)
B17: ="" | C17: ="" | D17: ="" | F17: Approved | G17: =COUNTIFS(tblRequests[Status],F17,tblRequests[Request ID],"<>") | J17: Missing Required Field | K17: =COUNTIFS(tblRequests[Alert],J17)
B18: ="" | C18: ="" | D18: ="" | F18: Completed | G18: =COUNTIFS(tblRequests[Status],F18,tblRequests[Request ID],"<>") | J18: Deadline Missing | K18: =COUNTIFS(tblRequests[Alert],J18)
B19: ="" | C19: ="" | D19: ="" | F19: Denied | G19: =COUNTIFS(tblRequests[Status],F19,tblRequests[Request ID],"<>") | J19: Approval Mismatch | K19: =COUNTIFS(tblRequests[Alert],J19)
B20: ="" | C20: ="" | D20: ="" | F20: Canceled | G20: =COUNTIFS(tblRequests[Status],F20,tblRequests[Request ID],"<>") | J20: Closed Date Missing | K20: =COUNTIFS(tblRequests[Alert],J20)
B21: ="" | C21: ="" | D21: ="" | G21: ="" | K21: =""
B22: ="" | C22: ="" | D22: ="" | G22: ="" | K22: =""
B23: ="" | C23: ="" | D23: ="" | G23: ="" | K23: =""
B24: ="" | C24: ="" | D24: ="" | G24: ="" | K24: =""
B25: ="" | C25: ="" | D25: ="" | G25: ="" | K25: =""
B26: ="" | C26: ="" | D26: ="" | G26: ="" | K26: =""
B27: ="" | C27: ="" | D27: ="" | G27: ="" | K27: =""
B28: ="" | C28: ="" | D28: ="" | G28: ="" | K28: =""
B29: ="" | C29: ="" | D29: ="" | G29: ="" | K29: =""
B30: ="" | C30: ="" | D30: ="" | G30: ="" | K30: =""
B31: ="" | C31: ="" | D31: ="" | G31: ="" | K31: =""
B32: ="" | C32: ="" | D32: ="" | G32: ="" | K32: =""
... B101: ="" | C101: ="" | D101: ="" | G101: ="" | K101: =""

Sheet Request Log
A1: Add, Drop, and Withdrawal Request Log
A2: Enter one row per request. Gold cells are editable; gray cells are calculated.
A4: Request ID | B4: Learner Reference | C4: Request Date | D4: Term | E4: Course Code | F4: Section | G4: Request Type | H4: Requested Effective Date | I4: Reason Category | J4: Submitted By | K4: Approval Required | L4: Approval Status | M4: Status | N4: Assigned To | O4: Completed Date | P4: Resolution Note | Q4: Applicable Deadline | R4: Submission Timing | S4: Days to Deadline | T4: Request Age | U4: Open or Closed | V4: Next Action | W4: Alert | X4: Required Fields Check | Y4: Duplicate Check | Z4: Record Review
A5: ADR-2026-0001 | B5: LRN-1042 | C5: 46258 | D5: Fall 2026 | E5: COM-110 | F5: 01 | G5: Add | H5: 46259 | I5: Program Change | J5: Advisor | K5: No | L5: Not Required | M5: Completed | N5: Avery Collins | O5: 46260 | P5: Added to requested section. | Q5: =IF(OR([@Term]="",[@[Request Type]]=""),"",IF(COUNTIFS(tblDeadlines[Term],[@Term],tblDeadlines[Request Type],[@[Request Type]])=0,"",SUMIFS(tblDeadlines[Deadline],tblDeadlines[Term],[@Term],tblDeadlines[Request Type],[@[Request Type]]))) | R5: =IF([@[Request ID]]="","",IF(OR([@[Request Date]]="",[@[Applicable Deadline]]=""),"",IF([@[Request Date]]<=[@[Applicable Deadline]],"Submitted On Time","Submitted Late"))) | S5: =IF(OR([@[Request ID]]="",[@[Applicable Deadline]]=""),"",[@[Applicable Deadline]]-Settings!$B$3) | T5: =IF(OR([@[Request ID]]="",[@[Request Date]]=""),"",MAX(0,IF([@[Completed Date]]<>"",[@[Completed Date]],Settings!$B$3)-[@[Request Date]])) | U5: =IF([@[Request ID]]="","",IF(OR([@Status]="Completed",[@Status]="Denied",[@Status]="Canceled"),"Closed",IF([@Status]="","","Open"))) | V5: =IF([@[Request ID]]="","",IF([@Status]="","Enter status",IF([@Status]="Submitted","Assign and review request",IF([@Status]="Under Review","Complete eligibility and deadline review",IF([@Status]="Awaiting Approval","Obtain required approval",IF([@Status]="Approved","Complete processing and enter completion date",IF([@Status]="Completed","No action required",IF([@Status]="Denied","No action required",IF([@Status]="Canceled","No action required","Review record"))))))))) | W5: =IF([@[Request ID]]="","",IF([@[Required Fields Check]]<>"Complete","Missing Required Field",IF([@[Applicable Deadline]]="","Deadline Missing",IF(AND([@[Approval Required]]="Yes",OR([@[Approval Status]]="",[@[Approval Status]]="Not Required"),OR([@Status]="Approved",[@Status]="Completed")),"Approval Mismatch",IF(AND([@[Open or Closed]]="Closed",[@[Completed Date]]=""),"Closed Date Missing",IF(AND([@Status]="Approved",[@[Completed Date]]=""),"Approved - Complete Processing",IF(AND([@[Open or Closed]]="Open",[@[Applicable Deadline]]<Settings!$B$3),"Past Deadline - Open",IF(AND([@[Open or Closed]]="Open",[@[Applicable Deadline]]>=Settings!$B$3,[@[Applicable Deadline]]<=Settings!$B$3+3),"Due Within 3 Days","")))))))) | X5: =IF([@[Request ID]]="","",IF(OR([@[Learner Reference]]="",[@[Request Date]]="",[@Term]="",[@[Course Code]]="",[@Section]="",[@[Request Type]]="",[@[Submitted By]]="",[@[Approval Required]]="",[@Status]="",AND([@[Approval Required]]="Yes",OR([@[Approval Status]]="",[@[Approval Status]]="Not Required"))),"Incomplete","Complete")) | Y5: =IF([@[Request ID]]="","",IF(COUNTIF(tblRequests[Request ID],[@[Request ID]])>1,"Duplicate Request ID","Unique")) | Z5: =IF([@[Request ID]]="","",IF([@[Duplicate Check]]="Duplicate Request ID","Review Duplicate ID",IF([@[Required Fields Check]]="Incomplete","Review Missing Fields",IF(AND([@[Completed Date]]<>"",[@[Request Date]]<>"",[@[Completed Date]]<[@[Request Date]]),"Review Date Order",IF(AND([@[Requested Effective Date]]<>"",[@[Request Date]]<>"",[@[Requested Effective Date]]<[@[Request Date]]-30),"Review Effective Date",IF([@Alert]<>"",[@Alert],"Ready"))))))
A6: ADR-2026-0002 | B6: LRN-1187 | C6: 46263 | D6: Fall 2026 | E6: MAT-205 | F6: 02 | G6: Add | H6: 46265 | I6: Schedule Change | J6: Learner | K6: Yes | L6: Approved | M6: Completed | N6: Jordan Lee | O6: 46266 | P6: Late add reviewed and completed. | Q6: =IF(OR([@Term]="",[@[Request Type]]=""),"",IF(COUNTIFS(tblDeadlines[Term],[@Term],tblDeadlines[Request Type],[@[Request Type]])=0,"",SUMIFS(tblDeadlines[Deadline],tblDeadlines[Term],[@Term],tblDeadlines[Request Type],[@[Request Type]]))) | R6: =IF([@[Request ID]]="","",IF(OR([@[Request Date]]="",[@[Applicable Deadline]]=""),"",IF([@[Request Date]]<=[@[Applicable Deadline]],"Submitted On Time","Submitted Late"))) | S6: =IF(OR([@[Request ID]]="",[@[Applicable Deadline]]=""),"",[@[Applicable Deadline]]-Settings!$B$3) | T6: =IF(OR([@[Request ID]]="",[@[Request Date]]=""),"",MAX(0,IF([@[Completed Date]]<>"",[@[Completed Date]],Settings!$B$3)-[@[Request Date]])) | U6: =IF([@[Request ID]]="","",IF(OR([@Status]="Completed",[@Status]="Denied",[@Status]="Canceled"),"Closed",IF([@Status]="","","Open"))) | V6: =IF([@[Request ID]]="","",IF([@Status]="","Enter status",IF([@Status]="Submitted","Assign and review request",IF([@Status]="Under Review","Complete eligibility and deadline review",IF([@Status]="Awaiting Approval","Obtain required approval",IF([@Status]="Approved","Complete processing and enter completion date",IF([@Status]="Completed","No action required",IF([@Status]="Denied","No action required",IF([@Status]="Canceled","No action required","Review record"))))))))) | W6: =IF([@[Request ID]]="","",IF([@[Required Fields Check]]<>"Complete","Missing Required Field",IF([@[Applicable Deadline]]="","Deadline Missing",IF(AND([@[Approval Required]]="Yes",OR([@[Approval Status]]="",[@[Approval Status]]="Not Required"),OR([@Status]="Approved",[@Status]="Completed")),"Approval Mismatch",IF(AND([@[Open or Closed]]="Closed",[@[Completed Date]]=""),"Closed Date Missing",IF(AND([@Status]="Approved",[@[Completed Date]]=""),"Approved - Complete Processing",IF(AND([@[Open or Closed]]="Open",[@[Applicable Deadline]]<Settings!$B$3),"Past Deadline - Open",IF(AND([@[Open or Closed]]="Open",[@[Applicable Deadline]]>=Settings!$B$3,[@[Applicable Deadline]]<=Settings!$B$3+3),"Due Within 3 Days","")))))))) | X6: =IF([@[Request ID]]="","",IF(OR([@[Learner Reference]]="",[@[Request Date]]="",[@Term]="",[@[Course Code]]="",[@Section]="",[@[Request Type]]="",[@[Submitted By]]="",[@[Approval Required]]="",[@Status]="",AND([@[Approval Required]]="Yes",OR([@[Approval Status]]="",[@[Approval Status]]="Not Required"))),"Incomplete","Complete")) | Y6: =IF([@[Request ID]]="","",IF(COUNTIF(tblRequests[Request ID],[@[Request ID]])>1,"Duplicate Request ID","Unique")) | Z6: =IF([@[Request ID]]="","",IF([@[Duplicate Check]]="Duplicate Request ID","Review Duplicate ID",IF([@[Required Fields Check]]="Incomplete","Review Missing Fields",IF(AND([@[Completed Date]]<>"",[@[Request Date]]<>"",[@[Completed Date]]<[@[Request Date]]),"Review Date Order",IF(AND([@[Requested Effective Date]]<>"",[@[Request Date]]<>"",[@[Requested Effective Date]]<[@[Request Date]]-30),"Review Effective Date",IF([@Alert]<>"",[@Alert],"Ready"))))))
A7: ADR-2026-0003 | B7: LRN-1214 | C7: 46267 | D7: Fall 2026 | E7: BIO-140 | F7: 01 | G7: Drop | H7: 46267 | I7: Course Fit | J7: Learner | K7: No | L7: Not Required | M7: Completed | N7: Morgan Rivera | O7: 46268 | P7: Drop completed before deadline. | Q7: =IF(OR([@Term]="",[@[Request Type]]=""),"",IF(COUNTIFS(tblDeadlines[Term],[@Term],tblDeadlines[Request Type],[@[Request Type]])=0,"",SUMIFS(tblDeadlines[Deadline],tblDeadlines[Term],[@Term],tblDeadlines[Request Type],[@[Request Type]]))) | R7: =IF([@[Request ID]]="","",IF(OR([@[Request Date]]="",[@[Applicable Deadline]]=""),"",IF([@[Request Date]]<=[@[Applicable Deadline]],"Submitted On Time","Submitted Late"))) | S7: =IF(OR([@[Request ID]]="",[@[Applicable Deadline]]=""),"",[@[Applicable Deadline]]-Settings!$B$3) | T7: =IF(OR([@[Request ID]]="",[@[Request Date]]=""),"",MAX(0,IF([@[Completed Date]]<>"",[@[Completed Date]],Settings!$B$3)-[@[Request Date]])) | U7: =IF([@[Request ID]]="","",IF(OR([@Status]="Completed",[@Status]="Denied",[@Status]="Canceled"),"Closed",IF([@Status]="","","Open"))) | V7: =IF([@[Request ID]]="","",IF([@Status]="","Enter status",IF([@Status]="Submitted","Assign and review request",IF([@Status]="Under Review","Complete eligibility and deadline review",IF([@Status]="Awaiting Approval","Obtain required approval",IF([@Status]="Approved","Complete processing and enter completion date",IF([@Status]="Completed","No action required",IF([@Status]="Denied","No action required",IF([@Status]="Canceled","No action required","Review record"))))))))) | W7: =IF([@[Request ID]]="","",IF([@[Required Fields Check]]<>"Complete","Missing Required Field",IF([@[Applicable Deadline]]="","Deadline Missing",IF(AND([@[Approval Required]]="Yes",OR([@[Approval Status]]="",[@[Approval Status]]="Not Required"),OR([@Status]="Approved",[@Status]="Completed")),"Approval Mismatch",IF(AND([@[Open or Closed]]="Closed",[@[Completed Date]]=""),"Closed Date Missing",IF(AND([@Status]="Approved",[@[Completed Date]]=""),"Approved - Complete Processing",IF(AND([@[Open or Closed]]="Open",[@[Applicable Deadline]]<Settings!$B$3),"Past Deadline - Open",IF(AND([@[Open or Closed]]="Open",[@[Applicable Deadline]]>=Settings!$B$3,[@[Applicable Deadline]]<=Settings!$B$3+3),"Due Within 3 Days","")))))))) | X7: =IF([@[Request ID]]="","",IF(OR([@[Learner Reference]]="",[@[Request Date]]="",[@Term]="",[@[Course Code]]="",[@Section]="",[@[Request Type]]="",[@[Submitted By]]="",[@[Approval Required]]="",[@Status]="",AND([@[Approval Required]]="Yes",OR([@[Approval Status]]="",[@[Approval Status]]="Not Required"))),"Incomplete","Complete")) | Y7: =IF([@[Request ID]]="","",IF(COUNTIF(tblRequests[Request ID],[@[Request ID]])>1,"Duplicate Request ID","Unique")) | Z7: =IF([@[Request ID]]="","",IF([@[Duplicate Check]]="Duplicate Request ID","Review Duplicate ID",IF([@[Required Fields Check]]="Incomplete","Review Missing Fields",IF(AND([@[Completed Date]]<>"",[@[Request Date]]<>"",[@[Completed Date]]<[@[Request Date]]),"Review Date Order",IF(AND([@[Requested Effective Date]]<>"",[@[Request Date]]<>"",[@[Requested Effective Date]]<[@[Request Date]]-30),"Review Effective Date",IF([@Alert]<>"",[@Alert],"Ready"))))))
A8: ADR-2026-0004 | B8: LRN-1308 | C8: 46270 | D8: Fall 2026 | E8: HIS-215 | F8: ON1 | G8: Drop | H8: 46270 | I8: Work Conflict | J8: Advisor | K8: Yes | L8: Pending | M8: Awaiting Approval | N8: Casey Bennett | P8: Advisor approval pending. | Q8: =IF(OR([@Term]="",[@[Request Type]]=""),"",IF(COUNTIFS(tblDeadlines[Term],[@Term],tblDeadlines[Request Type],[@[Request Type]])=0,"",SUMIFS(tblDeadlines[Deadline],tblDeadlines[Term],[@Term],tblDeadlines[Request Type],[@[Request Type]]))) | R8: =IF([@[Request ID]]="","",IF(OR([@[Request Date]]="",[@[Applicable Deadline]]=""),"",IF([@[Request Date]]<=[@[Applicable Deadline]],"Submitted On Time","Submitted Late"))) | S8: =IF(OR([@[Request ID]]="",[@[Applicable Deadline]]=""),"",[@[Applicable Deadline]]-Settings!$B$3) | T8: =IF(OR([@[Request ID]]="",[@[Request Date]]=""),"",MAX(0,IF([@[Completed Date]]<>"",[@[Completed Date]],Settings!$B$3)-[@[Request Date]])) | U8: =IF([@[Request ID]]="","",IF(OR([@Status]="Completed",[@Status]="Denied",[@Status]="Canceled"),"Closed",IF([@Status]="","","Open"))) | V8: =IF([@[Request ID]]="","",IF([@Status]="","Enter status",IF([@Status]="Submitted","Assign and review request",IF([@Status]="Under Review","Complete eligibility and deadline review",IF([@Status]="Awaiting Approval","Obtain required approval",IF([@Status]="Approved","Complete processing and enter completion date",IF([@Status]="Completed","No action required",IF([@Status]="Denied","No action required",IF([@Status]="Canceled","No action required","Review record"))))))))) | W8: =IF([@[Request ID]]="","",IF([@[Required Fields Check]]<>"Complete","Missing Required Field",IF([@[Applicable Deadline]]="","Deadline Missing",IF(AND([@[Approval Required]]="Yes",OR([@[Approval Status]]="",[@[Approval Status]]="Not Required"),OR([@Status]="Approved",[@Status]="Completed")),"Approval Mismatch",IF(AND([@[Open or Closed]]="Closed",[@[Completed Date]]=""),"Closed Date Missing",IF(AND([@Status]="Approved",[@[Completed Date]]=""),"Approved - Complete Processing",IF(AND([@[Open or Closed]]="Open",[@[Applicable Deadline]]<Settings!$B$3),"Past Deadline - Open",IF(AND([@[Open or Closed]]="Open",[@[Applicable Deadline]]>=Settings!$B$3,[@[Applicable Deadline]]<=Settings!$B$3+3),"Due Within 3 Days","")))))))) | X8: =IF([@[Request ID]]="","",IF(OR([@[Learner Reference]]="",[@[Request Date]]="",[@Term]="",[@[Course Code]]="",[@Section]="",[@[Request Type]]="",[@[Submitted By]]="",[@[Approval Required]]="",[@Status]="",AND([@[Approval Required]]="Yes",OR([@[Approval Status]]="",[@[Approval Status]]="Not Required"))),"Incomplete","Complete")) | Y8: =IF([@[Request ID]]="","",IF(COUNTIF(tblRequests[Request ID],[@[Request ID]])>1,"Duplicate Request ID","Unique")) | Z8: =IF([@[Request ID]]="","",IF([@[Duplicate Check]]="Duplicate Request ID","Review Duplicate ID",IF([@[Required Fields Check]]="Incomplete","Review Missing Fields",IF(AND([@[Completed Date]]<>"",[@[Request Date]]<>"",[@[Completed Date]]<[@[Request Date]]),"Review Date Order",IF(AND([@[Requested Effective Date]]<>"",[@[Request Date]]<>"",[@[Requested Effective Date]]<[@[Request Date]]-30),"Review Effective Date",IF([@Alert]<>"",[@Alert],"Ready"))))))
A9: ADR-2026-0005 | B9: LRN-1361 | C9: 46271 | D9: Fall 2026 | E9: ENG-225 | F9: 03 | G9: Withdrawal | H9: 46271 | I9: Personal Circumstances | J9: Learner | K9: Yes | L9: Pending | M9: Under Review | N9: Taylor Brooks | P9: Initial review in progress. | Q9: =IF(OR([@Term]="",[@[Request Type]]=""),"",IF(COUNTIFS(tblDeadlines[Term],[@Term],tblDeadlines[Request Type],[@[Request Type]])=0,"",SUMIFS(tblDeadlines[Deadline],tblDeadlines[Term],[@Term],tblDeadlines[Request Type],[@[Request Type]]))) | R9: =IF([@[Request ID]]="","",IF(OR([@[Request Date]]="",[@[Applicable Deadline]]=""),"",IF([@[Request Date]]<=[@[Applicable Deadline]],"Submitted On Time","Submitted Late"))) | S9: =IF(OR([@[Request ID]]="",[@[Applicable Deadline]]=""),"",[@[Applicable Deadline]]-Settings!$B$3) | T9: =IF(OR([@[Request ID]]="",[@[Request Date]]=""),"",MAX(0,IF([@[Completed Date]]<>"",[@[Completed Date]],Settings!$B$3)-[@[Request Date]])) | U9: =IF([@[Request ID]]="","",IF(OR([@Status]="Completed",[@Status]="Denied",[@Status]="Canceled"),"Closed",IF([@Status]="","","Open"))) | V9: =IF([@[Request ID]]="","",IF([@Status]="","Enter status",IF([@Status]="Submitted","Assign and review request",IF([@Status]="Under Review","Complete eligibility and deadline review",IF([@Status]="Awaiting Approval","Obtain required approval",IF([@Status]="Approved","Complete processing and enter completion date",IF([@Status]="Completed","No action required",IF([@Status]="Denied","No action required",IF([@Status]="Canceled","No action required","Review record"))))))))) | W9: =IF([@[Request ID]]="","",IF([@[Required Fields Check]]<>"Complete","Missing Required Field",IF([@[Applicable Deadline]]="","Deadline Missing",IF(AND([@[Approval Required]]="Yes",OR([@[Approval Status]]="",[@[Approval Status]]="Not Required"),OR([@Status]="Approved",[@Status]="Completed")),"Approval Mismatch",IF(AND([@[Open or Closed]]="Closed",[@[Completed Date]]=""),"Closed Date Missing",IF(AND([@Status]="Approved",[@[Completed Date]]=""),"Approved - Complete Processing",IF(AND([@[Open or Closed]]="Open",[@[Applicable Deadline]]<Settings!$B$3),"Past Deadline - Open",IF(AND([@[Open or Closed]]="Open",[@[Applicable Deadline]]>=Settings!$B$3,[@[Applicable Deadline]]<=Settings!$B$3+3),"Due Within 3 Days","")))))))) | X9: =IF([@[Request ID]]="","",IF(OR([@[Learner Reference]]="",[@[Request Date]]="",[@Term]="",[@[Course Code]]="",[@Section]="",[@[Request Type]]="",[@[Submitted By]]="",[@[Approval Required]]="",[@Status]="",AND([@[Approval Required]]="Yes",OR([@[Approval Status]]="",[@[Approval Status]]="Not Required"))),"Incomplete","Complete")) | Y9: =IF([@[Request ID]]="","",IF(COUNTIF(tblRequests[Request ID],[@[Request ID]])>1,"Duplicate Request ID","Unique")) | Z9: =IF([@[Request ID]]="","",IF([@[Duplicate Check]]="Duplicate Request ID","Review Duplicate ID",IF([@[Required Fields Check]]="Incomplete","Review Missing Fields",IF(AND([@[Completed Date]]<>"",[@[Request Date]]<>"",[@[Completed Date]]<[@[Request Date]]),"Review Date Order",IF(AND([@[Requested Effective Date]]<>"",[@[Request Date]]<>"",[@[Requested Effective Date]]<[@[Request Date]]-30),"Review Effective Date",IF([@Alert]<>"",[@Alert],"Ready"))))))
A10: ADR-2026-0006 | B10: LRN-1420 | C10: 46269 | D10: Fall 2026 | E10: TRN-150 | F10: HY1 | G10: Drop | H10: 46269 | I10: Schedule Change | J10: Program Office | K10: No | L10: Not Required | M10: Approved | N10: Avery Collins | P10: Ready for final processing. | Q10: =IF(OR([@Term]="",[@[Request Type]]=""),"",IF(COUNTIFS(tblDeadlines[Term],[@Term],tblDeadlines[Request Type],[@[Request Type]])=0,"",SUMIFS(tblDeadlines[Deadline],tblDeadlines[Term],[@Term],tblDeadlines[Request Type],[@[Request Type]]))) | R10: =IF([@[Request ID]]="","",IF(OR([@[Request Date]]="",[@[Applicable Deadline]]=""),"",IF([@[Request Date]]<=[@[Applicable Deadline]],"Submitted On Time","Submitted Late"))) | S10: =IF(OR([@[Request ID]]="",[@[Applicable Deadline]]=""),"",[@[Applicable Deadline]]-Settings!$B$3) | T10: =IF(OR([@[Request ID]]="",[@[Request Date]]=""),"",MAX(0,IF([@[Completed Date]]<>"",[@[Completed Date]],Settings!$B$3)-[@[Request Date]])) | U10: =IF([@[Request ID]]="","",IF(OR([@Status]="Completed",[@Status]="Denied",[@Status]="Canceled"),"Closed",IF([@Status]="","","Open"))) | V10: =IF([@[Request ID]]="","",IF([@Status]="","Enter status",IF([@Status]="Submitted","Assign and review request",IF([@Status]="Under Review","Complete eligibility and deadline review",IF([@Status]="Awaiting Approval","Obtain required approval",IF([@Status]="Approved","Complete processing and enter completion date",IF([@Status]="Completed","No action required",IF([@Status]="Denied","No action required",IF([@Status]="Canceled","No action required","Review record"))))))))) | W10: =IF([@[Request ID]]="","",IF([@[Required Fields Check]]<>"Complete","Missing Required Field",IF([@[Applicable Deadline]]="","Deadline Missing",IF(AND([@[Approval Required]]="Yes",OR([@[Approval Status]]="",[@[Approval Status]]="Not Required"),OR([@Status]="Approved",[@Status]="Completed")),"Approval Mismatch",IF(AND([@[Open or Closed]]="Closed",[@[Completed Date]]=""),"Closed Date Missing",IF(AND([@Status]="Approved",[@[Completed Date]]=""),"Approved - Complete Processing",IF(AND([@[Open or Closed]]="Open",[@[Applicable Deadline]]<Settings!$B$3),"Past Deadline - Open",IF(AND([@[Open or Closed]]="Open",[@[Applicable Deadline]]>=Settings!$B$3,[@[Applicable Deadline]]<=Settings!$B$3+3),"Due Within 3 Days","")))))))) | X10: =IF([@[Request ID]]="","",IF(OR([@[Learner Reference]]="",[@[Request Date]]="",[@Term]="",[@[Course Code]]="",[@Section]="",[@[Request Type]]="",[@[Submitted By]]="",[@[Approval Required]]="",[@Status]="",AND([@[Approval Required]]="Yes",OR([@[Approval Status]]="",[@[Approval Status]]="Not Required"))),"Incomplete","Complete")) | Y10: =IF([@[Request ID]]="","",IF(COUNTIF(tblRequests[Request ID],[@[Request ID]])>1,"Duplicate Request ID","Unique")) | Z10: =IF([@[Request ID]]="","",IF([@[Duplicate Check]]="Duplicate Request ID","Review Duplicate ID",IF([@[Required Fields Check]]="Incomplete","Review Missing Fields",IF(AND([@[Completed Date]]<>"",[@[Request Date]]<>"",[@[Completed Date]]<[@[Request Date]]),"Review Date Order",IF(AND([@[Requested Effective Date]]<>"",[@[Request Date]]<>"",[@[Requested Effective Date]]<[@[Request Date]]-30),"Review Effective Date",IF([@Alert]<>"",[@Alert],"Ready"))))))
A11: ADR-2026-0007 | B11: LRN-1495 | C11: 46261 | D11: Fall 2026 | E11: CSC-120 | F11: 01 | G11: Add | H11: 46261 | I11: Prerequisite Issue | J11: Learner | K11: Yes | L11: Denied | M11: Denied | N11: Jordan Lee | O11: 46262 | P11: Prerequisite review did not support add. | Q11: =IF(OR([@Term]="",[@[Request Type]]=""),"",IF(COUNTIFS(tblDeadlines[Term],[@Term],tblDeadlines[Request Type],[@[Request Type]])=0,"",SUMIFS(tblDeadlines[Deadline],tblDeadlines[Term],[@Term],tblDeadlines[Request Type],[@[Request Type]]))) | R11: =IF([@[Request ID]]="","",IF(OR([@[Request Date]]="",[@[Applicable Deadline]]=""),"",IF([@[Request Date]]<=[@[Applicable Deadline]],"Submitted On Time","Submitted Late"))) | S11: =IF(OR([@[Request ID]]="",[@[Applicable Deadline]]=""),"",[@[Applicable Deadline]]-Settings!$B$3) | T11: =IF(OR([@[Request ID]]="",[@[Request Date]]=""),"",MAX(0,IF([@[Completed Date]]<>"",[@[Completed Date]],Settings!$B$3)-[@[Request Date]])) | U11: =IF([@[Request ID]]="","",IF(OR([@Status]="Completed",[@Status]="Denied",[@Status]="Canceled"),"Closed",IF([@Status]="","","Open"))) | V11: =IF([@[Request ID]]="","",IF([@Status]="","Enter status",IF([@Status]="Submitted","Assign and review request",IF([@Status]="Under Review","Complete eligibility and deadline review",IF([@Status]="Awaiting Approval","Obtain required approval",IF([@Status]="Approved","Complete processing and enter completion date",IF([@Status]="Completed","No action required",IF([@Status]="Denied","No action required",IF([@Status]="Canceled","No action required","Review record"))))))))) | W11: =IF([@[Request ID]]="","",IF([@[Required Fields Check]]<>"Complete","Missing Required Field",IF([@[Applicable Deadline]]="","Deadline Missing",IF(AND([@[Approval Required]]="Yes",OR([@[Approval Status]]="",[@[Approval Status]]="Not Required"),OR([@Status]="Approved",[@Status]="Completed")),"Approval Mismatch",IF(AND([@[Open or Closed]]="Closed",[@[Completed Date]]=""),"Closed Date Missing",IF(AND([@Status]="Approved",[@[Completed Date]]=""),"Approved - Complete Processing",IF(AND([@[Open or Closed]]="Open",[@[Applicable Deadline]]<Settings!$B$3),"Past Deadline - Open",IF(AND([@[Open or Closed]]="Open",[@[Applicable Deadline]]>=Settings!$B$3,[@[Applicable Deadline]]<=Settings!$B$3+3),"Due Within 3 Days","")))))))) | X11: =IF([@[Request ID]]="","",IF(OR([@[Learner Reference]]="",[@[Request Date]]="",[@Term]="",[@[Course Code]]="",[@Section]="",[@[Request Type]]="",[@[Submitted By]]="",[@[Approval Required]]="",[@Status]="",AND([@[Approval Required]]="Yes",OR([@[Approval Status]]="",[@[Approval Status]]="Not Required"))),"Incomplete","Complete")) | Y11: =IF([@[Request ID]]="","",IF(COUNTIF(tblRequests[Request ID],[@[Request ID]])>1,"Duplicate Request ID","Unique")) | Z11: =IF([@[Request ID]]="","",IF([@[Duplicate Check]]="Duplicate Request ID","Review Duplicate ID",IF([@[Required Fields Check]]="Incomplete","Review Missing Fields",IF(AND([@[Completed Date]]<>"",[@[Request Date]]<>"",[@[Completed Date]]<[@[Request Date]]),"Review Date Order",IF(AND([@[Requested Effective Date]]<>"",[@[Request Date]]<>"",[@[Requested Effective Date]]<[@[Request Date]]-30),"Review Effective Date",IF([@Alert]<>"",[@Alert],"Ready"))))))
A12: ADR-2026-0008 | B12: LRN-1533 | C12: 46217 | D12: Summer 2026 | E12: ART-105 | F12: 02 | G12: Withdrawal | H12: 46217 | I12: Work Conflict | J12: Learner | K12: Yes | L12: Approved | M12: Completed | N12: Morgan Rivera | O12: 46219 | P12: Withdrawal processed. | Q12: =IF(OR([@Term]="",[@[Request Type]]=""),"",IF(COUNTIFS(tblDeadlines[Term],[@Term],tblDeadlines[Request Type],[@[Request Type]])=0,"",SUMIFS(tblDeadlines[Deadline],tblDeadlines[Term],[@Term],tblDeadlines[Request Type],[@[Request Type]]))) | R12: =IF([@[Request ID]]="","",IF(OR([@[Request Date]]="",[@[Applicable Deadline]]=""),"",IF([@[Request Date]]<=[@[Applicable Deadline]],"Submitted On Time","Submitted Late"))) | S12: =IF(OR([@[Request ID]]="",[@[Applicable Deadline]]=""),"",[@[Applicable Deadline]]-Settings!$B$3) | T12: =IF(OR([@[Request ID]]="",[@[Request Date]]=""),"",MAX(0,IF([@[Completed Date]]<>"",[@[Completed Date]],Settings!$B$3)-[@[Request Date]])) | U12: =IF([@[Request ID]]="","",IF(OR([@Status]="Completed",[@Status]="Denied",[@Status]="Canceled"),"Closed",IF([@Status]="","","Open"))) | V12: =IF([@[Request ID]]="","",IF([@Status]="","Enter status",IF([@Status]="Submitted","Assign and review request",IF([@Status]="Under Review","Complete eligibility and deadline review",IF([@Status]="Awaiting Approval","Obtain required approval",IF([@Status]="Approved","Complete processing and enter completion date",IF([@Status]="Completed","No action required",IF([@Status]="Denied","No action required",IF([@Status]="Canceled","No action required","Review record"))))))))) | W12: =IF([@[Request ID]]="","",IF([@[Required Fields Check]]<>"Complete","Missing Required Field",IF([@[Applicable Deadline]]="","Deadline Missing",IF(AND([@[Approval Required]]="Yes",OR([@[Approval Status]]="",[@[Approval Status]]="Not Required"),OR([@Status]="Approved",[@Status]="Completed")),"Approval Mismatch",IF(AND([@[Open or Closed]]="Closed",[@[Completed Date]]=""),"Closed Date Missing",IF(AND([@Status]="Approved",[@[Completed Date]]=""),"Approved - Complete Processing",IF(AND([@[Open or Closed]]="Open",[@[Applicable Deadline]]<Settings!$B$3),"Past Deadline - Open",IF(AND([@[Open or Closed]]="Open",[@[Applicable Deadline]]>=Settings!$B$3,[@[Applicable Deadline]]<=Settings!$B$3+3),"Due Within 3 Days","")))))))) | X12: =IF([@[Request ID]]="","",IF(OR([@[Learner Reference]]="",[@[Request Date]]="",[@Term]="",[@[Course Code]]="",[@Section]="",[@[Request Type]]="",[@[Submitted By]]="",[@[Approval Required]]="",[@Status]="",AND([@[Approval Required]]="Yes",OR([@[Approval Status]]="",[@[Approval Status]]="Not Required"))),"Incomplete","Complete")) | Y12: =IF([@[Request ID]]="","",IF(COUNTIF(tblRequests[Request ID],[@[Request ID]])>1,"Duplicate Request ID","Unique")) | Z12: =IF([@[Request ID]]="","",IF([@[Duplicate Check]]="Duplicate Request ID","Review Duplicate ID",IF([@[Required Fields Check]]="Incomplete","Review Missing Fields",IF(AND([@[Completed Date]]<>"",[@[Request Date]]<>"",[@[Completed Date]]<[@[Request Date]]),"Review Date Order",IF(AND([@[Requested Effective Date]]<>"",[@[Request Date]]<>"",[@[Requested Effective Date]]<[@[Request Date]]-30),"Review Effective Date",IF([@Alert]<>"",[@Alert],"Ready"))))))
A13: ADR-2026-0009 | B13: LRN-1612 | C13: 46271 | D13: Fall 2026 | E13: PSY-101 | F13: ON2 | G13: Withdrawal | H13: 46271 | I13: Course Fit | J13: Instructor | K13: No | L13: Not Required | M13: Submitted | P13: Awaiting assignment. | Q13: =IF(OR([@Term]="",[@[Request Type]]=""),"",IF(COUNTIFS(tblDeadlines[Term],[@Term],tblDeadlines[Request Type],[@[Request Type]])=0,"",SUMIFS(tblDeadlines[Deadline],tblDeadlines[Term],[@Term],tblDeadlines[Request Type],[@[Request Type]]))) | R13: =IF([@[Request ID]]="","",IF(OR([@[Request Date]]="",[@[Applicable Deadline]]=""),"",IF([@[Request Date]]<=[@[Applicable Deadline]],"Submitted On Time","Submitted Late"))) | S13: =IF(OR([@[Request ID]]="",[@[Applicable Deadline]]=""),"",[@[Applicable Deadline]]-Settings!$B$3) | T13: =IF(OR([@[Request ID]]="",[@[Request Date]]=""),"",MAX(0,IF([@[Completed Date]]<>"",[@[Completed Date]],Settings!$B$3)-[@[Request Date]])) | U13: =IF([@[Request ID]]="","",IF(OR([@Status]="Completed",[@Status]="Denied",[@Status]="Canceled"),"Closed",IF([@Status]="","","Open"))) | V13: =IF([@[Request ID]]="","",IF([@Status]="","Enter status",IF([@Status]="Submitted","Assign and review request",IF([@Status]="Under Review","Complete eligibility and deadline review",IF([@Status]="Awaiting Approval","Obtain required approval",IF([@Status]="Approved","Complete processing and enter completion date",IF([@Status]="Completed","No action required",IF([@Status]="Denied","No action required",IF([@Status]="Canceled","No action required","Review record"))))))))) | W13: =IF([@[Request ID]]="","",IF([@[Required Fields Check]]<>"Complete","Missing Required Field",IF([@[Applicable Deadline]]="","Deadline Missing",IF(AND([@[Approval Required]]="Yes",OR([@[Approval Status]]="",[@[Approval Status]]="Not Required"),OR([@Status]="Approved",[@Status]="Completed")),"Approval Mismatch",IF(AND([@[Open or Closed]]="Closed",[@[Completed Date]]=""),"Closed Date Missing",IF(AND([@Status]="Approved",[@[Completed Date]]=""),"Approved - Complete Processing",IF(AND([@[Open or Closed]]="Open",[@[Applicable Deadline]]<Settings!$B$3),"Past Deadline - Open",IF(AND([@[Open or Closed]]="Open",[@[Applicable Deadline]]>=Settings!$B$3,[@[Applicable Deadline]]<=Settings!$B$3+3),"Due Within 3 Days","")))))))) | X13: =IF([@[Request ID]]="","",IF(OR([@[Learner Reference]]="",[@[Request Date]]="",[@Term]="",[@[Course Code]]="",[@Section]="",[@[Request Type]]="",[@[Submitted By]]="",[@[Approval Required]]="",[@Status]="",AND([@[Approval Required]]="Yes",OR([@[Approval Status]]="",[@[Approval Status]]="Not Required"))),"Incomplete","Complete")) | Y13: =IF([@[Request ID]]="","",IF(COUNTIF(tblRequests[Request ID],[@[Request ID]])>1,"Duplicate Request ID","Unique")) | Z13: =IF([@[Request ID]]="","",IF([@[Duplicate Check]]="Duplicate Request ID","Review Duplicate ID",IF([@[Required Fields Check]]="Incomplete","Review Missing Fields",IF(AND([@[Completed Date]]<>"",[@[Request Date]]<>"",[@[Completed Date]]<[@[Request Date]]),"Review Date Order",IF(AND([@[Requested Effective Date]]<>"",[@[Request Date]]<>"",[@[Requested Effective Date]]<[@[Request Date]]-30),"Review Effective Date",IF([@Alert]<>"",[@Alert],"Ready"))))))
A14: ADR-2026-0010 | B14: LRN-1678 | C14: 46266 | D14: Fall 2026 | E14: BUS-230 | F14: 01 | G14: Drop | H14: 46266 | I14: Administrative Correction | J14: Enrollment Office | K14: No | L14: Not Required | M14: Canceled | N14: Casey Bennett | O14: 46267 | P14: Duplicate submission canceled. | Q14: =IF(OR([@Term]="",[@[Request Type]]=""),"",IF(COUNTIFS(tblDeadlines[Term],[@Term],tblDeadlines[Request Type],[@[Request Type]])=0,"",SUMIFS(tblDeadlines[Deadline],tblDeadlines[Term],[@Term],tblDeadlines[Request Type],[@[Request Type]]))) | R14: =IF([@[Request ID]]="","",IF(OR([@[Request Date]]="",[@[Applicable Deadline]]=""),"",IF([@[Request Date]]<=[@[Applicable Deadline]],"Submitted On Time","Submitted Late"))) | S14: =IF(OR([@[Request ID]]="",[@[Applicable Deadline]]=""),"",[@[Applicable Deadline]]-Settings!$B$3) | T14: =IF(OR([@[Request ID]]="",[@[Request Date]]=""),"",MAX(0,IF([@[Completed Date]]<>"",[@[Completed Date]],Settings!$B$3)-[@[Request Date]])) | U14: =IF([@[Request ID]]="","",IF(OR([@Status]="Completed",[@Status]="Denied",[@Status]="Canceled"),"Closed",IF([@Status]="","","Open"))) | V14: =IF([@[Request ID]]="","",IF([@Status]="","Enter status",IF([@Status]="Submitted","Assign and review request",IF([@Status]="Under Review","Complete eligibility and deadline review",IF([@Status]="Awaiting Approval","Obtain required approval",IF([@Status]="Approved","Complete processing and enter completion date",IF([@Status]="Completed","No action required",IF([@Status]="Denied","No action required",IF([@Status]="Canceled","No action required","Review record"))))))))) | W14: =IF([@[Request ID]]="","",IF([@[Required Fields Check]]<>"Complete","Missing Required Field",IF([@[Applicable Deadline]]="","Deadline Missing",IF(AND([@[Approval Required]]="Yes",OR([@[Approval Status]]="",[@[Approval Status]]="Not Required"),OR([@Status]="Approved",[@Status]="Completed")),"Approval Mismatch",IF(AND([@[Open or Closed]]="Closed",[@[Completed Date]]=""),"Closed Date Missing",IF(AND([@Status]="Approved",[@[Completed Date]]=""),"Approved - Complete Processing",IF(AND([@[Open or Closed]]="Open",[@[Applicable Deadline]]<Settings!$B$3),"Past Deadline - Open",IF(AND([@[Open or Closed]]="Open",[@[Applicable Deadline]]>=Settings!$B$3,[@[Applicable Deadline]]<=Settings!$B$3+3),"Due Within 3 Days","")))))))) | X14: =IF([@[Request ID]]="","",IF(OR([@[Learner Reference]]="",[@[Request Date]]="",[@Term]="",[@[Course Code]]="",[@Section]="",[@[Request Type]]="",[@[Submitted By]]="",[@[Approval Required]]="",[@Status]="",AND([@[Approval Required]]="Yes",OR([@[Approval Status]]="",[@[Approval Status]]="Not Required"))),"Incomplete","Complete")) | Y14: =IF([@[Request ID]]="","",IF(COUNTIF(tblRequests[Request ID],[@[Request ID]])>1,"Duplicate Request ID","Unique")) | Z14: =IF([@[Request ID]]="","",IF([@[Duplicate Check]]="Duplicate Request ID","Review Duplicate ID",IF([@[Required Fields Check]]="Incomplete","Review Missing Fields",IF(AND([@[Completed Date]]<>"",[@[Request Date]]<>"",[@[Completed Date]]<[@[Request Date]]),"Review Date Order",IF(AND([@[Requested Effective Date]]<>"",[@[Request Date]]<>"",[@[Requested Effective Date]]<[@[Request Date]]-30),"Review Effective Date",IF([@Alert]<>"",[@Alert],"Ready"))))))
Q15: =IF(OR([@Term]="",[@[Request Type]]=""),"",IF(COUNTIFS(tblDeadlines[Term],[@Term],tblDeadlines[Request Type],[@[Request Type]])=0,"",SUMIFS(tblDeadlines[Deadline],tblDeadlines[Term],[@Term],tblDeadlines[Request Type],[@[Request Type]]))) | R15: =IF([@[Request ID]]="","",IF(OR([@[Request Date]]="",[@[Applicable Deadline]]=""),"",IF([@[Request Date]]<=[@[Applicable Deadline]],"Submitted On Time","Submitted Late"))) | S15: =IF(OR([@[Request ID]]="",[@[Applicable Deadline]]=""),"",[@[Applicable Deadline]]-Settings!$B$3) | T15: =IF(OR([@[Request ID]]="",[@[Request Date]]=""),"",MAX(0,IF([@[Completed Date]]<>"",[@[Completed Date]],Settings!$B$3)-[@[Request Date]])) | U15: =IF([@[Request ID]]="","",IF(OR([@Status]="Completed",[@Status]="Denied",[@Status]="Canceled"),"Closed",IF([@Status]="","","Open"))) | V15: =IF([@[Request ID]]="","",IF([@Status]="","Enter status",IF([@Status]="Submitted","Assign and review request",IF([@Status]="Under Review","Complete eligibility and deadline review",IF([@Status]="Awaiting Approval","Obtain required approval",IF([@Status]="Approved","Complete processing and enter completion date",IF([@Status]="Completed","No action required",IF([@Status]="Denied","No action required",IF([@Status]="Canceled","No action required","Review record"))))))))) | W15: =IF([@[Request ID]]="","",IF([@[Required Fields Check]]<>"Complete","Missing Required Field",IF([@[Applicable Deadline]]="","Deadline Missing",IF(AND([@[Approval Required]]="Yes",OR([@[Approval Status]]="",[@[Approval Status]]="Not Required"),OR([@Status]="Approved",[@Status]="Completed")),"Approval Mismatch",IF(AND([@[Open or Closed]]="Closed",[@[Completed Date]]=""),"Closed Date Missing",IF(AND([@Status]="Approved",[@[Completed Date]]=""),"Approved - Complete Processing",IF(AND([@[Open or Closed]]="Open",[@[Applicable Deadline]]<Settings!$B$3),"Past Deadline - Open",IF(AND([@[Open or Closed]]="Open",[@[Applicable Deadline]]>=Settings!$B$3,[@[Applicable Deadline]]<=Settings!$B$3+3),"Due Within 3 Days","")))))))) | X15: =IF([@[Request ID]]="","",IF(OR([@[Learner Reference]]="",[@[Request Date]]="",[@Term]="",[@[Course Code]]="",[@Section]="",[@[Request Type]]="",[@[Submitted By]]="",[@[Approval Required]]="",[@Status]="",AND([@[Approval Required]]="Yes",OR([@[Approval Status]]="",[@[Approval Status]]="Not Required"))),"Incomplete","Complete")) | Y15: =IF([@[Request ID]]="","",IF(COUNTIF(tblRequests[Request ID],[@[Request ID]])>1,"Duplicate Request ID","Unique")) | Z15: =IF([@[Request ID]]="","",IF([@[Duplicate Check]]="Duplicate Request ID","Review Duplicate ID",IF([@[Required Fields Check]]="Incomplete","Review Missing Fields",IF(AND([@[Completed Date]]<>"",[@[Request Date]]<>"",[@[Completed Date]]<[@[Request Date]]),"Review Date Order",IF(AND([@[Requested Effective Date]]<>"",[@[Request Date]]<>"",[@[Requested Effective Date]]<[@[Request Date]]-30),"Review Effective Date",IF([@Alert]<>"",[@Alert],"Ready"))))))
Q16: =IF(OR([@Term]="",[@[Request Type]]=""),"",IF(COUNTIFS(tblDeadlines[Term],[@Term],tblDeadlines[Request Type],[@[Request Type]])=0,"",SUMIFS(tblDeadlines[Deadline],tblDeadlines[Term],[@Term],tblDeadlines[Request Type],[@[Request Type]]))) | R16: =IF([@[Request ID]]="","",IF(OR([@[Request Date]]="",[@[Applicable Deadline]]=""),"",IF([@[Request Date]]<=[@[Applicable Deadline]],"Submitted On Time","Submitted Late"))) | S16: =IF(OR([@[Request ID]]="",[@[Applicable Deadline]]=""),"",[@[Applicable Deadline]]-Settings!$B$3) | T16: =IF(OR([@[Request ID]]="",[@[Request Date]]=""),"",MAX(0,IF([@[Completed Date]]<>"",[@[Completed Date]],Settings!$B$3)-[@[Request Date]])) | U16: =IF([@[Request ID]]="","",IF(OR([@Status]="Completed",[@Status]="Denied",[@Status]="Canceled"),"Closed",IF([@Status]="","","Open"))) | V16: =IF([@[Request ID]]="","",IF([@Status]="","Enter status",IF([@Status]="Submitted","Assign and review request",IF([@Status]="Under Review","Complete eligibility and deadline review",IF([@Status]="Awaiting Approval","Obtain required approval",IF([@Status]="Approved","Complete processing and enter completion date",IF([@Status]="Completed","No action required",IF([@Status]="Denied","No action required",IF([@Status]="Canceled","No action required","Review record"))))))))) | W16: =IF([@[Request ID]]="","",IF([@[Required Fields Check]]<>"Complete","Missing Required Field",IF([@[Applicable Deadline]]="","Deadline Missing",IF(AND([@[Approval Required]]="Yes",OR([@[Approval Status]]="",[@[Approval Status]]="Not Required"),OR([@Status]="Approved",[@Status]="Completed")),"Approval Mismatch",IF(AND([@[Open or Closed]]="Closed",[@[Completed Date]]=""),"Closed Date Missing",IF(AND([@Status]="Approved",[@[Completed Date]]=""),"Approved - Complete Processing",IF(AND([@[Open or Closed]]="Open",[@[Applicable Deadline]]<Settings!$B$3),"Past Deadline - Open",IF(AND([@[Open or Closed]]="Open",[@[Applicable Deadline]]>=Settings!$B$3,[@[Applicable Deadline]]<=Settings!$B$3+3),"Due Within 3 Days","")))))))) | X16: =IF([@[Request ID]]="","",IF(OR([@[Learner Reference]]="",[@[Request Date]]="",[@Term]="",[@[Course Code]]="",[@Section]="",[@[Request Type]]="",[@[Submitted By]]="",[@[Approval Required]]="",[@Status]="",AND([@[Approval Required]]="Yes",OR([@[Approval Status]]="",[@[Approval Status]]="Not Required"))),"Incomplete","Complete")) | Y16: =IF([@[Request ID]]="","",IF(COUNTIF(tblRequests[Request ID],[@[Request ID]])>1,"Duplicate Request ID","Unique")) | Z16: =IF([@[Request ID]]="","",IF([@[Duplicate Check]]="Duplicate Request ID","Review Duplicate ID",IF([@[Required Fields Check]]="Incomplete","Review Missing Fields",IF(AND([@[Completed Date]]<>"",[@[Request Date]]<>"",[@[Completed Date]]<[@[Request Date]]),"Review Date Order",IF(AND([@[Requested Effective Date]]<>"",[@[Request Date]]<>"",[@[Requested Effective Date]]<[@[Request Date]]-30),"Review Effective Date",IF([@Alert]<>"",[@Alert],"Ready"))))))
Q17: =IF(OR([@Term]="",[@[Request Type]]=""),"",IF(COUNTIFS(tblDeadlines[Term],[@Term],tblDeadlines[Request Type],[@[Request Type]])=0,"",SUMIFS(tblDeadlines[Deadline],tblDeadlines[Term],[@Term],tblDeadlines[Request Type],[@[Request Type]]))) | R17: =IF([@[Request ID]]="","",IF(OR([@[Request Date]]="",[@[Applicable Deadline]]=""),"",IF([@[Request Date]]<=[@[Applicable Deadline]],"Submitted On Time","Submitted Late"))) | S17: =IF(OR([@[Request ID]]="",[@[Applicable Deadline]]=""),"",[@[Applicable Deadline]]-Settings!$B$3) | T17: =IF(OR([@[Request ID]]="",[@[Request Date]]=""),"",MAX(0,IF([@[Completed Date]]<>"",[@[Completed Date]],Settings!$B$3)-[@[Request Date]])) | U17: =IF([@[Request ID]]="","",IF(OR([@Status]="Completed",[@Status]="Denied",[@Status]="Canceled"),"Closed",IF([@Status]="","","Open"))) | V17: =IF([@[Request ID]]="","",IF([@Status]="","Enter status",IF([@Status]="Submitted","Assign and review request",IF([@Status]="Under Review","Complete eligibility and deadline review",IF([@Status]="Awaiting Approval","Obtain required approval",IF([@Status]="Approved","Complete processing and enter completion date",IF([@Status]="Completed","No action required",IF([@Status]="Denied","No action required",IF([@Status]="Canceled","No action required","Review record"))))))))) | W17: =IF([@[Request ID]]="","",IF([@[Required Fields Check]]<>"Complete","Missing Required Field",IF([@[Applicable Deadline]]="","Deadline Missing",IF(AND([@[Approval Required]]="Yes",OR([@[Approval Status]]="",[@[Approval Status]]="Not Required"),OR([@Status]="Approved",[@Status]="Completed")),"Approval Mismatch",IF(AND([@[Open or Closed]]="Closed",[@[Completed Date]]=""),"Closed Date Missing",IF(AND([@Status]="Approved",[@[Completed Date]]=""),"Approved - Complete Processing",IF(AND([@[Open or Closed]]="Open",[@[Applicable Deadline]]<Settings!$B$3),"Past Deadline - Open",IF(AND([@[Open or Closed]]="Open",[@[Applicable Deadline]]>=Settings!$B$3,[@[Applicable Deadline]]<=Settings!$B$3+3),"Due Within 3 Days","")))))))) | X17: =IF([@[Request ID]]="","",IF(OR([@[Learner Reference]]="",[@[Request Date]]="",[@Term]="",[@[Course Code]]="",[@Section]="",[@[Request Type]]="",[@[Submitted By]]="",[@[Approval Required]]="",[@Status]="",AND([@[Approval Required]]="Yes",OR([@[Approval Status]]="",[@[Approval Status]]="Not Required"))),"Incomplete","Complete")) | Y17: =IF([@[Request ID]]="","",IF(COUNTIF(tblRequests[Request ID],[@[Request ID]])>1,"Duplicate Request ID","Unique")) | Z17: =IF([@[Request ID]]="","",IF([@[Duplicate Check]]="Duplicate Request ID","Review Duplicate ID",IF([@[Required Fields Check]]="Incomplete","Review Missing Fields",IF(AND([@[Completed Date]]<>"",[@[Request Date]]<>"",[@[Completed Date]]<[@[Request Date]]),"Review Date Order",IF(AND([@[Requested Effective Date]]<>"",[@[Request Date]]<>"",[@[Requested Effective Date]]<[@[Request Date]]-30),"Review Effective Date",IF([@Alert]<>"",[@Alert],"Ready"))))))
Q18: =IF(OR([@Term]="",[@[Request Type]]=""),"",IF(COUNTIFS(tblDeadlines[Term],[@Term],tblDeadlines[Request Type],[@[Request Type]])=0,"",SUMIFS(tblDeadlines[Deadline],tblDeadlines[Term],[@Term],tblDeadlines[Request Type],[@[Request Type]]))) | R18: =IF([@[Request ID]]="","",IF(OR([@[Request Date]]="",[@[Applicable Deadline]]=""),"",IF([@[Request Date]]<=[@[Applicable Deadline]],"Submitted On Time","Submitted Late"))) | S18: =IF(OR([@[Request ID]]="",[@[Applicable Deadline]]=""),"",[@[Applicable Deadline]]-Settings!$B$3) | T18: =IF(OR([@[Request ID]]="",[@[Request Date]]=""),"",MAX(0,IF([@[Completed Date]]<>"",[@[Completed Date]],Settings!$B$3)-[@[Request Date]])) | U18: =IF([@[Request ID]]="","",IF(OR([@Status]="Completed",[@Status]="Denied",[@Status]="Canceled"),"Closed",IF([@Status]="","","Open"))) | V18: =IF([@[Request ID]]="","",IF([@Status]="","Enter status",IF([@Status]="Submitted","Assign and review request",IF([@Status]="Under Review","Complete eligibility and deadline review",IF([@Status]="Awaiting Approval","Obtain required approval",IF([@Status]="Approved","Complete processing and enter completion date",IF([@Status]="Completed","No action required",IF([@Status]="Denied","No action required",IF([@Status]="Canceled","No action required","Review record"))))))))) | W18: =IF([@[Request ID]]="","",IF([@[Required Fields Check]]<>"Complete","Missing Required Field",IF([@[Applicable Deadline]]="","Deadline Missing",IF(AND([@[Approval Required]]="Yes",OR([@[Approval Status]]="",[@[Approval Status]]="Not Required"),OR([@Status]="Approved",[@Status]="Completed")),"Approval Mismatch",IF(AND([@[Open or Closed]]="Closed",[@[Completed Date]]=""),"Closed Date Missing",IF(AND([@Status]="Approved",[@[Completed Date]]=""),"Approved - Complete Processing",IF(AND([@[Open or Closed]]="Open",[@[Applicable Deadline]]<Settings!$B$3),"Past Deadline - Open",IF(AND([@[Open or Closed]]="Open",[@[Applicable Deadline]]>=Settings!$B$3,[@[Applicable Deadline]]<=Settings!$B$3+3),"Due Within 3 Days","")))))))) | X18: =IF([@[Request ID]]="","",IF(OR([@[Learner Reference]]="",[@[Request Date]]="",[@Term]="",[@[Course Code]]="",[@Section]="",[@[Request Type]]="",[@[Submitted By]]="",[@[Approval Required]]="",[@Status]="",AND([@[Approval Required]]="Yes",OR([@[Approval Status]]="",[@[Approval Status]]="Not Required"))),"Incomplete","Complete")) | Y18: =IF([@[Request ID]]="","",IF(COUNTIF(tblRequests[Request ID],[@[Request ID]])>1,"Duplicate Request ID","Unique")) | Z18: =IF([@[Request ID]]="","",IF([@[Duplicate Check]]="Duplicate Request ID","Review Duplicate ID",IF([@[Required Fields Check]]="Incomplete","Review Missing Fields",IF(AND([@[Completed Date]]<>"",[@[Request Date]]<>"",[@[Completed Date]]<[@[Request Date]]),"Review Date Order",IF(AND([@[Requested Effective Date]]<>"",[@[Request Date]]<>"",[@[Requested Effective Date]]<[@[Request Date]]-30),"Review Effective Date",IF([@Alert]<>"",[@Alert],"Ready"))))))
Q19: =IF(OR([@Term]="",[@[Request Type]]=""),"",IF(COUNTIFS(tblDeadlines[Term],[@Term],tblDeadlines[Request Type],[@[Request Type]])=0,"",SUMIFS(tblDeadlines[Deadline],tblDeadlines[Term],[@Term],tblDeadlines[Request Type],[@[Request Type]]))) | R19: =IF([@[Request ID]]="","",IF(OR([@[Request Date]]="",[@[Applicable Deadline]]=""),"",IF([@[Request Date]]<=[@[Applicable Deadline]],"Submitted On Time","Submitted Late"))) | S19: =IF(OR([@[Request ID]]="",[@[Applicable Deadline]]=""),"",[@[Applicable Deadline]]-Settings!$B$3) | T19: =IF(OR([@[Request ID]]="",[@[Request Date]]=""),"",MAX(0,IF([@[Completed Date]]<>"",[@[Completed Date]],Settings!$B$3)-[@[Request Date]])) | U19: =IF([@[Request ID]]="","",IF(OR([@Status]="Completed",[@Status]="Denied",[@Status]="Canceled"),"Closed",IF([@Status]="","","Open"))) | V19: =IF([@[Request ID]]="","",IF([@Status]="","Enter status",IF([@Status]="Submitted","Assign and review request",IF([@Status]="Under Review","Complete eligibility and deadline review",IF([@Status]="Awaiting Approval","Obtain required approval",IF([@Status]="Approved","Complete processing and enter completion date",IF([@Status]="Completed","No action required",IF([@Status]="Denied","No action required",IF([@Status]="Canceled","No action required","Review record"))))))))) | W19: =IF([@[Request ID]]="","",IF([@[Required Fields Check]]<>"Complete","Missing Required Field",IF([@[Applicable Deadline]]="","Deadline Missing",IF(AND([@[Approval Required]]="Yes",OR([@[Approval Status]]="",[@[Approval Status]]="Not Required"),OR([@Status]="Approved",[@Status]="Completed")),"Approval Mismatch",IF(AND([@[Open or Closed]]="Closed",[@[Completed Date]]=""),"Closed Date Missing",IF(AND([@Status]="Approved",[@[Completed Date]]=""),"Approved - Complete Processing",IF(AND([@[Open or Closed]]="Open",[@[Applicable Deadline]]<Settings!$B$3),"Past Deadline - Open",IF(AND([@[Open or Closed]]="Open",[@[Applicable Deadline]]>=Settings!$B$3,[@[Applicable Deadline]]<=Settings!$B$3+3),"Due Within 3 Days","")))))))) | X19: =IF([@[Request ID]]="","",IF(OR([@[Learner Reference]]="",[@[Request Date]]="",[@Term]="",[@[Course Code]]="",[@Section]="",[@[Request Type]]="",[@[Submitted By]]="",[@[Approval Required]]="",[@Status]="",AND([@[Approval Required]]="Yes",OR([@[Approval Status]]="",[@[Approval Status]]="Not Required"))),"Incomplete","Complete")) | Y19: =IF([@[Request ID]]="","",IF(COUNTIF(tblRequests[Request ID],[@[Request ID]])>1,"Duplicate Request ID","Unique")) | Z19: =IF([@[Request ID]]="","",IF([@[Duplicate Check]]="Duplicate Request ID","Review Duplicate ID",IF([@[Required Fields Check]]="Incomplete","Review Missing Fields",IF(AND([@[Completed Date]]<>"",[@[Request Date]]<>"",[@[Completed Date]]<[@[Request Date]]),"Review Date Order",IF(AND([@[Requested Effective Date]]<>"",[@[Request Date]]<>"",[@[Requested Effective Date]]<[@[Request Date]]-30),"Review Effective Date",IF([@Alert]<>"",[@Alert],"Ready"))))))
Q20: =IF(OR([@Term]="",[@[Request Type]]=""),"",IF(COUNTIFS(tblDeadlines[Term],[@Term],tblDeadlines[Request Type],[@[Request Type]])=0,"",SUMIFS(tblDeadlines[Deadline],tblDeadlines[Term],[@Term],tblDeadlines[Request Type],[@[Request Type]]))) | R20: =IF([@[Request ID]]="","",IF(OR([@[Request Date]]="",[@[Applicable Deadline]]=""),"",IF([@[Request Date]]<=[@[Applicable Deadline]],"Submitted On Time","Submitted Late"))) | S20: =IF(OR([@[Request ID]]="",[@[Applicable Deadline]]=""),"",[@[Applicable Deadline]]-Settings!$B$3) | T20: =IF(OR([@[Request ID]]="",[@[Request Date]]=""),"",MAX(0,IF([@[Completed Date]]<>"",[@[Completed Date]],Settings!$B$3)-[@[Request Date]])) | U20: =IF([@[Request ID]]="","",IF(OR([@Status]="Completed",[@Status]="Denied",[@Status]="Canceled"),"Closed",IF([@Status]="","","Open"))) | V20: =IF([@[Request ID]]="","",IF([@Status]="","Enter status",IF([@Status]="Submitted","Assign and review request",IF([@Status]="Under Review","Complete eligibility and deadline review",IF([@Status]="Awaiting Approval","Obtain required approval",IF([@Status]="Approved","Complete processing and enter completion date",IF([@Status]="Completed","No action required",IF([@Status]="Denied","No action required",IF([@Status]="Canceled","No action required","Review record"))))))))) | W20: =IF([@[Request ID]]="","",IF([@[Required Fields Check]]<>"Complete","Missing Required Field",IF([@[Applicable Deadline]]="","Deadline Missing",IF(AND([@[Approval Required]]="Yes",OR([@[Approval Status]]="",[@[Approval Status]]="Not Required"),OR([@Status]="Approved",[@Status]="Completed")),"Approval Mismatch",IF(AND([@[Open or Closed]]="Closed",[@[Completed Date]]=""),"Closed Date Missing",IF(AND([@Status]="Approved",[@[Completed Date]]=""),"Approved - Complete Processing",IF(AND([@[Open or Closed]]="Open",[@[Applicable Deadline]]<Settings!$B$3),"Past Deadline - Open",IF(AND([@[Open or Closed]]="Open",[@[Applicable Deadline]]>=Settings!$B$3,[@[Applicable Deadline]]<=Settings!$B$3+3),"Due Within 3 Days","")))))))) | X20: =IF([@[Request ID]]="","",IF(OR([@[Learner Reference]]="",[@[Request Date]]="",[@Term]="",[@[Course Code]]="",[@Section]="",[@[Request Type]]="",[@[Submitted By]]="",[@[Approval Required]]="",[@Status]="",AND([@[Approval Required]]="Yes",OR([@[Approval Status]]="",[@[Approval Status]]="Not Required"))),"Incomplete","Complete")) | Y20: =IF([@[Request ID]]="","",IF(COUNTIF(tblRequests[Request ID],[@[Request ID]])>1,"Duplicate Request ID","Unique")) | Z20: =IF([@[Request ID]]="","",IF([@[Duplicate Check]]="Duplicate Request ID","Review Duplicate ID",IF([@[Required Fields Check]]="Incomplete","Review Missing Fields",IF(AND([@[Completed Date]]<>"",[@[Request Date]]<>"",[@[Completed Date]]<[@[Request Date]]),"Review Date Order",IF(AND([@[Requested Effective Date]]<>"",[@[Request Date]]<>"",[@[Requested Effective Date]]<[@[Request Date]]-30),"Review Effective Date",IF([@Alert]<>"",[@Alert],"Ready"))))))
Q21: =IF(OR([@Term]="",[@[Request Type]]=""),"",IF(COUNTIFS(tblDeadlines[Term],[@Term],tblDeadlines[Request Type],[@[Request Type]])=0,"",SUMIFS(tblDeadlines[Deadline],tblDeadlines[Term],[@Term],tblDeadlines[Request Type],[@[Request Type]]))) | R21: =IF([@[Request ID]]="","",IF(OR([@[Request Date]]="",[@[Applicable Deadline]]=""),"",IF([@[Request Date]]<=[@[Applicable Deadline]],"Submitted On Time","Submitted Late"))) | S21: =IF(OR([@[Request ID]]="",[@[Applicable Deadline]]=""),"",[@[Applicable Deadline]]-Settings!$B$3) | T21: =IF(OR([@[Request ID]]="",[@[Request Date]]=""),"",MAX(0,IF([@[Completed Date]]<>"",[@[Completed Date]],Settings!$B$3)-[@[Request Date]])) | U21: =IF([@[Request ID]]="","",IF(OR([@Status]="Completed",[@Status]="Denied",[@Status]="Canceled"),"Closed",IF([@Status]="","","Open"))) | V21: =IF([@[Request ID]]="","",IF([@Status]="","Enter status",IF([@Status]="Submitted","Assign and review request",IF([@Status]="Under Review","Complete eligibility and deadline review",IF([@Status]="Awaiting Approval","Obtain required approval",IF([@Status]="Approved","Complete processing and enter completion date",IF([@Status]="Completed","No action required",IF([@Status]="Denied","No action required",IF([@Status]="Canceled","No action required","Review record"))))))))) | W21: =IF([@[Request ID]]="","",IF([@[Required Fields Check]]<>"Complete","Missing Required Field",IF([@[Applicable Deadline]]="","Deadline Missing",IF(AND([@[Approval Required]]="Yes",OR([@[Approval Status]]="",[@[Approval Status]]="Not Required"),OR([@Status]="Approved",[@Status]="Completed")),"Approval Mismatch",IF(AND([@[Open or Closed]]="Closed",[@[Completed Date]]=""),"Closed Date Missing",IF(AND([@Status]="Approved",[@[Completed Date]]=""),"Approved - Complete Processing",IF(AND([@[Open or Closed]]="Open",[@[Applicable Deadline]]<Settings!$B$3),"Past Deadline - Open",IF(AND([@[Open or Closed]]="Open",[@[Applicable Deadline]]>=Settings!$B$3,[@[Applicable Deadline]]<=Settings!$B$3+3),"Due Within 3 Days","")))))))) | X21: =IF([@[Request ID]]="","",IF(OR([@[Learner Reference]]="",[@[Request Date]]="",[@Term]="",[@[Course Code]]="",[@Section]="",[@[Request Type]]="",[@[Submitted By]]="",[@[Approval Required]]="",[@Status]="",AND([@[Approval Required]]="Yes",OR([@[Approval Status]]="",[@[Approval Status]]="Not Required"))),"Incomplete","Complete")) | Y21: =IF([@[Request ID]]="","",IF(COUNTIF(tblRequests[Request ID],[@[Request ID]])>1,"Duplicate Request ID","Unique")) | Z21: =IF([@[Request ID]]="","",IF([@[Duplicate Check]]="Duplicate Request ID","Review Duplicate ID",IF([@[Required Fields Check]]="Incomplete","Review Missing Fields",IF(AND([@[Completed Date]]<>"",[@[Request Date]]<>"",[@[Completed Date]]<[@[Request Date]]),"Review Date Order",IF(AND([@[Requested Effective Date]]<>"",[@[Request Date]]<>"",[@[Requested Effective Date]]<[@[Request Date]]-30),"Review Effective Date",IF([@Alert]<>"",[@Alert],"Ready"))))))
