Workbook

Sheet Dashboard
A1: Admission Offer and Yield Dashboard
A2: Current operational view based on records in the Offer Tracker
A4: Review Date | B4: 46271
A5: Entry Term | B5: All
A6: Program | B6: All
A8: Offers Released | C8: Awaiting Response | E8: Accepted Offers | G8: Enrolled
A9: =COUNTIFS(tblOffers[Applicant ID],"<>",tblOffers[Offer Date],"<>",tblOffers[Entry Term],IF($B$5="All","<>",$B$5),tblOffers[Program],IF($B$6="All","<>",$B$6)) | C9: =COUNTIFS(tblOffers[Applicant ID],"<>",tblOffers[Outcome Status],"Pending",tblOffers[Entry Term],IF($B$5="All","<>",$B$5),tblOffers[Program],IF($B$6="All","<>",$B$6)) | E9: =COUNTIFS(tblOffers[Applicant ID],"<>",tblOffers[Outcome Status],"Accepted",tblOffers[Entry Term],IF($B$5="All","<>",$B$5),tblOffers[Program],IF($B$6="All","<>",$B$6)) | G9: =COUNTIFS(tblOffers[Applicant ID],"<>",tblOffers[Enrollment Status],"Enrolled",tblOffers[Entry Term],IF($B$5="All","<>",$B$5),tblOffers[Program],IF($B$6="All","<>",$B$6))
A12: Acceptance Rate | C12: Enrollment Yield | E12: Due in Next 7 Days | G12: Records Needing Review
A13: =IFERROR(COUNTIFS(tblOffers[Applicant ID],"<>",tblOffers[Outcome Status],"Accepted",tblOffers[Entry Term],IF($B$5="All","<>",$B$5),tblOffers[Program],IF($B$6="All","<>",$B$6))/COUNTIFS(tblOffers[Applicant ID],"<>",tblOffers[Offer Date],"<>",tblOffers[Entry Term],IF($B$5="All","<>",$B$5),tblOffers[Program],IF($B$6="All","<>",$B$6)),0) | C13: =IFERROR(COUNTIFS(tblOffers[Applicant ID],"<>",tblOffers[Enrollment Status],"Enrolled",tblOffers[Entry Term],IF($B$5="All","<>",$B$5),tblOffers[Program],IF($B$6="All","<>",$B$6))/COUNTIFS(tblOffers[Applicant ID],"<>",tblOffers[Offer Date],"<>",tblOffers[Entry Term],IF($B$5="All","<>",$B$5),tblOffers[Program],IF($B$6="All","<>",$B$6)),0) | E13: =COUNTIFS(tblOffers[Applicant ID],"<>",tblOffers[Outcome Status],"Pending",tblOffers[Response Deadline],">="&$B$4,tblOffers[Response Deadline],"<="&$B$4+7,tblOffers[Entry Term],IF($B$5="All","<>",$B$5),tblOffers[Program],IF($B$6="All","<>",$B$6)) | G13: =COUNTIFS(tblOffers[Applicant ID],"<>",tblOffers[Data Check],"<>OK",tblOffers[Entry Term],IF($B$5="All","<>",$B$5),tblOffers[Program],IF($B$6="All","<>",$B$6))
A17: Goal Summary
A18: Offer Goal | B18: =SUMIFS(tblPlans[Offer Goal],tblPlans[Entry Term],IF($B$5="All","*",$B$5),tblPlans[Program],IF($B$6="All","*",$B$6))
A19: Enrollment Goal | B19: =SUMIFS(tblPlans[Enrollment Goal],tblPlans[Entry Term],IF($B$5="All","*",$B$5),tblPlans[Program],IF($B$6="All","*",$B$6))
A20: Goal Attainment | B20: =IFERROR(COUNTIFS(tblOffers[Applicant ID],"<>",tblOffers[Enrollment Status],"Enrolled",tblOffers[Entry Term],IF($B$5="All","<>",$B$5),tblOffers[Program],IF($B$6="All","<>",$B$6))/B19,0)
A21: Enrollment Gap | B21: =MAX(0,B19-COUNTIFS(tblOffers[Applicant ID],"<>",tblOffers[Enrollment Status],"Enrolled",tblOffers[Entry Term],IF($B$5="All","<>",$B$5),tblOffers[Program],IF($B$6="All","<>",$B$6)))
A24: Status | B24: Offers | J24: Program | K24: Enrolled | L24: Enrollment Goal
A25: Pending | B25: =COUNTIFS(tblOffers[Applicant ID],"<>",tblOffers[Outcome Status],A25,tblOffers[Entry Term],IF($B$5="All","<>",$B$5),tblOffers[Program],IF($B$6="All","<>",$B$6)) | J25: Business Operations Diploma | K25: =COUNTIFS(tblOffers[Applicant ID],"<>",tblOffers[Program],J25,tblOffers[Enrollment Status],"Enrolled",tblOffers[Entry Term],IF($B$5="All","<>",$B$5)) | L25: =SUMIFS(tblPlans[Enrollment Goal],tblPlans[Program],J25,tblPlans[Entry Term],IF($B$5="All","*",$B$5))
A26: Accepted | B26: =COUNTIFS(tblOffers[Applicant ID],"<>",tblOffers[Outcome Status],A26,tblOffers[Entry Term],IF($B$5="All","<>",$B$5),tblOffers[Program],IF($B$6="All","<>",$B$6)) | J26: Cybersecurity Foundations | K26: =COUNTIFS(tblOffers[Applicant ID],"<>",tblOffers[Program],J26,tblOffers[Enrollment Status],"Enrolled",tblOffers[Entry Term],IF($B$5="All","<>",$B$5)) | L26: =SUMIFS(tblPlans[Enrollment Goal],tblPlans[Program],J26,tblPlans[Entry Term],IF($B$5="All","*",$B$5))
A27: Declined | B27: =COUNTIFS(tblOffers[Applicant ID],"<>",tblOffers[Outcome Status],A27,tblOffers[Entry Term],IF($B$5="All","<>",$B$5),tblOffers[Program],IF($B$6="All","<>",$B$6)) | J27: Data Analytics Certificate | K27: =COUNTIFS(tblOffers[Applicant ID],"<>",tblOffers[Program],J27,tblOffers[Enrollment Status],"Enrolled",tblOffers[Entry Term],IF($B$5="All","<>",$B$5)) | L27: =SUMIFS(tblPlans[Enrollment Goal],tblPlans[Program],J27,tblPlans[Entry Term],IF($B$5="All","*",$B$5))
A28: Withdrawn | B28: =COUNTIFS(tblOffers[Applicant ID],"<>",tblOffers[Outcome Status],A28,tblOffers[Entry Term],IF($B$5="All","<>",$B$5),tblOffers[Program],IF($B$6="All","<>",$B$6)) | J28: Medical Office Administration | K28: =COUNTIFS(tblOffers[Applicant ID],"<>",tblOffers[Program],J28,tblOffers[Enrollment Status],"Enrolled",tblOffers[Entry Term],IF($B$5="All","<>",$B$5)) | L28: =SUMIFS(tblPlans[Enrollment Goal],tblPlans[Program],J28,tblPlans[Entry Term],IF($B$5="All","*",$B$5))
A29: Expired | B29: =COUNTIFS(tblOffers[Applicant ID],"<>",tblOffers[Outcome Status],A29,tblOffers[Entry Term],IF($B$5="All","<>",$B$5),tblOffers[Program],IF($B$6="All","<>",$B$6)) | J29: Project Management Certificate | K29: =COUNTIFS(tblOffers[Applicant ID],"<>",tblOffers[Program],J29,tblOffers[Enrollment Status],"Enrolled",tblOffers[Entry Term],IF($B$5="All","<>",$B$5)) | L29: =SUMIFS(tblPlans[Enrollment Goal],tblPlans[Program],J29,tblPlans[Entry Term],IF($B$5="All","*",$B$5))
B30: ="" | K30: ="" | L30: =""
B31: ="" | K31: ="" | L31: =""
B32: ="" | K32: ="" | L32: =""
B33: ="" | K33: ="" | L33: =""
B34: ="" | K34: ="" | L34: =""
B35: ="" | K35: ="" | L35: =""
B36: ="" | K36: ="" | L36: =""
B37: ="" | K37: ="" | L37: =""
B38: ="" | K38: ="" | L38: =""
B39: ="" | K39: ="" | L39: =""
B40: ="" | K40: ="" | L40: =""
B41: ="" | K41: ="" | L41: =""
... B48: ="" | K48: ="" | L48: =""
A49: Program chart follows the Entry Term filter and always shows all programs for comparison. | B49: ="" | K49: ="" | L49: =""
B50: ="" | K50: ="" | L50: =""
B51: ="" | K51: ="" | L51: =""
B52: ="" | K52: ="" | L52: =""
B53: ="" | K53: ="" | L53: =""
B54: ="" | K54: ="" | L54: =""
B55: ="" | K55: ="" | L55: =""
...

Sheet Offer Tracker
A1: Admission Offer Tracker
A2: Use one row per admission offer. Use applicant IDs instead of names and avoid sensitive information in notes.
A4: Applicant ID | B4: Entry Term | C4: Program | D4: Delivery Format | E4: Recruitment Source | F4: Offer Type | G4: Offer Date | H4: Response Deadline | I4: Outcome Status | J4: Response Date | K4: Enrollment Status | L4: Deposit Date | M4: Start Date | N4: Assigned Counselor | O4: Last Reviewed | P4: Days to Deadline | Q4: Deadline Status | R4: Data Check
A5: AO-26001 | B5: Fall 2026 | C5: Data Analytics Certificate | D5: Online | E5: Website Inquiry | F5: Standard | G5: 46211 | H5: 46225 | I5: Accepted | J5: 46219 | K5: Enrolled | L5: 46221 | M5: 46258 | N5: Morgan Lee | O5: 46268 | P5: =IF(OR([@[Applicant ID]]="",[@[Outcome Status]]<>"Pending",[@[Response Deadline]]=""),"",[@[Response Deadline]]-Dashboard!$B$4) | Q5: =IF([@[Applicant ID]]="","",IF([@[Outcome Status]]<>"Pending","Closed",IF([@[Response Deadline]]="","Missing Deadline",IF([@[Response Deadline]]<Dashboard!$B$4,"Overdue",IF([@[Response Deadline]]=Dashboard!$B$4,"Due Today",IF([@[Response Deadline]]<=Dashboard!$B$4+7,"Due in 7 Days","Future")))))) | R5: =IF([@[Applicant ID]]="","",IF(COUNTIF(tblOffers[Applicant ID],[@[Applicant ID]])>1,"Duplicate Applicant ID",IF(OR([@[Entry Term]]="",[@[Program]]="",[@[Delivery Format]]="",[@[Offer Type]]="",[@[Offer Date]]="",[@[Outcome Status]]="",[@[Enrollment Status]]=""),"Missing Required Field",IF(AND([@[Response Deadline]]<>"",[@[Offer Date]]<>"",[@[Response Deadline]]<[@[Offer Date]]),"Deadline Before Offer",IF(AND([@[Response Date]]<>"",[@[Offer Date]]<>"",[@[Response Date]]<[@[Offer Date]]),"Response Before Offer",IF(AND(OR([@[Outcome Status]]="Accepted",[@[Outcome Status]]="Declined",[@[Outcome Status]]="Withdrawn"),[@[Response Date]]=""),"Missing Response Date",IF(AND([@[Outcome Status]]="Pending",[@[Response Date]]<>""),"Pending Has Response Date",IF(AND([@[Outcome Status]]="Pending",[@[Response Deadline]]=""),"Missing Response Deadline",IF(AND([@[Outcome Status]]<>"Accepted",OR([@[Enrollment Status]]="Deposited",[@[Enrollment Status]]="Enrolled",[@[Enrollment Status]]="Deferred")),"Enrollment Status Conflict",IF(AND([@[Enrollment Status]]="Enrolled",[@[Start Date]]=""),"Missing Start Date",IF(AND([@[Deposit Date]]<>"",[@[Response Date]]<>"",[@[Deposit Date]]<[@[Response Date]]),"Deposit Before Response","OK")))))))))))
A6: AO-26002 | B6: Fall 2026 | C6: Project Management Certificate | D6: Hybrid | E6: Information Session | F6: Standard | G6: 46218 | H6: 46232 | I6: Declined | J6: 46228 | K6: Not Applicable | N6: Riley Chen | O6: 46264 | P6: =IF(OR([@[Applicant ID]]="",[@[Outcome Status]]<>"Pending",[@[Response Deadline]]=""),"",[@[Response Deadline]]-Dashboard!$B$4) | Q6: =IF([@[Applicant ID]]="","",IF([@[Outcome Status]]<>"Pending","Closed",IF([@[Response Deadline]]="","Missing Deadline",IF([@[Response Deadline]]<Dashboard!$B$4,"Overdue",IF([@[Response Deadline]]=Dashboard!$B$4,"Due Today",IF([@[Response Deadline]]<=Dashboard!$B$4+7,"Due in 7 Days","Future")))))) | R6: =IF([@[Applicant ID]]="","",IF(COUNTIF(tblOffers[Applicant ID],[@[Applicant ID]])>1,"Duplicate Applicant ID",IF(OR([@[Entry Term]]="",[@[Program]]="",[@[Delivery Format]]="",[@[Offer Type]]="",[@[Offer Date]]="",[@[Outcome Status]]="",[@[Enrollment Status]]=""),"Missing Required Field",IF(AND([@[Response Deadline]]<>"",[@[Offer Date]]<>"",[@[Response Deadline]]<[@[Offer Date]]),"Deadline Before Offer",IF(AND([@[Response Date]]<>"",[@[Offer Date]]<>"",[@[Response Date]]<[@[Offer Date]]),"Response Before Offer",IF(AND(OR([@[Outcome Status]]="Accepted",[@[Outcome Status]]="Declined",[@[Outcome Status]]="Withdrawn"),[@[Response Date]]=""),"Missing Response Date",IF(AND([@[Outcome Status]]="Pending",[@[Response Date]]<>""),"Pending Has Response Date",IF(AND([@[Outcome Status]]="Pending",[@[Response Deadline]]=""),"Missing Response Deadline",IF(AND([@[Outcome Status]]<>"Accepted",OR([@[Enrollment Status]]="Deposited",[@[Enrollment Status]]="Enrolled",[@[Enrollment Status]]="Deferred")),"Enrollment Status Conflict",IF(AND([@[Enrollment Status]]="Enrolled",[@[Start Date]]=""),"Missing Start Date",IF(AND([@[Deposit Date]]<>"",[@[Response Date]]<>"",[@[Deposit Date]]<[@[Response Date]]),"Deposit Before Response","OK")))))))))))
A7: AO-26003 | B7: Fall 2026 | C7: Medical Office Administration | D7: In Person | E7: Community Partner | F7: Conditional | G7: 46235 | H7: 46249 | I7: Accepted | J7: 46246 | K7: Deposited | L7: 46248 | N7: Jordan Ellis | O7: 46269 | P7: =IF(OR([@[Applicant ID]]="",[@[Outcome Status]]<>"Pending",[@[Response Deadline]]=""),"",[@[Response Deadline]]-Dashboard!$B$4) | Q7: =IF([@[Applicant ID]]="","",IF([@[Outcome Status]]<>"Pending","Closed",IF([@[Response Deadline]]="","Missing Deadline",IF([@[Response Deadline]]<Dashboard!$B$4,"Overdue",IF([@[Response Deadline]]=Dashboard!$B$4,"Due Today",IF([@[Response Deadline]]<=Dashboard!$B$4+7,"Due in 7 Days","Future")))))) | R7: =IF([@[Applicant ID]]="","",IF(COUNTIF(tblOffers[Applicant ID],[@[Applicant ID]])>1,"Duplicate Applicant ID",IF(OR([@[Entry Term]]="",[@[Program]]="",[@[Delivery Format]]="",[@[Offer Type]]="",[@[Offer Date]]="",[@[Outcome Status]]="",[@[Enrollment Status]]=""),"Missing Required Field",IF(AND([@[Response Deadline]]<>"",[@[Offer Date]]<>"",[@[Response Deadline]]<[@[Offer Date]]),"Deadline Before Offer",IF(AND([@[Response Date]]<>"",[@[Offer Date]]<>"",[@[Response Date]]<[@[Offer Date]]),"Response Before Offer",IF(AND(OR([@[Outcome Status]]="Accepted",[@[Outcome Status]]="Declined",[@[Outcome Status]]="Withdrawn"),[@[Response Date]]=""),"Missing Response Date",IF(AND([@[Outcome Status]]="Pending",[@[Response Date]]<>""),"Pending Has Response Date",IF(AND([@[Outcome Status]]="Pending",[@[Response Deadline]]=""),"Missing Response Deadline",IF(AND([@[Outcome Status]]<>"Accepted",OR([@[Enrollment Status]]="Deposited",[@[Enrollment Status]]="Enrolled",[@[Enrollment Status]]="Deferred")),"Enrollment Status Conflict",IF(AND([@[Enrollment Status]]="Enrolled",[@[Start Date]]=""),"Missing Start Date",IF(AND([@[Deposit Date]]<>"",[@[Response Date]]<>"",[@[Deposit Date]]<[@[Response Date]]),"Deposit Before Response","OK")))))))))))
A8: AO-26004 | B8: Fall 2026 | C8: Cybersecurity Foundations | D8: Online | E8: Digital Advertising | F8: Standard | G8: 46244 | H8: 46273 | I8: Pending | K8: Pending | N8: Avery Brooks | O8: 46270 | P8: =IF(OR([@[Applicant ID]]="",[@[Outcome Status]]<>"Pending",[@[Response Deadline]]=""),"",[@[Response Deadline]]-Dashboard!$B$4) | Q8: =IF([@[Applicant ID]]="","",IF([@[Outcome Status]]<>"Pending","Closed",IF([@[Response Deadline]]="","Missing Deadline",IF([@[Response Deadline]]<Dashboard!$B$4,"Overdue",IF([@[Response Deadline]]=Dashboard!$B$4,"Due Today",IF([@[Response Deadline]]<=Dashboard!$B$4+7,"Due in 7 Days","Future")))))) | R8: =IF([@[Applicant ID]]="","",IF(COUNTIF(tblOffers[Applicant ID],[@[Applicant ID]])>1,"Duplicate Applicant ID",IF(OR([@[Entry Term]]="",[@[Program]]="",[@[Delivery Format]]="",[@[Offer Type]]="",[@[Offer Date]]="",[@[Outcome Status]]="",[@[Enrollment Status]]=""),"Missing Required Field",IF(AND([@[Response Deadline]]<>"",[@[Offer Date]]<>"",[@[Response Deadline]]<[@[Offer Date]]),"Deadline Before Offer",IF(AND([@[Response Date]]<>"",[@[Offer Date]]<>"",[@[Response Date]]<[@[Offer Date]]),"Response Before Offer",IF(AND(OR([@[Outcome Status]]="Accepted",[@[Outcome Status]]="Declined",[@[Outcome Status]]="Withdrawn"),[@[Response Date]]=""),"Missing Response Date",IF(AND([@[Outcome Status]]="Pending",[@[Response Date]]<>""),"Pending Has Response Date",IF(AND([@[Outcome Status]]="Pending",[@[Response Deadline]]=""),"Missing Response Deadline",IF(AND([@[Outcome Status]]<>"Accepted",OR([@[Enrollment Status]]="Deposited",[@[Enrollment Status]]="Enrolled",[@[Enrollment Status]]="Deferred")),"Enrollment Status Conflict",IF(AND([@[Enrollment Status]]="Enrolled",[@[Start Date]]=""),"Missing Start Date",IF(AND([@[Deposit Date]]<>"",[@[Response Date]]<>"",[@[Deposit Date]]<[@[Response Date]]),"Deposit Before Response","OK")))))))))))
A9: AO-26005 | B9: Fall 2026 | C9: Business Operations Diploma | D9: Hybrid | E9: Employer Referral | F9: Standard | G9: 46246 | H9: 46271 | I9: Pending | K9: Pending | N9: Morgan Lee | O9: 46270 | P9: =IF(OR([@[Applicant ID]]="",[@[Outcome Status]]<>"Pending",[@[Response Deadline]]=""),"",[@[Response Deadline]]-Dashboard!$B$4) | Q9: =IF([@[Applicant ID]]="","",IF([@[Outcome Status]]<>"Pending","Closed",IF([@[Response Deadline]]="","Missing Deadline",IF([@[Response Deadline]]<Dashboard!$B$4,"Overdue",IF([@[Response Deadline]]=Dashboard!$B$4,"Due Today",IF([@[Response Deadline]]<=Dashboard!$B$4+7,"Due in 7 Days","Future")))))) | R9: =IF([@[Applicant ID]]="","",IF(COUNTIF(tblOffers[Applicant ID],[@[Applicant ID]])>1,"Duplicate Applicant ID",IF(OR([@[Entry Term]]="",[@[Program]]="",[@[Delivery Format]]="",[@[Offer Type]]="",[@[Offer Date]]="",[@[Outcome Status]]="",[@[Enrollment Status]]=""),"Missing Required Field",IF(AND([@[Response Deadline]]<>"",[@[Offer Date]]<>"",[@[Response Deadline]]<[@[Offer Date]]),"Deadline Before Offer",IF(AND([@[Response Date]]<>"",[@[Offer Date]]<>"",[@[Response Date]]<[@[Offer Date]]),"Response Before Offer",IF(AND(OR([@[Outcome Status]]="Accepted",[@[Outcome Status]]="Declined",[@[Outcome Status]]="Withdrawn"),[@[Response Date]]=""),"Missing Response Date",IF(AND([@[Outcome Status]]="Pending",[@[Response Date]]<>""),"Pending Has Response Date",IF(AND([@[Outcome Status]]="Pending",[@[Response Deadline]]=""),"Missing Response Deadline",IF(AND([@[Outcome Status]]<>"Accepted",OR([@[Enrollment Status]]="Deposited",[@[Enrollment Status]]="Enrolled",[@[Enrollment Status]]="Deferred")),"Enrollment Status Conflict",IF(AND([@[Enrollment Status]]="Enrolled",[@[Start Date]]=""),"Missing Start Date",IF(AND([@[Deposit Date]]<>"",[@[Response Date]]<>"",[@[Deposit Date]]<[@[Response Date]]),"Deposit Before Response","OK")))))))))))
A10: AO-26006 | B10: Spring 2027 | C10: Data Analytics Certificate | D10: Online | E10: Website Inquiry | F10: Standard | G10: 46254 | H10: 46285 | I10: Pending | K10: Pending | N10: Riley Chen | O10: 46267 | P10: =IF(OR([@[Applicant ID]]="",[@[Outcome Status]]<>"Pending",[@[Response Deadline]]=""),"",[@[Response Deadline]]-Dashboard!$B$4) | Q10: =IF([@[Applicant ID]]="","",IF([@[Outcome Status]]<>"Pending","Closed",IF([@[Response Deadline]]="","Missing Deadline",IF([@[Response Deadline]]<Dashboard!$B$4,"Overdue",IF([@[Response Deadline]]=Dashboard!$B$4,"Due Today",IF([@[Response Deadline]]<=Dashboard!$B$4+7,"Due in 7 Days","Future")))))) | R10: =IF([@[Applicant ID]]="","",IF(COUNTIF(tblOffers[Applicant ID],[@[Applicant ID]])>1,"Duplicate Applicant ID",IF(OR([@[Entry Term]]="",[@[Program]]="",[@[Delivery Format]]="",[@[Offer Type]]="",[@[Offer Date]]="",[@[Outcome Status]]="",[@[Enrollment Status]]=""),"Missing Required Field",IF(AND([@[Response Deadline]]<>"",[@[Offer Date]]<>"",[@[Response Deadline]]<[@[Offer Date]]),"Deadline Before Offer",IF(AND([@[Response Date]]<>"",[@[Offer Date]]<>"",[@[Response Date]]<[@[Offer Date]]),"Response Before Offer",IF(AND(OR([@[Outcome Status]]="Accepted",[@[Outcome Status]]="Declined",[@[Outcome Status]]="Withdrawn"),[@[Response Date]]=""),"Missing Response Date",IF(AND([@[Outcome Status]]="Pending",[@[Response Date]]<>""),"Pending Has Response Date",IF(AND([@[Outcome Status]]="Pending",[@[Response Deadline]]=""),"Missing Response Deadline",IF(AND([@[Outcome Status]]<>"Accepted",OR([@[Enrollment Status]]="Deposited",[@[Enrollment Status]]="Enrolled",[@[Enrollment Status]]="Deferred")),"Enrollment Status Conflict",IF(AND([@[Enrollment Status]]="Enrolled",[@[Start Date]]=""),"Missing Start Date",IF(AND([@[Deposit Date]]<>"",[@[Response Date]]<>"",[@[Deposit Date]]<[@[Response Date]]),"Deposit Before Response","OK")))))))))))
A11: AO-26007 | B11: Spring 2027 | C11: Project Management Certificate | D11: Hybrid | E11: Alumni Referral | F11: Standard | G11: 46252 | H11: 46266 | I11: Expired | K11: Not Applicable | N11: Jordan Ellis | O11: 46270 | P11: =IF(OR([@[Applicant ID]]="",[@[Outcome Status]]<>"Pending",[@[Response Deadline]]=""),"",[@[Response Deadline]]-Dashboard!$B$4) | Q11: =IF([@[Applicant ID]]="","",IF([@[Outcome Status]]<>"Pending","Closed",IF([@[Response Deadline]]="","Missing Deadline",IF([@[Response Deadline]]<Dashboard!$B$4,"Overdue",IF([@[Response Deadline]]=Dashboard!$B$4,"Due Today",IF([@[Response Deadline]]<=Dashboard!$B$4+7,"Due in 7 Days","Future")))))) | R11: =IF([@[Applicant ID]]="","",IF(COUNTIF(tblOffers[Applicant ID],[@[Applicant ID]])>1,"Duplicate Applicant ID",IF(OR([@[Entry Term]]="",[@[Program]]="",[@[Delivery Format]]="",[@[Offer Type]]="",[@[Offer Date]]="",[@[Outcome Status]]="",[@[Enrollment Status]]=""),"Missing Required Field",IF(AND([@[Response Deadline]]<>"",[@[Offer Date]]<>"",[@[Response Deadline]]<[@[Offer Date]]),"Deadline Before Offer",IF(AND([@[Response Date]]<>"",[@[Offer Date]]<>"",[@[Response Date]]<[@[Offer Date]]),"Response Before Offer",IF(AND(OR([@[Outcome Status]]="Accepted",[@[Outcome Status]]="Declined",[@[Outcome Status]]="Withdrawn"),[@[Response Date]]=""),"Missing Response Date",IF(AND([@[Outcome Status]]="Pending",[@[Response Date]]<>""),"Pending Has Response Date",IF(AND([@[Outcome Status]]="Pending",[@[Response Deadline]]=""),"Missing Response Deadline",IF(AND([@[Outcome Status]]<>"Accepted",OR([@[Enrollment Status]]="Deposited",[@[Enrollment Status]]="Enrolled",[@[Enrollment Status]]="Deferred")),"Enrollment Status Conflict",IF(AND([@[Enrollment Status]]="Enrolled",[@[Start Date]]=""),"Missing Start Date",IF(AND([@[Deposit Date]]<>"",[@[Response Date]]<>"",[@[Deposit Date]]<[@[Response Date]]),"Deposit Before Response","OK")))))))))))
A12: AO-26008 | B12: Spring 2027 | C12: Cybersecurity Foundations | D12: Online | E12: Information Session | F12: Early Offer | G12: 46256 | H12: 46277 | I12: Accepted | J12: 46267 | K12: Deferred | L12: 46268 | N12: Avery Brooks | O12: 46270 | P12: =IF(OR([@[Applicant ID]]="",[@[Outcome Status]]<>"Pending",[@[Response Deadline]]=""),"",[@[Response Deadline]]-Dashboard!$B$4) | Q12: =IF([@[Applicant ID]]="","",IF([@[Outcome Status]]<>"Pending","Closed",IF([@[Response Deadline]]="","Missing Deadline",IF([@[Response Deadline]]<Dashboard!$B$4,"Overdue",IF([@[Response Deadline]]=Dashboard!$B$4,"Due Today",IF([@[Response Deadline]]<=Dashboard!$B$4+7,"Due in 7 Days","Future")))))) | R12: =IF([@[Applicant ID]]="","",IF(COUNTIF(tblOffers[Applicant ID],[@[Applicant ID]])>1,"Duplicate Applicant ID",IF(OR([@[Entry Term]]="",[@[Program]]="",[@[Delivery Format]]="",[@[Offer Type]]="",[@[Offer Date]]="",[@[Outcome Status]]="",[@[Enrollment Status]]=""),"Missing Required Field",IF(AND([@[Response Deadline]]<>"",[@[Offer Date]]<>"",[@[Response Deadline]]<[@[Offer Date]]),"Deadline Before Offer",IF(AND([@[Response Date]]<>"",[@[Offer Date]]<>"",[@[Response Date]]<[@[Offer Date]]),"Response Before Offer",IF(AND(OR([@[Outcome Status]]="Accepted",[@[Outcome Status]]="Declined",[@[Outcome Status]]="Withdrawn"),[@[Response Date]]=""),"Missing Response Date",IF(AND([@[Outcome Status]]="Pending",[@[Response Date]]<>""),"Pending Has Response Date",IF(AND([@[Outcome Status]]="Pending",[@[Response Deadline]]=""),"Missing Response Deadline",IF(AND([@[Outcome Status]]<>"Accepted",OR([@[Enrollment Status]]="Deposited",[@[Enrollment Status]]="Enrolled",[@[Enrollment Status]]="Deferred")),"Enrollment Status Conflict",IF(AND([@[Enrollment Status]]="Enrolled",[@[Start Date]]=""),"Missing Start Date",IF(AND([@[Deposit Date]]<>"",[@[Response Date]]<>"",[@[Deposit Date]]<[@[Response Date]]),"Deposit Before Response","OK")))))))))))
A13: AO-26009 | B13: Summer 2027 | C13: Medical Office Administration | D13: In Person | E13: Community Partner | F13: Conditional | G13: 46259 | H13: 46270 | I13: Pending | K13: Pending | N13: Morgan Lee | O13: 46271 | P13: =IF(OR([@[Applicant ID]]="",[@[Outcome Status]]<>"Pending",[@[Response Deadline]]=""),"",[@[Response Deadline]]-Dashboard!$B$4) | Q13: =IF([@[Applicant ID]]="","",IF([@[Outcome Status]]<>"Pending","Closed",IF([@[Response Deadline]]="","Missing Deadline",IF([@[Response Deadline]]<Dashboard!$B$4,"Overdue",IF([@[Response Deadline]]=Dashboard!$B$4,"Due Today",IF([@[Response Deadline]]<=Dashboard!$B$4+7,"Due in 7 Days","Future")))))) | R13: =IF([@[Applicant ID]]="","",IF(COUNTIF(tblOffers[Applicant ID],[@[Applicant ID]])>1,"Duplicate Applicant ID",IF(OR([@[Entry Term]]="",[@[Program]]="",[@[Delivery Format]]="",[@[Offer Type]]="",[@[Offer Date]]="",[@[Outcome Status]]="",[@[Enrollment Status]]=""),"Missing Required Field",IF(AND([@[Response Deadline]]<>"",[@[Offer Date]]<>"",[@[Response Deadline]]<[@[Offer Date]]),"Deadline Before Offer",IF(AND([@[Response Date]]<>"",[@[Offer Date]]<>"",[@[Response Date]]<[@[Offer Date]]),"Response Before Offer",IF(AND(OR([@[Outcome Status]]="Accepted",[@[Outcome Status]]="Declined",[@[Outcome Status]]="Withdrawn"),[@[Response Date]]=""),"Missing Response Date",IF(AND([@[Outcome Status]]="Pending",[@[Response Date]]<>""),"Pending Has Response Date",IF(AND([@[Outcome Status]]="Pending",[@[Response Deadline]]=""),"Missing Response Deadline",IF(AND([@[Outcome Status]]<>"Accepted",OR([@[Enrollment Status]]="Deposited",[@[Enrollment Status]]="Enrolled",[@[Enrollment Status]]="Deferred")),"Enrollment Status Conflict",IF(AND([@[Enrollment Status]]="Enrolled",[@[Start Date]]=""),"Missing Start Date",IF(AND([@[Deposit Date]]<>"",[@[Response Date]]<>"",[@[Deposit Date]]<[@[Response Date]]),"Deposit Before Response","OK")))))))))))
A14: AO-26010 | B14: Spring 2027 | C14: Business Operations Diploma | D14: Hybrid | E14: Employer Referral | F14: Standard | G14: 46262 | H14: 46283 | I14: Withdrawn | J14: 46269 | K14: Canceled | N14: Riley Chen | O14: 46271 | P14: =IF(OR([@[Applicant ID]]="",[@[Outcome Status]]<>"Pending",[@[Response Deadline]]=""),"",[@[Response Deadline]]-Dashboard!$B$4) | Q14: =IF([@[Applicant ID]]="","",IF([@[Outcome Status]]<>"Pending","Closed",IF([@[Response Deadline]]="","Missing Deadline",IF([@[Response Deadline]]<Dashboard!$B$4,"Overdue",IF([@[Response Deadline]]=Dashboard!$B$4,"Due Today",IF([@[Response Deadline]]<=Dashboard!$B$4+7,"Due in 7 Days","Future")))))) | R14: =IF([@[Applicant ID]]="","",IF(COUNTIF(tblOffers[Applicant ID],[@[Applicant ID]])>1,"Duplicate Applicant ID",IF(OR([@[Entry Term]]="",[@[Program]]="",[@[Delivery Format]]="",[@[Offer Type]]="",[@[Offer Date]]="",[@[Outcome Status]]="",[@[Enrollment Status]]=""),"Missing Required Field",IF(AND([@[Response Deadline]]<>"",[@[Offer Date]]<>"",[@[Response Deadline]]<[@[Offer Date]]),"Deadline Before Offer",IF(AND([@[Response Date]]<>"",[@[Offer Date]]<>"",[@[Response Date]]<[@[Offer Date]]),"Response Before Offer",IF(AND(OR([@[Outcome Status]]="Accepted",[@[Outcome Status]]="Declined",[@[Outcome Status]]="Withdrawn"),[@[Response Date]]=""),"Missing Response Date",IF(AND([@[Outcome Status]]="Pending",[@[Response Date]]<>""),"Pending Has Response Date",IF(AND([@[Outcome Status]]="Pending",[@[Response Deadline]]=""),"Missing Response Deadline",IF(AND([@[Outcome Status]]<>"Accepted",OR([@[Enrollment Status]]="Deposited",[@[Enrollment Status]]="Enrolled",[@[Enrollment Status]]="Deferred")),"Enrollment Status Conflict",IF(AND([@[Enrollment Status]]="Enrolled",[@[Start Date]]=""),"Missing Start Date",IF(AND([@[Deposit Date]]<>"",[@[Response Date]]<>"",[@[Deposit Date]]<[@[Response Date]]),"Deposit Before Response","OK")))))))))))
P15: =IF(OR([@[Applicant ID]]="",[@[Outcome Status]]<>"Pending",[@[Response Deadline]]=""),"",[@[Response Deadline]]-Dashboard!$B$4) | Q15: =IF([@[Applicant ID]]="","",IF([@[Outcome Status]]<>"Pending","Closed",IF([@[Response Deadline]]="","Missing Deadline",IF([@[Response Deadline]]<Dashboard!$B$4,"Overdue",IF([@[Response Deadline]]=Dashboard!$B$4,"Due Today",IF([@[Response Deadline]]<=Dashboard!$B$4+7,"Due in 7 Days","Future")))))) | R15: =IF([@[Applicant ID]]="","",IF(COUNTIF(tblOffers[Applicant ID],[@[Applicant ID]])>1,"Duplicate Applicant ID",IF(OR([@[Entry Term]]="",[@[Program]]="",[@[Delivery Format]]="",[@[Offer Type]]="",[@[Offer Date]]="",[@[Outcome Status]]="",[@[Enrollment Status]]=""),"Missing Required Field",IF(AND([@[Response Deadline]]<>"",[@[Offer Date]]<>"",[@[Response Deadline]]<[@[Offer Date]]),"Deadline Before Offer",IF(AND([@[Response Date]]<>"",[@[Offer Date]]<>"",[@[Response Date]]<[@[Offer Date]]),"Response Before Offer",IF(AND(OR([@[Outcome Status]]="Accepted",[@[Outcome Status]]="Declined",[@[Outcome Status]]="Withdrawn"),[@[Response Date]]=""),"Missing Response Date",IF(AND([@[Outcome Status]]="Pending",[@[Response Date]]<>""),"Pending Has Response Date",IF(AND([@[Outcome Status]]="Pending",[@[Response Deadline]]=""),"Missing Response Deadline",IF(AND([@[Outcome Status]]<>"Accepted",OR([@[Enrollment Status]]="Deposited",[@[Enrollment Status]]="Enrolled",[@[Enrollment Status]]="Deferred")),"Enrollment Status Conflict",IF(AND([@[Enrollment Status]]="Enrolled",[@[Start Date]]=""),"Missing Start Date",IF(AND([@[Deposit Date]]<>"",[@[Response Date]]<>"",[@[Deposit Date]]<[@[Response Date]]),"Deposit Before Response","OK")))))))))))
P16: =IF(OR([@[Applicant ID]]="",[@[Outcome Status]]<>"Pending",[@[Response Deadline]]=""),"",[@[Response Deadline]]-Dashboard!$B$4) | Q16: =IF([@[Applicant ID]]="","",IF([@[Outcome Status]]<>"Pending","Closed",IF([@[Response Deadline]]="","Missing Deadline",IF([@[Response Deadline]]<Dashboard!$B$4,"Overdue",IF([@[Response Deadline]]=Dashboard!$B$4,"Due Today",IF([@[Response Deadline]]<=Dashboard!$B$4+7,"Due in 7 Days","Future")))))) | R16: =IF([@[Applicant ID]]="","",IF(COUNTIF(tblOffers[Applicant ID],[@[Applicant ID]])>1,"Duplicate Applicant ID",IF(OR([@[Entry Term]]="",[@[Program]]="",[@[Delivery Format]]="",[@[Offer Type]]="",[@[Offer Date]]="",[@[Outcome Status]]="",[@[Enrollment Status]]=""),"Missing Required Field",IF(AND([@[Response Deadline]]<>"",[@[Offer Date]]<>"",[@[Response Deadline]]<[@[Offer Date]]),"Deadline Before Offer",IF(AND([@[Response Date]]<>"",[@[Offer Date]]<>"",[@[Response Date]]<[@[Offer Date]]),"Response Before Offer",IF(AND(OR([@[Outcome Status]]="Accepted",[@[Outcome Status]]="Declined",[@[Outcome Status]]="Withdrawn"),[@[Response Date]]=""),"Missing Response Date",IF(AND([@[Outcome Status]]="Pending",[@[Response Date]]<>""),"Pending Has Response Date",IF(AND([@[Outcome Status]]="Pending",[@[Response Deadline]]=""),"Missing Response Deadline",IF(AND([@[Outcome Status]]<>"Accepted",OR([@[Enrollment Status]]="Deposited",[@[Enrollment Status]]="Enrolled",[@[Enrollment Status]]="Deferred")),"Enrollment Status Conflict",IF(AND([@[Enrollment Status]]="Enrolled",[@[Start Date]]=""),"Missing Start Date",IF(AND([@[Deposit Date]]<>"",[@[Response Date]]<>"",[@[Deposit Date]]<[@[Response Date]]),"Deposit Before Response","OK")))))))))))
P17: =IF(OR([@[Applicant ID]]="",[@[Outcome Status]]<>"Pending",[@[Response Deadline]]=""),"",[@[Response Deadline]]-Dashboard!$B$4) | Q17: =IF([@[Applicant ID]]="","",IF([@[Outcome Status]]<>"Pending","Closed",IF([@[Response Deadline]]="","Missing Deadline",IF([@[Response Deadline]]<Dashboard!$B$4,"Overdue",IF([@[Response Deadline]]=Dashboard!$B$4,"Due Today",IF([@[Response Deadline]]<=Dashboard!$B$4+7,"Due in 7 Days","Future")))))) | R17: =IF([@[Applicant ID]]="","",IF(COUNTIF(tblOffers[Applicant ID],[@[Applicant ID]])>1,"Duplicate Applicant ID",IF(OR([@[Entry Term]]="",[@[Program]]="",[@[Delivery Format]]="",[@[Offer Type]]="",[@[Offer Date]]="",[@[Outcome Status]]="",[@[Enrollment Status]]=""),"Missing Required Field",IF(AND([@[Response Deadline]]<>"",[@[Offer Date]]<>"",[@[Response Deadline]]<[@[Offer Date]]),"Deadline Before Offer",IF(AND([@[Response Date]]<>"",[@[Offer Date]]<>"",[@[Response Date]]<[@[Offer Date]]),"Response Before Offer",IF(AND(OR([@[Outcome Status]]="Accepted",[@[Outcome Status]]="Declined",[@[Outcome Status]]="Withdrawn"),[@[Response Date]]=""),"Missing Response Date",IF(AND([@[Outcome Status]]="Pending",[@[Response Date]]<>""),"Pending Has Response Date",IF(AND([@[Outcome Status]]="Pending",[@[Response Deadline]]=""),"Missing Response Deadline",IF(AND([@[Outcome Status]]<>"Accepted",OR([@[Enrollment Status]]="Deposited",[@[Enrollment Status]]="Enrolled",[@[Enrollment Status]]="Deferred")),"Enrollment Status Conflict",IF(AND([@[Enrollment Status]]="Enrolled",[@[Start Date]]=""),"Missing Start Date",IF(AND([@[Deposit Date]]<>"",[@[Response Date]]<>"",[@[Deposit Date]]<[@[Response Date]]),"Deposit Before Response","OK")))))))))))
P18: =IF(OR([@[Applicant ID]]="",[@[Outcome Status]]<>"Pending",[@[Response Deadline]]=""),"",[@[Response Deadline]]-Dashboard!$B$4) | Q18: =IF([@[Applicant ID]]="","",IF([@[Outcome Status]]<>"Pending","Closed",IF([@[Response Deadline]]="","Missing Deadline",IF([@[Response Deadline]]<Dashboard!$B$4,"Overdue",IF([@[Response Deadline]]=Dashboard!$B$4,"Due Today",IF([@[Response Deadline]]<=Dashboard!$B$4+7,"Due in 7 Days","Future")))))) | R18: =IF([@[Applicant ID]]="","",IF(COUNTIF(tblOffers[Applicant ID],[@[Applicant ID]])>1,"Duplicate Applicant ID",IF(OR([@[Entry Term]]="",[@[Program]]="",[@[Delivery Format]]="",[@[Offer Type]]="",[@[Offer Date]]="",[@[Outcome Status]]="",[@[Enrollment Status]]=""),"Missing Required Field",IF(AND([@[Response Deadline]]<>"",[@[Offer Date]]<>"",[@[Response Deadline]]<[@[Offer Date]]),"Deadline Before Offer",IF(AND([@[Response Date]]<>"",[@[Offer Date]]<>"",[@[Response Date]]<[@[Offer Date]]),"Response Before Offer",IF(AND(OR([@[Outcome Status]]="Accepted",[@[Outcome Status]]="Declined",[@[Outcome Status]]="Withdrawn"),[@[Response Date]]=""),"Missing Response Date",IF(AND([@[Outcome Status]]="Pending",[@[Response Date]]<>""),"Pending Has Response Date",IF(AND([@[Outcome Status]]="Pending",[@[Response Deadline]]=""),"Missing Response Deadline",IF(AND([@[Outcome Status]]<>"Accepted",OR([@[Enrollment Status]]="Deposited",[@[Enrollment Status]]="Enrolled",[@[Enrollment Status]]="Deferred")),"Enrollment Status Conflict",IF(AND([@[Enrollment Status]]="Enrolled",[@[Start Date]]=""),"Missing Start Date",IF(AND([@[Deposit Date]]<>"",[@[Response Date]]<>"",[@[Deposit Date]]<[@[Response Date]]),"Deposit Before Response","OK")))))))))))
P19: =IF(OR([@[Applicant ID]]="",[@[Outcome Status]]<>"Pending",[@[Response Deadline]]=""),"",[@[Response Deadline]]-Dashboard!$B$4) | Q19: =IF([@[Applicant ID]]="","",IF([@[Outcome Status]]<>"Pending","Closed",IF([@[Response Deadline]]="","Missing Deadline",IF([@[Response Deadline]]<Dashboard!$B$4,"Overdue",IF([@[Response Deadline]]=Dashboard!$B$4,"Due Today",IF([@[Response Deadline]]<=Dashboard!$B$4+7,"Due in 7 Days","Future")))))) | R19: =IF([@[Applicant ID]]="","",IF(COUNTIF(tblOffers[Applicant ID],[@[Applicant ID]])>1,"Duplicate Applicant ID",IF(OR([@[Entry Term]]="",[@[Program]]="",[@[Delivery Format]]="",[@[Offer Type]]="",[@[Offer Date]]="",[@[Outcome Status]]="",[@[Enrollment Status]]=""),"Missing Required Field",IF(AND([@[Response Deadline]]<>"",[@[Offer Date]]<>"",[@[Response Deadline]]<[@[Offer Date]]),"Deadline Before Offer",IF(AND([@[Response Date]]<>"",[@[Offer Date]]<>"",[@[Response Date]]<[@[Offer Date]]),"Response Before Offer",IF(AND(OR([@[Outcome Status]]="Accepted",[@[Outcome Status]]="Declined",[@[Outcome Status]]="Withdrawn"),[@[Response Date]]=""),"Missing Response Date",IF(AND([@[Outcome Status]]="Pending",[@[Response Date]]<>""),"Pending Has Response Date",IF(AND([@[Outcome Status]]="Pending",[@[Response Deadline]]=""),"Missing Response Deadline",IF(AND([@[Outcome Status]]<>"Accepted",OR([@[Enrollment Status]]="Deposited",[@[Enrollment Status]]="Enrolled",[@[Enrollment Status]]="Deferred")),"Enrollment Status Conflict",IF(AND([@[Enrollment Status]]="Enrolled",[@[Start Date]]=""),"Missing Start Date",IF(AND([@[Deposit Date]]<>"",[@[Response Date]]<>"",[@[Deposit Date]]<[@[Response Date]]),"Deposit Before Response","OK")))))))))))
P20: =IF(OR([@[Applicant ID]]="",[@[Outcome Status]]<>"Pending",[@[Response Deadline]]=""),"",[@[Response Deadline]]-Dashboard!$B$4) | Q20: =IF([@[Applicant ID]]="","",IF([@[Outcome Status]]<>"Pending","Closed",IF([@[Response Deadline]]="","Missing Deadline",IF([@[Response Deadline]]<Dashboard!$B$4,"Overdue",IF([@[Response Deadline]]=Dashboard!$B$4,"Due Today",IF([@[Response Deadline]]<=Dashboard!$B$4+7,"Due in 7 Days","Future")))))) | R20: =IF([@[Applicant ID]]="","",IF(COUNTIF(tblOffers[Applicant ID],[@[Applicant ID]])>1,"Duplicate Applicant ID",IF(OR([@[Entry Term]]="",[@[Program]]="",[@[Delivery Format]]="",[@[Offer Type]]="",[@[Offer Date]]="",[@[Outcome Status]]="",[@[Enrollment Status]]=""),"Missing Required Field",IF(AND([@[Response Deadline]]<>"",[@[Offer Date]]<>"",[@[Response Deadline]]<[@[Offer Date]]),"Deadline Before Offer",IF(AND([@[Response Date]]<>"",[@[Offer Date]]<>"",[@[Response Date]]<[@[Offer Date]]),"Response Before Offer",IF(AND(OR([@[Outcome Status]]="Accepted",[@[Outcome Status]]="Declined",[@[Outcome Status]]="Withdrawn"),[@[Response Date]]=""),"Missing Response Date",IF(AND([@[Outcome Status]]="Pending",[@[Response Date]]<>""),"Pending Has Response Date",IF(AND([@[Outcome Status]]="Pending",[@[Response Deadline]]=""),"Missing Response Deadline",IF(AND([@[Outcome Status]]<>"Accepted",OR([@[Enrollment Status]]="Deposited",[@[Enrollment Status]]="Enrolled",[@[Enrollment Status]]="Deferred")),"Enrollment Status Conflict",IF(AND([@[Enrollment Status]]="Enrolled",[@[Start Date]]=""),"Missing Start Date",IF(AND([@[Deposit Date]]<>"",[@[Response Date]]<>"",[@[Deposit Date]]<[@[Response Date]]),"Deposit Before Response","OK")))))))))))
P21: =IF(OR([@[Applicant ID]]="",[@[Outcome Status]]<>"Pending",[@[Response Deadline]]=""),"",[@[Response Deadline]]-Dashboard!$B$4) | Q21: =IF([@[Applicant ID]]="","",IF([@[Outcome Status]]<>"Pending","Closed",IF([@[Response Deadline]]="","Missing Deadline",IF([@[Response Deadline]]<Dashboard!$B$4,"Overdue",IF([@[Response Deadline]]=Dashboard!$B$4,"Due Today",IF([@[Response Deadline]]<=Dashboard!$B$4+7,"Due in 7 Days","Future")))))) | R21: =IF([@[Applicant ID]]="","",IF(COUNTIF(tblOffers[Applicant ID],[@[Applicant ID]])>1,"Duplicate Applicant ID",IF(OR([@[Entry Term]]="",[@[Program]]="",[@[Delivery Format]]="",[@[Offer Type]]="",[@[Offer Date]]="",[@[Outcome Status]]="",[@[Enrollment Status]]=""),"Missing Required Field",IF(AND([@[Response Deadline]]<>"",[@[Offer Date]]<>"",[@[Response Deadline]]<[@[Offer Date]]),"Deadline Before Offer",IF(AND([@[Response Date]]<>"",[@[Offer Date]]<>"",[@[Response Date]]<[@[Offer Date]]),"Response Before Offer",IF(AND(OR([@[Outcome Status]]="Accepted",[@[Outcome Status]]="Declined",[@[Outcome Status]]="Withdrawn"),[@[Response Date]]=""),"Missing Response Date",IF(AND([@[Outcome Status]]="Pending",[@[Response Date]]<>""),"Pending Has Response Date",IF(AND([@[Outcome Status]]="Pending",[@[Response Deadline]]=""),"Missing Response Deadline",IF(AND([@[Outcome Status]]<>"Accepted",OR([@[Enrollment Status]]="Deposited",[@[Enrollment Status]]="Enrolled",[@[Enrollment Status]]="Deferred")),"Enrollment Status Conflict",IF(AND([@[Enrollment Status]]="Enrolled",[@[Start Date]]=""),"Missing Start Date",IF(AND([@[Deposit Date]]<>"",[@[Response Date]]<>"",[@[Deposit Date]]<[@[Response Date]]),"Deposit Before Response","OK")))))))))))
P22: =IF(OR([@[Applicant ID]]="",[@[Outcome Status]]<>"Pending",[@[Response Deadline]]=""),"",[@[Response Deadline]]-Dashboard!$B$4) | Q22: =IF([@[Applicant ID]]="","",IF([@[Outcome Status]]<>"Pending","Closed",IF([@[Response Deadline]]="","Missing Deadline",IF([@[Response Deadline]]<Dashboard!$B$4,"Overdue",IF([@[Response Deadline]]=Dashboard!$B$4,"Due Today",IF([@[Response Deadline]]<=Dashboard!$B$4+7,"Due in 7 Days","Future")))))) | R22: =IF([@[Applicant ID]]="","",IF(COUNTIF(tblOffers[Applicant ID],[@[Applicant ID]])>1,"Duplicate Applicant ID",IF(OR([@[Entry Term]]="",[@[Program]]="",[@[Delivery Format]]="",[@[Offer Type]]="",[@[Offer Date]]="",[@[Outcome Status]]="",[@[Enrollment Status]]=""),"Missing Required Field",IF(AND([@[Response Deadline]]<>"",[@[Offer Date]]<>"",[@[Response Deadline]]<[@[Offer Date]]),"Deadline Before Offer",IF(AND([@[Response Date]]<>"",[@[Offer Date]]<>"",[@[Response Date]]<[@[Offer Date]]),"Response Before Offer",IF(AND(OR([@[Outcome Status]]="Accepted",[@[Outcome Status]]="Declined",[@[Outcome Status]]="Withdrawn"),[@[Response Date]]=""),"Missing Response Date",IF(AND([@[Outcome Status]]="Pending",[@[Response Date]]<>""),"Pending Has Response Date",IF(AND([@[Outcome Status]]="Pending",[@[Response Deadline]]=""),"Missing Response Deadline",IF(AND([@[Outcome Status]]<>"Accepted",OR([@[Enrollment Status]]="Deposited",[@[Enrollment Status]]="Enrolled",[@[Enrollment Status]]="Deferred")),"Enrollment Status Conflict",IF(AND([@[Enrollment Status]]="Enrolled",[@[Start Date]]=""),"Missing Start Date",IF(AND([@[Deposit Date]]<>"",[@[Response Date]]<>"",[@[Deposit Date]]<[@[Response Date]]),"Deposit Before Response","OK")))))))))))
P23: =IF(OR([@[Applicant ID]]="",[@[Outcome Status]]<>"Pending",[@[Response Deadline]]=""),"",[@[Response Deadline]]-Dashboard!$B$4) | Q23: =IF([@[Applicant ID]]="","",IF([@[Outcome Status]]<>"Pending","Closed",IF([@[Response Deadline]]="","Missing Deadline",IF([@[Response Deadline]]<Dashboard!$B$4,"Overdue",IF([@[Response Deadline]]=Dashboard!$B$4,"Due Today",IF([@[Response Deadline]]<=Dashboard!$B$4+7,"Due in 7 Days","Future")))))) | R23: =IF([@[Applicant ID]]="","",IF(COUNTIF(tblOffers[Applicant ID],[@[Applicant ID]])>1,"Duplicate Applicant ID",IF(OR([@[Entry Term]]="",[@[Program]]="",[@[Delivery Format]]="",[@[Offer Type]]="",[@[Offer Date]]="",[@[Outcome Status]]="",[@[Enrollment Status]]=""),"Missing Required Field",IF(AND([@[Response Deadline]]<>"",[@[Offer Date]]<>"",[@[Response Deadline]]<[@[Offer Date]]),"Deadline Before Offer",IF(AND([@[Response Date]]<>"",[@[Offer Date]]<>"",[@[Response Date]]<[@[Offer Date]]),"Response Before Offer",IF(AND(OR([@[Outcome Status]]="Accepted",[@[Outcome Status]]="Declined",[@[Outcome Status]]="Withdrawn"),[@[Response Date]]=""),"Missing Response Date",IF(AND([@[Outcome Status]]="Pending",[@[Response Date]]<>""),"Pending Has Response Date",IF(AND([@[Outcome Status]]="Pending",[@[Response Deadline]]=""),"Missing Response Deadline",IF(AND([@[Outcome Status]]<>"Accepted",OR([@[Enrollment Status]]="Deposited",[@[Enrollment Status]]="Enrolled",[@[Enrollment Status]]="Deferred")),"Enrollment Status Conflict",IF(AND([@[Enrollment Status]]="Enrolled",[@[Start Date]]=""),"Missing Start Date",IF(AND([@[Deposit Date]]<>"",[@[Response Date]]<>"",[@[Deposit Date]]<[@[Response Date]]),"Deposit Before Response","OK")))))))))))
P24: =IF(OR([@[Applicant ID]]="",[@[Outcome Status]]<>"Pending",[@[Response Deadline]]=""),"",[@[Response Deadline]]-Dashboard!$B$4) | Q24: =IF([@[Applicant ID]]="","",IF([@[Outcome Status]]<>"Pending","Closed",IF([@[Response Deadline]]="","Missing Deadline",IF([@[Response Deadline]]<Dashboard!$B$4,"Overdue",IF([@[Response Deadline]]=Dashboard!$B$4,"Due Today",IF([@[Response Deadline]]<=Dashboard!$B$4+7,"Due in 7 Days","Future")))))) | R24: =IF([@[Applicant ID]]="","",IF(COUNTIF(tblOffers[Applicant ID],[@[Applicant ID]])>1,"Duplicate Applicant ID",IF(OR([@[Entry Term]]="",[@[Program]]="",[@[Delivery Format]]="",[@[Offer Type]]="",[@[Offer Date]]="",[@[Outcome Status]]="",[@[Enrollment Status]]=""),"Missing Required Field",IF(AND([@[Response Deadline]]<>"",[@[Offer Date]]<>"",[@[Response Deadline]]<[@[Offer Date]]),"Deadline Before Offer",IF(AND([@[Response Date]]<>"",[@[Offer Date]]<>"",[@[Response Date]]<[@[Offer Date]]),"Response Before Offer",IF(AND(OR([@[Outcome Status]]="Accepted",[@[Outcome Status]]="Declined",[@[Outcome Status]]="Withdrawn"),[@[Response Date]]=""),"Missing Response Date",IF(AND([@[Outcome Status]]="Pending",[@[Response Date]]<>""),"Pending Has Response Date",IF(AND([@[Outcome Status]]="Pending",[@[Response Deadline]]=""),"Missing Response Deadline",IF(AND([@[Outcome Status]]<>"Accepted",OR([@[Enrollment Status]]="Deposited",[@[Enrollment Status]]="Enrolled",[@[Enrollment Status]]="Deferred")),"Enrollment Status Conflict",IF(AND([@[Enrollment Status]]="Enrolled",[@[Start Date]]=""),"Missing Start Date",IF(AND([@[Deposit Date]]<>"",[@[Response Date]]<>"",[@[Deposit Date]]<[@[Response Date]]),"Deposit Before Response","OK")))))))))))
P25: =IF(OR([@[Applicant ID]]="",[@[Outcome Status]]<>"Pending",[@[Response Deadline]]=""),"",[@[Response Deadline]]-Dashboard!$B$4) | Q25: =IF([@[Applicant ID]]="","",IF([@[Outcome Status]]<>"Pending","Closed",IF([@[Response Deadline]]="","Missing Deadline",IF([@[Response Deadline]]<Dashboard!$B$4,"Overdue",IF([@[Response Deadline]]=Dashboard!$B$4,"Due Today",IF([@[Response Deadline]]<=Dashboard!$B$4+7,"Due in 7 Days","Future")))))) | R25: =IF([@[Applicant ID]]="","",IF(COUNTIF(tblOffers[Applicant ID],[@[Applicant ID]])>1,"Duplicate Applicant ID",IF(OR([@[Entry Term]]="",[@[Program]]="",[@[Delivery Format]]="",[@[Offer Type]]="",[@[Offer Date]]="",[@[Outcome Status]]="",[@[Enrollment Status]]=""),"Missing Required Field",IF(AND([@[Response Deadline]]<>"",[@[Offer Date]]<>"",[@[Response Deadline]]<[@[Offer Date]]),"Deadline Before Offer",IF(AND([@[Response Date]]<>"",[@[Offer Date]]<>"",[@[Response Date]]<[@[Offer Date]]),"Response Before Offer",IF(AND(OR([@[Outcome Status]]="Accepted",[@[Outcome Status]]="Declined",[@[Outcome Status]]="Withdrawn"),[@[Response Date]]=""),"Missing Response Date",IF(AND([@[Outcome Status]]="Pending",[@[Response Date]]<>""),"Pending Has Response Date",IF(AND([@[Outcome Status]]="Pending",[@[Response Deadline]]=""),"Missing Response Deadline",IF(AND([@[Outcome Status]]<>"Accepted",OR([@[Enrollment Status]]="Deposited",[@[Enrollment Status]]="Enrolled",[@[Enrollment Status]]="Deferred")),"Enrollment Status Conflict",IF(AND([@[Enrollment Status]]="Enrolled",[@[Start Date]]=""),"Missing Start Date",IF(AND([@[Deposit Date]]<>"",[@[Response Date]]<>"",[@[Deposit Date]]<[@[Response Date]]),"Deposit Before Response","OK")))))))))))
P26: =IF(OR([@[Applicant ID]]="",[@[Outcome Status]]<>"Pending",[@[Response Deadline]]=""),"",[@[Response Deadline]]-Dashboard!$B$4) | Q26: =IF([@[Applicant ID]]="","",IF([@[Outcome Status]]<>"Pending","Closed",IF([@[Response Deadline]]="","Missing Deadline",IF([@[Response Deadline]]<Dashboard!$B$4,"Overdue",IF([@[Response Deadline]]=Dashboard!$B$4,"Due Today",IF([@[Response Deadline]]<=Dashboard!$B$4+7,"Due in 7 Days","Future")))))) | R26: =IF([@[Applicant ID]]="","",IF(COUNTIF(tblOffers[Applicant ID],[@[Applicant ID]])>1,"Duplicate Applicant ID",IF(OR([@[Entry Term]]="",[@[Program]]="",[@[Delivery Format]]="",[@[Offer Type]]="",[@[Offer Date]]="",[@[Outcome Status]]="",[@[Enrollment Status]]=""),"Missing Required Field",IF(AND([@[Response Deadline]]<>"",[@[Offer Date]]<>"",[@[Response Deadline]]<[@[Offer Date]]),"Deadline Before Offer",IF(AND([@[Response Date]]<>"",[@[Offer Date]]<>"",[@[Response Date]]<[@[Offer Date]]),"Response Before Offer",IF(AND(OR([@[Outcome Status]]="Accepted",[@[Outcome Status]]="Declined",[@[Outcome Status]]="Withdrawn"),[@[Response Date]]=""),"Missing Response Date",IF(AND([@[Outcome Status]]="Pending",[@[Response Date]]<>""),"Pending Has Response Date",IF(AND([@[Outcome Status]]="Pending",[@[Response Deadline]]=""),"Missing Response Deadline",IF(AND([@[Outcome Status]]<>"Accepted",OR([@[Enrollment Status]]="Deposited",[@[Enrollment Status]]="Enrolled",[@[Enrollment Status]]="Deferred")),"Enrollment Status Conflict",IF(AND([@[Enrollment Status]]="Enrolled",[@[Start Date]]=""),"Missing Start Date",IF(AND([@[Deposit Date]]<>"",[@[Response Date]]<>"",[@[Deposit Date]]<[@[Response Date]]),"Deposit Before Response","OK")))))))))))
... P154: =IF(OR([@[Applicant ID]]="",[@[Outcome Status]]<>"Pending",[@[Response Deadline]]=""),"",[@[Response Deadline]]-Dashboard!$B$4) | Q154: =IF([@[Applicant ID]]="","",IF([@[Outcome Status]]<>"Pending","Closed",IF([@[Response Deadline]]="","Missing Deadline",IF([@[Response Deadline]]<Dashboard!$B$4,"Overdue",IF([@[Response Deadline]]=Dashboard!$B$4,"Due Today",IF([@[Response Deadline]]<=Dashboard!$B$4+7,"Due in 7 Days","Future")))))) | R154: =IF([@[Applicant ID]]="","",IF(COUNTIF(tblOffers[Applicant ID],[@[Applicant ID]])>1,"Duplicate Applicant ID",IF(OR([@[Entry Term]]="",[@[Program]]="",[@[Delivery Format]]="",[@[Offer Type]]="",[@[Offer Date]]="",[@[Outcome Status]]="",[@[Enrollment Status]]=""),"Missing Required Field",IF(AND([@[Response Deadline]]<>"",[@[Offer Date]]<>"",[@[Response Deadline]]<[@[Offer Date]]),"Deadline Before Offer",IF(AND([@[Response Date]]<>"",[@[Offer Date]]<>"",[@[Response Date]]<[@[Offer Date]]),"Response Before Offer",IF(AND(OR([@[Outcome Status]]="Accepted",[@[Outcome Status]]="Declined",[@[Outcome Status]]="Withdrawn"),[@[Response Date]]=""),"Missing Response Date",IF(AND([@[Outcome Status]]="Pending",[@[Response Date]]<>""),"Pending Has Response Date",IF(AND([@[Outcome Status]]="Pending",[@[Response Deadline]]=""),"Missing Response Deadline",IF(AND([@[Outcome Status]]<>"Accepted",OR([@[Enrollment Status]]="Deposited",[@[Enrollment Status]]="Enrolled",[@[Enrollment Status]]="Deferred")),"Enrollment Status Conflict",IF(AND([@[Enrollment Status]]="Enrolled",[@[Start Date]]=""),"Missing Start Date",IF(AND([@[Deposit Date]]<>"",[@[Response Date]]<>"",[@[Deposit Date]]<[@[Response Date]]),"Deposit Before Response","OK")))))))))))

Sheet Lists & Settings
A1: Lists & Settings
A2: Maintain controlled lists and editable program goals used throughout the workbook.
F3: Entry Term | G3: Dashboard Entry Term | H3: Program | I3: Dashboard Program | J3: Delivery Format | K3: Recruitment Source | L3: Offer Type | M3: Outcome Status | N3: Enrollment Status | O3: Assigned Counselor
F4: Fall 2026 | G4: All | H4: Business Operations Diploma | I4: All | J4: Hybrid | K4: Alumni Referral | L4: Conditional | M4: Pending | N4: Pending | O4: Avery Brooks
F5: Spring 2027 | G5: Fall 2026 | H5: Cybersecurity Foundations | I5: Business Operations Diploma | J5: In Person | K5: Community Partner | L5: Early Offer | M5: Accepted | N5: Deposited | O5: Jordan Ellis
F6: Summer 2027 | G6: Spring 2027 | H6: Data Analytics Certificate | I6: Cybersecurity Foundations | J6: Online | K6: Digital Advertising | L6: Standard | M6: Declined | N6: Enrolled | O6: Morgan Lee
F7: Fall 2027 | G7: Summer 2027 | H7: Medical Office Administration | I7: Data Analytics Certificate | K7: Employer Referral | L7: Waitlist Conversion | M7: Withdrawn | N7: Deferred | O7: Riley Chen
A8: Program Goals | G8: Fall 2027 | H8: Project Management Certificate | I8: Medical Office Administration | K8: Information Session | M8: Expired | N8: Canceled
A9: Goals are editable planning assumptions. Keep one row per Entry Term and Program combination. | I9: Project Management Certificate | K9: Website Inquiry | N9: Not Applicable
A10: Entry Term | B10: Program | C10: Offer Goal | D10: Enrollment Goal | K10: Other
A11: Fall 2026 | B11: Business Operations Diploma | C11: 45 | D11: 24
A12: Fall 2026 | B12: Cybersecurity Foundations | C12: 55 | D12: 30
A13: Fall 2026 | B13: Data Analytics Certificate | C13: 60 | D13: 34
A14: Fall 2026 | B14: Medical Office Administration | C14: 40 | D14: 22
A15: Fall 2026 | B15: Project Management Certificate | C15: 50 | D15: 28
A16: Spring 2027 | B16: Business Operations Diploma | C16: 38 | D16: 20
A17: Spring 2027 | B17: Cybersecurity Foundations | C17: 48 | D17: 26
A18: Spring 2027 | B18: Data Analytics Certificate | C18: 52 | D18: 29
A19: Spring 2027 | B19: Medical Office Administration | C19: 35 | D19: 19
A20: Spring 2027 | B20: Project Management Certificate | C20: 42 | D20: 23
A21: Summer 2027 | B21: Business Operations Diploma | C21: 20 | D21: 11
A22: Summer 2027 | B22: Cybersecurity Foundations | C22: 24 | D22: 13
... A30: Fall 2027 | B30: Project Management Certificate | C30: 53 | D30: 29

Sheet Instructions
A1: Instructions
A3: Getting Started
A4: 1. Set the Review Date on the Dashboard. 2. Select an Entry Term and Program, or leave each filter set to All. 3. Add or update one admission offer per row in the Offer Tracker. 4. Use the drop-down values wherever provided. 5. Review deadline alerts and correct any row where Data Check is not OK.
A6: Status Definitions
A7: Pending: An offer has been issued and a response is still expected. Accepted: The applicant accepted the offer. Declined: The applicant declined the offer. Withdrawn: The offer or application was withdrawn before completion. Expired: The response deadline passed and the offer was closed without acceptance. Deposited: An accepted applicant submitted the organization’s required enrollment deposit or confirmation. Enrolled: The accepted applicant reached the organization’s operational enrollment milestone. Deferred: Enrollment is expected in a later term. Canceled: A prior enrollment intention was canceled. Not Applicable: No active enrollment step applies, generally because the offer was declined, withdrawn, or expired.
A9: Metric Definitions
A10: Offers Released: Populated records with an Offer Date. Awaiting Response: Records with Outcome Status set to Pending. Accepted Offers: Records with Outcome Status set to Accepted. Acceptance Rate: Accepted Offers divided by Offers Released. Enrollment Yield: Enrolled records divided by Offers Released. Due in Next 7 Days: Pending offers with a Response Deadline from the Review Date through seven days after the Review Date. Records Needing Review: Populated rows where Data Check is not OK. Goal Attainment: Enrolled records divided by the matching Enrollment Goal.
A12: Data Entry Guidance
A13: • Use fictional or organization-assigned applicant IDs, not applicant names. • Do not enter Social Security numbers, birth dates, addresses, medical information, demographic attributes, or academic records. • Avoid sensitive or detailed personal information. • Update Last Reviewed when a row is verified. • Do not type over the Days to Deadline, Deadline Status, or Data Check formulas. • Update controlled lists and goals only on Lists & Settings. • Add new terms and programs to the validation lists before using them in the tracker. • If extending the workbook beyond 150 prepared rows, extend the Excel table, formulas, validations, and conditional formatting together.
A15: Important Workbook Behavior
A16: The Dashboard shows current recorded statuses. Changing the Review Date updates deadline calculations but does not recreate a historical snapshot. This workbook is an operational planning tool and does not provide legal, regulatory, accreditation, or privacy advice.
