Workbook

Sheet Dashboard
A1: Harborlight Learning Institute | J1: Last refreshed | K1: =NOW()
A2: Admissions Decision Dashboard
A4: As of Date | B4: 46271 | D4: Total Applications | F4: Awaiting Decision | H4: Overdue Decisions | J4: Decisions Made
A5: Program | B5: All | D5: =SUMPRODUCT(--(tblAdmissions[Application ID]<>"")*--(tblAdmissions[Application Received]<>"")*--(tblAdmissions[Application Received]<=$B$4)*IF($B$5="All",1,--(tblAdmissions[Program]=$B$5))*IF($B$6="All",1,--(tblAdmissions[Term]=$B$6))*IF($B$7="All",1,--(tblAdmissions[Reviewer]=$B$7))) | F5: =SUMPRODUCT(--(tblAdmissions[Application ID]<>"")*--(tblAdmissions[Application Received]<>"")*--(tblAdmissions[Application Received]<=$B$4)*IF($B$5="All",1,--(tblAdmissions[Program]=$B$5))*IF($B$6="All",1,--(tblAdmissions[Term]=$B$6))*IF($B$7="All",1,--(tblAdmissions[Reviewer]=$B$7))*--(tblAdmissions[Decision]="Pending")) | H5: =SUMPRODUCT(--(tblAdmissions[Application ID]<>"")*--(tblAdmissions[Application Received]<>"")*--(tblAdmissions[Application Received]<=$B$4)*IF($B$5="All",1,--(tblAdmissions[Program]=$B$5))*IF($B$6="All",1,--(tblAdmissions[Term]=$B$6))*IF($B$7="All",1,--(tblAdmissions[Reviewer]=$B$7))*--(tblAdmissions[Decision]="Pending")*--(tblAdmissions[Decision Due Date]<>"")*--(tblAdmissions[Decision Due Date]<$B$4)) | J5: =SUMPRODUCT(--(tblAdmissions[Application ID]<>"")*--(tblAdmissions[Application Received]<>"")*--(tblAdmissions[Application Received]<=$B$4)*IF($B$5="All",1,--(tblAdmissions[Program]=$B$5))*IF($B$6="All",1,--(tblAdmissions[Term]=$B$6))*IF($B$7="All",1,--(tblAdmissions[Reviewer]=$B$7))*--ISNUMBER(MATCH(tblAdmissions[Decision],{"Admit","Deny","Waitlist","Withdrawn"},0))*--(tblAdmissions[Decision Date]<>"")*--(tblAdmissions[Decision Date]<=$B$4))
A6: Term | B6: All
A7: Reviewer | B7: All
A8: Due Soon Window | B8: 7 | D8: Admits | F8: Admission Rate | H8: Average Days to Decision | J8: Records Needing Action
A9: Response Follow-Up Days | B9: 14 | D9: =SUMPRODUCT(--(tblAdmissions[Application ID]<>"")*--(tblAdmissions[Application Received]<>"")*--(tblAdmissions[Application Received]<=$B$4)*IF($B$5="All",1,--(tblAdmissions[Program]=$B$5))*IF($B$6="All",1,--(tblAdmissions[Term]=$B$6))*IF($B$7="All",1,--(tblAdmissions[Reviewer]=$B$7))*--(tblAdmissions[Decision]="Admit")*--(tblAdmissions[Decision Date]<>"")*--(tblAdmissions[Decision Date]<=$B$4)) | F9: =IFERROR(SUMPRODUCT(--(tblAdmissions[Application ID]<>"")*--(tblAdmissions[Application Received]<>"")*--(tblAdmissions[Application Received]<=$B$4)*IF($B$5="All",1,--(tblAdmissions[Program]=$B$5))*IF($B$6="All",1,--(tblAdmissions[Term]=$B$6))*IF($B$7="All",1,--(tblAdmissions[Reviewer]=$B$7))*--(tblAdmissions[Decision]="Admit")*--(tblAdmissions[Decision Date]<>"")*--(tblAdmissions[Decision Date]<=$B$4))/(SUMPRODUCT(--(tblAdmissions[Application ID]<>"")*--(tblAdmissions[Application Received]<>"")*--(tblAdmissions[Application Received]<=$B$4)*IF($B$5="All",1,--(tblAdmissions[Program]=$B$5))*IF($B$6="All",1,--(tblAdmissions[Term]=$B$6))*IF($B$7="All",1,--(tblAdmissions[Reviewer]=$B$7))*--(tblAdmissions[Decision]="Admit")*--(tblAdmissions[Decision Date]<>"")*--(tblAdmissions[Decision Date]<=$B$4))+SUMPRODUCT(--(tblAdmissions[Application ID]<>"")*--(tblAdmissions[Application Received]<>"")*--(tblAdmissions[Application Received]<=$B$4)*IF($B$5="All",1,--(tblAdmissions[Program]=$B$5))*IF($B$6="All",1,--(tblAdmissions[Term]=$B$6))*IF($B$7="All",1,--(tblAdmissions[Reviewer]=$B$7))*--(tblAdmissions[Decision]="Deny")*--(tblAdmissions[Decision Date]<>"")*--(tblAdmissions[Decision Date]<=$B$4))),0) | H9: =IFERROR(SUMPRODUCT(--(tblAdmissions[Application ID]<>"")*--(tblAdmissions[Application Received]<>"")*--(tblAdmissions[Application Received]<=$B$4)*IF($B$5="All",1,--(tblAdmissions[Program]=$B$5))*IF($B$6="All",1,--(tblAdmissions[Term]=$B$6))*IF($B$7="All",1,--(tblAdmissions[Reviewer]=$B$7))*--(tblAdmissions[Decision Date]<>"")*--(tblAdmissions[Decision Date]<=$B$4)*IFERROR(tblAdmissions[Days to Decision],0))/SUMPRODUCT(--(tblAdmissions[Application ID]<>"")*--(tblAdmissions[Application Received]<>"")*--(tblAdmissions[Application Received]<=$B$4)*IF($B$5="All",1,--(tblAdmissions[Program]=$B$5))*IF($B$6="All",1,--(tblAdmissions[Term]=$B$6))*IF($B$7="All",1,--(tblAdmissions[Reviewer]=$B$7))*--(tblAdmissions[Decision Date]<>"")*--(tblAdmissions[Decision Date]<=$B$4)*--(tblAdmissions[Days to Decision]<>"")),"—") | J9: =SUMPRODUCT(--(tblAdmissions[Application ID]<>"")*--(tblAdmissions[Application Received]<>"")*--(tblAdmissions[Application Received]<=$B$4)*IF($B$5="All",1,--(tblAdmissions[Program]=$B$5))*IF($B$6="All",1,--(tblAdmissions[Term]=$B$6))*IF($B$7="All",1,--(tblAdmissions[Reviewer]=$B$7))*--(tblAdmissions[Action Alert]<>"")*--(tblAdmissions[Action Alert]<>"No action"))
A10: Notification Target Days | B10: 2
A13: Decision Status | B13: Application Count | D13: Action Category | E13: Record Count
A14: Pending | B14: =SUMPRODUCT(--(tblAdmissions[Application ID]<>"")*--(tblAdmissions[Application Received]<>"")*--(tblAdmissions[Application Received]<=$B$4)*IF($B$5="All",1,--(tblAdmissions[Program]=$B$5))*IF($B$6="All",1,--(tblAdmissions[Term]=$B$6))*IF($B$7="All",1,--(tblAdmissions[Reviewer]=$B$7))*--(tblAdmissions[Decision]=A14)) | D14: Fix record | E14: =SUMPRODUCT(--(tblAdmissions[Application ID]<>"")*--(tblAdmissions[Application Received]<>"")*--(tblAdmissions[Application Received]<=$B$4)*IF($B$5="All",1,--(tblAdmissions[Program]=$B$5))*IF($B$6="All",1,--(tblAdmissions[Term]=$B$6))*IF($B$7="All",1,--(tblAdmissions[Reviewer]=$B$7))*--(tblAdmissions[Action Alert]=D14))
A15: Admit | B15: =SUMPRODUCT(--(tblAdmissions[Application ID]<>"")*--(tblAdmissions[Application Received]<>"")*--(tblAdmissions[Application Received]<=$B$4)*IF($B$5="All",1,--(tblAdmissions[Program]=$B$5))*IF($B$6="All",1,--(tblAdmissions[Term]=$B$6))*IF($B$7="All",1,--(tblAdmissions[Reviewer]=$B$7))*--(tblAdmissions[Decision]=A15)) | D15: Decision overdue | E15: =SUMPRODUCT(--(tblAdmissions[Application ID]<>"")*--(tblAdmissions[Application Received]<>"")*--(tblAdmissions[Application Received]<=$B$4)*IF($B$5="All",1,--(tblAdmissions[Program]=$B$5))*IF($B$6="All",1,--(tblAdmissions[Term]=$B$6))*IF($B$7="All",1,--(tblAdmissions[Reviewer]=$B$7))*--(tblAdmissions[Action Alert]=D15))
A16: Deny | B16: =SUMPRODUCT(--(tblAdmissions[Application ID]<>"")*--(tblAdmissions[Application Received]<>"")*--(tblAdmissions[Application Received]<=$B$4)*IF($B$5="All",1,--(tblAdmissions[Program]=$B$5))*IF($B$6="All",1,--(tblAdmissions[Term]=$B$6))*IF($B$7="All",1,--(tblAdmissions[Reviewer]=$B$7))*--(tblAdmissions[Decision]=A16)) | D16: Decision due soon | E16: =SUMPRODUCT(--(tblAdmissions[Application ID]<>"")*--(tblAdmissions[Application Received]<>"")*--(tblAdmissions[Application Received]<=$B$4)*IF($B$5="All",1,--(tblAdmissions[Program]=$B$5))*IF($B$6="All",1,--(tblAdmissions[Term]=$B$6))*IF($B$7="All",1,--(tblAdmissions[Reviewer]=$B$7))*--(tblAdmissions[Action Alert]=D16))
A17: Waitlist | B17: =SUMPRODUCT(--(tblAdmissions[Application ID]<>"")*--(tblAdmissions[Application Received]<>"")*--(tblAdmissions[Application Received]<=$B$4)*IF($B$5="All",1,--(tblAdmissions[Program]=$B$5))*IF($B$6="All",1,--(tblAdmissions[Term]=$B$6))*IF($B$7="All",1,--(tblAdmissions[Reviewer]=$B$7))*--(tblAdmissions[Decision]=A17)) | D17: Send notification | E17: =SUMPRODUCT(--(tblAdmissions[Application ID]<>"")*--(tblAdmissions[Application Received]<>"")*--(tblAdmissions[Application Received]<=$B$4)*IF($B$5="All",1,--(tblAdmissions[Program]=$B$5))*IF($B$6="All",1,--(tblAdmissions[Term]=$B$6))*IF($B$7="All",1,--(tblAdmissions[Reviewer]=$B$7))*--(tblAdmissions[Action Alert]=D17))
A18: Withdrawn | B18: =SUMPRODUCT(--(tblAdmissions[Application ID]<>"")*--(tblAdmissions[Application Received]<>"")*--(tblAdmissions[Application Received]<=$B$4)*IF($B$5="All",1,--(tblAdmissions[Program]=$B$5))*IF($B$6="All",1,--(tblAdmissions[Term]=$B$6))*IF($B$7="All",1,--(tblAdmissions[Reviewer]=$B$7))*--(tblAdmissions[Decision]=A18)) | D18: Notification delayed | E18: =SUMPRODUCT(--(tblAdmissions[Application ID]<>"")*--(tblAdmissions[Application Received]<>"")*--(tblAdmissions[Application Received]<=$B$4)*IF($B$5="All",1,--(tblAdmissions[Program]=$B$5))*IF($B$6="All",1,--(tblAdmissions[Term]=$B$6))*IF($B$7="All",1,--(tblAdmissions[Reviewer]=$B$7))*--(tblAdmissions[Action Alert]=D18))
A19: Total | B19: =SUM(B14:B18) | D19: Follow up on response | E19: =SUMPRODUCT(--(tblAdmissions[Application ID]<>"")*--(tblAdmissions[Application Received]<>"")*--(tblAdmissions[Application Received]<=$B$4)*IF($B$5="All",1,--(tblAdmissions[Program]=$B$5))*IF($B$6="All",1,--(tblAdmissions[Term]=$B$6))*IF($B$7="All",1,--(tblAdmissions[Reviewer]=$B$7))*--(tblAdmissions[Action Alert]=D19))
B20: ="" | D20: Total needing action | E20: =SUM(E14:E19)
B21: ="" | E21: =""
B22: ="" | E22: =""
B23: ="" | E23: =""
B24: ="" | E24: =""
B25: ="" | E25: =""
B26: ="" | E26: =""
B27: ="" | E27: =""
B28: ="" | E28: =""
B29: ="" | E29: =""
B30: ="" | E30: =""
B31: ="" | E31: =""
B32: ="" | E32: =""
... B101: ="" | E101: =""

Sheet Decision Register
A1: Application ID | B1: Applicant Alias | C1: Program | D1: Term | E1: Delivery Site | F1: Application Received | G1: File Complete | H1: Priority | I1: Reviewer | J1: Decision Due Date | K1: Decision | L1: Decision Date | M1: Notification Date | N1: Applicant Response | O1: Response Date | P1: Deposit Received Date | Q1: Enrollment Status | R1: Last Reviewed | S1: Notes | T1: Days to Decision | U1: Notification Lag | V1: Days Pending | W1: Record Check | X1: Action Alert
A2: HLI-2026-1001 | B2: Applicant Cedar | C2: Applied Data Foundations | D2: Fall 2026 | E2: Harborlight Downtown | F2: 46223 | G2: 46227 | H2: Standard | I2: Jordan Lee | J2: 46244 | K2: Admit | L2: 46240 | M2: 46241 | N2: Accepted | O2: 46246 | P2: 46249 | Q2: Enrolled | R2: 46267 | S2: Orientation confirmation received. | T2: =IF($A2="","",IF(OR($F2="",$L2=""),"",MAX(0,$L2-$F2))) | U2: =IF($A2="","",IF(OR($L2="",$M2=""),"",MAX(0,$M2-$L2))) | V2: =IF($A2="","",IF($K2<>"Pending","",IF($F2="","",MAX(0,Dashboard!$B$4-$F2)))) | W2: =IF($A2="","",IF(COUNTIF($A$2:$A$251,$A2)>1,"Duplicate Application ID",IF($B2="","Missing applicant alias",IF($C2="","Missing program",IF($D2="","Missing term",IF($E2="","Missing delivery site",IF($F2="","Missing received date",IF($H2="","Missing priority",IF($I2="","Missing reviewer",IF($J2="","Missing decision due date",IF($K2="","Missing decision",IF($N2="","Missing applicant response",IF($Q2="","Missing enrollment status",IF(AND($G2<>"",$G2<$F2),"File complete before receipt",IF(AND($J2<>"",$J2<$F2),"Due date before receipt",IF(AND($K2="Pending",$L2<>""),"Pending record has decision date",IF(AND($K2<>"Pending",$L2=""),"Missing decision date",IF(AND($L2<>"",$L2<$F2),"Decision before receipt",IF(AND($M2<>"",$L2=""),"Notification without decision",IF(AND($M2<>"",$L2<>"",$M2<$L2),"Notification before decision",IF(AND(OR($K2="Admit",$K2="Deny",$K2="Waitlist"),$M2=""),"Missing notification date",IF(AND(OR($N2="Accepted",$N2="Declined"),$O2=""),"Missing response date",IF(AND($O2<>"",$N2="Awaiting"),"Awaiting response has response date",IF(AND($O2<>"",$M2=""),"Response without notification",IF(AND($O2<>"",$M2<>"",$O2<$M2),"Response before notification",IF(AND($P2<>"",$O2=""),"Deposit without response date",IF(AND($R2<>"",$R2>Dashboard!$B$4),"Last reviewed after as-of date","OK"))))))))))))))))))))))))))) | X2: =IF($A2="","",IF($W2<>"OK","Fix record",IF(AND($K2="Pending",$J2<Dashboard!$B$4),"Decision overdue",IF(AND($K2="Pending",$J2>=Dashboard!$B$4,$J2<=Dashboard!$B$4+Dashboard!$B$8),"Decision due soon",IF(AND(OR($K2="Admit",$K2="Deny",$K2="Waitlist"),$L2<>"",$M2=""),"Send notification",IF(AND($U2<>"",$U2>Dashboard!$B$10),"Notification delayed",IF(AND($K2="Admit",$N2="Awaiting",$M2<>"",Dashboard!$B$4-$M2>=Dashboard!$B$9),"Follow up on response","No action")))))))
A3: HLI-2026-1002 | B3: Applicant Maple | C3: Healthcare Office Essentials | D3: Fall 2026 | E3: Harborlight West | F3: 46252 | G3: 46256 | H3: High | I3: Morgan Reyes | J3: 46265 | K3: Pending | N3: Awaiting | Q3: Not Started | R3: 46270 | S3: File is ready for committee review. | T3: =IF($A3="","",IF(OR($F3="",$L3=""),"",MAX(0,$L3-$F3))) | U3: =IF($A3="","",IF(OR($L3="",$M3=""),"",MAX(0,$M3-$L3))) | V3: =IF($A3="","",IF($K3<>"Pending","",IF($F3="","",MAX(0,Dashboard!$B$4-$F3)))) | W3: =IF($A3="","",IF(COUNTIF($A$2:$A$251,$A3)>1,"Duplicate Application ID",IF($B3="","Missing applicant alias",IF($C3="","Missing program",IF($D3="","Missing term",IF($E3="","Missing delivery site",IF($F3="","Missing received date",IF($H3="","Missing priority",IF($I3="","Missing reviewer",IF($J3="","Missing decision due date",IF($K3="","Missing decision",IF($N3="","Missing applicant response",IF($Q3="","Missing enrollment status",IF(AND($G3<>"",$G3<$F3),"File complete before receipt",IF(AND($J3<>"",$J3<$F3),"Due date before receipt",IF(AND($K3="Pending",$L3<>""),"Pending record has decision date",IF(AND($K3<>"Pending",$L3=""),"Missing decision date",IF(AND($L3<>"",$L3<$F3),"Decision before receipt",IF(AND($M3<>"",$L3=""),"Notification without decision",IF(AND($M3<>"",$L3<>"",$M3<$L3),"Notification before decision",IF(AND(OR($K3="Admit",$K3="Deny",$K3="Waitlist"),$M3=""),"Missing notification date",IF(AND(OR($N3="Accepted",$N3="Declined"),$O3=""),"Missing response date",IF(AND($O3<>"",$N3="Awaiting"),"Awaiting response has response date",IF(AND($O3<>"",$M3=""),"Response without notification",IF(AND($O3<>"",$M3<>"",$O3<$M3),"Response before notification",IF(AND($P3<>"",$O3=""),"Deposit without response date",IF(AND($R3<>"",$R3>Dashboard!$B$4),"Last reviewed after as-of date","OK"))))))))))))))))))))))))))) | X3: =IF($A3="","",IF($W3<>"OK","Fix record",IF(AND($K3="Pending",$J3<Dashboard!$B$4),"Decision overdue",IF(AND($K3="Pending",$J3>=Dashboard!$B$4,$J3<=Dashboard!$B$4+Dashboard!$B$8),"Decision due soon",IF(AND(OR($K3="Admit",$K3="Deny",$K3="Waitlist"),$L3<>"",$M3=""),"Send notification",IF(AND($U3<>"",$U3>Dashboard!$B$10),"Notification delayed",IF(AND($K3="Admit",$N3="Awaiting",$M3<>"",Dashboard!$B$4-$M3>=Dashboard!$B$9),"Follow up on response","No action")))))))
A4: HLI-2026-1003 | B4: Applicant Birch | C4: Skilled Trades Bridge | D4: Fall 2026 | E4: Harborlight Technical Center | F4: 46259 | G4: 46262 | H4: Standard | I4: Casey Nguyen | J4: 46275 | K4: Pending | N4: Awaiting | Q4: Not Started | R4: 46269 | S4: Reviewer assignment confirmed. | T4: =IF($A4="","",IF(OR($F4="",$L4=""),"",MAX(0,$L4-$F4))) | U4: =IF($A4="","",IF(OR($L4="",$M4=""),"",MAX(0,$M4-$L4))) | V4: =IF($A4="","",IF($K4<>"Pending","",IF($F4="","",MAX(0,Dashboard!$B$4-$F4)))) | W4: =IF($A4="","",IF(COUNTIF($A$2:$A$251,$A4)>1,"Duplicate Application ID",IF($B4="","Missing applicant alias",IF($C4="","Missing program",IF($D4="","Missing term",IF($E4="","Missing delivery site",IF($F4="","Missing received date",IF($H4="","Missing priority",IF($I4="","Missing reviewer",IF($J4="","Missing decision due date",IF($K4="","Missing decision",IF($N4="","Missing applicant response",IF($Q4="","Missing enrollment status",IF(AND($G4<>"",$G4<$F4),"File complete before receipt",IF(AND($J4<>"",$J4<$F4),"Due date before receipt",IF(AND($K4="Pending",$L4<>""),"Pending record has decision date",IF(AND($K4<>"Pending",$L4=""),"Missing decision date",IF(AND($L4<>"",$L4<$F4),"Decision before receipt",IF(AND($M4<>"",$L4=""),"Notification without decision",IF(AND($M4<>"",$L4<>"",$M4<$L4),"Notification before decision",IF(AND(OR($K4="Admit",$K4="Deny",$K4="Waitlist"),$M4=""),"Missing notification date",IF(AND(OR($N4="Accepted",$N4="Declined"),$O4=""),"Missing response date",IF(AND($O4<>"",$N4="Awaiting"),"Awaiting response has response date",IF(AND($O4<>"",$M4=""),"Response without notification",IF(AND($O4<>"",$M4<>"",$O4<$M4),"Response before notification",IF(AND($P4<>"",$O4=""),"Deposit without response date",IF(AND($R4<>"",$R4>Dashboard!$B$4),"Last reviewed after as-of date","OK"))))))))))))))))))))))))))) | X4: =IF($A4="","",IF($W4<>"OK","Fix record",IF(AND($K4="Pending",$J4<Dashboard!$B$4),"Decision overdue",IF(AND($K4="Pending",$J4>=Dashboard!$B$4,$J4<=Dashboard!$B$4+Dashboard!$B$8),"Decision due soon",IF(AND(OR($K4="Admit",$K4="Deny",$K4="Waitlist"),$L4<>"",$M4=""),"Send notification",IF(AND($U4<>"",$U4>Dashboard!$B$10),"Notification delayed",IF(AND($K4="Admit",$N4="Awaiting",$M4<>"",Dashboard!$B$4-$M4>=Dashboard!$B$9),"Follow up on response","No action")))))))
A5: HLI-2026-1004 | B5: Applicant Willow | C5: Business Operations Certificate | D5: Winter 2027 | E5: Online | F5: 46246 | G5: 46250 | H5: Standard | I5: Taylor Brooks | J5: 46266 | K5: Admit | L5: 46264 | N5: Awaiting | Q5: Not Started | R5: 46268 | S5: Notification is pending. | T5: =IF($A5="","",IF(OR($F5="",$L5=""),"",MAX(0,$L5-$F5))) | U5: =IF($A5="","",IF(OR($L5="",$M5=""),"",MAX(0,$M5-$L5))) | V5: =IF($A5="","",IF($K5<>"Pending","",IF($F5="","",MAX(0,Dashboard!$B$4-$F5)))) | W5: =IF($A5="","",IF(COUNTIF($A$2:$A$251,$A5)>1,"Duplicate Application ID",IF($B5="","Missing applicant alias",IF($C5="","Missing program",IF($D5="","Missing term",IF($E5="","Missing delivery site",IF($F5="","Missing received date",IF($H5="","Missing priority",IF($I5="","Missing reviewer",IF($J5="","Missing decision due date",IF($K5="","Missing decision",IF($N5="","Missing applicant response",IF($Q5="","Missing enrollment status",IF(AND($G5<>"",$G5<$F5),"File complete before receipt",IF(AND($J5<>"",$J5<$F5),"Due date before receipt",IF(AND($K5="Pending",$L5<>""),"Pending record has decision date",IF(AND($K5<>"Pending",$L5=""),"Missing decision date",IF(AND($L5<>"",$L5<$F5),"Decision before receipt",IF(AND($M5<>"",$L5=""),"Notification without decision",IF(AND($M5<>"",$L5<>"",$M5<$L5),"Notification before decision",IF(AND(OR($K5="Admit",$K5="Deny",$K5="Waitlist"),$M5=""),"Missing notification date",IF(AND(OR($N5="Accepted",$N5="Declined"),$O5=""),"Missing response date",IF(AND($O5<>"",$N5="Awaiting"),"Awaiting response has response date",IF(AND($O5<>"",$M5=""),"Response without notification",IF(AND($O5<>"",$M5<>"",$O5<$M5),"Response before notification",IF(AND($P5<>"",$O5=""),"Deposit without response date",IF(AND($R5<>"",$R5>Dashboard!$B$4),"Last reviewed after as-of date","OK"))))))))))))))))))))))))))) | X5: =IF($A5="","",IF($W5<>"OK","Fix record",IF(AND($K5="Pending",$J5<Dashboard!$B$4),"Decision overdue",IF(AND($K5="Pending",$J5>=Dashboard!$B$4,$J5<=Dashboard!$B$4+Dashboard!$B$8),"Decision due soon",IF(AND(OR($K5="Admit",$K5="Deny",$K5="Waitlist"),$L5<>"",$M5=""),"Send notification",IF(AND($U5<>"",$U5>Dashboard!$B$10),"Notification delayed",IF(AND($K5="Admit",$N5="Awaiting",$M5<>"",Dashboard!$B$4-$M5>=Dashboard!$B$9),"Follow up on response","No action")))))))
A6: HLI-2026-1005 | B6: Applicant Juniper | C6: Applied Data Foundations | D6: Fall 2026 | E6: Online | F6: 46231 | G6: 46235 | H6: High | I6: Jordan Lee | J6: 46252 | K6: Admit | L6: 46249 | M6: 46250 | N6: Awaiting | Q6: Not Started | R6: 46270 | S6: Response follow-up is needed. | T6: =IF($A6="","",IF(OR($F6="",$L6=""),"",MAX(0,$L6-$F6))) | U6: =IF($A6="","",IF(OR($L6="",$M6=""),"",MAX(0,$M6-$L6))) | V6: =IF($A6="","",IF($K6<>"Pending","",IF($F6="","",MAX(0,Dashboard!$B$4-$F6)))) | W6: =IF($A6="","",IF(COUNTIF($A$2:$A$251,$A6)>1,"Duplicate Application ID",IF($B6="","Missing applicant alias",IF($C6="","Missing program",IF($D6="","Missing term",IF($E6="","Missing delivery site",IF($F6="","Missing received date",IF($H6="","Missing priority",IF($I6="","Missing reviewer",IF($J6="","Missing decision due date",IF($K6="","Missing decision",IF($N6="","Missing applicant response",IF($Q6="","Missing enrollment status",IF(AND($G6<>"",$G6<$F6),"File complete before receipt",IF(AND($J6<>"",$J6<$F6),"Due date before receipt",IF(AND($K6="Pending",$L6<>""),"Pending record has decision date",IF(AND($K6<>"Pending",$L6=""),"Missing decision date",IF(AND($L6<>"",$L6<$F6),"Decision before receipt",IF(AND($M6<>"",$L6=""),"Notification without decision",IF(AND($M6<>"",$L6<>"",$M6<$L6),"Notification before decision",IF(AND(OR($K6="Admit",$K6="Deny",$K6="Waitlist"),$M6=""),"Missing notification date",IF(AND(OR($N6="Accepted",$N6="Declined"),$O6=""),"Missing response date",IF(AND($O6<>"",$N6="Awaiting"),"Awaiting response has response date",IF(AND($O6<>"",$M6=""),"Response without notification",IF(AND($O6<>"",$M6<>"",$O6<$M6),"Response before notification",IF(AND($P6<>"",$O6=""),"Deposit without response date",IF(AND($R6<>"",$R6>Dashboard!$B$4),"Last reviewed after as-of date","OK"))))))))))))))))))))))))))) | X6: =IF($A6="","",IF($W6<>"OK","Fix record",IF(AND($K6="Pending",$J6<Dashboard!$B$4),"Decision overdue",IF(AND($K6="Pending",$J6>=Dashboard!$B$4,$J6<=Dashboard!$B$4+Dashboard!$B$8),"Decision due soon",IF(AND(OR($K6="Admit",$K6="Deny",$K6="Waitlist"),$L6<>"",$M6=""),"Send notification",IF(AND($U6<>"",$U6>Dashboard!$B$10),"Notification delayed",IF(AND($K6="Admit",$N6="Awaiting",$M6<>"",Dashboard!$B$4-$M6>=Dashboard!$B$9),"Follow up on response","No action")))))))
A7: HLI-2026-1006 | B7: Applicant Aspen | C7: Healthcare Office Essentials | D7: Fall 2026 | E7: Harborlight West | F7: 46233 | G7: 46237 | H7: Standard | I7: Morgan Reyes | J7: 46254 | K7: Deny | L7: 46253 | M7: 46258 | N7: Not Applicable | Q7: Not Applicable | R7: 46259 | S7: Decision notice recorded. | T7: =IF($A7="","",IF(OR($F7="",$L7=""),"",MAX(0,$L7-$F7))) | U7: =IF($A7="","",IF(OR($L7="",$M7=""),"",MAX(0,$M7-$L7))) | V7: =IF($A7="","",IF($K7<>"Pending","",IF($F7="","",MAX(0,Dashboard!$B$4-$F7)))) | W7: =IF($A7="","",IF(COUNTIF($A$2:$A$251,$A7)>1,"Duplicate Application ID",IF($B7="","Missing applicant alias",IF($C7="","Missing program",IF($D7="","Missing term",IF($E7="","Missing delivery site",IF($F7="","Missing received date",IF($H7="","Missing priority",IF($I7="","Missing reviewer",IF($J7="","Missing decision due date",IF($K7="","Missing decision",IF($N7="","Missing applicant response",IF($Q7="","Missing enrollment status",IF(AND($G7<>"",$G7<$F7),"File complete before receipt",IF(AND($J7<>"",$J7<$F7),"Due date before receipt",IF(AND($K7="Pending",$L7<>""),"Pending record has decision date",IF(AND($K7<>"Pending",$L7=""),"Missing decision date",IF(AND($L7<>"",$L7<$F7),"Decision before receipt",IF(AND($M7<>"",$L7=""),"Notification without decision",IF(AND($M7<>"",$L7<>"",$M7<$L7),"Notification before decision",IF(AND(OR($K7="Admit",$K7="Deny",$K7="Waitlist"),$M7=""),"Missing notification date",IF(AND(OR($N7="Accepted",$N7="Declined"),$O7=""),"Missing response date",IF(AND($O7<>"",$N7="Awaiting"),"Awaiting response has response date",IF(AND($O7<>"",$M7=""),"Response without notification",IF(AND($O7<>"",$M7<>"",$O7<$M7),"Response before notification",IF(AND($P7<>"",$O7=""),"Deposit without response date",IF(AND($R7<>"",$R7>Dashboard!$B$4),"Last reviewed after as-of date","OK"))))))))))))))))))))))))))) | X7: =IF($A7="","",IF($W7<>"OK","Fix record",IF(AND($K7="Pending",$J7<Dashboard!$B$4),"Decision overdue",IF(AND($K7="Pending",$J7>=Dashboard!$B$4,$J7<=Dashboard!$B$4+Dashboard!$B$8),"Decision due soon",IF(AND(OR($K7="Admit",$K7="Deny",$K7="Waitlist"),$L7<>"",$M7=""),"Send notification",IF(AND($U7<>"",$U7>Dashboard!$B$10),"Notification delayed",IF(AND($K7="Admit",$N7="Awaiting",$M7<>"",Dashboard!$B$4-$M7>=Dashboard!$B$9),"Follow up on response","No action")))))))
A8: HLI-2026-1007 | B8: Applicant Rowan | C8: Skilled Trades Bridge | D8: Fall 2026 | E8: Harborlight Technical Center | F8: 46236 | G8: 46241 | H8: Standard | I8: Casey Nguyen | J8: 46257 | K8: Waitlist | L8: 46256 | M8: 46257 | N8: Awaiting | Q8: Not Started | R8: 46266 | S8: Waitlist review planned later in the term. | T8: =IF($A8="","",IF(OR($F8="",$L8=""),"",MAX(0,$L8-$F8))) | U8: =IF($A8="","",IF(OR($L8="",$M8=""),"",MAX(0,$M8-$L8))) | V8: =IF($A8="","",IF($K8<>"Pending","",IF($F8="","",MAX(0,Dashboard!$B$4-$F8)))) | W8: =IF($A8="","",IF(COUNTIF($A$2:$A$251,$A8)>1,"Duplicate Application ID",IF($B8="","Missing applicant alias",IF($C8="","Missing program",IF($D8="","Missing term",IF($E8="","Missing delivery site",IF($F8="","Missing received date",IF($H8="","Missing priority",IF($I8="","Missing reviewer",IF($J8="","Missing decision due date",IF($K8="","Missing decision",IF($N8="","Missing applicant response",IF($Q8="","Missing enrollment status",IF(AND($G8<>"",$G8<$F8),"File complete before receipt",IF(AND($J8<>"",$J8<$F8),"Due date before receipt",IF(AND($K8="Pending",$L8<>""),"Pending record has decision date",IF(AND($K8<>"Pending",$L8=""),"Missing decision date",IF(AND($L8<>"",$L8<$F8),"Decision before receipt",IF(AND($M8<>"",$L8=""),"Notification without decision",IF(AND($M8<>"",$L8<>"",$M8<$L8),"Notification before decision",IF(AND(OR($K8="Admit",$K8="Deny",$K8="Waitlist"),$M8=""),"Missing notification date",IF(AND(OR($N8="Accepted",$N8="Declined"),$O8=""),"Missing response date",IF(AND($O8<>"",$N8="Awaiting"),"Awaiting response has response date",IF(AND($O8<>"",$M8=""),"Response without notification",IF(AND($O8<>"",$M8<>"",$O8<$M8),"Response before notification",IF(AND($P8<>"",$O8=""),"Deposit without response date",IF(AND($R8<>"",$R8>Dashboard!$B$4),"Last reviewed after as-of date","OK"))))))))))))))))))))))))))) | X8: =IF($A8="","",IF($W8<>"OK","Fix record",IF(AND($K8="Pending",$J8<Dashboard!$B$4),"Decision overdue",IF(AND($K8="Pending",$J8>=Dashboard!$B$4,$J8<=Dashboard!$B$4+Dashboard!$B$8),"Decision due soon",IF(AND(OR($K8="Admit",$K8="Deny",$K8="Waitlist"),$L8<>"",$M8=""),"Send notification",IF(AND($U8<>"",$U8>Dashboard!$B$10),"Notification delayed",IF(AND($K8="Admit",$N8="Awaiting",$M8<>"",Dashboard!$B$4-$M8>=Dashboard!$B$9),"Follow up on response","No action")))))))
A9: HLI-2026-1008 | B9: Applicant Sage | C9: Business Operations Certificate | D9: Winter 2027 | E9: Harborlight Downtown | F9: 46239 | G9: 46243 | H9: Low | I9: Taylor Brooks | J9: 46260 | K9: Withdrawn | L9: 46252 | N9: Not Applicable | Q9: Not Applicable | R9: 46252 | S9: Applicant withdrew before final review. | T9: =IF($A9="","",IF(OR($F9="",$L9=""),"",MAX(0,$L9-$F9))) | U9: =IF($A9="","",IF(OR($L9="",$M9=""),"",MAX(0,$M9-$L9))) | V9: =IF($A9="","",IF($K9<>"Pending","",IF($F9="","",MAX(0,Dashboard!$B$4-$F9)))) | W9: =IF($A9="","",IF(COUNTIF($A$2:$A$251,$A9)>1,"Duplicate Application ID",IF($B9="","Missing applicant alias",IF($C9="","Missing program",IF($D9="","Missing term",IF($E9="","Missing delivery site",IF($F9="","Missing received date",IF($H9="","Missing priority",IF($I9="","Missing reviewer",IF($J9="","Missing decision due date",IF($K9="","Missing decision",IF($N9="","Missing applicant response",IF($Q9="","Missing enrollment status",IF(AND($G9<>"",$G9<$F9),"File complete before receipt",IF(AND($J9<>"",$J9<$F9),"Due date before receipt",IF(AND($K9="Pending",$L9<>""),"Pending record has decision date",IF(AND($K9<>"Pending",$L9=""),"Missing decision date",IF(AND($L9<>"",$L9<$F9),"Decision before receipt",IF(AND($M9<>"",$L9=""),"Notification without decision",IF(AND($M9<>"",$L9<>"",$M9<$L9),"Notification before decision",IF(AND(OR($K9="Admit",$K9="Deny",$K9="Waitlist"),$M9=""),"Missing notification date",IF(AND(OR($N9="Accepted",$N9="Declined"),$O9=""),"Missing response date",IF(AND($O9<>"",$N9="Awaiting"),"Awaiting response has response date",IF(AND($O9<>"",$M9=""),"Response without notification",IF(AND($O9<>"",$M9<>"",$O9<$M9),"Response before notification",IF(AND($P9<>"",$O9=""),"Deposit without response date",IF(AND($R9<>"",$R9>Dashboard!$B$4),"Last reviewed after as-of date","OK"))))))))))))))))))))))))))) | X9: =IF($A9="","",IF($W9<>"OK","Fix record",IF(AND($K9="Pending",$J9<Dashboard!$B$4),"Decision overdue",IF(AND($K9="Pending",$J9>=Dashboard!$B$4,$J9<=Dashboard!$B$4+Dashboard!$B$8),"Decision due soon",IF(AND(OR($K9="Admit",$K9="Deny",$K9="Waitlist"),$L9<>"",$M9=""),"Send notification",IF(AND($U9<>"",$U9>Dashboard!$B$10),"Notification delayed",IF(AND($K9="Admit",$N9="Awaiting",$M9<>"",Dashboard!$B$4-$M9>=Dashboard!$B$9),"Follow up on response","No action")))))))
A10: HLI-2026-1009 | B10: Applicant Laurel | C10: Applied Data Foundations | D10: Winter 2027 | E10: Online | F10: 46244 | G10: 46248 | H10: Standard | I10: Jordan Lee | J10: 46265 | K10: Deny | L10: 46262 | M10: 46263 | N10: Not Applicable | Q10: Not Applicable | R10: 46267 | S10: Review cycle complete. | T10: =IF($A10="","",IF(OR($F10="",$L10=""),"",MAX(0,$L10-$F10))) | U10: =IF($A10="","",IF(OR($L10="",$M10=""),"",MAX(0,$M10-$L10))) | V10: =IF($A10="","",IF($K10<>"Pending","",IF($F10="","",MAX(0,Dashboard!$B$4-$F10)))) | W10: =IF($A10="","",IF(COUNTIF($A$2:$A$251,$A10)>1,"Duplicate Application ID",IF($B10="","Missing applicant alias",IF($C10="","Missing program",IF($D10="","Missing term",IF($E10="","Missing delivery site",IF($F10="","Missing received date",IF($H10="","Missing priority",IF($I10="","Missing reviewer",IF($J10="","Missing decision due date",IF($K10="","Missing decision",IF($N10="","Missing applicant response",IF($Q10="","Missing enrollment status",IF(AND($G10<>"",$G10<$F10),"File complete before receipt",IF(AND($J10<>"",$J10<$F10),"Due date before receipt",IF(AND($K10="Pending",$L10<>""),"Pending record has decision date",IF(AND($K10<>"Pending",$L10=""),"Missing decision date",IF(AND($L10<>"",$L10<$F10),"Decision before receipt",IF(AND($M10<>"",$L10=""),"Notification without decision",IF(AND($M10<>"",$L10<>"",$M10<$L10),"Notification before decision",IF(AND(OR($K10="Admit",$K10="Deny",$K10="Waitlist"),$M10=""),"Missing notification date",IF(AND(OR($N10="Accepted",$N10="Declined"),$O10=""),"Missing response date",IF(AND($O10<>"",$N10="Awaiting"),"Awaiting response has response date",IF(AND($O10<>"",$M10=""),"Response without notification",IF(AND($O10<>"",$M10<>"",$O10<$M10),"Response before notification",IF(AND($P10<>"",$O10=""),"Deposit without response date",IF(AND($R10<>"",$R10>Dashboard!$B$4),"Last reviewed after as-of date","OK"))))))))))))))))))))))))))) | X10: =IF($A10="","",IF($W10<>"OK","Fix record",IF(AND($K10="Pending",$J10<Dashboard!$B$4),"Decision overdue",IF(AND($K10="Pending",$J10>=Dashboard!$B$4,$J10<=Dashboard!$B$4+Dashboard!$B$8),"Decision due soon",IF(AND(OR($K10="Admit",$K10="Deny",$K10="Waitlist"),$L10<>"",$M10=""),"Send notification",IF(AND($U10<>"",$U10>Dashboard!$B$10),"Notification delayed",IF(AND($K10="Admit",$N10="Awaiting",$M10<>"",Dashboard!$B$4-$M10>=Dashboard!$B$9),"Follow up on response","No action")))))))
A11: HLI-2026-1010 | B11: Applicant Alder | C11: Healthcare Office Essentials | D11: Winter 2027 | E11: Harborlight West | F11: 46255 | G11: 46260 | H11: High | I11: Morgan Reyes | J11: 46277 | K11: Pending | N11: Awaiting | Q11: Not Started | R11: 46270 | S11: Priority review requested by program operations. | T11: =IF($A11="","",IF(OR($F11="",$L11=""),"",MAX(0,$L11-$F11))) | U11: =IF($A11="","",IF(OR($L11="",$M11=""),"",MAX(0,$M11-$L11))) | V11: =IF($A11="","",IF($K11<>"Pending","",IF($F11="","",MAX(0,Dashboard!$B$4-$F11)))) | W11: =IF($A11="","",IF(COUNTIF($A$2:$A$251,$A11)>1,"Duplicate Application ID",IF($B11="","Missing applicant alias",IF($C11="","Missing program",IF($D11="","Missing term",IF($E11="","Missing delivery site",IF($F11="","Missing received date",IF($H11="","Missing priority",IF($I11="","Missing reviewer",IF($J11="","Missing decision due date",IF($K11="","Missing decision",IF($N11="","Missing applicant response",IF($Q11="","Missing enrollment status",IF(AND($G11<>"",$G11<$F11),"File complete before receipt",IF(AND($J11<>"",$J11<$F11),"Due date before receipt",IF(AND($K11="Pending",$L11<>""),"Pending record has decision date",IF(AND($K11<>"Pending",$L11=""),"Missing decision date",IF(AND($L11<>"",$L11<$F11),"Decision before receipt",IF(AND($M11<>"",$L11=""),"Notification without decision",IF(AND($M11<>"",$L11<>"",$M11<$L11),"Notification before decision",IF(AND(OR($K11="Admit",$K11="Deny",$K11="Waitlist"),$M11=""),"Missing notification date",IF(AND(OR($N11="Accepted",$N11="Declined"),$O11=""),"Missing response date",IF(AND($O11<>"",$N11="Awaiting"),"Awaiting response has response date",IF(AND($O11<>"",$M11=""),"Response without notification",IF(AND($O11<>"",$M11<>"",$O11<$M11),"Response before notification",IF(AND($P11<>"",$O11=""),"Deposit without response date",IF(AND($R11<>"",$R11>Dashboard!$B$4),"Last reviewed after as-of date","OK"))))))))))))))))))))))))))) | X11: =IF($A11="","",IF($W11<>"OK","Fix record",IF(AND($K11="Pending",$J11<Dashboard!$B$4),"Decision overdue",IF(AND($K11="Pending",$J11>=Dashboard!$B$4,$J11<=Dashboard!$B$4+Dashboard!$B$8),"Decision due soon",IF(AND(OR($K11="Admit",$K11="Deny",$K11="Waitlist"),$L11<>"",$M11=""),"Send notification",IF(AND($U11<>"",$U11>Dashboard!$B$10),"Notification delayed",IF(AND($K11="Admit",$N11="Awaiting",$M11<>"",Dashboard!$B$4-$M11>=Dashboard!$B$9),"Follow up on response","No action")))))))
T12: =IF($A12="","",IF(OR($F12="",$L12=""),"",MAX(0,$L12-$F12))) | U12: =IF($A12="","",IF(OR($L12="",$M12=""),"",MAX(0,$M12-$L12))) | V12: =IF($A12="","",IF($K12<>"Pending","",IF($F12="","",MAX(0,Dashboard!$B$4-$F12)))) | W12: =IF($A12="","",IF(COUNTIF($A$2:$A$251,$A12)>1,"Duplicate Application ID",IF($B12="","Missing applicant alias",IF($C12="","Missing program",IF($D12="","Missing term",IF($E12="","Missing delivery site",IF($F12="","Missing received date",IF($H12="","Missing priority",IF($I12="","Missing reviewer",IF($J12="","Missing decision due date",IF($K12="","Missing decision",IF($N12="","Missing applicant response",IF($Q12="","Missing enrollment status",IF(AND($G12<>"",$G12<$F12),"File complete before receipt",IF(AND($J12<>"",$J12<$F12),"Due date before receipt",IF(AND($K12="Pending",$L12<>""),"Pending record has decision date",IF(AND($K12<>"Pending",$L12=""),"Missing decision date",IF(AND($L12<>"",$L12<$F12),"Decision before receipt",IF(AND($M12<>"",$L12=""),"Notification without decision",IF(AND($M12<>"",$L12<>"",$M12<$L12),"Notification before decision",IF(AND(OR($K12="Admit",$K12="Deny",$K12="Waitlist"),$M12=""),"Missing notification date",IF(AND(OR($N12="Accepted",$N12="Declined"),$O12=""),"Missing response date",IF(AND($O12<>"",$N12="Awaiting"),"Awaiting response has response date",IF(AND($O12<>"",$M12=""),"Response without notification",IF(AND($O12<>"",$M12<>"",$O12<$M12),"Response before notification",IF(AND($P12<>"",$O12=""),"Deposit without response date",IF(AND($R12<>"",$R12>Dashboard!$B$4),"Last reviewed after as-of date","OK"))))))))))))))))))))))))))) | X12: =IF($A12="","",IF($W12<>"OK","Fix record",IF(AND($K12="Pending",$J12<Dashboard!$B$4),"Decision overdue",IF(AND($K12="Pending",$J12>=Dashboard!$B$4,$J12<=Dashboard!$B$4+Dashboard!$B$8),"Decision due soon",IF(AND(OR($K12="Admit",$K12="Deny",$K12="Waitlist"),$L12<>"",$M12=""),"Send notification",IF(AND($U12<>"",$U12>Dashboard!$B$10),"Notification delayed",IF(AND($K12="Admit",$N12="Awaiting",$M12<>"",Dashboard!$B$4-$M12>=Dashboard!$B$9),"Follow up on response","No action")))))))
T13: =IF($A13="","",IF(OR($F13="",$L13=""),"",MAX(0,$L13-$F13))) | U13: =IF($A13="","",IF(OR($L13="",$M13=""),"",MAX(0,$M13-$L13))) | V13: =IF($A13="","",IF($K13<>"Pending","",IF($F13="","",MAX(0,Dashboard!$B$4-$F13)))) | W13: =IF($A13="","",IF(COUNTIF($A$2:$A$251,$A13)>1,"Duplicate Application ID",IF($B13="","Missing applicant alias",IF($C13="","Missing program",IF($D13="","Missing term",IF($E13="","Missing delivery site",IF($F13="","Missing received date",IF($H13="","Missing priority",IF($I13="","Missing reviewer",IF($J13="","Missing decision due date",IF($K13="","Missing decision",IF($N13="","Missing applicant response",IF($Q13="","Missing enrollment status",IF(AND($G13<>"",$G13<$F13),"File complete before receipt",IF(AND($J13<>"",$J13<$F13),"Due date before receipt",IF(AND($K13="Pending",$L13<>""),"Pending record has decision date",IF(AND($K13<>"Pending",$L13=""),"Missing decision date",IF(AND($L13<>"",$L13<$F13),"Decision before receipt",IF(AND($M13<>"",$L13=""),"Notification without decision",IF(AND($M13<>"",$L13<>"",$M13<$L13),"Notification before decision",IF(AND(OR($K13="Admit",$K13="Deny",$K13="Waitlist"),$M13=""),"Missing notification date",IF(AND(OR($N13="Accepted",$N13="Declined"),$O13=""),"Missing response date",IF(AND($O13<>"",$N13="Awaiting"),"Awaiting response has response date",IF(AND($O13<>"",$M13=""),"Response without notification",IF(AND($O13<>"",$M13<>"",$O13<$M13),"Response before notification",IF(AND($P13<>"",$O13=""),"Deposit without response date",IF(AND($R13<>"",$R13>Dashboard!$B$4),"Last reviewed after as-of date","OK"))))))))))))))))))))))))))) | X13: =IF($A13="","",IF($W13<>"OK","Fix record",IF(AND($K13="Pending",$J13<Dashboard!$B$4),"Decision overdue",IF(AND($K13="Pending",$J13>=Dashboard!$B$4,$J13<=Dashboard!$B$4+Dashboard!$B$8),"Decision due soon",IF(AND(OR($K13="Admit",$K13="Deny",$K13="Waitlist"),$L13<>"",$M13=""),"Send notification",IF(AND($U13<>"",$U13>Dashboard!$B$10),"Notification delayed",IF(AND($K13="Admit",$N13="Awaiting",$M13<>"",Dashboard!$B$4-$M13>=Dashboard!$B$9),"Follow up on response","No action")))))))
T14: =IF($A14="","",IF(OR($F14="",$L14=""),"",MAX(0,$L14-$F14))) | U14: =IF($A14="","",IF(OR($L14="",$M14=""),"",MAX(0,$M14-$L14))) | V14: =IF($A14="","",IF($K14<>"Pending","",IF($F14="","",MAX(0,Dashboard!$B$4-$F14)))) | W14: =IF($A14="","",IF(COUNTIF($A$2:$A$251,$A14)>1,"Duplicate Application ID",IF($B14="","Missing applicant alias",IF($C14="","Missing program",IF($D14="","Missing term",IF($E14="","Missing delivery site",IF($F14="","Missing received date",IF($H14="","Missing priority",IF($I14="","Missing reviewer",IF($J14="","Missing decision due date",IF($K14="","Missing decision",IF($N14="","Missing applicant response",IF($Q14="","Missing enrollment status",IF(AND($G14<>"",$G14<$F14),"File complete before receipt",IF(AND($J14<>"",$J14<$F14),"Due date before receipt",IF(AND($K14="Pending",$L14<>""),"Pending record has decision date",IF(AND($K14<>"Pending",$L14=""),"Missing decision date",IF(AND($L14<>"",$L14<$F14),"Decision before receipt",IF(AND($M14<>"",$L14=""),"Notification without decision",IF(AND($M14<>"",$L14<>"",$M14<$L14),"Notification before decision",IF(AND(OR($K14="Admit",$K14="Deny",$K14="Waitlist"),$M14=""),"Missing notification date",IF(AND(OR($N14="Accepted",$N14="Declined"),$O14=""),"Missing response date",IF(AND($O14<>"",$N14="Awaiting"),"Awaiting response has response date",IF(AND($O14<>"",$M14=""),"Response without notification",IF(AND($O14<>"",$M14<>"",$O14<$M14),"Response before notification",IF(AND($P14<>"",$O14=""),"Deposit without response date",IF(AND($R14<>"",$R14>Dashboard!$B$4),"Last reviewed after as-of date","OK"))))))))))))))))))))))))))) | X14: =IF($A14="","",IF($W14<>"OK","Fix record",IF(AND($K14="Pending",$J14<Dashboard!$B$4),"Decision overdue",IF(AND($K14="Pending",$J14>=Dashboard!$B$4,$J14<=Dashboard!$B$4+Dashboard!$B$8),"Decision due soon",IF(AND(OR($K14="Admit",$K14="Deny",$K14="Waitlist"),$L14<>"",$M14=""),"Send notification",IF(AND($U14<>"",$U14>Dashboard!$B$10),"Notification delayed",IF(AND($K14="Admit",$N14="Awaiting",$M14<>"",Dashboard!$B$4-$M14>=Dashboard!$B$9),"Follow up on response","No action")))))))
T15: =IF($A15="","",IF(OR($F15="",$L15=""),"",MAX(0,$L15-$F15))) | U15: =IF($A15="","",IF(OR($L15="",$M15=""),"",MAX(0,$M15-$L15))) | V15: =IF($A15="","",IF($K15<>"Pending","",IF($F15="","",MAX(0,Dashboard!$B$4-$F15)))) | W15: =IF($A15="","",IF(COUNTIF($A$2:$A$251,$A15)>1,"Duplicate Application ID",IF($B15="","Missing applicant alias",IF($C15="","Missing program",IF($D15="","Missing term",IF($E15="","Missing delivery site",IF($F15="","Missing received date",IF($H15="","Missing priority",IF($I15="","Missing reviewer",IF($J15="","Missing decision due date",IF($K15="","Missing decision",IF($N15="","Missing applicant response",IF($Q15="","Missing enrollment status",IF(AND($G15<>"",$G15<$F15),"File complete before receipt",IF(AND($J15<>"",$J15<$F15),"Due date before receipt",IF(AND($K15="Pending",$L15<>""),"Pending record has decision date",IF(AND($K15<>"Pending",$L15=""),"Missing decision date",IF(AND($L15<>"",$L15<$F15),"Decision before receipt",IF(AND($M15<>"",$L15=""),"Notification without decision",IF(AND($M15<>"",$L15<>"",$M15<$L15),"Notification before decision",IF(AND(OR($K15="Admit",$K15="Deny",$K15="Waitlist"),$M15=""),"Missing notification date",IF(AND(OR($N15="Accepted",$N15="Declined"),$O15=""),"Missing response date",IF(AND($O15<>"",$N15="Awaiting"),"Awaiting response has response date",IF(AND($O15<>"",$M15=""),"Response without notification",IF(AND($O15<>"",$M15<>"",$O15<$M15),"Response before notification",IF(AND($P15<>"",$O15=""),"Deposit without response date",IF(AND($R15<>"",$R15>Dashboard!$B$4),"Last reviewed after as-of date","OK"))))))))))))))))))))))))))) | X15: =IF($A15="","",IF($W15<>"OK","Fix record",IF(AND($K15="Pending",$J15<Dashboard!$B$4),"Decision overdue",IF(AND($K15="Pending",$J15>=Dashboard!$B$4,$J15<=Dashboard!$B$4+Dashboard!$B$8),"Decision due soon",IF(AND(OR($K15="Admit",$K15="Deny",$K15="Waitlist"),$L15<>"",$M15=""),"Send notification",IF(AND($U15<>"",$U15>Dashboard!$B$10),"Notification delayed",IF(AND($K15="Admit",$N15="Awaiting",$M15<>"",Dashboard!$B$4-$M15>=Dashboard!$B$9),"Follow up on response","No action")))))))
T16: =IF($A16="","",IF(OR($F16="",$L16=""),"",MAX(0,$L16-$F16))) | U16: =IF($A16="","",IF(OR($L16="",$M16=""),"",MAX(0,$M16-$L16))) | V16: =IF($A16="","",IF($K16<>"Pending","",IF($F16="","",MAX(0,Dashboard!$B$4-$F16)))) | W16: =IF($A16="","",IF(COUNTIF($A$2:$A$251,$A16)>1,"Duplicate Application ID",IF($B16="","Missing applicant alias",IF($C16="","Missing program",IF($D16="","Missing term",IF($E16="","Missing delivery site",IF($F16="","Missing received date",IF($H16="","Missing priority",IF($I16="","Missing reviewer",IF($J16="","Missing decision due date",IF($K16="","Missing decision",IF($N16="","Missing applicant response",IF($Q16="","Missing enrollment status",IF(AND($G16<>"",$G16<$F16),"File complete before receipt",IF(AND($J16<>"",$J16<$F16),"Due date before receipt",IF(AND($K16="Pending",$L16<>""),"Pending record has decision date",IF(AND($K16<>"Pending",$L16=""),"Missing decision date",IF(AND($L16<>"",$L16<$F16),"Decision before receipt",IF(AND($M16<>"",$L16=""),"Notification without decision",IF(AND($M16<>"",$L16<>"",$M16<$L16),"Notification before decision",IF(AND(OR($K16="Admit",$K16="Deny",$K16="Waitlist"),$M16=""),"Missing notification date",IF(AND(OR($N16="Accepted",$N16="Declined"),$O16=""),"Missing response date",IF(AND($O16<>"",$N16="Awaiting"),"Awaiting response has response date",IF(AND($O16<>"",$M16=""),"Response without notification",IF(AND($O16<>"",$M16<>"",$O16<$M16),"Response before notification",IF(AND($P16<>"",$O16=""),"Deposit without response date",IF(AND($R16<>"",$R16>Dashboard!$B$4),"Last reviewed after as-of date","OK"))))))))))))))))))))))))))) | X16: =IF($A16="","",IF($W16<>"OK","Fix record",IF(AND($K16="Pending",$J16<Dashboard!$B$4),"Decision overdue",IF(AND($K16="Pending",$J16>=Dashboard!$B$4,$J16<=Dashboard!$B$4+Dashboard!$B$8),"Decision due soon",IF(AND(OR($K16="Admit",$K16="Deny",$K16="Waitlist"),$L16<>"",$M16=""),"Send notification",IF(AND($U16<>"",$U16>Dashboard!$B$10),"Notification delayed",IF(AND($K16="Admit",$N16="Awaiting",$M16<>"",Dashboard!$B$4-$M16>=Dashboard!$B$9),"Follow up on response","No action")))))))
T17: =IF($A17="","",IF(OR($F17="",$L17=""),"",MAX(0,$L17-$F17))) | U17: =IF($A17="","",IF(OR($L17="",$M17=""),"",MAX(0,$M17-$L17))) | V17: =IF($A17="","",IF($K17<>"Pending","",IF($F17="","",MAX(0,Dashboard!$B$4-$F17)))) | W17: =IF($A17="","",IF(COUNTIF($A$2:$A$251,$A17)>1,"Duplicate Application ID",IF($B17="","Missing applicant alias",IF($C17="","Missing program",IF($D17="","Missing term",IF($E17="","Missing delivery site",IF($F17="","Missing received date",IF($H17="","Missing priority",IF($I17="","Missing reviewer",IF($J17="","Missing decision due date",IF($K17="","Missing decision",IF($N17="","Missing applicant response",IF($Q17="","Missing enrollment status",IF(AND($G17<>"",$G17<$F17),"File complete before receipt",IF(AND($J17<>"",$J17<$F17),"Due date before receipt",IF(AND($K17="Pending",$L17<>""),"Pending record has decision date",IF(AND($K17<>"Pending",$L17=""),"Missing decision date",IF(AND($L17<>"",$L17<$F17),"Decision before receipt",IF(AND($M17<>"",$L17=""),"Notification without decision",IF(AND($M17<>"",$L17<>"",$M17<$L17),"Notification before decision",IF(AND(OR($K17="Admit",$K17="Deny",$K17="Waitlist"),$M17=""),"Missing notification date",IF(AND(OR($N17="Accepted",$N17="Declined"),$O17=""),"Missing response date",IF(AND($O17<>"",$N17="Awaiting"),"Awaiting response has response date",IF(AND($O17<>"",$M17=""),"Response without notification",IF(AND($O17<>"",$M17<>"",$O17<$M17),"Response before notification",IF(AND($P17<>"",$O17=""),"Deposit without response date",IF(AND($R17<>"",$R17>Dashboard!$B$4),"Last reviewed after as-of date","OK"))))))))))))))))))))))))))) | X17: =IF($A17="","",IF($W17<>"OK","Fix record",IF(AND($K17="Pending",$J17<Dashboard!$B$4),"Decision overdue",IF(AND($K17="Pending",$J17>=Dashboard!$B$4,$J17<=Dashboard!$B$4+Dashboard!$B$8),"Decision due soon",IF(AND(OR($K17="Admit",$K17="Deny",$K17="Waitlist"),$L17<>"",$M17=""),"Send notification",IF(AND($U17<>"",$U17>Dashboard!$B$10),"Notification delayed",IF(AND($K17="Admit",$N17="Awaiting",$M17<>"",Dashboard!$B$4-$M17>=Dashboard!$B$9),"Follow up on response","No action")))))))
T18: =IF($A18="","",IF(OR($F18="",$L18=""),"",MAX(0,$L18-$F18))) | U18: =IF($A18="","",IF(OR($L18="",$M18=""),"",MAX(0,$M18-$L18))) | V18: =IF($A18="","",IF($K18<>"Pending","",IF($F18="","",MAX(0,Dashboard!$B$4-$F18)))) | W18: =IF($A18="","",IF(COUNTIF($A$2:$A$251,$A18)>1,"Duplicate Application ID",IF($B18="","Missing applicant alias",IF($C18="","Missing program",IF($D18="","Missing term",IF($E18="","Missing delivery site",IF($F18="","Missing received date",IF($H18="","Missing priority",IF($I18="","Missing reviewer",IF($J18="","Missing decision due date",IF($K18="","Missing decision",IF($N18="","Missing applicant response",IF($Q18="","Missing enrollment status",IF(AND($G18<>"",$G18<$F18),"File complete before receipt",IF(AND($J18<>"",$J18<$F18),"Due date before receipt",IF(AND($K18="Pending",$L18<>""),"Pending record has decision date",IF(AND($K18<>"Pending",$L18=""),"Missing decision date",IF(AND($L18<>"",$L18<$F18),"Decision before receipt",IF(AND($M18<>"",$L18=""),"Notification without decision",IF(AND($M18<>"",$L18<>"",$M18<$L18),"Notification before decision",IF(AND(OR($K18="Admit",$K18="Deny",$K18="Waitlist"),$M18=""),"Missing notification date",IF(AND(OR($N18="Accepted",$N18="Declined"),$O18=""),"Missing response date",IF(AND($O18<>"",$N18="Awaiting"),"Awaiting response has response date",IF(AND($O18<>"",$M18=""),"Response without notification",IF(AND($O18<>"",$M18<>"",$O18<$M18),"Response before notification",IF(AND($P18<>"",$O18=""),"Deposit without response date",IF(AND($R18<>"",$R18>Dashboard!$B$4),"Last reviewed after as-of date","OK"))))))))))))))))))))))))))) | X18: =IF($A18="","",IF($W18<>"OK","Fix record",IF(AND($K18="Pending",$J18<Dashboard!$B$4),"Decision overdue",IF(AND($K18="Pending",$J18>=Dashboard!$B$4,$J18<=Dashboard!$B$4+Dashboard!$B$8),"Decision due soon",IF(AND(OR($K18="Admit",$K18="Deny",$K18="Waitlist"),$L18<>"",$M18=""),"Send notification",IF(AND($U18<>"",$U18>Dashboard!$B$10),"Notification delayed",IF(AND($K18="Admit",$N18="Awaiting",$M18<>"",Dashboard!$B$4-$M18>=Dashboard!$B$9),"Follow up on response","No action")))))))
T19: =IF($A19="","",IF(OR($F19="",$L19=""),"",MAX(0,$L19-$F19))) | U19: =IF($A19="","",IF(OR($L19="",$M19=""),"",MAX(0,$M19-$L19))) | V19: =IF($A19="","",IF($K19<>"Pending","",IF($F19="","",MAX(0,Dashboard!$B$4-$F19)))) | W19: =IF($A19="","",IF(COUNTIF($A$2:$A$251,$A19)>1,"Duplicate Application ID",IF($B19="","Missing applicant alias",IF($C19="","Missing program",IF($D19="","Missing term",IF($E19="","Missing delivery site",IF($F19="","Missing received date",IF($H19="","Missing priority",IF($I19="","Missing reviewer",IF($J19="","Missing decision due date",IF($K19="","Missing decision",IF($N19="","Missing applicant response",IF($Q19="","Missing enrollment status",IF(AND($G19<>"",$G19<$F19),"File complete before receipt",IF(AND($J19<>"",$J19<$F19),"Due date before receipt",IF(AND($K19="Pending",$L19<>""),"Pending record has decision date",IF(AND($K19<>"Pending",$L19=""),"Missing decision date",IF(AND($L19<>"",$L19<$F19),"Decision before receipt",IF(AND($M19<>"",$L19=""),"Notification without decision",IF(AND($M19<>"",$L19<>"",$M19<$L19),"Notification before decision",IF(AND(OR($K19="Admit",$K19="Deny",$K19="Waitlist"),$M19=""),"Missing notification date",IF(AND(OR($N19="Accepted",$N19="Declined"),$O19=""),"Missing response date",IF(AND($O19<>"",$N19="Awaiting"),"Awaiting response has response date",IF(AND($O19<>"",$M19=""),"Response without notification",IF(AND($O19<>"",$M19<>"",$O19<$M19),"Response before notification",IF(AND($P19<>"",$O19=""),"Deposit without response date",IF(AND($R19<>"",$R19>Dashboard!$B$4),"Last reviewed after as-of date","OK"))))))))))))))))))))))))))) | X19: =IF($A19="","",IF($W19<>"OK","Fix record",IF(AND($K19="Pending",$J19<Dashboard!$B$4),"Decision overdue",IF(AND($K19="Pending",$J19>=Dashboard!$B$4,$J19<=Dashboard!$B$4+Dashboard!$B$8),"Decision due soon",IF(AND(OR($K19="Admit",$K19="Deny",$K19="Waitlist"),$L19<>"",$M19=""),"Send notification",IF(AND($U19<>"",$U19>Dashboard!$B$10),"Notification delayed",IF(AND($K19="Admit",$N19="Awaiting",$M19<>"",Dashboard!$B$4-$M19>=Dashboard!$B$9),"Follow up on response","No action")))))))
T20: =IF($A20="","",IF(OR($F20="",$L20=""),"",MAX(0,$L20-$F20))) | U20: =IF($A20="","",IF(OR($L20="",$M20=""),"",MAX(0,$M20-$L20))) | V20: =IF($A20="","",IF($K20<>"Pending","",IF($F20="","",MAX(0,Dashboard!$B$4-$F20)))) | W20: =IF($A20="","",IF(COUNTIF($A$2:$A$251,$A20)>1,"Duplicate Application ID",IF($B20="","Missing applicant alias",IF($C20="","Missing program",IF($D20="","Missing term",IF($E20="","Missing delivery site",IF($F20="","Missing received date",IF($H20="","Missing priority",IF($I20="","Missing reviewer",IF($J20="","Missing decision due date",IF($K20="","Missing decision",IF($N20="","Missing applicant response",IF($Q20="","Missing enrollment status",IF(AND($G20<>"",$G20<$F20),"File complete before receipt",IF(AND($J20<>"",$J20<$F20),"Due date before receipt",IF(AND($K20="Pending",$L20<>""),"Pending record has decision date",IF(AND($K20<>"Pending",$L20=""),"Missing decision date",IF(AND($L20<>"",$L20<$F20),"Decision before receipt",IF(AND($M20<>"",$L20=""),"Notification without decision",IF(AND($M20<>"",$L20<>"",$M20<$L20),"Notification before decision",IF(AND(OR($K20="Admit",$K20="Deny",$K20="Waitlist"),$M20=""),"Missing notification date",IF(AND(OR($N20="Accepted",$N20="Declined"),$O20=""),"Missing response date",IF(AND($O20<>"",$N20="Awaiting"),"Awaiting response has response date",IF(AND($O20<>"",$M20=""),"Response without notification",IF(AND($O20<>"",$M20<>"",$O20<$M20),"Response before notification",IF(AND($P20<>"",$O20=""),"Deposit without response date",IF(AND($R20<>"",$R20>Dashboard!$B$4),"Last reviewed after as-of date","OK"))))))))))))))))))))))))))) | X20: =IF($A20="","",IF($W20<>"OK","Fix record",IF(AND($K20="Pending",$J20<Dashboard!$B$4),"Decision overdue",IF(AND($K20="Pending",$J20>=Dashboard!$B$4,$J20<=Dashboard!$B$4+Dashboard!$B$8),"Decision due soon",IF(AND(OR($K20="Admit",$K20="Deny",$K20="Waitlist"),$L20<>"",$M20=""),"Send notification",IF(AND($U20<>"",$U20>Dashboard!$B$10),"Notification delayed",IF(AND($K20="Admit",$N20="Awaiting",$M20<>"",Dashboard!$B$4-$M20>=Dashboard!$B$9),"Follow up on response","No action")))))))
T21: =IF($A21="","",IF(OR($F21="",$L21=""),"",MAX(0,$L21-$F21))) | U21: =IF($A21="","",IF(OR($L21="",$M21=""),"",MAX(0,$M21-$L21))) | V21: =IF($A21="","",IF($K21<>"Pending","",IF($F21="","",MAX(0,Dashboard!$B$4-$F21)))) | W21: =IF($A21="","",IF(COUNTIF($A$2:$A$251,$A21)>1,"Duplicate Application ID",IF($B21="","Missing applicant alias",IF($C21="","Missing program",IF($D21="","Missing term",IF($E21="","Missing delivery site",IF($F21="","Missing received date",IF($H21="","Missing priority",IF($I21="","Missing reviewer",IF($J21="","Missing decision due date",IF($K21="","Missing decision",IF($N21="","Missing applicant response",IF($Q21="","Missing enrollment status",IF(AND($G21<>"",$G21<$F21),"File complete before receipt",IF(AND($J21<>"",$J21<$F21),"Due date before receipt",IF(AND($K21="Pending",$L21<>""),"Pending record has decision date",IF(AND($K21<>"Pending",$L21=""),"Missing decision date",IF(AND($L21<>"",$L21<$F21),"Decision before receipt",IF(AND($M21<>"",$L21=""),"Notification without decision",IF(AND($M21<>"",$L21<>"",$M21<$L21),"Notification before decision",IF(AND(OR($K21="Admit",$K21="Deny",$K21="Waitlist"),$M21=""),"Missing notification date",IF(AND(OR($N21="Accepted",$N21="Declined"),$O21=""),"Missing response date",IF(AND($O21<>"",$N21="Awaiting"),"Awaiting response has response date",IF(AND($O21<>"",$M21=""),"Response without notification",IF(AND($O21<>"",$M21<>"",$O21<$M21),"Response before notification",IF(AND($P21<>"",$O21=""),"Deposit without response date",IF(AND($R21<>"",$R21>Dashboard!$B$4),"Last reviewed after as-of date","OK"))))))))))))))))))))))))))) | X21: =IF($A21="","",IF($W21<>"OK","Fix record",IF(AND($K21="Pending",$J21<Dashboard!$B$4),"Decision overdue",IF(AND($K21="Pending",$J21>=Dashboard!$B$4,$J21<=Dashboard!$B$4+Dashboard!$B$8),"Decision due soon",IF(AND(OR($K21="Admit",$K21="Deny",$K21="Waitlist"),$L21<>"",$M21=""),"Send notification",IF(AND($U21<>"",$U21>Dashboard!$B$10),"Notification delayed",IF(AND($K21="Admit",$N21="Awaiting",$M21<>"",Dashboard!$B$4-$M21>=Dashboard!$B$9),"Follow up on response","No action")))))))
T22: =IF($A22="","",IF(OR($F22="",$L22=""),"",MAX(0,$L22-$F22))) | U22: =IF($A22="","",IF(OR($L22="",$M22=""),"",MAX(0,$M22-$L22))) | V22: =IF($A22="","",IF($K22<>"Pending","",IF($F22="","",MAX(0,Dashboard!$B$4-$F22)))) | W22: =IF($A22="","",IF(COUNTIF($A$2:$A$251,$A22)>1,"Duplicate Application ID",IF($B22="","Missing applicant alias",IF($C22="","Missing program",IF($D22="","Missing term",IF($E22="","Missing delivery site",IF($F22="","Missing received date",IF($H22="","Missing priority",IF($I22="","Missing reviewer",IF($J22="","Missing decision due date",IF($K22="","Missing decision",IF($N22="","Missing applicant response",IF($Q22="","Missing enrollment status",IF(AND($G22<>"",$G22<$F22),"File complete before receipt",IF(AND($J22<>"",$J22<$F22),"Due date before receipt",IF(AND($K22="Pending",$L22<>""),"Pending record has decision date",IF(AND($K22<>"Pending",$L22=""),"Missing decision date",IF(AND($L22<>"",$L22<$F22),"Decision before receipt",IF(AND($M22<>"",$L22=""),"Notification without decision",IF(AND($M22<>"",$L22<>"",$M22<$L22),"Notification before decision",IF(AND(OR($K22="Admit",$K22="Deny",$K22="Waitlist"),$M22=""),"Missing notification date",IF(AND(OR($N22="Accepted",$N22="Declined"),$O22=""),"Missing response date",IF(AND($O22<>"",$N22="Awaiting"),"Awaiting response has response date",IF(AND($O22<>"",$M22=""),"Response without notification",IF(AND($O22<>"",$M22<>"",$O22<$M22),"Response before notification",IF(AND($P22<>"",$O22=""),"Deposit without response date",IF(AND($R22<>"",$R22>Dashboard!$B$4),"Last reviewed after as-of date","OK"))))))))))))))))))))))))))) | X22: =IF($A22="","",IF($W22<>"OK","Fix record",IF(AND($K22="Pending",$J22<Dashboard!$B$4),"Decision overdue",IF(AND($K22="Pending",$J22>=Dashboard!$B$4,$J22<=Dashboard!$B$4+Dashboard!$B$8),"Decision due soon",IF(AND(OR($K22="Admit",$K22="Deny",$K22="Waitlist"),$L22<>"",$M22=""),"Send notification",IF(AND($U22<>"",$U22>Dashboard!$B$10),"Notification delayed",IF(AND($K22="Admit",$N22="Awaiting",$M22<>"",Dashboard!$B$4-$M22>=Dashboard!$B$9),"Follow up on response","No action")))))))
T23: =IF($A23="","",IF(OR($F23="",$L23=""),"",MAX(0,$L23-$F23))) | U23: =IF($A23="","",IF(OR($L23="",$M23=""),"",MAX(0,$M23-$L23))) | V23: =IF($A23="","",IF($K23<>"Pending","",IF($F23="","",MAX(0,Dashboard!$B$4-$F23)))) | W23: =IF($A23="","",IF(COUNTIF($A$2:$A$251,$A23)>1,"Duplicate Application ID",IF($B23="","Missing applicant alias",IF($C23="","Missing program",IF($D23="","Missing term",IF($E23="","Missing delivery site",IF($F23="","Missing received date",IF($H23="","Missing priority",IF($I23="","Missing reviewer",IF($J23="","Missing decision due date",IF($K23="","Missing decision",IF($N23="","Missing applicant response",IF($Q23="","Missing enrollment status",IF(AND($G23<>"",$G23<$F23),"File complete before receipt",IF(AND($J23<>"",$J23<$F23),"Due date before receipt",IF(AND($K23="Pending",$L23<>""),"Pending record has decision date",IF(AND($K23<>"Pending",$L23=""),"Missing decision date",IF(AND($L23<>"",$L23<$F23),"Decision before receipt",IF(AND($M23<>"",$L23=""),"Notification without decision",IF(AND($M23<>"",$L23<>"",$M23<$L23),"Notification before decision",IF(AND(OR($K23="Admit",$K23="Deny",$K23="Waitlist"),$M23=""),"Missing notification date",IF(AND(OR($N23="Accepted",$N23="Declined"),$O23=""),"Missing response date",IF(AND($O23<>"",$N23="Awaiting"),"Awaiting response has response date",IF(AND($O23<>"",$M23=""),"Response without notification",IF(AND($O23<>"",$M23<>"",$O23<$M23),"Response before notification",IF(AND($P23<>"",$O23=""),"Deposit without response date",IF(AND($R23<>"",$R23>Dashboard!$B$4),"Last reviewed after as-of date","OK"))))))))))))))))))))))))))) | X23: =IF($A23="","",IF($W23<>"OK","Fix record",IF(AND($K23="Pending",$J23<Dashboard!$B$4),"Decision overdue",IF(AND($K23="Pending",$J23>=Dashboard!$B$4,$J23<=Dashboard!$B$4+Dashboard!$B$8),"Decision due soon",IF(AND(OR($K23="Admit",$K23="Deny",$K23="Waitlist"),$L23<>"",$M23=""),"Send notification",IF(AND($U23<>"",$U23>Dashboard!$B$10),"Notification delayed",IF(AND($K23="Admit",$N23="Awaiting",$M23<>"",Dashboard!$B$4-$M23>=Dashboard!$B$9),"Follow up on response","No action")))))))
... T251: =IF($A251="","",IF(OR($F251="",$L251=""),"",MAX(0,$L251-$F251))) | U251: =IF($A251="","",IF(OR($L251="",$M251=""),"",MAX(0,$M251-$L251))) | V251: =IF($A251="","",IF($K251<>"Pending","",IF($F251="","",MAX(0,Dashboard!$B$4-$F251)))) | W251: =IF($A251="","",IF(COUNTIF($A$2:$A$251,$A251)>1,"Duplicate Application ID",IF($B251="","Missing applicant alias",IF($C251="","Missing program",IF($D251="","Missing term",IF($E251="","Missing delivery site",IF($F251="","Missing received date",IF($H251="","Missing priority",IF($I251="","Missing reviewer",IF($J251="","Missing decision due date",IF($K251="","Missing decision",IF($N251="","Missing applicant response",IF($Q251="","Missing enrollment status",IF(AND($G251<>"",$G251<$F251),"File complete before receipt",IF(AND($J251<>"",$J251<$F251),"Due date before receipt",IF(AND($K251="Pending",$L251<>""),"Pending record has decision date",IF(AND($K251<>"Pending",$L251=""),"Missing decision date",IF(AND($L251<>"",$L251<$F251),"Decision before receipt",IF(AND($M251<>"",$L251=""),"Notification without decision",IF(AND($M251<>"",$L251<>"",$M251<$L251),"Notification before decision",IF(AND(OR($K251="Admit",$K251="Deny",$K251="Waitlist"),$M251=""),"Missing notification date",IF(AND(OR($N251="Accepted",$N251="Declined"),$O251=""),"Missing response date",IF(AND($O251<>"",$N251="Awaiting"),"Awaiting response has response date",IF(AND($O251<>"",$M251=""),"Response without notification",IF(AND($O251<>"",$M251<>"",$O251<$M251),"Response before notification",IF(AND($P251<>"",$O251=""),"Deposit without response date",IF(AND($R251<>"",$R251>Dashboard!$B$4),"Last reviewed after as-of date","OK"))))))))))))))))))))))))))) | X251: =IF($A251="","",IF($W251<>"OK","Fix record",IF(AND($K251="Pending",$J251<Dashboard!$B$4),"Decision overdue",IF(AND($K251="Pending",$J251>=Dashboard!$B$4,$J251<=Dashboard!$B$4+Dashboard!$B$8),"Decision due soon",IF(AND(OR($K251="Admit",$K251="Deny",$K251="Waitlist"),$L251<>"",$M251=""),"Send notification",IF(AND($U251<>"",$U251>Dashboard!$B$10),"Notification delayed",IF(AND($K251="Admit",$N251="Awaiting",$M251<>"",Dashboard!$B$4-$M251>=Dashboard!$B$9),"Follow up on response","No action")))))))

