Workbook

Sheet Dashboard
A1: Attendance Dashboard | J1: Last Calculated | K1: =NOW()
A2: Review attendance results and follow-up items for the selected reporting period.
A4: Start Date | C4: End Date | E4: Group | F4: All Groups
A6: =IF(AND($B$4<>"",$D$4<>"",$B$4>$D$4),"Start Date must be on or before End Date.","")
A8: Attendance Rate | D8: Counted Sessions | G8: Attended Sessions
A9: =IF(NOT(NOT(AND($B$4<>"",$D$4<>"",$B$4>$D$4))),"",IFERROR(SUMPRODUCT(('Attendance Log'!$A$5:$A$504<>"")*('Attendance Log'!$B$5:$B$504>=IF($B$4="",0,$B$4))*('Attendance Log'!$B$5:$B$504<=IF($D$4="",DATE(9999,12,31),$D$4))*(--((('Attendance Log'!$F$5:$F$504=$F$4)+($F$4="All Groups"))>0))*'Attendance Log'!$L$5:$L$504)/SUMPRODUCT(('Attendance Log'!$A$5:$A$504<>"")*('Attendance Log'!$B$5:$B$504>=IF($B$4="",0,$B$4))*('Attendance Log'!$B$5:$B$504<=IF($D$4="",DATE(9999,12,31),$D$4))*(--((('Attendance Log'!$F$5:$F$504=$F$4)+($F$4="All Groups"))>0))*'Attendance Log'!$K$5:$K$504),"")) | D9: =IF(NOT(NOT(AND($B$4<>"",$D$4<>"",$B$4>$D$4))),"",SUMPRODUCT(('Attendance Log'!$A$5:$A$504<>"")*('Attendance Log'!$B$5:$B$504>=IF($B$4="",0,$B$4))*('Attendance Log'!$B$5:$B$504<=IF($D$4="",DATE(9999,12,31),$D$4))*(--((('Attendance Log'!$F$5:$F$504=$F$4)+($F$4="All Groups"))>0))*'Attendance Log'!$K$5:$K$504)) | G9: =IF(NOT(NOT(AND($B$4<>"",$D$4<>"",$B$4>$D$4))),"",SUMPRODUCT(('Attendance Log'!$A$5:$A$504<>"")*('Attendance Log'!$B$5:$B$504>=IF($B$4="",0,$B$4))*('Attendance Log'!$B$5:$B$504<=IF($D$4="",DATE(9999,12,31),$D$4))*(--((('Attendance Log'!$F$5:$F$504=$F$4)+($F$4="All Groups"))>0))*'Attendance Log'!$L$5:$L$504))
A11: Absences | D11: Learners Below Target | G11: Records Needing Review
A12: =IF(NOT(NOT(AND($B$4<>"",$D$4<>"",$B$4>$D$4))),"",SUMPRODUCT(('Attendance Log'!$A$5:$A$504<>"")*('Attendance Log'!$B$5:$B$504>=IF($B$4="",0,$B$4))*('Attendance Log'!$B$5:$B$504<=IF($D$4="",DATE(9999,12,31),$D$4))*(--((('Attendance Log'!$F$5:$F$504=$F$4)+($F$4="All Groups"))>0))*('Attendance Log'!$G$5:$G$504="Absent")*('Attendance Log'!$K$5:$K$504=1))) | D12: =IF(NOT(AND($B$4<>"",$D$4<>"",$B$4>$D$4)),COUNTIF($H$23:$H$32,"Below target"),"") | G12: =IF(NOT(NOT(AND($B$4<>"",$D$4<>"",$B$4>$D$4))),"",SUMPRODUCT(('Attendance Log'!$A$5:$A$504<>"")*('Attendance Log'!$B$5:$B$504>=IF($B$4="",0,$B$4))*('Attendance Log'!$B$5:$B$504<=IF($D$4="",DATE(9999,12,31),$D$4))*(--((('Attendance Log'!$F$5:$F$504=$F$4)+($F$4="All Groups"))>0))*('Attendance Log'!$N$5:$N$504<>"")))
A14: Attendance Status | B14: Record Count | C14: Percent of Completed Records | E14: Group | F14: Counted Sessions | G14: Attended Sessions | H14: Attendance Rate
A15: Present | B15: =IF(NOT(NOT(AND($B$4<>"",$D$4<>"",$B$4>$D$4))),"",SUMPRODUCT(('Attendance Log'!$A$5:$A$504<>"")*('Attendance Log'!$B$5:$B$504>=IF($B$4="",0,$B$4))*('Attendance Log'!$B$5:$B$504<=IF($D$4="",DATE(9999,12,31),$D$4))*(--((('Attendance Log'!$F$5:$F$504=$F$4)+($F$4="All Groups"))>0))*('Attendance Log'!$C$5:$C$504<>"")*('Attendance Log'!$D$5:$D$504<>"")*('Attendance Log'!$G$5:$G$504="Present")*('Attendance Log'!$H$5:$H$504<>""))) | C15: =IFERROR(B15/SUM($B$15:$B$18),"") | E15: North Cohort | F15: =IF(OR(NOT(NOT(AND($B$4<>"",$D$4<>"",$B$4>$D$4))),NOT(OR($F$4="All Groups",$F$4=$E15))),"",SUMPRODUCT(('Attendance Log'!$A$5:$A$504<>"")*('Attendance Log'!$B$5:$B$504>=IF($B$4="",0,$B$4))*('Attendance Log'!$B$5:$B$504<=IF($D$4="",DATE(9999,12,31),$D$4))*('Attendance Log'!$F$5:$F$504=$E15)*'Attendance Log'!$K$5:$K$504)) | G15: =IF(OR(NOT(NOT(AND($B$4<>"",$D$4<>"",$B$4>$D$4))),NOT(OR($F$4="All Groups",$F$4=$E15))),"",SUMPRODUCT(('Attendance Log'!$A$5:$A$504<>"")*('Attendance Log'!$B$5:$B$504>=IF($B$4="",0,$B$4))*('Attendance Log'!$B$5:$B$504<=IF($D$4="",DATE(9999,12,31),$D$4))*('Attendance Log'!$F$5:$F$504=$E15)*'Attendance Log'!$L$5:$L$504)) | H15: =IFERROR(G15/F15,"")
A16: Late | B16: =IF(NOT(NOT(AND($B$4<>"",$D$4<>"",$B$4>$D$4))),"",SUMPRODUCT(('Attendance Log'!$A$5:$A$504<>"")*('Attendance Log'!$B$5:$B$504>=IF($B$4="",0,$B$4))*('Attendance Log'!$B$5:$B$504<=IF($D$4="",DATE(9999,12,31),$D$4))*(--((('Attendance Log'!$F$5:$F$504=$F$4)+($F$4="All Groups"))>0))*('Attendance Log'!$C$5:$C$504<>"")*('Attendance Log'!$D$5:$D$504<>"")*('Attendance Log'!$G$5:$G$504="Late")*('Attendance Log'!$H$5:$H$504<>""))) | C16: =IFERROR(B16/SUM($B$15:$B$18),"") | E16: South Cohort | F16: =IF(OR(NOT(NOT(AND($B$4<>"",$D$4<>"",$B$4>$D$4))),NOT(OR($F$4="All Groups",$F$4=$E16))),"",SUMPRODUCT(('Attendance Log'!$A$5:$A$504<>"")*('Attendance Log'!$B$5:$B$504>=IF($B$4="",0,$B$4))*('Attendance Log'!$B$5:$B$504<=IF($D$4="",DATE(9999,12,31),$D$4))*('Attendance Log'!$F$5:$F$504=$E16)*'Attendance Log'!$K$5:$K$504)) | G16: =IF(OR(NOT(NOT(AND($B$4<>"",$D$4<>"",$B$4>$D$4))),NOT(OR($F$4="All Groups",$F$4=$E16))),"",SUMPRODUCT(('Attendance Log'!$A$5:$A$504<>"")*('Attendance Log'!$B$5:$B$504>=IF($B$4="",0,$B$4))*('Attendance Log'!$B$5:$B$504<=IF($D$4="",DATE(9999,12,31),$D$4))*('Attendance Log'!$F$5:$F$504=$E16)*'Attendance Log'!$L$5:$L$504)) | H16: =IFERROR(G16/F16,"")
A17: Absent | B17: =IF(NOT(NOT(AND($B$4<>"",$D$4<>"",$B$4>$D$4))),"",SUMPRODUCT(('Attendance Log'!$A$5:$A$504<>"")*('Attendance Log'!$B$5:$B$504>=IF($B$4="",0,$B$4))*('Attendance Log'!$B$5:$B$504<=IF($D$4="",DATE(9999,12,31),$D$4))*(--((('Attendance Log'!$F$5:$F$504=$F$4)+($F$4="All Groups"))>0))*('Attendance Log'!$C$5:$C$504<>"")*('Attendance Log'!$D$5:$D$504<>"")*('Attendance Log'!$G$5:$G$504="Absent")*('Attendance Log'!$H$5:$H$504<>""))) | C17: =IFERROR(B17/SUM($B$15:$B$18),"") | E17: Evening Cohort | F17: =IF(OR(NOT(NOT(AND($B$4<>"",$D$4<>"",$B$4>$D$4))),NOT(OR($F$4="All Groups",$F$4=$E17))),"",SUMPRODUCT(('Attendance Log'!$A$5:$A$504<>"")*('Attendance Log'!$B$5:$B$504>=IF($B$4="",0,$B$4))*('Attendance Log'!$B$5:$B$504<=IF($D$4="",DATE(9999,12,31),$D$4))*('Attendance Log'!$F$5:$F$504=$E17)*'Attendance Log'!$K$5:$K$504)) | G17: =IF(OR(NOT(NOT(AND($B$4<>"",$D$4<>"",$B$4>$D$4))),NOT(OR($F$4="All Groups",$F$4=$E17))),"",SUMPRODUCT(('Attendance Log'!$A$5:$A$504<>"")*('Attendance Log'!$B$5:$B$504>=IF($B$4="",0,$B$4))*('Attendance Log'!$B$5:$B$504<=IF($D$4="",DATE(9999,12,31),$D$4))*('Attendance Log'!$F$5:$F$504=$E17)*'Attendance Log'!$L$5:$L$504)) | H17: =IFERROR(G17/F17,"")
A18: Excused | B18: =IF(NOT(NOT(AND($B$4<>"",$D$4<>"",$B$4>$D$4))),"",SUMPRODUCT(('Attendance Log'!$A$5:$A$504<>"")*('Attendance Log'!$B$5:$B$504>=IF($B$4="",0,$B$4))*('Attendance Log'!$B$5:$B$504<=IF($D$4="",DATE(9999,12,31),$D$4))*(--((('Attendance Log'!$F$5:$F$504=$F$4)+($F$4="All Groups"))>0))*('Attendance Log'!$C$5:$C$504<>"")*('Attendance Log'!$D$5:$D$504<>"")*('Attendance Log'!$G$5:$G$504="Excused")*('Attendance Log'!$H$5:$H$504<>""))) | C18: =IFERROR(B18/SUM($B$15:$B$18),"") | E18: Virtual Cohort | F18: =IF(OR(NOT(NOT(AND($B$4<>"",$D$4<>"",$B$4>$D$4))),NOT(OR($F$4="All Groups",$F$4=$E18))),"",SUMPRODUCT(('Attendance Log'!$A$5:$A$504<>"")*('Attendance Log'!$B$5:$B$504>=IF($B$4="",0,$B$4))*('Attendance Log'!$B$5:$B$504<=IF($D$4="",DATE(9999,12,31),$D$4))*('Attendance Log'!$F$5:$F$504=$E18)*'Attendance Log'!$K$5:$K$504)) | G18: =IF(OR(NOT(NOT(AND($B$4<>"",$D$4<>"",$B$4>$D$4))),NOT(OR($F$4="All Groups",$F$4=$E18))),"",SUMPRODUCT(('Attendance Log'!$A$5:$A$504<>"")*('Attendance Log'!$B$5:$B$504>=IF($B$4="",0,$B$4))*('Attendance Log'!$B$5:$B$504<=IF($D$4="",DATE(9999,12,31),$D$4))*('Attendance Log'!$F$5:$F$504=$E18)*'Attendance Log'!$L$5:$L$504)) | H18: =IFERROR(G18/F18,"")
A22: Learner ID | B22: Learner Name | C22: Group | D22: Counted Sessions | E22: Attended Sessions | F22: Attendance Rate | G22: Target Rate | H22: Follow-Up Status
A23: ='Roster & Settings'!A5 | B23: ='Roster & Settings'!B5 | C23: ='Roster & Settings'!C5 | D23: =IF(OR($A23="",NOT(NOT(AND($B$4<>"",$D$4<>"",$B$4>$D$4))),'Roster & Settings'!$D$5<>"Yes",AND($F$4<>"All Groups",$C23<>$F$4)),"",SUMPRODUCT(('Attendance Log'!$A$5:$A$504<>"")*('Attendance Log'!$B$5:$B$504>=IF($B$4="",0,$B$4))*('Attendance Log'!$B$5:$B$504<=IF($D$4="",DATE(9999,12,31),$D$4))*('Attendance Log'!$D$5:$D$504=$A23)*'Attendance Log'!$K$5:$K$504)) | E23: =IF($D23="","",SUMPRODUCT(('Attendance Log'!$A$5:$A$504<>"")*('Attendance Log'!$B$5:$B$504>=IF($B$4="",0,$B$4))*('Attendance Log'!$B$5:$B$504<=IF($D$4="",DATE(9999,12,31),$D$4))*('Attendance Log'!$D$5:$D$504=$A23)*'Attendance Log'!$L$5:$L$504)) | F23: =IFERROR(E23/D23,"") | G23: ='Roster & Settings'!E5 | H23: =IF(OR($A23="",'Roster & Settings'!$D$5<>"Yes",AND($F$4<>"All Groups",$C23<>$F$4),NOT(NOT(AND($B$4<>"",$D$4<>"",$B$4>$D$4)))),"",IF($D23=0,"No counted sessions",IF($F23<$G23,"Below target","On target")))
A24: ='Roster & Settings'!A6 | B24: ='Roster & Settings'!B6 | C24: ='Roster & Settings'!C6 | D24: =IF(OR($A24="",NOT(NOT(AND($B$4<>"",$D$4<>"",$B$4>$D$4))),'Roster & Settings'!$D$6<>"Yes",AND($F$4<>"All Groups",$C24<>$F$4)),"",SUMPRODUCT(('Attendance Log'!$A$5:$A$504<>"")*('Attendance Log'!$B$5:$B$504>=IF($B$4="",0,$B$4))*('Attendance Log'!$B$5:$B$504<=IF($D$4="",DATE(9999,12,31),$D$4))*('Attendance Log'!$D$5:$D$504=$A24)*'Attendance Log'!$K$5:$K$504)) | E24: =IF($D24="","",SUMPRODUCT(('Attendance Log'!$A$5:$A$504<>"")*('Attendance Log'!$B$5:$B$504>=IF($B$4="",0,$B$4))*('Attendance Log'!$B$5:$B$504<=IF($D$4="",DATE(9999,12,31),$D$4))*('Attendance Log'!$D$5:$D$504=$A24)*'Attendance Log'!$L$5:$L$504)) | F24: =IFERROR(E24/D24,"") | G24: ='Roster & Settings'!E6 | H24: =IF(OR($A24="",'Roster & Settings'!$D$6<>"Yes",AND($F$4<>"All Groups",$C24<>$F$4),NOT(NOT(AND($B$4<>"",$D$4<>"",$B$4>$D$4)))),"",IF($D24=0,"No counted sessions",IF($F24<$G24,"Below target","On target")))
A25: ='Roster & Settings'!A7 | B25: ='Roster & Settings'!B7 | C25: ='Roster & Settings'!C7 | D25: =IF(OR($A25="",NOT(NOT(AND($B$4<>"",$D$4<>"",$B$4>$D$4))),'Roster & Settings'!$D$7<>"Yes",AND($F$4<>"All Groups",$C25<>$F$4)),"",SUMPRODUCT(('Attendance Log'!$A$5:$A$504<>"")*('Attendance Log'!$B$5:$B$504>=IF($B$4="",0,$B$4))*('Attendance Log'!$B$5:$B$504<=IF($D$4="",DATE(9999,12,31),$D$4))*('Attendance Log'!$D$5:$D$504=$A25)*'Attendance Log'!$K$5:$K$504)) | E25: =IF($D25="","",SUMPRODUCT(('Attendance Log'!$A$5:$A$504<>"")*('Attendance Log'!$B$5:$B$504>=IF($B$4="",0,$B$4))*('Attendance Log'!$B$5:$B$504<=IF($D$4="",DATE(9999,12,31),$D$4))*('Attendance Log'!$D$5:$D$504=$A25)*'Attendance Log'!$L$5:$L$504)) | F25: =IFERROR(E25/D25,"") | G25: ='Roster & Settings'!E7 | H25: =IF(OR($A25="",'Roster & Settings'!$D$7<>"Yes",AND($F$4<>"All Groups",$C25<>$F$4),NOT(NOT(AND($B$4<>"",$D$4<>"",$B$4>$D$4)))),"",IF($D25=0,"No counted sessions",IF($F25<$G25,"Below target","On target")))
A26: ='Roster & Settings'!A8 | B26: ='Roster & Settings'!B8 | C26: ='Roster & Settings'!C8 | D26: =IF(OR($A26="",NOT(NOT(AND($B$4<>"",$D$4<>"",$B$4>$D$4))),'Roster & Settings'!$D$8<>"Yes",AND($F$4<>"All Groups",$C26<>$F$4)),"",SUMPRODUCT(('Attendance Log'!$A$5:$A$504<>"")*('Attendance Log'!$B$5:$B$504>=IF($B$4="",0,$B$4))*('Attendance Log'!$B$5:$B$504<=IF($D$4="",DATE(9999,12,31),$D$4))*('Attendance Log'!$D$5:$D$504=$A26)*'Attendance Log'!$K$5:$K$504)) | E26: =IF($D26="","",SUMPRODUCT(('Attendance Log'!$A$5:$A$504<>"")*('Attendance Log'!$B$5:$B$504>=IF($B$4="",0,$B$4))*('Attendance Log'!$B$5:$B$504<=IF($D$4="",DATE(9999,12,31),$D$4))*('Attendance Log'!$D$5:$D$504=$A26)*'Attendance Log'!$L$5:$L$504)) | F26: =IFERROR(E26/D26,"") | G26: ='Roster & Settings'!E8 | H26: =IF(OR($A26="",'Roster & Settings'!$D$8<>"Yes",AND($F$4<>"All Groups",$C26<>$F$4),NOT(NOT(AND($B$4<>"",$D$4<>"",$B$4>$D$4)))),"",IF($D26=0,"No counted sessions",IF($F26<$G26,"Below target","On target")))
A27: ='Roster & Settings'!A9 | B27: ='Roster & Settings'!B9 | C27: ='Roster & Settings'!C9 | D27: =IF(OR($A27="",NOT(NOT(AND($B$4<>"",$D$4<>"",$B$4>$D$4))),'Roster & Settings'!$D$9<>"Yes",AND($F$4<>"All Groups",$C27<>$F$4)),"",SUMPRODUCT(('Attendance Log'!$A$5:$A$504<>"")*('Attendance Log'!$B$5:$B$504>=IF($B$4="",0,$B$4))*('Attendance Log'!$B$5:$B$504<=IF($D$4="",DATE(9999,12,31),$D$4))*('Attendance Log'!$D$5:$D$504=$A27)*'Attendance Log'!$K$5:$K$504)) | E27: =IF($D27="","",SUMPRODUCT(('Attendance Log'!$A$5:$A$504<>"")*('Attendance Log'!$B$5:$B$504>=IF($B$4="",0,$B$4))*('Attendance Log'!$B$5:$B$504<=IF($D$4="",DATE(9999,12,31),$D$4))*('Attendance Log'!$D$5:$D$504=$A27)*'Attendance Log'!$L$5:$L$504)) | F27: =IFERROR(E27/D27,"") | G27: ='Roster & Settings'!E9 | H27: =IF(OR($A27="",'Roster & Settings'!$D$9<>"Yes",AND($F$4<>"All Groups",$C27<>$F$4),NOT(NOT(AND($B$4<>"",$D$4<>"",$B$4>$D$4)))),"",IF($D27=0,"No counted sessions",IF($F27<$G27,"Below target","On target")))
A28: ='Roster & Settings'!A10 | B28: ='Roster & Settings'!B10 | C28: ='Roster & Settings'!C10 | D28: =IF(OR($A28="",NOT(NOT(AND($B$4<>"",$D$4<>"",$B$4>$D$4))),'Roster & Settings'!$D$10<>"Yes",AND($F$4<>"All Groups",$C28<>$F$4)),"",SUMPRODUCT(('Attendance Log'!$A$5:$A$504<>"")*('Attendance Log'!$B$5:$B$504>=IF($B$4="",0,$B$4))*('Attendance Log'!$B$5:$B$504<=IF($D$4="",DATE(9999,12,31),$D$4))*('Attendance Log'!$D$5:$D$504=$A28)*'Attendance Log'!$K$5:$K$504)) | E28: =IF($D28="","",SUMPRODUCT(('Attendance Log'!$A$5:$A$504<>"")*('Attendance Log'!$B$5:$B$504>=IF($B$4="",0,$B$4))*('Attendance Log'!$B$5:$B$504<=IF($D$4="",DATE(9999,12,31),$D$4))*('Attendance Log'!$D$5:$D$504=$A28)*'Attendance Log'!$L$5:$L$504)) | F28: =IFERROR(E28/D28,"") | G28: ='Roster & Settings'!E10 | H28: =IF(OR($A28="",'Roster & Settings'!$D$10<>"Yes",AND($F$4<>"All Groups",$C28<>$F$4),NOT(NOT(AND($B$4<>"",$D$4<>"",$B$4>$D$4)))),"",IF($D28=0,"No counted sessions",IF($F28<$G28,"Below target","On target")))
A29: ='Roster & Settings'!A11 | B29: ='Roster & Settings'!B11 | C29: ='Roster & Settings'!C11 | D29: =IF(OR($A29="",NOT(NOT(AND($B$4<>"",$D$4<>"",$B$4>$D$4))),'Roster & Settings'!$D$11<>"Yes",AND($F$4<>"All Groups",$C29<>$F$4)),"",SUMPRODUCT(('Attendance Log'!$A$5:$A$504<>"")*('Attendance Log'!$B$5:$B$504>=IF($B$4="",0,$B$4))*('Attendance Log'!$B$5:$B$504<=IF($D$4="",DATE(9999,12,31),$D$4))*('Attendance Log'!$D$5:$D$504=$A29)*'Attendance Log'!$K$5:$K$504)) | E29: =IF($D29="","",SUMPRODUCT(('Attendance Log'!$A$5:$A$504<>"")*('Attendance Log'!$B$5:$B$504>=IF($B$4="",0,$B$4))*('Attendance Log'!$B$5:$B$504<=IF($D$4="",DATE(9999,12,31),$D$4))*('Attendance Log'!$D$5:$D$504=$A29)*'Attendance Log'!$L$5:$L$504)) | F29: =IFERROR(E29/D29,"") | G29: ='Roster & Settings'!E11 | H29: =IF(OR($A29="",'Roster & Settings'!$D$11<>"Yes",AND($F$4<>"All Groups",$C29<>$F$4),NOT(NOT(AND($B$4<>"",$D$4<>"",$B$4>$D$4)))),"",IF($D29=0,"No counted sessions",IF($F29<$G29,"Below target","On target")))
A30: ='Roster & Settings'!A12 | B30: ='Roster & Settings'!B12 | C30: ='Roster & Settings'!C12 | D30: =IF(OR($A30="",NOT(NOT(AND($B$4<>"",$D$4<>"",$B$4>$D$4))),'Roster & Settings'!$D$12<>"Yes",AND($F$4<>"All Groups",$C30<>$F$4)),"",SUMPRODUCT(('Attendance Log'!$A$5:$A$504<>"")*('Attendance Log'!$B$5:$B$504>=IF($B$4="",0,$B$4))*('Attendance Log'!$B$5:$B$504<=IF($D$4="",DATE(9999,12,31),$D$4))*('Attendance Log'!$D$5:$D$504=$A30)*'Attendance Log'!$K$5:$K$504)) | E30: =IF($D30="","",SUMPRODUCT(('Attendance Log'!$A$5:$A$504<>"")*('Attendance Log'!$B$5:$B$504>=IF($B$4="",0,$B$4))*('Attendance Log'!$B$5:$B$504<=IF($D$4="",DATE(9999,12,31),$D$4))*('Attendance Log'!$D$5:$D$504=$A30)*'Attendance Log'!$L$5:$L$504)) | F30: =IFERROR(E30/D30,"") | G30: ='Roster & Settings'!E12 | H30: =IF(OR($A30="",'Roster & Settings'!$D$12<>"Yes",AND($F$4<>"All Groups",$C30<>$F$4),NOT(NOT(AND($B$4<>"",$D$4<>"",$B$4>$D$4)))),"",IF($D30=0,"No counted sessions",IF($F30<$G30,"Below target","On target")))
A31: ='Roster & Settings'!A13 | B31: ='Roster & Settings'!B13 | C31: ='Roster & Settings'!C13 | D31: =IF(OR($A31="",NOT(NOT(AND($B$4<>"",$D$4<>"",$B$4>$D$4))),'Roster & Settings'!$D$13<>"Yes",AND($F$4<>"All Groups",$C31<>$F$4)),"",SUMPRODUCT(('Attendance Log'!$A$5:$A$504<>"")*('Attendance Log'!$B$5:$B$504>=IF($B$4="",0,$B$4))*('Attendance Log'!$B$5:$B$504<=IF($D$4="",DATE(9999,12,31),$D$4))*('Attendance Log'!$D$5:$D$504=$A31)*'Attendance Log'!$K$5:$K$504)) | E31: =IF($D31="","",SUMPRODUCT(('Attendance Log'!$A$5:$A$504<>"")*('Attendance Log'!$B$5:$B$504>=IF($B$4="",0,$B$4))*('Attendance Log'!$B$5:$B$504<=IF($D$4="",DATE(9999,12,31),$D$4))*('Attendance Log'!$D$5:$D$504=$A31)*'Attendance Log'!$L$5:$L$504)) | F31: =IFERROR(E31/D31,"") | G31: ='Roster & Settings'!E13 | H31: =IF(OR($A31="",'Roster & Settings'!$D$13<>"Yes",AND($F$4<>"All Groups",$C31<>$F$4),NOT(NOT(AND($B$4<>"",$D$4<>"",$B$4>$D$4)))),"",IF($D31=0,"No counted sessions",IF($F31<$G31,"Below target","On target")))
A32: ='Roster & Settings'!A14 | B32: ='Roster & Settings'!B14 | C32: ='Roster & Settings'!C14 | D32: =IF(OR($A32="",NOT(NOT(AND($B$4<>"",$D$4<>"",$B$4>$D$4))),'Roster & Settings'!$D$14<>"Yes",AND($F$4<>"All Groups",$C32<>$F$4)),"",SUMPRODUCT(('Attendance Log'!$A$5:$A$504<>"")*('Attendance Log'!$B$5:$B$504>=IF($B$4="",0,$B$4))*('Attendance Log'!$B$5:$B$504<=IF($D$4="",DATE(9999,12,31),$D$4))*('Attendance Log'!$D$5:$D$504=$A32)*'Attendance Log'!$K$5:$K$504)) | E32: =IF($D32="","",SUMPRODUCT(('Attendance Log'!$A$5:$A$504<>"")*('Attendance Log'!$B$5:$B$504>=IF($B$4="",0,$B$4))*('Attendance Log'!$B$5:$B$504<=IF($D$4="",DATE(9999,12,31),$D$4))*('Attendance Log'!$D$5:$D$504=$A32)*'Attendance Log'!$L$5:$L$504)) | F32: =IFERROR(E32/D32,"") | G32: ='Roster & Settings'!E14 | H32: =IF(OR($A32="",'Roster & Settings'!$D$14<>"Yes",AND($F$4<>"All Groups",$C32<>$F$4),NOT(NOT(AND($B$4<>"",$D$4<>"",$B$4>$D$4)))),"",IF($D32=0,"No counted sessions",IF($F32<$G32,"Below target","On target")))
A33: ="" | B33: ="" | C33: ="" | D33: ="" | E33: ="" | F33: ="" | G33: ="" | H33: =""
A34: ="" | B34: ="" | C34: ="" | D34: ="" | E34: ="" | F34: ="" | G34: ="" | H34: =""
A35: ="" | B35: ="" | C35: ="" | D35: ="" | E35: ="" | F35: ="" | G35: ="" | H35: =""
A36: ="" | B36: ="" | C36: ="" | D36: ="" | E36: ="" | F36: ="" | G36: ="" | H36: =""
A37: ="" | B37: ="" | C37: ="" | D37: ="" | E37: ="" | F37: ="" | G37: ="" | H37: =""
A38: ="" | B38: ="" | C38: ="" | D38: ="" | E38: ="" | F38: ="" | G38: ="" | H38: =""
A39: ="" | B39: ="" | C39: ="" | D39: ="" | E39: ="" | F39: ="" | G39: ="" | H39: =""
A40: ="" | B40: ="" | C40: ="" | D40: ="" | E40: ="" | F40: ="" | G40: ="" | H40: =""
A41: ="" | B41: ="" | C41: ="" | D41: ="" | E41: ="" | F41: ="" | G41: ="" | H41: =""
A42: ="" | B42: ="" | C42: ="" | D42: ="" | E42: ="" | F42: ="" | G42: ="" | H42: =""
A43: ="" | B43: ="" | C43: ="" | D43: ="" | E43: ="" | F43: ="" | G43: ="" | H43: =""
A44: ="" | B44: ="" | C44: ="" | D44: ="" | E44: ="" | F44: ="" | G44: ="" | H44: =""
... A101: ="" | B101: ="" | C101: ="" | D101: ="" | E101: ="" | F101: ="" | G101: ="" | H101: =""

Sheet Attendance Log
A1: Attendance Log
A2: Enter one row for each learner scheduled for a session. Yellow cells are editable; gray cells calculate automatically.
A4: Record ID | B4: Session Date | C4: Session Title | D4: Learner ID | E4: Learner Name | F4: Group | G4: Attendance Status | H4: Scheduled Minutes | I4: Attended Minutes | J4: Note | K4: Counted Session | L4: Attended Session | M4: Attendance Rate | N4: Review Flag
A5: ATT-0001 | B5: 46259 | C5: Orientation Workshop | D5: LRN-1001 | E5: =IF($D5="","",IFERROR(INDEX('Roster & Settings'!$B$5:$B$104,MATCH($D5,'Roster & Settings'!$A$5:$A$104,0)),"Unknown learner")) | F5: =IF($D5="","",IFERROR(INDEX('Roster & Settings'!$C$5:$C$104,MATCH($D5,'Roster & Settings'!$A$5:$A$104,0)),"Unknown group")) | G5: Present | H5: 90 | I5: 90 | K5: =IF(COUNTA($A5:$I5)=0,"",IF(OR($A5="",$B5="",$C5="",$D5="",$G5="",$H5=""),0,IF($G5="Excused",0,1))) | L5: =IF(COUNTA($A5:$I5)=0,"",IF(OR($A5="",$B5="",$C5="",$D5="",$G5="",$H5=""),0,IF(OR($G5="Present",$G5="Late"),1,0))) | M5: =IF(OR($K5="",$K5=0),"",IFERROR($L5/$K5,"")) | N5: =IF(COUNTA($A5:$J5)=0,"",IF(OR($A5="",$B5="",$C5="",$D5="",$G5="",$H5=""),"Missing required field",IF(COUNTIF($A$5:$A$504,$A5)>1,"Duplicate Record ID",IF(OR($E5="Unknown learner",$F5="Unknown group"),"Unknown learner",IF($B5>TODAY(),"Future session date",IF(OR(NOT(ISNUMBER($H5)),$H5<=0,$H5>1440),"Invalid scheduled minutes",IF(AND(ISNUMBER($I5),$I5>$H5),"Attended minutes exceed scheduled minutes",IF(AND($G5="Present",ISNUMBER($I5),$I5<$H5),"Present with reduced minutes",IF(AND($G5="Late",OR($I5="",$I5>=$H5)),"Review late minutes",IF(AND($G5="Absent",ISNUMBER($I5),$I5>0),"Absent with attended minutes",IF(AND($G5="Excused",ISNUMBER($I5),$I5>0),"Excused with attended minutes",""))))))))))
A6: ATT-0002 | B6: 46259 | C6: Orientation Workshop | D6: LRN-1002 | E6: =IF($D6="","",IFERROR(INDEX('Roster & Settings'!$B$5:$B$104,MATCH($D6,'Roster & Settings'!$A$5:$A$104,0)),"Unknown learner")) | F6: =IF($D6="","",IFERROR(INDEX('Roster & Settings'!$C$5:$C$104,MATCH($D6,'Roster & Settings'!$A$5:$A$104,0)),"Unknown group")) | G6: Late | H6: 90 | I6: 75 | J6: Arrived after opening activity | K6: =IF(COUNTA($A6:$I6)=0,"",IF(OR($A6="",$B6="",$C6="",$D6="",$G6="",$H6=""),0,IF($G6="Excused",0,1))) | L6: =IF(COUNTA($A6:$I6)=0,"",IF(OR($A6="",$B6="",$C6="",$D6="",$G6="",$H6=""),0,IF(OR($G6="Present",$G6="Late"),1,0))) | M6: =IF(OR($K6="",$K6=0),"",IFERROR($L6/$K6,"")) | N6: =IF(COUNTA($A6:$J6)=0,"",IF(OR($A6="",$B6="",$C6="",$D6="",$G6="",$H6=""),"Missing required field",IF(COUNTIF($A$5:$A$504,$A6)>1,"Duplicate Record ID",IF(OR($E6="Unknown learner",$F6="Unknown group"),"Unknown learner",IF($B6>TODAY(),"Future session date",IF(OR(NOT(ISNUMBER($H6)),$H6<=0,$H6>1440),"Invalid scheduled minutes",IF(AND(ISNUMBER($I6),$I6>$H6),"Attended minutes exceed scheduled minutes",IF(AND($G6="Present",ISNUMBER($I6),$I6<$H6),"Present with reduced minutes",IF(AND($G6="Late",OR($I6="",$I6>=$H6)),"Review late minutes",IF(AND($G6="Absent",ISNUMBER($I6),$I6>0),"Absent with attended minutes",IF(AND($G6="Excused",ISNUMBER($I6),$I6>0),"Excused with attended minutes",""))))))))))
A7: ATT-0003 | B7: 46259 | C7: Orientation Workshop | D7: LRN-1003 | E7: =IF($D7="","",IFERROR(INDEX('Roster & Settings'!$B$5:$B$104,MATCH($D7,'Roster & Settings'!$A$5:$A$104,0)),"Unknown learner")) | F7: =IF($D7="","",IFERROR(INDEX('Roster & Settings'!$C$5:$C$104,MATCH($D7,'Roster & Settings'!$A$5:$A$104,0)),"Unknown group")) | G7: Absent | H7: 90 | K7: =IF(COUNTA($A7:$I7)=0,"",IF(OR($A7="",$B7="",$C7="",$D7="",$G7="",$H7=""),0,IF($G7="Excused",0,1))) | L7: =IF(COUNTA($A7:$I7)=0,"",IF(OR($A7="",$B7="",$C7="",$D7="",$G7="",$H7=""),0,IF(OR($G7="Present",$G7="Late"),1,0))) | M7: =IF(OR($K7="",$K7=0),"",IFERROR($L7/$K7,"")) | N7: =IF(COUNTA($A7:$J7)=0,"",IF(OR($A7="",$B7="",$C7="",$D7="",$G7="",$H7=""),"Missing required field",IF(COUNTIF($A$5:$A$504,$A7)>1,"Duplicate Record ID",IF(OR($E7="Unknown learner",$F7="Unknown group"),"Unknown learner",IF($B7>TODAY(),"Future session date",IF(OR(NOT(ISNUMBER($H7)),$H7<=0,$H7>1440),"Invalid scheduled minutes",IF(AND(ISNUMBER($I7),$I7>$H7),"Attended minutes exceed scheduled minutes",IF(AND($G7="Present",ISNUMBER($I7),$I7<$H7),"Present with reduced minutes",IF(AND($G7="Late",OR($I7="",$I7>=$H7)),"Review late minutes",IF(AND($G7="Absent",ISNUMBER($I7),$I7>0),"Absent with attended minutes",IF(AND($G7="Excused",ISNUMBER($I7),$I7>0),"Excused with attended minutes",""))))))))))
A8: ATT-0004 | B8: 46259 | C8: Orientation Workshop | D8: LRN-1004 | E8: =IF($D8="","",IFERROR(INDEX('Roster & Settings'!$B$5:$B$104,MATCH($D8,'Roster & Settings'!$A$5:$A$104,0)),"Unknown learner")) | F8: =IF($D8="","",IFERROR(INDEX('Roster & Settings'!$C$5:$C$104,MATCH($D8,'Roster & Settings'!$A$5:$A$104,0)),"Unknown group")) | G8: Excused | H8: 90 | J8: Advance notice received | K8: =IF(COUNTA($A8:$I8)=0,"",IF(OR($A8="",$B8="",$C8="",$D8="",$G8="",$H8=""),0,IF($G8="Excused",0,1))) | L8: =IF(COUNTA($A8:$I8)=0,"",IF(OR($A8="",$B8="",$C8="",$D8="",$G8="",$H8=""),0,IF(OR($G8="Present",$G8="Late"),1,0))) | M8: =IF(OR($K8="",$K8=0),"",IFERROR($L8/$K8,"")) | N8: =IF(COUNTA($A8:$J8)=0,"",IF(OR($A8="",$B8="",$C8="",$D8="",$G8="",$H8=""),"Missing required field",IF(COUNTIF($A$5:$A$504,$A8)>1,"Duplicate Record ID",IF(OR($E8="Unknown learner",$F8="Unknown group"),"Unknown learner",IF($B8>TODAY(),"Future session date",IF(OR(NOT(ISNUMBER($H8)),$H8<=0,$H8>1440),"Invalid scheduled minutes",IF(AND(ISNUMBER($I8),$I8>$H8),"Attended minutes exceed scheduled minutes",IF(AND($G8="Present",ISNUMBER($I8),$I8<$H8),"Present with reduced minutes",IF(AND($G8="Late",OR($I8="",$I8>=$H8)),"Review late minutes",IF(AND($G8="Absent",ISNUMBER($I8),$I8>0),"Absent with attended minutes",IF(AND($G8="Excused",ISNUMBER($I8),$I8>0),"Excused with attended minutes",""))))))))))
A9: ATT-0005 | B9: 46259 | C9: Orientation Workshop | D9: LRN-1005 | E9: =IF($D9="","",IFERROR(INDEX('Roster & Settings'!$B$5:$B$104,MATCH($D9,'Roster & Settings'!$A$5:$A$104,0)),"Unknown learner")) | F9: =IF($D9="","",IFERROR(INDEX('Roster & Settings'!$C$5:$C$104,MATCH($D9,'Roster & Settings'!$A$5:$A$104,0)),"Unknown group")) | G9: Present | H9: 90 | I9: 90 | K9: =IF(COUNTA($A9:$I9)=0,"",IF(OR($A9="",$B9="",$C9="",$D9="",$G9="",$H9=""),0,IF($G9="Excused",0,1))) | L9: =IF(COUNTA($A9:$I9)=0,"",IF(OR($A9="",$B9="",$C9="",$D9="",$G9="",$H9=""),0,IF(OR($G9="Present",$G9="Late"),1,0))) | M9: =IF(OR($K9="",$K9=0),"",IFERROR($L9/$K9,"")) | N9: =IF(COUNTA($A9:$J9)=0,"",IF(OR($A9="",$B9="",$C9="",$D9="",$G9="",$H9=""),"Missing required field",IF(COUNTIF($A$5:$A$504,$A9)>1,"Duplicate Record ID",IF(OR($E9="Unknown learner",$F9="Unknown group"),"Unknown learner",IF($B9>TODAY(),"Future session date",IF(OR(NOT(ISNUMBER($H9)),$H9<=0,$H9>1440),"Invalid scheduled minutes",IF(AND(ISNUMBER($I9),$I9>$H9),"Attended minutes exceed scheduled minutes",IF(AND($G9="Present",ISNUMBER($I9),$I9<$H9),"Present with reduced minutes",IF(AND($G9="Late",OR($I9="",$I9>=$H9)),"Review late minutes",IF(AND($G9="Absent",ISNUMBER($I9),$I9>0),"Absent with attended minutes",IF(AND($G9="Excused",ISNUMBER($I9),$I9>0),"Excused with attended minutes",""))))))))))
A10: ATT-0006 | B10: 46266 | C10: Study Skills Lab | D10: LRN-1001 | E10: =IF($D10="","",IFERROR(INDEX('Roster & Settings'!$B$5:$B$104,MATCH($D10,'Roster & Settings'!$A$5:$A$104,0)),"Unknown learner")) | F10: =IF($D10="","",IFERROR(INDEX('Roster & Settings'!$C$5:$C$104,MATCH($D10,'Roster & Settings'!$A$5:$A$104,0)),"Unknown group")) | G10: Present | H10: 60 | I10: 60 | K10: =IF(COUNTA($A10:$I10)=0,"",IF(OR($A10="",$B10="",$C10="",$D10="",$G10="",$H10=""),0,IF($G10="Excused",0,1))) | L10: =IF(COUNTA($A10:$I10)=0,"",IF(OR($A10="",$B10="",$C10="",$D10="",$G10="",$H10=""),0,IF(OR($G10="Present",$G10="Late"),1,0))) | M10: =IF(OR($K10="",$K10=0),"",IFERROR($L10/$K10,"")) | N10: =IF(COUNTA($A10:$J10)=0,"",IF(OR($A10="",$B10="",$C10="",$D10="",$G10="",$H10=""),"Missing required field",IF(COUNTIF($A$5:$A$504,$A10)>1,"Duplicate Record ID",IF(OR($E10="Unknown learner",$F10="Unknown group"),"Unknown learner",IF($B10>TODAY(),"Future session date",IF(OR(NOT(ISNUMBER($H10)),$H10<=0,$H10>1440),"Invalid scheduled minutes",IF(AND(ISNUMBER($I10),$I10>$H10),"Attended minutes exceed scheduled minutes",IF(AND($G10="Present",ISNUMBER($I10),$I10<$H10),"Present with reduced minutes",IF(AND($G10="Late",OR($I10="",$I10>=$H10)),"Review late minutes",IF(AND($G10="Absent",ISNUMBER($I10),$I10>0),"Absent with attended minutes",IF(AND($G10="Excused",ISNUMBER($I10),$I10>0),"Excused with attended minutes",""))))))))))
A11: ATT-0007 | B11: 46266 | C11: Study Skills Lab | D11: LRN-1002 | E11: =IF($D11="","",IFERROR(INDEX('Roster & Settings'!$B$5:$B$104,MATCH($D11,'Roster & Settings'!$A$5:$A$104,0)),"Unknown learner")) | F11: =IF($D11="","",IFERROR(INDEX('Roster & Settings'!$C$5:$C$104,MATCH($D11,'Roster & Settings'!$A$5:$A$104,0)),"Unknown group")) | G11: Present | H11: 60 | I11: 60 | K11: =IF(COUNTA($A11:$I11)=0,"",IF(OR($A11="",$B11="",$C11="",$D11="",$G11="",$H11=""),0,IF($G11="Excused",0,1))) | L11: =IF(COUNTA($A11:$I11)=0,"",IF(OR($A11="",$B11="",$C11="",$D11="",$G11="",$H11=""),0,IF(OR($G11="Present",$G11="Late"),1,0))) | M11: =IF(OR($K11="",$K11=0),"",IFERROR($L11/$K11,"")) | N11: =IF(COUNTA($A11:$J11)=0,"",IF(OR($A11="",$B11="",$C11="",$D11="",$G11="",$H11=""),"Missing required field",IF(COUNTIF($A$5:$A$504,$A11)>1,"Duplicate Record ID",IF(OR($E11="Unknown learner",$F11="Unknown group"),"Unknown learner",IF($B11>TODAY(),"Future session date",IF(OR(NOT(ISNUMBER($H11)),$H11<=0,$H11>1440),"Invalid scheduled minutes",IF(AND(ISNUMBER($I11),$I11>$H11),"Attended minutes exceed scheduled minutes",IF(AND($G11="Present",ISNUMBER($I11),$I11<$H11),"Present with reduced minutes",IF(AND($G11="Late",OR($I11="",$I11>=$H11)),"Review late minutes",IF(AND($G11="Absent",ISNUMBER($I11),$I11>0),"Absent with attended minutes",IF(AND($G11="Excused",ISNUMBER($I11),$I11>0),"Excused with attended minutes",""))))))))))
A12: ATT-0008 | B12: 46266 | C12: Study Skills Lab | D12: LRN-1003 | E12: =IF($D12="","",IFERROR(INDEX('Roster & Settings'!$B$5:$B$104,MATCH($D12,'Roster & Settings'!$A$5:$A$104,0)),"Unknown learner")) | F12: =IF($D12="","",IFERROR(INDEX('Roster & Settings'!$C$5:$C$104,MATCH($D12,'Roster & Settings'!$A$5:$A$104,0)),"Unknown group")) | G12: Late | H12: 60 | I12: 45 | J12: Joined after start | K12: =IF(COUNTA($A12:$I12)=0,"",IF(OR($A12="",$B12="",$C12="",$D12="",$G12="",$H12=""),0,IF($G12="Excused",0,1))) | L12: =IF(COUNTA($A12:$I12)=0,"",IF(OR($A12="",$B12="",$C12="",$D12="",$G12="",$H12=""),0,IF(OR($G12="Present",$G12="Late"),1,0))) | M12: =IF(OR($K12="",$K12=0),"",IFERROR($L12/$K12,"")) | N12: =IF(COUNTA($A12:$J12)=0,"",IF(OR($A12="",$B12="",$C12="",$D12="",$G12="",$H12=""),"Missing required field",IF(COUNTIF($A$5:$A$504,$A12)>1,"Duplicate Record ID",IF(OR($E12="Unknown learner",$F12="Unknown group"),"Unknown learner",IF($B12>TODAY(),"Future session date",IF(OR(NOT(ISNUMBER($H12)),$H12<=0,$H12>1440),"Invalid scheduled minutes",IF(AND(ISNUMBER($I12),$I12>$H12),"Attended minutes exceed scheduled minutes",IF(AND($G12="Present",ISNUMBER($I12),$I12<$H12),"Present with reduced minutes",IF(AND($G12="Late",OR($I12="",$I12>=$H12)),"Review late minutes",IF(AND($G12="Absent",ISNUMBER($I12),$I12>0),"Absent with attended minutes",IF(AND($G12="Excused",ISNUMBER($I12),$I12>0),"Excused with attended minutes",""))))))))))
A13: ATT-0009 | B13: 46266 | C13: Study Skills Lab | D13: LRN-1004 | E13: =IF($D13="","",IFERROR(INDEX('Roster & Settings'!$B$5:$B$104,MATCH($D13,'Roster & Settings'!$A$5:$A$104,0)),"Unknown learner")) | F13: =IF($D13="","",IFERROR(INDEX('Roster & Settings'!$C$5:$C$104,MATCH($D13,'Roster & Settings'!$A$5:$A$104,0)),"Unknown group")) | G13: Present | H13: 60 | I13: 60 | K13: =IF(COUNTA($A13:$I13)=0,"",IF(OR($A13="",$B13="",$C13="",$D13="",$G13="",$H13=""),0,IF($G13="Excused",0,1))) | L13: =IF(COUNTA($A13:$I13)=0,"",IF(OR($A13="",$B13="",$C13="",$D13="",$G13="",$H13=""),0,IF(OR($G13="Present",$G13="Late"),1,0))) | M13: =IF(OR($K13="",$K13=0),"",IFERROR($L13/$K13,"")) | N13: =IF(COUNTA($A13:$J13)=0,"",IF(OR($A13="",$B13="",$C13="",$D13="",$G13="",$H13=""),"Missing required field",IF(COUNTIF($A$5:$A$504,$A13)>1,"Duplicate Record ID",IF(OR($E13="Unknown learner",$F13="Unknown group"),"Unknown learner",IF($B13>TODAY(),"Future session date",IF(OR(NOT(ISNUMBER($H13)),$H13<=0,$H13>1440),"Invalid scheduled minutes",IF(AND(ISNUMBER($I13),$I13>$H13),"Attended minutes exceed scheduled minutes",IF(AND($G13="Present",ISNUMBER($I13),$I13<$H13),"Present with reduced minutes",IF(AND($G13="Late",OR($I13="",$I13>=$H13)),"Review late minutes",IF(AND($G13="Absent",ISNUMBER($I13),$I13>0),"Absent with attended minutes",IF(AND($G13="Excused",ISNUMBER($I13),$I13>0),"Excused with attended minutes",""))))))))))
A14: ATT-0010 | B14: 46266 | C14: Study Skills Lab | D14: LRN-1005 | E14: =IF($D14="","",IFERROR(INDEX('Roster & Settings'!$B$5:$B$104,MATCH($D14,'Roster & Settings'!$A$5:$A$104,0)),"Unknown learner")) | F14: =IF($D14="","",IFERROR(INDEX('Roster & Settings'!$C$5:$C$104,MATCH($D14,'Roster & Settings'!$A$5:$A$104,0)),"Unknown group")) | G14: Absent | H14: 60 | K14: =IF(COUNTA($A14:$I14)=0,"",IF(OR($A14="",$B14="",$C14="",$D14="",$G14="",$H14=""),0,IF($G14="Excused",0,1))) | L14: =IF(COUNTA($A14:$I14)=0,"",IF(OR($A14="",$B14="",$C14="",$D14="",$G14="",$H14=""),0,IF(OR($G14="Present",$G14="Late"),1,0))) | M14: =IF(OR($K14="",$K14=0),"",IFERROR($L14/$K14,"")) | N14: =IF(COUNTA($A14:$J14)=0,"",IF(OR($A14="",$B14="",$C14="",$D14="",$G14="",$H14=""),"Missing required field",IF(COUNTIF($A$5:$A$504,$A14)>1,"Duplicate Record ID",IF(OR($E14="Unknown learner",$F14="Unknown group"),"Unknown learner",IF($B14>TODAY(),"Future session date",IF(OR(NOT(ISNUMBER($H14)),$H14<=0,$H14>1440),"Invalid scheduled minutes",IF(AND(ISNUMBER($I14),$I14>$H14),"Attended minutes exceed scheduled minutes",IF(AND($G14="Present",ISNUMBER($I14),$I14<$H14),"Present with reduced minutes",IF(AND($G14="Late",OR($I14="",$I14>=$H14)),"Review late minutes",IF(AND($G14="Absent",ISNUMBER($I14),$I14>0),"Absent with attended minutes",IF(AND($G14="Excused",ISNUMBER($I14),$I14>0),"Excused with attended minutes",""))))))))))
E15: =IF($D15="","",IFERROR(INDEX('Roster & Settings'!$B$5:$B$104,MATCH($D15,'Roster & Settings'!$A$5:$A$104,0)),"Unknown learner")) | F15: =IF($D15="","",IFERROR(INDEX('Roster & Settings'!$C$5:$C$104,MATCH($D15,'Roster & Settings'!$A$5:$A$104,0)),"Unknown group")) | K15: =IF(COUNTA($A15:$I15)=0,"",IF(OR($A15="",$B15="",$C15="",$D15="",$G15="",$H15=""),0,IF($G15="Excused",0,1))) | L15: =IF(COUNTA($A15:$I15)=0,"",IF(OR($A15="",$B15="",$C15="",$D15="",$G15="",$H15=""),0,IF(OR($G15="Present",$G15="Late"),1,0))) | M15: =IF(OR($K15="",$K15=0),"",IFERROR($L15/$K15,"")) | N15: =IF(COUNTA($A15:$J15)=0,"",IF(OR($A15="",$B15="",$C15="",$D15="",$G15="",$H15=""),"Missing required field",IF(COUNTIF($A$5:$A$504,$A15)>1,"Duplicate Record ID",IF(OR($E15="Unknown learner",$F15="Unknown group"),"Unknown learner",IF($B15>TODAY(),"Future session date",IF(OR(NOT(ISNUMBER($H15)),$H15<=0,$H15>1440),"Invalid scheduled minutes",IF(AND(ISNUMBER($I15),$I15>$H15),"Attended minutes exceed scheduled minutes",IF(AND($G15="Present",ISNUMBER($I15),$I15<$H15),"Present with reduced minutes",IF(AND($G15="Late",OR($I15="",$I15>=$H15)),"Review late minutes",IF(AND($G15="Absent",ISNUMBER($I15),$I15>0),"Absent with attended minutes",IF(AND($G15="Excused",ISNUMBER($I15),$I15>0),"Excused with attended minutes",""))))))))))
E16: =IF($D16="","",IFERROR(INDEX('Roster & Settings'!$B$5:$B$104,MATCH($D16,'Roster & Settings'!$A$5:$A$104,0)),"Unknown learner")) | F16: =IF($D16="","",IFERROR(INDEX('Roster & Settings'!$C$5:$C$104,MATCH($D16,'Roster & Settings'!$A$5:$A$104,0)),"Unknown group")) | K16: =IF(COUNTA($A16:$I16)=0,"",IF(OR($A16="",$B16="",$C16="",$D16="",$G16="",$H16=""),0,IF($G16="Excused",0,1))) | L16: =IF(COUNTA($A16:$I16)=0,"",IF(OR($A16="",$B16="",$C16="",$D16="",$G16="",$H16=""),0,IF(OR($G16="Present",$G16="Late"),1,0))) | M16: =IF(OR($K16="",$K16=0),"",IFERROR($L16/$K16,"")) | N16: =IF(COUNTA($A16:$J16)=0,"",IF(OR($A16="",$B16="",$C16="",$D16="",$G16="",$H16=""),"Missing required field",IF(COUNTIF($A$5:$A$504,$A16)>1,"Duplicate Record ID",IF(OR($E16="Unknown learner",$F16="Unknown group"),"Unknown learner",IF($B16>TODAY(),"Future session date",IF(OR(NOT(ISNUMBER($H16)),$H16<=0,$H16>1440),"Invalid scheduled minutes",IF(AND(ISNUMBER($I16),$I16>$H16),"Attended minutes exceed scheduled minutes",IF(AND($G16="Present",ISNUMBER($I16),$I16<$H16),"Present with reduced minutes",IF(AND($G16="Late",OR($I16="",$I16>=$H16)),"Review late minutes",IF(AND($G16="Absent",ISNUMBER($I16),$I16>0),"Absent with attended minutes",IF(AND($G16="Excused",ISNUMBER($I16),$I16>0),"Excused with attended minutes",""))))))))))
E17: =IF($D17="","",IFERROR(INDEX('Roster & Settings'!$B$5:$B$104,MATCH($D17,'Roster & Settings'!$A$5:$A$104,0)),"Unknown learner")) | F17: =IF($D17="","",IFERROR(INDEX('Roster & Settings'!$C$5:$C$104,MATCH($D17,'Roster & Settings'!$A$5:$A$104,0)),"Unknown group")) | K17: =IF(COUNTA($A17:$I17)=0,"",IF(OR($A17="",$B17="",$C17="",$D17="",$G17="",$H17=""),0,IF($G17="Excused",0,1))) | L17: =IF(COUNTA($A17:$I17)=0,"",IF(OR($A17="",$B17="",$C17="",$D17="",$G17="",$H17=""),0,IF(OR($G17="Present",$G17="Late"),1,0))) | M17: =IF(OR($K17="",$K17=0),"",IFERROR($L17/$K17,"")) | N17: =IF(COUNTA($A17:$J17)=0,"",IF(OR($A17="",$B17="",$C17="",$D17="",$G17="",$H17=""),"Missing required field",IF(COUNTIF($A$5:$A$504,$A17)>1,"Duplicate Record ID",IF(OR($E17="Unknown learner",$F17="Unknown group"),"Unknown learner",IF($B17>TODAY(),"Future session date",IF(OR(NOT(ISNUMBER($H17)),$H17<=0,$H17>1440),"Invalid scheduled minutes",IF(AND(ISNUMBER($I17),$I17>$H17),"Attended minutes exceed scheduled minutes",IF(AND($G17="Present",ISNUMBER($I17),$I17<$H17),"Present with reduced minutes",IF(AND($G17="Late",OR($I17="",$I17>=$H17)),"Review late minutes",IF(AND($G17="Absent",ISNUMBER($I17),$I17>0),"Absent with attended minutes",IF(AND($G17="Excused",ISNUMBER($I17),$I17>0),"Excused with attended minutes",""))))))))))
E18: =IF($D18="","",IFERROR(INDEX('Roster & Settings'!$B$5:$B$104,MATCH($D18,'Roster & Settings'!$A$5:$A$104,0)),"Unknown learner")) | F18: =IF($D18="","",IFERROR(INDEX('Roster & Settings'!$C$5:$C$104,MATCH($D18,'Roster & Settings'!$A$5:$A$104,0)),"Unknown group")) | K18: =IF(COUNTA($A18:$I18)=0,"",IF(OR($A18="",$B18="",$C18="",$D18="",$G18="",$H18=""),0,IF($G18="Excused",0,1))) | L18: =IF(COUNTA($A18:$I18)=0,"",IF(OR($A18="",$B18="",$C18="",$D18="",$G18="",$H18=""),0,IF(OR($G18="Present",$G18="Late"),1,0))) | M18: =IF(OR($K18="",$K18=0),"",IFERROR($L18/$K18,"")) | N18: =IF(COUNTA($A18:$J18)=0,"",IF(OR($A18="",$B18="",$C18="",$D18="",$G18="",$H18=""),"Missing required field",IF(COUNTIF($A$5:$A$504,$A18)>1,"Duplicate Record ID",IF(OR($E18="Unknown learner",$F18="Unknown group"),"Unknown learner",IF($B18>TODAY(),"Future session date",IF(OR(NOT(ISNUMBER($H18)),$H18<=0,$H18>1440),"Invalid scheduled minutes",IF(AND(ISNUMBER($I18),$I18>$H18),"Attended minutes exceed scheduled minutes",IF(AND($G18="Present",ISNUMBER($I18),$I18<$H18),"Present with reduced minutes",IF(AND($G18="Late",OR($I18="",$I18>=$H18)),"Review late minutes",IF(AND($G18="Absent",ISNUMBER($I18),$I18>0),"Absent with attended minutes",IF(AND($G18="Excused",ISNUMBER($I18),$I18>0),"Excused with attended minutes",""))))))))))
E19: =IF($D19="","",IFERROR(INDEX('Roster & Settings'!$B$5:$B$104,MATCH($D19,'Roster & Settings'!$A$5:$A$104,0)),"Unknown learner")) | F19: =IF($D19="","",IFERROR(INDEX('Roster & Settings'!$C$5:$C$104,MATCH($D19,'Roster & Settings'!$A$5:$A$104,0)),"Unknown group")) | K19: =IF(COUNTA($A19:$I19)=0,"",IF(OR($A19="",$B19="",$C19="",$D19="",$G19="",$H19=""),0,IF($G19="Excused",0,1))) | L19: =IF(COUNTA($A19:$I19)=0,"",IF(OR($A19="",$B19="",$C19="",$D19="",$G19="",$H19=""),0,IF(OR($G19="Present",$G19="Late"),1,0))) | M19: =IF(OR($K19="",$K19=0),"",IFERROR($L19/$K19,"")) | N19: =IF(COUNTA($A19:$J19)=0,"",IF(OR($A19="",$B19="",$C19="",$D19="",$G19="",$H19=""),"Missing required field",IF(COUNTIF($A$5:$A$504,$A19)>1,"Duplicate Record ID",IF(OR($E19="Unknown learner",$F19="Unknown group"),"Unknown learner",IF($B19>TODAY(),"Future session date",IF(OR(NOT(ISNUMBER($H19)),$H19<=0,$H19>1440),"Invalid scheduled minutes",IF(AND(ISNUMBER($I19),$I19>$H19),"Attended minutes exceed scheduled minutes",IF(AND($G19="Present",ISNUMBER($I19),$I19<$H19),"Present with reduced minutes",IF(AND($G19="Late",OR($I19="",$I19>=$H19)),"Review late minutes",IF(AND($G19="Absent",ISNUMBER($I19),$I19>0),"Absent with attended minutes",IF(AND($G19="Excused",ISNUMBER($I19),$I19>0),"Excused with attended minutes",""))))))))))
E20: =IF($D20="","",IFERROR(INDEX('Roster & Settings'!$B$5:$B$104,MATCH($D20,'Roster & Settings'!$A$5:$A$104,0)),"Unknown learner")) | F20: =IF($D20="","",IFERROR(INDEX('Roster & Settings'!$C$5:$C$104,MATCH($D20,'Roster & Settings'!$A$5:$A$104,0)),"Unknown group")) | K20: =IF(COUNTA($A20:$I20)=0,"",IF(OR($A20="",$B20="",$C20="",$D20="",$G20="",$H20=""),0,IF($G20="Excused",0,1))) | L20: =IF(COUNTA($A20:$I20)=0,"",IF(OR($A20="",$B20="",$C20="",$D20="",$G20="",$H20=""),0,IF(OR($G20="Present",$G20="Late"),1,0))) | M20: =IF(OR($K20="",$K20=0),"",IFERROR($L20/$K20,"")) | N20: =IF(COUNTA($A20:$J20)=0,"",IF(OR($A20="",$B20="",$C20="",$D20="",$G20="",$H20=""),"Missing required field",IF(COUNTIF($A$5:$A$504,$A20)>1,"Duplicate Record ID",IF(OR($E20="Unknown learner",$F20="Unknown group"),"Unknown learner",IF($B20>TODAY(),"Future session date",IF(OR(NOT(ISNUMBER($H20)),$H20<=0,$H20>1440),"Invalid scheduled minutes",IF(AND(ISNUMBER($I20),$I20>$H20),"Attended minutes exceed scheduled minutes",IF(AND($G20="Present",ISNUMBER($I20),$I20<$H20),"Present with reduced minutes",IF(AND($G20="Late",OR($I20="",$I20>=$H20)),"Review late minutes",IF(AND($G20="Absent",ISNUMBER($I20),$I20>0),"Absent with attended minutes",IF(AND($G20="Excused",ISNUMBER($I20),$I20>0),"Excused with attended minutes",""))))))))))
E21: =IF($D21="","",IFERROR(INDEX('Roster & Settings'!$B$5:$B$104,MATCH($D21,'Roster & Settings'!$A$5:$A$104,0)),"Unknown learner")) | F21: =IF($D21="","",IFERROR(INDEX('Roster & Settings'!$C$5:$C$104,MATCH($D21,'Roster & Settings'!$A$5:$A$104,0)),"Unknown group")) | K21: =IF(COUNTA($A21:$I21)=0,"",IF(OR($A21="",$B21="",$C21="",$D21="",$G21="",$H21=""),0,IF($G21="Excused",0,1))) | L21: =IF(COUNTA($A21:$I21)=0,"",IF(OR($A21="",$B21="",$C21="",$D21="",$G21="",$H21=""),0,IF(OR($G21="Present",$G21="Late"),1,0))) | M21: =IF(OR($K21="",$K21=0),"",IFERROR($L21/$K21,"")) | N21: =IF(COUNTA($A21:$J21)=0,"",IF(OR($A21="",$B21="",$C21="",$D21="",$G21="",$H21=""),"Missing required field",IF(COUNTIF($A$5:$A$504,$A21)>1,"Duplicate Record ID",IF(OR($E21="Unknown learner",$F21="Unknown group"),"Unknown learner",IF($B21>TODAY(),"Future session date",IF(OR(NOT(ISNUMBER($H21)),$H21<=0,$H21>1440),"Invalid scheduled minutes",IF(AND(ISNUMBER($I21),$I21>$H21),"Attended minutes exceed scheduled minutes",IF(AND($G21="Present",ISNUMBER($I21),$I21<$H21),"Present with reduced minutes",IF(AND($G21="Late",OR($I21="",$I21>=$H21)),"Review late minutes",IF(AND($G21="Absent",ISNUMBER($I21),$I21>0),"Absent with attended minutes",IF(AND($G21="Excused",ISNUMBER($I21),$I21>0),"Excused with attended minutes",""))))))))))
E22: =IF($D22="","",IFERROR(INDEX('Roster & Settings'!$B$5:$B$104,MATCH($D22,'Roster & Settings'!$A$5:$A$104,0)),"Unknown learner")) | F22: =IF($D22="","",IFERROR(INDEX('Roster & Settings'!$C$5:$C$104,MATCH($D22,'Roster & Settings'!$A$5:$A$104,0)),"Unknown group")) | K22: =IF(COUNTA($A22:$I22)=0,"",IF(OR($A22="",$B22="",$C22="",$D22="",$G22="",$H22=""),0,IF($G22="Excused",0,1))) | L22: =IF(COUNTA($A22:$I22)=0,"",IF(OR($A22="",$B22="",$C22="",$D22="",$G22="",$H22=""),0,IF(OR($G22="Present",$G22="Late"),1,0))) | M22: =IF(OR($K22="",$K22=0),"",IFERROR($L22/$K22,"")) | N22: =IF(COUNTA($A22:$J22)=0,"",IF(OR($A22="",$B22="",$C22="",$D22="",$G22="",$H22=""),"Missing required field",IF(COUNTIF($A$5:$A$504,$A22)>1,"Duplicate Record ID",IF(OR($E22="Unknown learner",$F22="Unknown group"),"Unknown learner",IF($B22>TODAY(),"Future session date",IF(OR(NOT(ISNUMBER($H22)),$H22<=0,$H22>1440),"Invalid scheduled minutes",IF(AND(ISNUMBER($I22),$I22>$H22),"Attended minutes exceed scheduled minutes",IF(AND($G22="Present",ISNUMBER($I22),$I22<$H22),"Present with reduced minutes",IF(AND($G22="Late",OR($I22="",$I22>=$H22)),"Review late minutes",IF(AND($G22="Absent",ISNUMBER($I22),$I22>0),"Absent with attended minutes",IF(AND($G22="Excused",ISNUMBER($I22),$I22>0),"Excused with attended minutes",""))))))))))
E23: =IF($D23="","",IFERROR(INDEX('Roster & Settings'!$B$5:$B$104,MATCH($D23,'Roster & Settings'!$A$5:$A$104,0)),"Unknown learner")) | F23: =IF($D23="","",IFERROR(INDEX('Roster & Settings'!$C$5:$C$104,MATCH($D23,'Roster & Settings'!$A$5:$A$104,0)),"Unknown group")) | K23: =IF(COUNTA($A23:$I23)=0,"",IF(OR($A23="",$B23="",$C23="",$D23="",$G23="",$H23=""),0,IF($G23="Excused",0,1))) | L23: =IF(COUNTA($A23:$I23)=0,"",IF(OR($A23="",$B23="",$C23="",$D23="",$G23="",$H23=""),0,IF(OR($G23="Present",$G23="Late"),1,0))) | M23: =IF(OR($K23="",$K23=0),"",IFERROR($L23/$K23,"")) | N23: =IF(COUNTA($A23:$J23)=0,"",IF(OR($A23="",$B23="",$C23="",$D23="",$G23="",$H23=""),"Missing required field",IF(COUNTIF($A$5:$A$504,$A23)>1,"Duplicate Record ID",IF(OR($E23="Unknown learner",$F23="Unknown group"),"Unknown learner",IF($B23>TODAY(),"Future session date",IF(OR(NOT(ISNUMBER($H23)),$H23<=0,$H23>1440),"Invalid scheduled minutes",IF(AND(ISNUMBER($I23),$I23>$H23),"Attended minutes exceed scheduled minutes",IF(AND($G23="Present",ISNUMBER($I23),$I23<$H23),"Present with reduced minutes",IF(AND($G23="Late",OR($I23="",$I23>=$H23)),"Review late minutes",IF(AND($G23="Absent",ISNUMBER($I23),$I23>0),"Absent with attended minutes",IF(AND($G23="Excused",ISNUMBER($I23),$I23>0),"Excused with attended minutes",""))))))))))
E24: =IF($D24="","",IFERROR(INDEX('Roster & Settings'!$B$5:$B$104,MATCH($D24,'Roster & Settings'!$A$5:$A$104,0)),"Unknown learner")) | F24: =IF($D24="","",IFERROR(INDEX('Roster & Settings'!$C$5:$C$104,MATCH($D24,'Roster & Settings'!$A$5:$A$104,0)),"Unknown group")) | K24: =IF(COUNTA($A24:$I24)=0,"",IF(OR($A24="",$B24="",$C24="",$D24="",$G24="",$H24=""),0,IF($G24="Excused",0,1))) | L24: =IF(COUNTA($A24:$I24)=0,"",IF(OR($A24="",$B24="",$C24="",$D24="",$G24="",$H24=""),0,IF(OR($G24="Present",$G24="Late"),1,0))) | M24: =IF(OR($K24="",$K24=0),"",IFERROR($L24/$K24,"")) | N24: =IF(COUNTA($A24:$J24)=0,"",IF(OR($A24="",$B24="",$C24="",$D24="",$G24="",$H24=""),"Missing required field",IF(COUNTIF($A$5:$A$504,$A24)>1,"Duplicate Record ID",IF(OR($E24="Unknown learner",$F24="Unknown group"),"Unknown learner",IF($B24>TODAY(),"Future session date",IF(OR(NOT(ISNUMBER($H24)),$H24<=0,$H24>1440),"Invalid scheduled minutes",IF(AND(ISNUMBER($I24),$I24>$H24),"Attended minutes exceed scheduled minutes",IF(AND($G24="Present",ISNUMBER($I24),$I24<$H24),"Present with reduced minutes",IF(AND($G24="Late",OR($I24="",$I24>=$H24)),"Review late minutes",IF(AND($G24="Absent",ISNUMBER($I24),$I24>0),"Absent with attended minutes",IF(AND($G24="Excused",ISNUMBER($I24),$I24>0),"Excused with attended minutes",""))))))))))
E25: =IF($D25="","",IFERROR(INDEX('Roster & Settings'!$B$5:$B$104,MATCH($D25,'Roster & Settings'!$A$5:$A$104,0)),"Unknown learner")) | F25: =IF($D25="","",IFERROR(INDEX('Roster & Settings'!$C$5:$C$104,MATCH($D25,'Roster & Settings'!$A$5:$A$104,0)),"Unknown group")) | K25: =IF(COUNTA($A25:$I25)=0,"",IF(OR($A25="",$B25="",$C25="",$D25="",$G25="",$H25=""),0,IF($G25="Excused",0,1))) | L25: =IF(COUNTA($A25:$I25)=0,"",IF(OR($A25="",$B25="",$C25="",$D25="",$G25="",$H25=""),0,IF(OR($G25="Present",$G25="Late"),1,0))) | M25: =IF(OR($K25="",$K25=0),"",IFERROR($L25/$K25,"")) | N25: =IF(COUNTA($A25:$J25)=0,"",IF(OR($A25="",$B25="",$C25="",$D25="",$G25="",$H25=""),"Missing required field",IF(COUNTIF($A$5:$A$504,$A25)>1,"Duplicate Record ID",IF(OR($E25="Unknown learner",$F25="Unknown group"),"Unknown learner",IF($B25>TODAY(),"Future session date",IF(OR(NOT(ISNUMBER($H25)),$H25<=0,$H25>1440),"Invalid scheduled minutes",IF(AND(ISNUMBER($I25),$I25>$H25),"Attended minutes exceed scheduled minutes",IF(AND($G25="Present",ISNUMBER($I25),$I25<$H25),"Present with reduced minutes",IF(AND($G25="Late",OR($I25="",$I25>=$H25)),"Review late minutes",IF(AND($G25="Absent",ISNUMBER($I25),$I25>0),"Absent with attended minutes",IF(AND($G25="Excused",ISNUMBER($I25),$I25>0),"Excused with attended minutes",""))))))))))
E26: =IF($D26="","",IFERROR(INDEX('Roster & Settings'!$B$5:$B$104,MATCH($D26,'Roster & Settings'!$A$5:$A$104,0)),"Unknown learner")) | F26: =IF($D26="","",IFERROR(INDEX('Roster & Settings'!$C$5:$C$104,MATCH($D26,'Roster & Settings'!$A$5:$A$104,0)),"Unknown group")) | K26: =IF(COUNTA($A26:$I26)=0,"",IF(OR($A26="",$B26="",$C26="",$D26="",$G26="",$H26=""),0,IF($G26="Excused",0,1))) | L26: =IF(COUNTA($A26:$I26)=0,"",IF(OR($A26="",$B26="",$C26="",$D26="",$G26="",$H26=""),0,IF(OR($G26="Present",$G26="Late"),1,0))) | M26: =IF(OR($K26="",$K26=0),"",IFERROR($L26/$K26,"")) | N26: =IF(COUNTA($A26:$J26)=0,"",IF(OR($A26="",$B26="",$C26="",$D26="",$G26="",$H26=""),"Missing required field",IF(COUNTIF($A$5:$A$504,$A26)>1,"Duplicate Record ID",IF(OR($E26="Unknown learner",$F26="Unknown group"),"Unknown learner",IF($B26>TODAY(),"Future session date",IF(OR(NOT(ISNUMBER($H26)),$H26<=0,$H26>1440),"Invalid scheduled minutes",IF(AND(ISNUMBER($I26),$I26>$H26),"Attended minutes exceed scheduled minutes",IF(AND($G26="Present",ISNUMBER($I26),$I26<$H26),"Present with reduced minutes",IF(AND($G26="Late",OR($I26="",$I26>=$H26)),"Review late minutes",IF(AND($G26="Absent",ISNUMBER($I26),$I26>0),"Absent with attended minutes",IF(AND($G26="Excused",ISNUMBER($I26),$I26>0),"Excused with attended minutes",""))))))))))
... E504: =IF($D504="","",IFERROR(INDEX('Roster & Settings'!$B$5:$B$104,MATCH($D504,'Roster & Settings'!$A$5:$A$104,0)),"Unknown learner")) | F504: =IF($D504="","",IFERROR(INDEX('Roster & Settings'!$C$5:$C$104,MATCH($D504,'Roster & Settings'!$A$5:$A$104,0)),"Unknown group")) | K504: =IF(COUNTA($A504:$I504)=0,"",IF(OR($A504="",$B504="",$C504="",$D504="",$G504="",$H504=""),0,IF($G504="Excused",0,1))) | L504: =IF(COUNTA($A504:$I504)=0,"",IF(OR($A504="",$B504="",$C504="",$D504="",$G504="",$H504=""),0,IF(OR($G504="Present",$G504="Late"),1,0))) | M504: =IF(OR($K504="",$K504=0),"",IFERROR($L504/$K504,"")) | N504: =IF(COUNTA($A504:$J504)=0,"",IF(OR($A504="",$B504="",$C504="",$D504="",$G504="",$H504=""),"Missing required field",IF(COUNTIF($A$5:$A$504,$A504)>1,"Duplicate Record ID",IF(OR($E504="Unknown learner",$F504="Unknown group"),"Unknown learner",IF($B504>TODAY(),"Future session date",IF(OR(NOT(ISNUMBER($H504)),$H504<=0,$H504>1440),"Invalid scheduled minutes",IF(AND(ISNUMBER($I504),$I504>$H504),"Attended minutes exceed scheduled minutes",IF(AND($G504="Present",ISNUMBER($I504),$I504<$H504),"Present with reduced minutes",IF(AND($G504="Late",OR($I504="",$I504>=$H504)),"Review late minutes",IF(AND($G504="Absent",ISNUMBER($I504),$I504>0),"Absent with attended minutes",IF(AND($G504="Excused",ISNUMBER($I504),$I504>0),"Excused with attended minutes",""))))))))))

Sheet Roster & Settings
A1: Roster | K1: Workbook Settings
A2: Maintain learner IDs, display names, groups, active status, and attendance targets.
K3: Default Target Rate | L3: 0.85
A4: Learner ID | B4: Learner Name | C4: Group | D4: Active | E4: Target Attendance Rate | F4: Counted Sessions | G4: Attended Sessions | H4: Overall Attendance Rate | I4: Roster Review | L4: Group List | N4: Attendance Status | P4: Dashboard Group | R4: Yes or No
A5: LRN-1001 | B5: Avery Brooks | C5: North Cohort | D5: Yes | E5: 0.9 | F5: =IF($A5="","",SUMIFS('Attendance Log'!$K$5:$K$504,'Attendance Log'!$D$5:$D$504,$A5)) | G5: =IF($A5="","",SUMIFS('Attendance Log'!$L$5:$L$504,'Attendance Log'!$D$5:$D$504,$A5)) | H5: =IF(OR($A5="",$F5=0),"",IFERROR($G5/$F5,"")) | I5: =IF(COUNTA($A5:$E5)=0,"",IF(OR($A5="",$B5="",$C5="",$D5="",$E5=""),"Missing roster field",IF(COUNTIF($A$5:$A$104,$A5)>1,"Duplicate Learner ID",""))) | L5: North Cohort | N5: Present | P5: All Groups | R5: Yes
A6: LRN-1002 | B6: Jordan Ellis | C6: North Cohort | D6: Yes | E6: 0.85 | F6: =IF($A6="","",SUMIFS('Attendance Log'!$K$5:$K$504,'Attendance Log'!$D$5:$D$504,$A6)) | G6: =IF($A6="","",SUMIFS('Attendance Log'!$L$5:$L$504,'Attendance Log'!$D$5:$D$504,$A6)) | H6: =IF(OR($A6="",$F6=0),"",IFERROR($G6/$F6,"")) | I6: =IF(COUNTA($A6:$E6)=0,"",IF(OR($A6="",$B6="",$C6="",$D6="",$E6=""),"Missing roster field",IF(COUNTIF($A$5:$A$104,$A6)>1,"Duplicate Learner ID",""))) | L6: South Cohort | N6: Late | P6: North Cohort | R6: No
A7: LRN-1003 | B7: Casey Monroe | C7: North Cohort | D7: Yes | E7: 0.8 | F7: =IF($A7="","",SUMIFS('Attendance Log'!$K$5:$K$504,'Attendance Log'!$D$5:$D$504,$A7)) | G7: =IF($A7="","",SUMIFS('Attendance Log'!$L$5:$L$504,'Attendance Log'!$D$5:$D$504,$A7)) | H7: =IF(OR($A7="",$F7=0),"",IFERROR($G7/$F7,"")) | I7: =IF(COUNTA($A7:$E7)=0,"",IF(OR($A7="",$B7="",$C7="",$D7="",$E7=""),"Missing roster field",IF(COUNTIF($A$5:$A$104,$A7)>1,"Duplicate Learner ID",""))) | L7: Evening Cohort | N7: Absent | P7: South Cohort
A8: LRN-1004 | B8: Morgan Reed | C8: North Cohort | D8: Yes | E8: 0.9 | F8: =IF($A8="","",SUMIFS('Attendance Log'!$K$5:$K$504,'Attendance Log'!$D$5:$D$504,$A8)) | G8: =IF($A8="","",SUMIFS('Attendance Log'!$L$5:$L$504,'Attendance Log'!$D$5:$D$504,$A8)) | H8: =IF(OR($A8="",$F8=0),"",IFERROR($G8/$F8,"")) | I8: =IF(COUNTA($A8:$E8)=0,"",IF(OR($A8="",$B8="",$C8="",$D8="",$E8=""),"Missing roster field",IF(COUNTIF($A$5:$A$104,$A8)>1,"Duplicate Learner ID",""))) | L8: Virtual Cohort | N8: Excused | P8: Evening Cohort
A9: LRN-1005 | B9: Taylor Quinn | C9: North Cohort | D9: Yes | E9: 0.85 | F9: =IF($A9="","",SUMIFS('Attendance Log'!$K$5:$K$504,'Attendance Log'!$D$5:$D$504,$A9)) | G9: =IF($A9="","",SUMIFS('Attendance Log'!$L$5:$L$504,'Attendance Log'!$D$5:$D$504,$A9)) | H9: =IF(OR($A9="",$F9=0),"",IFERROR($G9/$F9,"")) | I9: =IF(COUNTA($A9:$E9)=0,"",IF(OR($A9="",$B9="",$C9="",$D9="",$E9=""),"Missing roster field",IF(COUNTIF($A$5:$A$104,$A9)>1,"Duplicate Learner ID",""))) | P9: Virtual Cohort
A10: LRN-1006 | B10: Riley Bennett | C10: South Cohort | D10: Yes | E10: 0.9 | F10: =IF($A10="","",SUMIFS('Attendance Log'!$K$5:$K$504,'Attendance Log'!$D$5:$D$504,$A10)) | G10: =IF($A10="","",SUMIFS('Attendance Log'!$L$5:$L$504,'Attendance Log'!$D$5:$D$504,$A10)) | H10: =IF(OR($A10="",$F10=0),"",IFERROR($G10/$F10,"")) | I10: =IF(COUNTA($A10:$E10)=0,"",IF(OR($A10="",$B10="",$C10="",$D10="",$E10=""),"Missing roster field",IF(COUNTIF($A$5:$A$104,$A10)>1,"Duplicate Learner ID","")))
A11: LRN-1007 | B11: Cameron Hayes | C11: South Cohort | D11: Yes | E11: 0.85 | F11: =IF($A11="","",SUMIFS('Attendance Log'!$K$5:$K$504,'Attendance Log'!$D$5:$D$504,$A11)) | G11: =IF($A11="","",SUMIFS('Attendance Log'!$L$5:$L$504,'Attendance Log'!$D$5:$D$504,$A11)) | H11: =IF(OR($A11="",$F11=0),"",IFERROR($G11/$F11,"")) | I11: =IF(COUNTA($A11:$E11)=0,"",IF(OR($A11="",$B11="",$C11="",$D11="",$E11=""),"Missing roster field",IF(COUNTIF($A$5:$A$104,$A11)>1,"Duplicate Learner ID","")))
A12: LRN-1008 | B12: Skyler James | C12: Evening Cohort | D12: Yes | E12: 0.8 | F12: =IF($A12="","",SUMIFS('Attendance Log'!$K$5:$K$504,'Attendance Log'!$D$5:$D$504,$A12)) | G12: =IF($A12="","",SUMIFS('Attendance Log'!$L$5:$L$504,'Attendance Log'!$D$5:$D$504,$A12)) | H12: =IF(OR($A12="",$F12=0),"",IFERROR($G12/$F12,"")) | I12: =IF(COUNTA($A12:$E12)=0,"",IF(OR($A12="",$B12="",$C12="",$D12="",$E12=""),"Missing roster field",IF(COUNTIF($A$5:$A$104,$A12)>1,"Duplicate Learner ID","")))
A13: LRN-1009 | B13: Parker Lane | C13: Evening Cohort | D13: Yes | E13: 0.9 | F13: =IF($A13="","",SUMIFS('Attendance Log'!$K$5:$K$504,'Attendance Log'!$D$5:$D$504,$A13)) | G13: =IF($A13="","",SUMIFS('Attendance Log'!$L$5:$L$504,'Attendance Log'!$D$5:$D$504,$A13)) | H13: =IF(OR($A13="",$F13=0),"",IFERROR($G13/$F13,"")) | I13: =IF(COUNTA($A13:$E13)=0,"",IF(OR($A13="",$B13="",$C13="",$D13="",$E13=""),"Missing roster field",IF(COUNTIF($A$5:$A$104,$A13)>1,"Duplicate Learner ID","")))
A14: LRN-1010 | B14: Drew Sullivan | C14: Virtual Cohort | D14: Yes | E14: 0.85 | F14: =IF($A14="","",SUMIFS('Attendance Log'!$K$5:$K$504,'Attendance Log'!$D$5:$D$504,$A14)) | G14: =IF($A14="","",SUMIFS('Attendance Log'!$L$5:$L$504,'Attendance Log'!$D$5:$D$504,$A14)) | H14: =IF(OR($A14="",$F14=0),"",IFERROR($G14/$F14,"")) | I14: =IF(COUNTA($A14:$E14)=0,"",IF(OR($A14="",$B14="",$C14="",$D14="",$E14=""),"Missing roster field",IF(COUNTIF($A$5:$A$104,$A14)>1,"Duplicate Learner ID","")))
F15: =IF($A15="","",SUMIFS('Attendance Log'!$K$5:$K$504,'Attendance Log'!$D$5:$D$504,$A15)) | G15: =IF($A15="","",SUMIFS('Attendance Log'!$L$5:$L$504,'Attendance Log'!$D$5:$D$504,$A15)) | H15: =IF(OR($A15="",$F15=0),"",IFERROR($G15/$F15,"")) | I15: =IF(COUNTA($A15:$E15)=0,"",IF(OR($A15="",$B15="",$C15="",$D15="",$E15=""),"Missing roster field",IF(COUNTIF($A$5:$A$104,$A15)>1,"Duplicate Learner ID","")))
F16: =IF($A16="","",SUMIFS('Attendance Log'!$K$5:$K$504,'Attendance Log'!$D$5:$D$504,$A16)) | G16: =IF($A16="","",SUMIFS('Attendance Log'!$L$5:$L$504,'Attendance Log'!$D$5:$D$504,$A16)) | H16: =IF(OR($A16="",$F16=0),"",IFERROR($G16/$F16,"")) | I16: =IF(COUNTA($A16:$E16)=0,"",IF(OR($A16="",$B16="",$C16="",$D16="",$E16=""),"Missing roster field",IF(COUNTIF($A$5:$A$104,$A16)>1,"Duplicate Learner ID","")))
F17: =IF($A17="","",SUMIFS('Attendance Log'!$K$5:$K$504,'Attendance Log'!$D$5:$D$504,$A17)) | G17: =IF($A17="","",SUMIFS('Attendance Log'!$L$5:$L$504,'Attendance Log'!$D$5:$D$504,$A17)) | H17: =IF(OR($A17="",$F17=0),"",IFERROR($G17/$F17,"")) | I17: =IF(COUNTA($A17:$E17)=0,"",IF(OR($A17="",$B17="",$C17="",$D17="",$E17=""),"Missing roster field",IF(COUNTIF($A$5:$A$104,$A17)>1,"Duplicate Learner ID","")))
F18: =IF($A18="","",SUMIFS('Attendance Log'!$K$5:$K$504,'Attendance Log'!$D$5:$D$504,$A18)) | G18: =IF($A18="","",SUMIFS('Attendance Log'!$L$5:$L$504,'Attendance Log'!$D$5:$D$504,$A18)) | H18: =IF(OR($A18="",$F18=0),"",IFERROR($G18/$F18,"")) | I18: =IF(COUNTA($A18:$E18)=0,"",IF(OR($A18="",$B18="",$C18="",$D18="",$E18=""),"Missing roster field",IF(COUNTIF($A$5:$A$104,$A18)>1,"Duplicate Learner ID","")))
F19: =IF($A19="","",SUMIFS('Attendance Log'!$K$5:$K$504,'Attendance Log'!$D$5:$D$504,$A19)) | G19: =IF($A19="","",SUMIFS('Attendance Log'!$L$5:$L$504,'Attendance Log'!$D$5:$D$504,$A19)) | H19: =IF(OR($A19="",$F19=0),"",IFERROR($G19/$F19,"")) | I19: =IF(COUNTA($A19:$E19)=0,"",IF(OR($A19="",$B19="",$C19="",$D19="",$E19=""),"Missing roster field",IF(COUNTIF($A$5:$A$104,$A19)>1,"Duplicate Learner ID","")))
F20: =IF($A20="","",SUMIFS('Attendance Log'!$K$5:$K$504,'Attendance Log'!$D$5:$D$504,$A20)) | G20: =IF($A20="","",SUMIFS('Attendance Log'!$L$5:$L$504,'Attendance Log'!$D$5:$D$504,$A20)) | H20: =IF(OR($A20="",$F20=0),"",IFERROR($G20/$F20,"")) | I20: =IF(COUNTA($A20:$E20)=0,"",IF(OR($A20="",$B20="",$C20="",$D20="",$E20=""),"Missing roster field",IF(COUNTIF($A$5:$A$104,$A20)>1,"Duplicate Learner ID","")))
F21: =IF($A21="","",SUMIFS('Attendance Log'!$K$5:$K$504,'Attendance Log'!$D$5:$D$504,$A21)) | G21: =IF($A21="","",SUMIFS('Attendance Log'!$L$5:$L$504,'Attendance Log'!$D$5:$D$504,$A21)) | H21: =IF(OR($A21="",$F21=0),"",IFERROR($G21/$F21,"")) | I21: =IF(COUNTA($A21:$E21)=0,"",IF(OR($A21="",$B21="",$C21="",$D21="",$E21=""),"Missing roster field",IF(COUNTIF($A$5:$A$104,$A21)>1,"Duplicate Learner ID","")))
F22: =IF($A22="","",SUMIFS('Attendance Log'!$K$5:$K$504,'Attendance Log'!$D$5:$D$504,$A22)) | G22: =IF($A22="","",SUMIFS('Attendance Log'!$L$5:$L$504,'Attendance Log'!$D$5:$D$504,$A22)) | H22: =IF(OR($A22="",$F22=0),"",IFERROR($G22/$F22,"")) | I22: =IF(COUNTA($A22:$E22)=0,"",IF(OR($A22="",$B22="",$C22="",$D22="",$E22=""),"Missing roster field",IF(COUNTIF($A$5:$A$104,$A22)>1,"Duplicate Learner ID","")))
F23: =IF($A23="","",SUMIFS('Attendance Log'!$K$5:$K$504,'Attendance Log'!$D$5:$D$504,$A23)) | G23: =IF($A23="","",SUMIFS('Attendance Log'!$L$5:$L$504,'Attendance Log'!$D$5:$D$504,$A23)) | H23: =IF(OR($A23="",$F23=0),"",IFERROR($G23/$F23,"")) | I23: =IF(COUNTA($A23:$E23)=0,"",IF(OR($A23="",$B23="",$C23="",$D23="",$E23=""),"Missing roster field",IF(COUNTIF($A$5:$A$104,$A23)>1,"Duplicate Learner ID","")))
F24: =IF($A24="","",SUMIFS('Attendance Log'!$K$5:$K$504,'Attendance Log'!$D$5:$D$504,$A24)) | G24: =IF($A24="","",SUMIFS('Attendance Log'!$L$5:$L$504,'Attendance Log'!$D$5:$D$504,$A24)) | H24: =IF(OR($A24="",$F24=0),"",IFERROR($G24/$F24,"")) | I24: =IF(COUNTA($A24:$E24)=0,"",IF(OR($A24="",$B24="",$C24="",$D24="",$E24=""),"Missing roster field",IF(COUNTIF($A$5:$A$104,$A24)>1,"Duplicate Learner ID","")))
F25: =IF($A25="","",SUMIFS('Attendance Log'!$K$5:$K$504,'Attendance Log'!$D$5:$D$504,$A25)) | G25: =IF($A25="","",SUMIFS('Attendance Log'!$L$5:$L$504,'Attendance Log'!$D$5:$D$504,$A25)) | H25: =IF(OR($A25="",$F25=0),"",IFERROR($G25/$F25,"")) | I25: =IF(COUNTA($A25:$E25)=0,"",IF(OR($A25="",$B25="",$C25="",$D25="",$E25=""),"Missing roster field",IF(COUNTIF($A$5:$A$104,$A25)>1,"Duplicate Learner ID","")))
