Workbook

Sheet Dashboard
A1: Class Schedule Dashboard
A2: Review scheduled sessions, enrollment, conflicts, and publishing readiness.
A3: Report Start Date | B3: 46266
A4: Report End Date | B4: 46387
A6: Scheduled Sessions | C6: Total Enrolled | E6: Available Seats | G6: Enrollment Utilization | I6: Rows Needing Review | K6: Ready to Publish
A7: =IF(OR($B$3="",$B$4=""),"",COUNTIFS('Class Schedule'!$E$9:$E$208,">="&$B$3,'Class Schedule'!$E$9:$E$208,"<="&$B$4,'Class Schedule'!$O$9:$O$208,"Scheduled")) | C7: =IF(OR($B$3="",$B$4=""),"",SUMIFS('Class Schedule'!$N$9:$N$208,'Class Schedule'!$E$9:$E$208,">="&$B$3,'Class Schedule'!$E$9:$E$208,"<="&$B$4,'Class Schedule'!$O$9:$O$208,"Scheduled")) | E7: =IF(OR($B$3="",$B$4=""),"",SUMPRODUCT(--('Class Schedule'!$E$9:$E$208>=$B$3),--('Class Schedule'!$E$9:$E$208<=$B$4),--('Class Schedule'!$O$9:$O$208="Scheduled"),--('Class Schedule'!$Q$9:$Q$208>0),'Class Schedule'!$Q$9:$Q$208)) | G7: =IF(OR($B$3="",$B$4=""),"",IFERROR(SUMIFS('Class Schedule'!$N$9:$N$208,'Class Schedule'!$E$9:$E$208,">="&$B$3,'Class Schedule'!$E$9:$E$208,"<="&$B$4,'Class Schedule'!$O$9:$O$208,"Scheduled")/SUMIFS('Class Schedule'!$M$9:$M$208,'Class Schedule'!$E$9:$E$208,">="&$B$3,'Class Schedule'!$E$9:$E$208,"<="&$B$4,'Class Schedule'!$O$9:$O$208,"Scheduled"),0)) | I7: =IF(OR($B$3="",$B$4=""),"",COUNTIFS('Class Schedule'!$E$9:$E$208,">="&$B$3,'Class Schedule'!$E$9:$E$208,"<="&$B$4,'Class Schedule'!$R$9:$R$208,"<>")) | K7: =IF(OR($B$3="",$B$4=""),"",COUNTIFS('Class Schedule'!$E$9:$E$208,">="&$B$3,'Class Schedule'!$E$9:$E$208,"<="&$B$4,'Class Schedule'!$S$9:$S$208,"Yes"))
A8: Scheduled records in the selected range. | C8: Aggregate enrollment for scheduled sessions. | E8: Positive open seats in scheduled sessions. | G8: Enrollment divided by scheduled capacity. | I8: Dated rows with a schedule alert. | K8: Scheduled records that passed all checks.
A14: Scheduled Sessions by Weekday | B14: Session Count | D14: Scheduled Sessions by Delivery Format | E14: Session Count
A15: Monday | B15: =IF(OR($B$3="",$B$4=""),"",SUMPRODUCT(--('Class Schedule'!$E$9:$E$208>=$B$3),--('Class Schedule'!$E$9:$E$208<=$B$4),--('Class Schedule'!$O$9:$O$208="Scheduled"),--(WEEKDAY('Class Schedule'!$E$9:$E$208,2)=1))) | D15: In Person | E15: =IF(OR($B$3="",$B$4=""),"",COUNTIFS('Class Schedule'!$E$9:$E$208,">="&$B$3,'Class Schedule'!$E$9:$E$208,"<="&$B$4,'Class Schedule'!$O$9:$O$208,"Scheduled",'Class Schedule'!$I$9:$I$208,D15))
A16: Tuesday | B16: =IF(OR($B$3="",$B$4=""),"",SUMPRODUCT(--('Class Schedule'!$E$9:$E$208>=$B$3),--('Class Schedule'!$E$9:$E$208<=$B$4),--('Class Schedule'!$O$9:$O$208="Scheduled"),--(WEEKDAY('Class Schedule'!$E$9:$E$208,2)=2))) | D16: Virtual | E16: =IF(OR($B$3="",$B$4=""),"",COUNTIFS('Class Schedule'!$E$9:$E$208,">="&$B$3,'Class Schedule'!$E$9:$E$208,"<="&$B$4,'Class Schedule'!$O$9:$O$208,"Scheduled",'Class Schedule'!$I$9:$I$208,D16))
A17: Wednesday | B17: =IF(OR($B$3="",$B$4=""),"",SUMPRODUCT(--('Class Schedule'!$E$9:$E$208>=$B$3),--('Class Schedule'!$E$9:$E$208<=$B$4),--('Class Schedule'!$O$9:$O$208="Scheduled"),--(WEEKDAY('Class Schedule'!$E$9:$E$208,2)=3))) | D17: Hybrid | E17: =IF(OR($B$3="",$B$4=""),"",COUNTIFS('Class Schedule'!$E$9:$E$208,">="&$B$3,'Class Schedule'!$E$9:$E$208,"<="&$B$4,'Class Schedule'!$O$9:$O$208,"Scheduled",'Class Schedule'!$I$9:$I$208,D17))
A18: Thursday | B18: =IF(OR($B$3="",$B$4=""),"",SUMPRODUCT(--('Class Schedule'!$E$9:$E$208>=$B$3),--('Class Schedule'!$E$9:$E$208<=$B$4),--('Class Schedule'!$O$9:$O$208="Scheduled"),--(WEEKDAY('Class Schedule'!$E$9:$E$208,2)=4))) | E18: =""
A19: Friday | B19: =IF(OR($B$3="",$B$4=""),"",SUMPRODUCT(--('Class Schedule'!$E$9:$E$208>=$B$3),--('Class Schedule'!$E$9:$E$208<=$B$4),--('Class Schedule'!$O$9:$O$208="Scheduled"),--(WEEKDAY('Class Schedule'!$E$9:$E$208,2)=5))) | E19: =""
A20: Saturday | B20: =IF(OR($B$3="",$B$4=""),"",SUMPRODUCT(--('Class Schedule'!$E$9:$E$208>=$B$3),--('Class Schedule'!$E$9:$E$208<=$B$4),--('Class Schedule'!$O$9:$O$208="Scheduled"),--(WEEKDAY('Class Schedule'!$E$9:$E$208,2)=6))) | E20: =""
A21: Sunday | B21: =IF(OR($B$3="",$B$4=""),"",SUMPRODUCT(--('Class Schedule'!$E$9:$E$208>=$B$3),--('Class Schedule'!$E$9:$E$208<=$B$4),--('Class Schedule'!$O$9:$O$208="Scheduled"),--(WEEKDAY('Class Schedule'!$E$9:$E$208,2)=7))) | E21: =""
B22: ="" | E22: =""
B23: ="" | E23: =""
B24: ="" | E24: =""
B25: ="" | E25: =""
B26: ="" | E26: =""
B27: ="" | E27: =""
B28: ="" | E28: =""
B29: ="" | E29: =""
B30: ="" | E30: =""
B31: ="" | E31: =""
B32: ="" | E32: =""
B33: ="" | E33: =""
... B101: ="" | E101: =""

Sheet Class Schedule
A1: Class Schedule
A2: Enter one row for each class meeting or session. Gray cells are editable; blue cells are calculated.
A4: Prepared Rows | B4: 200 | D4: Example Rows | E4: 10 | G4: Review Alerts | H4: =COUNTIF($R$9:$R$208,"<>")
A8: Class ID | B8: Course Code | C8: Class Title | D8: Section | E8: Class Date | F8: Start Time | G8: End Time | H8: Time Zone | I8: Delivery Format | J8: Location | K8: Meeting Link | L8: Instructor | M8: Capacity | N8: Enrolled | O8: Status | P8: Duration Hours | Q8: Seats Available | R8: Schedule Alert | S8: Ready to Publish?
A9: CLS-2026-001 | B9: COM-101 | C9: Workplace Communication Basics | D9: A | E9: 46279 | F9: 0.375 | G9: 0.45833333 | H9: Eastern | I9: In Person | J9: Juniper Training Center - Room 201 | L9: Avery Brooks | M9: 24 | N9: 18 | O9: Scheduled | P9: =IF(COUNTA(A9:O9)=0,"",IF(OR(F9="",G9="",G9<=F9),"",ROUND((G9-F9)*24,2))) | Q9: =IF(COUNTA(A9:O9)=0,"",IF(M9="","",M9-IF(N9="",0,N9))) | R9: =IF(COUNTA(A9:O9)=0,"",IF(OR(E9="",F9="",G9=""),"Missing date or time",IF(G9<=F9,"End time must be after start time",IF(AND(M9<>"",N9<>"",N9>M9),"Over capacity",IF(AND(L9<>"",O9<>"Canceled",COUNTIFS($E$9:$E$208,E9,$L$9:$L$208,L9,$F$9:$F$208,"<"&G9,$G$9:$G$208,">"&F9,$O$9:$O$208,"<>Canceled")>1),"Instructor conflict",IF(AND(OR(I9="In Person",I9="Hybrid"),J9<>"",O9<>"Canceled",COUNTIFS($E$9:$E$208,E9,$J$9:$J$208,J9,$F$9:$F$208,"<"&G9,$G$9:$G$208,">"&F9,$O$9:$O$208,"<>Canceled")>1),"Location conflict",IF(AND(O9="Scheduled",OR(A9="",B9="",C9="",E9="",F9="",G9="",H9="",I9="",L9="",M9="",AND(OR(I9="In Person",I9="Hybrid"),J9=""),AND(OR(I9="Virtual",I9="Hybrid"),K9=""))),"Missing required scheduled details",""))))))) | S9: =IF(COUNTA(A9:O9)=0,"",IF(OR(O9="Completed",O9="Canceled"),"N/A",IF(O9<>"Scheduled","No",IF(R9="","Yes","No"))))
A10: CLS-2026-002 | B10: DAT-205 | C10: Spreadsheet Data Skills | D10: A | E10: 46280 | F10: 0.41666667 | G10: 0.5 | H10: Eastern | I10: Virtual | K10: https://northstar.example.invalid/dat205-a | L10: Jordan Lee | M10: 30 | N10: 27 | O10: Scheduled | P10: =IF(COUNTA(A10:O10)=0,"",IF(OR(F10="",G10="",G10<=F10),"",ROUND((G10-F10)*24,2))) | Q10: =IF(COUNTA(A10:O10)=0,"",IF(M10="","",M10-IF(N10="",0,N10))) | R10: =IF(COUNTA(A10:O10)=0,"",IF(OR(E10="",F10="",G10=""),"Missing date or time",IF(G10<=F10,"End time must be after start time",IF(AND(M10<>"",N10<>"",N10>M10),"Over capacity",IF(AND(L10<>"",O10<>"Canceled",COUNTIFS($E$9:$E$208,E10,$L$9:$L$208,L10,$F$9:$F$208,"<"&G10,$G$9:$G$208,">"&F10,$O$9:$O$208,"<>Canceled")>1),"Instructor conflict",IF(AND(OR(I10="In Person",I10="Hybrid"),J10<>"",O10<>"Canceled",COUNTIFS($E$9:$E$208,E10,$J$9:$J$208,J10,$F$9:$F$208,"<"&G10,$G$9:$G$208,">"&F10,$O$9:$O$208,"<>Canceled")>1),"Location conflict",IF(AND(O10="Scheduled",OR(A10="",B10="",C10="",E10="",F10="",G10="",H10="",I10="",L10="",M10="",AND(OR(I10="In Person",I10="Hybrid"),J10=""),AND(OR(I10="Virtual",I10="Hybrid"),K10=""))),"Missing required scheduled details",""))))))) | S10: =IF(COUNTA(A10:O10)=0,"",IF(OR(O10="Completed",O10="Canceled"),"N/A",IF(O10<>"Scheduled","No",IF(R10="","Yes","No"))))
A11: CLS-2026-003 | B11: LDR-110 | C11: New Supervisor Foundations | D11: A | E11: 46280 | F11: 0.47916667 | G11: 0.5625 | H11: Eastern | I11: In Person | J11: Juniper Training Center - Room 102 | L11: Jordan Lee | M11: 20 | N11: 16 | O11: Scheduled | P11: =IF(COUNTA(A11:O11)=0,"",IF(OR(F11="",G11="",G11<=F11),"",ROUND((G11-F11)*24,2))) | Q11: =IF(COUNTA(A11:O11)=0,"",IF(M11="","",M11-IF(N11="",0,N11))) | R11: =IF(COUNTA(A11:O11)=0,"",IF(OR(E11="",F11="",G11=""),"Missing date or time",IF(G11<=F11,"End time must be after start time",IF(AND(M11<>"",N11<>"",N11>M11),"Over capacity",IF(AND(L11<>"",O11<>"Canceled",COUNTIFS($E$9:$E$208,E11,$L$9:$L$208,L11,$F$9:$F$208,"<"&G11,$G$9:$G$208,">"&F11,$O$9:$O$208,"<>Canceled")>1),"Instructor conflict",IF(AND(OR(I11="In Person",I11="Hybrid"),J11<>"",O11<>"Canceled",COUNTIFS($E$9:$E$208,E11,$J$9:$J$208,J11,$F$9:$F$208,"<"&G11,$G$9:$G$208,">"&F11,$O$9:$O$208,"<>Canceled")>1),"Location conflict",IF(AND(O11="Scheduled",OR(A11="",B11="",C11="",E11="",F11="",G11="",H11="",I11="",L11="",M11="",AND(OR(I11="In Person",I11="Hybrid"),J11=""),AND(OR(I11="Virtual",I11="Hybrid"),K11=""))),"Missing required scheduled details",""))))))) | S11: =IF(COUNTA(A11:O11)=0,"",IF(OR(O11="Completed",O11="Canceled"),"N/A",IF(O11<>"Scheduled","No",IF(R11="","Yes","No"))))
A12: CLS-2026-004 | B12: SAF-120 | C12: Workplace Safety Orientation | D12: Morning | E12: 46281 | F12: 0.35416667 | G12: 0.4375 | H12: Central | I12: In Person | J12: Cedar Learning Hub - Room A | L12: Morgan Patel | M12: 25 | N12: 22 | O12: Scheduled | P12: =IF(COUNTA(A12:O12)=0,"",IF(OR(F12="",G12="",G12<=F12),"",ROUND((G12-F12)*24,2))) | Q12: =IF(COUNTA(A12:O12)=0,"",IF(M12="","",M12-IF(N12="",0,N12))) | R12: =IF(COUNTA(A12:O12)=0,"",IF(OR(E12="",F12="",G12=""),"Missing date or time",IF(G12<=F12,"End time must be after start time",IF(AND(M12<>"",N12<>"",N12>M12),"Over capacity",IF(AND(L12<>"",O12<>"Canceled",COUNTIFS($E$9:$E$208,E12,$L$9:$L$208,L12,$F$9:$F$208,"<"&G12,$G$9:$G$208,">"&F12,$O$9:$O$208,"<>Canceled")>1),"Instructor conflict",IF(AND(OR(I12="In Person",I12="Hybrid"),J12<>"",O12<>"Canceled",COUNTIFS($E$9:$E$208,E12,$J$9:$J$208,J12,$F$9:$F$208,"<"&G12,$G$9:$G$208,">"&F12,$O$9:$O$208,"<>Canceled")>1),"Location conflict",IF(AND(O12="Scheduled",OR(A12="",B12="",C12="",E12="",F12="",G12="",H12="",I12="",L12="",M12="",AND(OR(I12="In Person",I12="Hybrid"),J12=""),AND(OR(I12="Virtual",I12="Hybrid"),K12=""))),"Missing required scheduled details",""))))))) | S12: =IF(COUNTA(A12:O12)=0,"",IF(OR(O12="Completed",O12="Canceled"),"N/A",IF(O12<>"Scheduled","No",IF(R12="","Yes","No"))))
A13: CLS-2026-005 | B13: PRJ-210 | C13: Project Planning Essentials | D13: A | E13: 46281 | F13: 0.41666667 | G13: 0.5 | H13: Central | I13: In Person | J13: Cedar Learning Hub - Room A | L13: Taylor Nguyen | M13: 25 | N13: 20 | O13: Scheduled | P13: =IF(COUNTA(A13:O13)=0,"",IF(OR(F13="",G13="",G13<=F13),"",ROUND((G13-F13)*24,2))) | Q13: =IF(COUNTA(A13:O13)=0,"",IF(M13="","",M13-IF(N13="",0,N13))) | R13: =IF(COUNTA(A13:O13)=0,"",IF(OR(E13="",F13="",G13=""),"Missing date or time",IF(G13<=F13,"End time must be after start time",IF(AND(M13<>"",N13<>"",N13>M13),"Over capacity",IF(AND(L13<>"",O13<>"Canceled",COUNTIFS($E$9:$E$208,E13,$L$9:$L$208,L13,$F$9:$F$208,"<"&G13,$G$9:$G$208,">"&F13,$O$9:$O$208,"<>Canceled")>1),"Instructor conflict",IF(AND(OR(I13="In Person",I13="Hybrid"),J13<>"",O13<>"Canceled",COUNTIFS($E$9:$E$208,E13,$J$9:$J$208,J13,$F$9:$F$208,"<"&G13,$G$9:$G$208,">"&F13,$O$9:$O$208,"<>Canceled")>1),"Location conflict",IF(AND(O13="Scheduled",OR(A13="",B13="",C13="",E13="",F13="",G13="",H13="",I13="",L13="",M13="",AND(OR(I13="In Person",I13="Hybrid"),J13=""),AND(OR(I13="Virtual",I13="Hybrid"),K13=""))),"Missing required scheduled details",""))))))) | S13: =IF(COUNTA(A13:O13)=0,"",IF(OR(O13="Completed",O13="Canceled"),"N/A",IF(O13<>"Scheduled","No",IF(R13="","Yes","No"))))
A14: CLS-2026-006 | B14: CUS-130 | C14: Customer Service Skills | D14: Evening | E14: 46282 | F14: 0.75 | G14: 0.83333333 | H14: Mountain | I14: Virtual | K14: https://bluepeak.example.invalid/cus130 | L14: Casey Rivera | M14: 20 | N14: 23 | O14: Scheduled | P14: =IF(COUNTA(A14:O14)=0,"",IF(OR(F14="",G14="",G14<=F14),"",ROUND((G14-F14)*24,2))) | Q14: =IF(COUNTA(A14:O14)=0,"",IF(M14="","",M14-IF(N14="",0,N14))) | R14: =IF(COUNTA(A14:O14)=0,"",IF(OR(E14="",F14="",G14=""),"Missing date or time",IF(G14<=F14,"End time must be after start time",IF(AND(M14<>"",N14<>"",N14>M14),"Over capacity",IF(AND(L14<>"",O14<>"Canceled",COUNTIFS($E$9:$E$208,E14,$L$9:$L$208,L14,$F$9:$F$208,"<"&G14,$G$9:$G$208,">"&F14,$O$9:$O$208,"<>Canceled")>1),"Instructor conflict",IF(AND(OR(I14="In Person",I14="Hybrid"),J14<>"",O14<>"Canceled",COUNTIFS($E$9:$E$208,E14,$J$9:$J$208,J14,$F$9:$F$208,"<"&G14,$G$9:$G$208,">"&F14,$O$9:$O$208,"<>Canceled")>1),"Location conflict",IF(AND(O14="Scheduled",OR(A14="",B14="",C14="",E14="",F14="",G14="",H14="",I14="",L14="",M14="",AND(OR(I14="In Person",I14="Hybrid"),J14=""),AND(OR(I14="Virtual",I14="Hybrid"),K14=""))),"Missing required scheduled details",""))))))) | S14: =IF(COUNTA(A14:O14)=0,"",IF(OR(O14="Completed",O14="Canceled"),"N/A",IF(O14<>"Scheduled","No",IF(R14="","Yes","No"))))
A15: CLS-2026-007 | B15: TEC-150 | C15: Digital Tools Overview | D15: B | E15: 46283 | F15: 0.54166667 | G15: 0.625 | H15: Pacific | I15: Hybrid | J15: Willow Skills Center - Lab 3 | L15: Riley Chen | M15: 18 | N15: 8 | O15: Draft | P15: =IF(COUNTA(A15:O15)=0,"",IF(OR(F15="",G15="",G15<=F15),"",ROUND((G15-F15)*24,2))) | Q15: =IF(COUNTA(A15:O15)=0,"",IF(M15="","",M15-IF(N15="",0,N15))) | R15: =IF(COUNTA(A15:O15)=0,"",IF(OR(E15="",F15="",G15=""),"Missing date or time",IF(G15<=F15,"End time must be after start time",IF(AND(M15<>"",N15<>"",N15>M15),"Over capacity",IF(AND(L15<>"",O15<>"Canceled",COUNTIFS($E$9:$E$208,E15,$L$9:$L$208,L15,$F$9:$F$208,"<"&G15,$G$9:$G$208,">"&F15,$O$9:$O$208,"<>Canceled")>1),"Instructor conflict",IF(AND(OR(I15="In Person",I15="Hybrid"),J15<>"",O15<>"Canceled",COUNTIFS($E$9:$E$208,E15,$J$9:$J$208,J15,$F$9:$F$208,"<"&G15,$G$9:$G$208,">"&F15,$O$9:$O$208,"<>Canceled")>1),"Location conflict",IF(AND(O15="Scheduled",OR(A15="",B15="",C15="",E15="",F15="",G15="",H15="",I15="",L15="",M15="",AND(OR(I15="In Person",I15="Hybrid"),J15=""),AND(OR(I15="Virtual",I15="Hybrid"),K15=""))),"Missing required scheduled details",""))))))) | S15: =IF(COUNTA(A15:O15)=0,"",IF(OR(O15="Completed",O15="Canceled"),"N/A",IF(O15<>"Scheduled","No",IF(R15="","Yes","No"))))
A16: CLS-2026-008 | B16: HRD-115 | C16: Coaching Conversations | D16: A | E16: 46286 | F16: 0.375 | G16: 0.47916667 | H16: Eastern | I16: Hybrid | J16: Juniper Training Center - Room 204 | K16: https://northstar.example.invalid/hrd115 | L16: Cameron Ellis | M16: 16 | N16: 12 | O16: Scheduled | P16: =IF(COUNTA(A16:O16)=0,"",IF(OR(F16="",G16="",G16<=F16),"",ROUND((G16-F16)*24,2))) | Q16: =IF(COUNTA(A16:O16)=0,"",IF(M16="","",M16-IF(N16="",0,N16))) | R16: =IF(COUNTA(A16:O16)=0,"",IF(OR(E16="",F16="",G16=""),"Missing date or time",IF(G16<=F16,"End time must be after start time",IF(AND(M16<>"",N16<>"",N16>M16),"Over capacity",IF(AND(L16<>"",O16<>"Canceled",COUNTIFS($E$9:$E$208,E16,$L$9:$L$208,L16,$F$9:$F$208,"<"&G16,$G$9:$G$208,">"&F16,$O$9:$O$208,"<>Canceled")>1),"Instructor conflict",IF(AND(OR(I16="In Person",I16="Hybrid"),J16<>"",O16<>"Canceled",COUNTIFS($E$9:$E$208,E16,$J$9:$J$208,J16,$F$9:$F$208,"<"&G16,$G$9:$G$208,">"&F16,$O$9:$O$208,"<>Canceled")>1),"Location conflict",IF(AND(O16="Scheduled",OR(A16="",B16="",C16="",E16="",F16="",G16="",H16="",I16="",L16="",M16="",AND(OR(I16="In Person",I16="Hybrid"),J16=""),AND(OR(I16="Virtual",I16="Hybrid"),K16=""))),"Missing required scheduled details",""))))))) | S16: =IF(COUNTA(A16:O16)=0,"",IF(OR(O16="Completed",O16="Canceled"),"N/A",IF(O16<>"Scheduled","No",IF(R16="","Yes","No"))))
A17: CLS-2026-009 | B17: FIN-160 | C17: Budget Basics for Program Staff | D17: A | E17: 46287 | F17: 0.58333333 | G17: 0.66666667 | H17: Eastern | I17: Virtual | K17: https://northstar.example.invalid/fin160 | L17: Dana Morgan | M17: 35 | N17: 28 | O17: Scheduled | P17: =IF(COUNTA(A17:O17)=0,"",IF(OR(F17="",G17="",G17<=F17),"",ROUND((G17-F17)*24,2))) | Q17: =IF(COUNTA(A17:O17)=0,"",IF(M17="","",M17-IF(N17="",0,N17))) | R17: =IF(COUNTA(A17:O17)=0,"",IF(OR(E17="",F17="",G17=""),"Missing date or time",IF(G17<=F17,"End time must be after start time",IF(AND(M17<>"",N17<>"",N17>M17),"Over capacity",IF(AND(L17<>"",O17<>"Canceled",COUNTIFS($E$9:$E$208,E17,$L$9:$L$208,L17,$F$9:$F$208,"<"&G17,$G$9:$G$208,">"&F17,$O$9:$O$208,"<>Canceled")>1),"Instructor conflict",IF(AND(OR(I17="In Person",I17="Hybrid"),J17<>"",O17<>"Canceled",COUNTIFS($E$9:$E$208,E17,$J$9:$J$208,J17,$F$9:$F$208,"<"&G17,$G$9:$G$208,">"&F17,$O$9:$O$208,"<>Canceled")>1),"Location conflict",IF(AND(O17="Scheduled",OR(A17="",B17="",C17="",E17="",F17="",G17="",H17="",I17="",L17="",M17="",AND(OR(I17="In Person",I17="Hybrid"),J17=""),AND(OR(I17="Virtual",I17="Hybrid"),K17=""))),"Missing required scheduled details",""))))))) | S17: =IF(COUNTA(A17:O17)=0,"",IF(OR(O17="Completed",O17="Canceled"),"N/A",IF(O17<>"Scheduled","No",IF(R17="","Yes","No"))))
A18: CLS-2026-010 | B18: ORG-140 | C18: Meeting Facilitation Practice | D18: A | E18: 46280 | F18: 0.4375 | G18: 0.52083333 | H18: Eastern | I18: In Person | J18: Juniper Training Center - Room 105 | L18: Jordan Lee | M18: 18 | N18: 14 | O18: Canceled | P18: =IF(COUNTA(A18:O18)=0,"",IF(OR(F18="",G18="",G18<=F18),"",ROUND((G18-F18)*24,2))) | Q18: =IF(COUNTA(A18:O18)=0,"",IF(M18="","",M18-IF(N18="",0,N18))) | R18: =IF(COUNTA(A18:O18)=0,"",IF(OR(E18="",F18="",G18=""),"Missing date or time",IF(G18<=F18,"End time must be after start time",IF(AND(M18<>"",N18<>"",N18>M18),"Over capacity",IF(AND(L18<>"",O18<>"Canceled",COUNTIFS($E$9:$E$208,E18,$L$9:$L$208,L18,$F$9:$F$208,"<"&G18,$G$9:$G$208,">"&F18,$O$9:$O$208,"<>Canceled")>1),"Instructor conflict",IF(AND(OR(I18="In Person",I18="Hybrid"),J18<>"",O18<>"Canceled",COUNTIFS($E$9:$E$208,E18,$J$9:$J$208,J18,$F$9:$F$208,"<"&G18,$G$9:$G$208,">"&F18,$O$9:$O$208,"<>Canceled")>1),"Location conflict",IF(AND(O18="Scheduled",OR(A18="",B18="",C18="",E18="",F18="",G18="",H18="",I18="",L18="",M18="",AND(OR(I18="In Person",I18="Hybrid"),J18=""),AND(OR(I18="Virtual",I18="Hybrid"),K18=""))),"Missing required scheduled details",""))))))) | S18: =IF(COUNTA(A18:O18)=0,"",IF(OR(O18="Completed",O18="Canceled"),"N/A",IF(O18<>"Scheduled","No",IF(R18="","Yes","No"))))
P19: =IF(COUNTA(A19:O19)=0,"",IF(OR(F19="",G19="",G19<=F19),"",ROUND((G19-F19)*24,2))) | Q19: =IF(COUNTA(A19:O19)=0,"",IF(M19="","",M19-IF(N19="",0,N19))) | R19: =IF(COUNTA(A19:O19)=0,"",IF(OR(E19="",F19="",G19=""),"Missing date or time",IF(G19<=F19,"End time must be after start time",IF(AND(M19<>"",N19<>"",N19>M19),"Over capacity",IF(AND(L19<>"",O19<>"Canceled",COUNTIFS($E$9:$E$208,E19,$L$9:$L$208,L19,$F$9:$F$208,"<"&G19,$G$9:$G$208,">"&F19,$O$9:$O$208,"<>Canceled")>1),"Instructor conflict",IF(AND(OR(I19="In Person",I19="Hybrid"),J19<>"",O19<>"Canceled",COUNTIFS($E$9:$E$208,E19,$J$9:$J$208,J19,$F$9:$F$208,"<"&G19,$G$9:$G$208,">"&F19,$O$9:$O$208,"<>Canceled")>1),"Location conflict",IF(AND(O19="Scheduled",OR(A19="",B19="",C19="",E19="",F19="",G19="",H19="",I19="",L19="",M19="",AND(OR(I19="In Person",I19="Hybrid"),J19=""),AND(OR(I19="Virtual",I19="Hybrid"),K19=""))),"Missing required scheduled details",""))))))) | S19: =IF(COUNTA(A19:O19)=0,"",IF(OR(O19="Completed",O19="Canceled"),"N/A",IF(O19<>"Scheduled","No",IF(R19="","Yes","No"))))
P20: =IF(COUNTA(A20:O20)=0,"",IF(OR(F20="",G20="",G20<=F20),"",ROUND((G20-F20)*24,2))) | Q20: =IF(COUNTA(A20:O20)=0,"",IF(M20="","",M20-IF(N20="",0,N20))) | R20: =IF(COUNTA(A20:O20)=0,"",IF(OR(E20="",F20="",G20=""),"Missing date or time",IF(G20<=F20,"End time must be after start time",IF(AND(M20<>"",N20<>"",N20>M20),"Over capacity",IF(AND(L20<>"",O20<>"Canceled",COUNTIFS($E$9:$E$208,E20,$L$9:$L$208,L20,$F$9:$F$208,"<"&G20,$G$9:$G$208,">"&F20,$O$9:$O$208,"<>Canceled")>1),"Instructor conflict",IF(AND(OR(I20="In Person",I20="Hybrid"),J20<>"",O20<>"Canceled",COUNTIFS($E$9:$E$208,E20,$J$9:$J$208,J20,$F$9:$F$208,"<"&G20,$G$9:$G$208,">"&F20,$O$9:$O$208,"<>Canceled")>1),"Location conflict",IF(AND(O20="Scheduled",OR(A20="",B20="",C20="",E20="",F20="",G20="",H20="",I20="",L20="",M20="",AND(OR(I20="In Person",I20="Hybrid"),J20=""),AND(OR(I20="Virtual",I20="Hybrid"),K20=""))),"Missing required scheduled details",""))))))) | S20: =IF(COUNTA(A20:O20)=0,"",IF(OR(O20="Completed",O20="Canceled"),"N/A",IF(O20<>"Scheduled","No",IF(R20="","Yes","No"))))
P21: =IF(COUNTA(A21:O21)=0,"",IF(OR(F21="",G21="",G21<=F21),"",ROUND((G21-F21)*24,2))) | Q21: =IF(COUNTA(A21:O21)=0,"",IF(M21="","",M21-IF(N21="",0,N21))) | R21: =IF(COUNTA(A21:O21)=0,"",IF(OR(E21="",F21="",G21=""),"Missing date or time",IF(G21<=F21,"End time must be after start time",IF(AND(M21<>"",N21<>"",N21>M21),"Over capacity",IF(AND(L21<>"",O21<>"Canceled",COUNTIFS($E$9:$E$208,E21,$L$9:$L$208,L21,$F$9:$F$208,"<"&G21,$G$9:$G$208,">"&F21,$O$9:$O$208,"<>Canceled")>1),"Instructor conflict",IF(AND(OR(I21="In Person",I21="Hybrid"),J21<>"",O21<>"Canceled",COUNTIFS($E$9:$E$208,E21,$J$9:$J$208,J21,$F$9:$F$208,"<"&G21,$G$9:$G$208,">"&F21,$O$9:$O$208,"<>Canceled")>1),"Location conflict",IF(AND(O21="Scheduled",OR(A21="",B21="",C21="",E21="",F21="",G21="",H21="",I21="",L21="",M21="",AND(OR(I21="In Person",I21="Hybrid"),J21=""),AND(OR(I21="Virtual",I21="Hybrid"),K21=""))),"Missing required scheduled details",""))))))) | S21: =IF(COUNTA(A21:O21)=0,"",IF(OR(O21="Completed",O21="Canceled"),"N/A",IF(O21<>"Scheduled","No",IF(R21="","Yes","No"))))
P22: =IF(COUNTA(A22:O22)=0,"",IF(OR(F22="",G22="",G22<=F22),"",ROUND((G22-F22)*24,2))) | Q22: =IF(COUNTA(A22:O22)=0,"",IF(M22="","",M22-IF(N22="",0,N22))) | R22: =IF(COUNTA(A22:O22)=0,"",IF(OR(E22="",F22="",G22=""),"Missing date or time",IF(G22<=F22,"End time must be after start time",IF(AND(M22<>"",N22<>"",N22>M22),"Over capacity",IF(AND(L22<>"",O22<>"Canceled",COUNTIFS($E$9:$E$208,E22,$L$9:$L$208,L22,$F$9:$F$208,"<"&G22,$G$9:$G$208,">"&F22,$O$9:$O$208,"<>Canceled")>1),"Instructor conflict",IF(AND(OR(I22="In Person",I22="Hybrid"),J22<>"",O22<>"Canceled",COUNTIFS($E$9:$E$208,E22,$J$9:$J$208,J22,$F$9:$F$208,"<"&G22,$G$9:$G$208,">"&F22,$O$9:$O$208,"<>Canceled")>1),"Location conflict",IF(AND(O22="Scheduled",OR(A22="",B22="",C22="",E22="",F22="",G22="",H22="",I22="",L22="",M22="",AND(OR(I22="In Person",I22="Hybrid"),J22=""),AND(OR(I22="Virtual",I22="Hybrid"),K22=""))),"Missing required scheduled details",""))))))) | S22: =IF(COUNTA(A22:O22)=0,"",IF(OR(O22="Completed",O22="Canceled"),"N/A",IF(O22<>"Scheduled","No",IF(R22="","Yes","No"))))
P23: =IF(COUNTA(A23:O23)=0,"",IF(OR(F23="",G23="",G23<=F23),"",ROUND((G23-F23)*24,2))) | Q23: =IF(COUNTA(A23:O23)=0,"",IF(M23="","",M23-IF(N23="",0,N23))) | R23: =IF(COUNTA(A23:O23)=0,"",IF(OR(E23="",F23="",G23=""),"Missing date or time",IF(G23<=F23,"End time must be after start time",IF(AND(M23<>"",N23<>"",N23>M23),"Over capacity",IF(AND(L23<>"",O23<>"Canceled",COUNTIFS($E$9:$E$208,E23,$L$9:$L$208,L23,$F$9:$F$208,"<"&G23,$G$9:$G$208,">"&F23,$O$9:$O$208,"<>Canceled")>1),"Instructor conflict",IF(AND(OR(I23="In Person",I23="Hybrid"),J23<>"",O23<>"Canceled",COUNTIFS($E$9:$E$208,E23,$J$9:$J$208,J23,$F$9:$F$208,"<"&G23,$G$9:$G$208,">"&F23,$O$9:$O$208,"<>Canceled")>1),"Location conflict",IF(AND(O23="Scheduled",OR(A23="",B23="",C23="",E23="",F23="",G23="",H23="",I23="",L23="",M23="",AND(OR(I23="In Person",I23="Hybrid"),J23=""),AND(OR(I23="Virtual",I23="Hybrid"),K23=""))),"Missing required scheduled details",""))))))) | S23: =IF(COUNTA(A23:O23)=0,"",IF(OR(O23="Completed",O23="Canceled"),"N/A",IF(O23<>"Scheduled","No",IF(R23="","Yes","No"))))
P24: =IF(COUNTA(A24:O24)=0,"",IF(OR(F24="",G24="",G24<=F24),"",ROUND((G24-F24)*24,2))) | Q24: =IF(COUNTA(A24:O24)=0,"",IF(M24="","",M24-IF(N24="",0,N24))) | R24: =IF(COUNTA(A24:O24)=0,"",IF(OR(E24="",F24="",G24=""),"Missing date or time",IF(G24<=F24,"End time must be after start time",IF(AND(M24<>"",N24<>"",N24>M24),"Over capacity",IF(AND(L24<>"",O24<>"Canceled",COUNTIFS($E$9:$E$208,E24,$L$9:$L$208,L24,$F$9:$F$208,"<"&G24,$G$9:$G$208,">"&F24,$O$9:$O$208,"<>Canceled")>1),"Instructor conflict",IF(AND(OR(I24="In Person",I24="Hybrid"),J24<>"",O24<>"Canceled",COUNTIFS($E$9:$E$208,E24,$J$9:$J$208,J24,$F$9:$F$208,"<"&G24,$G$9:$G$208,">"&F24,$O$9:$O$208,"<>Canceled")>1),"Location conflict",IF(AND(O24="Scheduled",OR(A24="",B24="",C24="",E24="",F24="",G24="",H24="",I24="",L24="",M24="",AND(OR(I24="In Person",I24="Hybrid"),J24=""),AND(OR(I24="Virtual",I24="Hybrid"),K24=""))),"Missing required scheduled details",""))))))) | S24: =IF(COUNTA(A24:O24)=0,"",IF(OR(O24="Completed",O24="Canceled"),"N/A",IF(O24<>"Scheduled","No",IF(R24="","Yes","No"))))
P25: =IF(COUNTA(A25:O25)=0,"",IF(OR(F25="",G25="",G25<=F25),"",ROUND((G25-F25)*24,2))) | Q25: =IF(COUNTA(A25:O25)=0,"",IF(M25="","",M25-IF(N25="",0,N25))) | R25: =IF(COUNTA(A25:O25)=0,"",IF(OR(E25="",F25="",G25=""),"Missing date or time",IF(G25<=F25,"End time must be after start time",IF(AND(M25<>"",N25<>"",N25>M25),"Over capacity",IF(AND(L25<>"",O25<>"Canceled",COUNTIFS($E$9:$E$208,E25,$L$9:$L$208,L25,$F$9:$F$208,"<"&G25,$G$9:$G$208,">"&F25,$O$9:$O$208,"<>Canceled")>1),"Instructor conflict",IF(AND(OR(I25="In Person",I25="Hybrid"),J25<>"",O25<>"Canceled",COUNTIFS($E$9:$E$208,E25,$J$9:$J$208,J25,$F$9:$F$208,"<"&G25,$G$9:$G$208,">"&F25,$O$9:$O$208,"<>Canceled")>1),"Location conflict",IF(AND(O25="Scheduled",OR(A25="",B25="",C25="",E25="",F25="",G25="",H25="",I25="",L25="",M25="",AND(OR(I25="In Person",I25="Hybrid"),J25=""),AND(OR(I25="Virtual",I25="Hybrid"),K25=""))),"Missing required scheduled details",""))))))) | S25: =IF(COUNTA(A25:O25)=0,"",IF(OR(O25="Completed",O25="Canceled"),"N/A",IF(O25<>"Scheduled","No",IF(R25="","Yes","No"))))
P26: =IF(COUNTA(A26:O26)=0,"",IF(OR(F26="",G26="",G26<=F26),"",ROUND((G26-F26)*24,2))) | Q26: =IF(COUNTA(A26:O26)=0,"",IF(M26="","",M26-IF(N26="",0,N26))) | R26: =IF(COUNTA(A26:O26)=0,"",IF(OR(E26="",F26="",G26=""),"Missing date or time",IF(G26<=F26,"End time must be after start time",IF(AND(M26<>"",N26<>"",N26>M26),"Over capacity",IF(AND(L26<>"",O26<>"Canceled",COUNTIFS($E$9:$E$208,E26,$L$9:$L$208,L26,$F$9:$F$208,"<"&G26,$G$9:$G$208,">"&F26,$O$9:$O$208,"<>Canceled")>1),"Instructor conflict",IF(AND(OR(I26="In Person",I26="Hybrid"),J26<>"",O26<>"Canceled",COUNTIFS($E$9:$E$208,E26,$J$9:$J$208,J26,$F$9:$F$208,"<"&G26,$G$9:$G$208,">"&F26,$O$9:$O$208,"<>Canceled")>1),"Location conflict",IF(AND(O26="Scheduled",OR(A26="",B26="",C26="",E26="",F26="",G26="",H26="",I26="",L26="",M26="",AND(OR(I26="In Person",I26="Hybrid"),J26=""),AND(OR(I26="Virtual",I26="Hybrid"),K26=""))),"Missing required scheduled details",""))))))) | S26: =IF(COUNTA(A26:O26)=0,"",IF(OR(O26="Completed",O26="Canceled"),"N/A",IF(O26<>"Scheduled","No",IF(R26="","Yes","No"))))
P27: =IF(COUNTA(A27:O27)=0,"",IF(OR(F27="",G27="",G27<=F27),"",ROUND((G27-F27)*24,2))) | Q27: =IF(COUNTA(A27:O27)=0,"",IF(M27="","",M27-IF(N27="",0,N27))) | R27: =IF(COUNTA(A27:O27)=0,"",IF(OR(E27="",F27="",G27=""),"Missing date or time",IF(G27<=F27,"End time must be after start time",IF(AND(M27<>"",N27<>"",N27>M27),"Over capacity",IF(AND(L27<>"",O27<>"Canceled",COUNTIFS($E$9:$E$208,E27,$L$9:$L$208,L27,$F$9:$F$208,"<"&G27,$G$9:$G$208,">"&F27,$O$9:$O$208,"<>Canceled")>1),"Instructor conflict",IF(AND(OR(I27="In Person",I27="Hybrid"),J27<>"",O27<>"Canceled",COUNTIFS($E$9:$E$208,E27,$J$9:$J$208,J27,$F$9:$F$208,"<"&G27,$G$9:$G$208,">"&F27,$O$9:$O$208,"<>Canceled")>1),"Location conflict",IF(AND(O27="Scheduled",OR(A27="",B27="",C27="",E27="",F27="",G27="",H27="",I27="",L27="",M27="",AND(OR(I27="In Person",I27="Hybrid"),J27=""),AND(OR(I27="Virtual",I27="Hybrid"),K27=""))),"Missing required scheduled details",""))))))) | S27: =IF(COUNTA(A27:O27)=0,"",IF(OR(O27="Completed",O27="Canceled"),"N/A",IF(O27<>"Scheduled","No",IF(R27="","Yes","No"))))
P28: =IF(COUNTA(A28:O28)=0,"",IF(OR(F28="",G28="",G28<=F28),"",ROUND((G28-F28)*24,2))) | Q28: =IF(COUNTA(A28:O28)=0,"",IF(M28="","",M28-IF(N28="",0,N28))) | R28: =IF(COUNTA(A28:O28)=0,"",IF(OR(E28="",F28="",G28=""),"Missing date or time",IF(G28<=F28,"End time must be after start time",IF(AND(M28<>"",N28<>"",N28>M28),"Over capacity",IF(AND(L28<>"",O28<>"Canceled",COUNTIFS($E$9:$E$208,E28,$L$9:$L$208,L28,$F$9:$F$208,"<"&G28,$G$9:$G$208,">"&F28,$O$9:$O$208,"<>Canceled")>1),"Instructor conflict",IF(AND(OR(I28="In Person",I28="Hybrid"),J28<>"",O28<>"Canceled",COUNTIFS($E$9:$E$208,E28,$J$9:$J$208,J28,$F$9:$F$208,"<"&G28,$G$9:$G$208,">"&F28,$O$9:$O$208,"<>Canceled")>1),"Location conflict",IF(AND(O28="Scheduled",OR(A28="",B28="",C28="",E28="",F28="",G28="",H28="",I28="",L28="",M28="",AND(OR(I28="In Person",I28="Hybrid"),J28=""),AND(OR(I28="Virtual",I28="Hybrid"),K28=""))),"Missing required scheduled details",""))))))) | S28: =IF(COUNTA(A28:O28)=0,"",IF(OR(O28="Completed",O28="Canceled"),"N/A",IF(O28<>"Scheduled","No",IF(R28="","Yes","No"))))
P29: =IF(COUNTA(A29:O29)=0,"",IF(OR(F29="",G29="",G29<=F29),"",ROUND((G29-F29)*24,2))) | Q29: =IF(COUNTA(A29:O29)=0,"",IF(M29="","",M29-IF(N29="",0,N29))) | R29: =IF(COUNTA(A29:O29)=0,"",IF(OR(E29="",F29="",G29=""),"Missing date or time",IF(G29<=F29,"End time must be after start time",IF(AND(M29<>"",N29<>"",N29>M29),"Over capacity",IF(AND(L29<>"",O29<>"Canceled",COUNTIFS($E$9:$E$208,E29,$L$9:$L$208,L29,$F$9:$F$208,"<"&G29,$G$9:$G$208,">"&F29,$O$9:$O$208,"<>Canceled")>1),"Instructor conflict",IF(AND(OR(I29="In Person",I29="Hybrid"),J29<>"",O29<>"Canceled",COUNTIFS($E$9:$E$208,E29,$J$9:$J$208,J29,$F$9:$F$208,"<"&G29,$G$9:$G$208,">"&F29,$O$9:$O$208,"<>Canceled")>1),"Location conflict",IF(AND(O29="Scheduled",OR(A29="",B29="",C29="",E29="",F29="",G29="",H29="",I29="",L29="",M29="",AND(OR(I29="In Person",I29="Hybrid"),J29=""),AND(OR(I29="Virtual",I29="Hybrid"),K29=""))),"Missing required scheduled details",""))))))) | S29: =IF(COUNTA(A29:O29)=0,"",IF(OR(O29="Completed",O29="Canceled"),"N/A",IF(O29<>"Scheduled","No",IF(R29="","Yes","No"))))
P30: =IF(COUNTA(A30:O30)=0,"",IF(OR(F30="",G30="",G30<=F30),"",ROUND((G30-F30)*24,2))) | Q30: =IF(COUNTA(A30:O30)=0,"",IF(M30="","",M30-IF(N30="",0,N30))) | R30: =IF(COUNTA(A30:O30)=0,"",IF(OR(E30="",F30="",G30=""),"Missing date or time",IF(G30<=F30,"End time must be after start time",IF(AND(M30<>"",N30<>"",N30>M30),"Over capacity",IF(AND(L30<>"",O30<>"Canceled",COUNTIFS($E$9:$E$208,E30,$L$9:$L$208,L30,$F$9:$F$208,"<"&G30,$G$9:$G$208,">"&F30,$O$9:$O$208,"<>Canceled")>1),"Instructor conflict",IF(AND(OR(I30="In Person",I30="Hybrid"),J30<>"",O30<>"Canceled",COUNTIFS($E$9:$E$208,E30,$J$9:$J$208,J30,$F$9:$F$208,"<"&G30,$G$9:$G$208,">"&F30,$O$9:$O$208,"<>Canceled")>1),"Location conflict",IF(AND(O30="Scheduled",OR(A30="",B30="",C30="",E30="",F30="",G30="",H30="",I30="",L30="",M30="",AND(OR(I30="In Person",I30="Hybrid"),J30=""),AND(OR(I30="Virtual",I30="Hybrid"),K30=""))),"Missing required scheduled details",""))))))) | S30: =IF(COUNTA(A30:O30)=0,"",IF(OR(O30="Completed",O30="Canceled"),"N/A",IF(O30<>"Scheduled","No",IF(R30="","Yes","No"))))
... P208: =IF(COUNTA(A208:O208)=0,"",IF(OR(F208="",G208="",G208<=F208),"",ROUND((G208-F208)*24,2))) | Q208: =IF(COUNTA(A208:O208)=0,"",IF(M208="","",M208-IF(N208="",0,N208))) | R208: =IF(COUNTA(A208:O208)=0,"",IF(OR(E208="",F208="",G208=""),"Missing date or time",IF(G208<=F208,"End time must be after start time",IF(AND(M208<>"",N208<>"",N208>M208),"Over capacity",IF(AND(L208<>"",O208<>"Canceled",COUNTIFS($E$9:$E$208,E208,$L$9:$L$208,L208,$F$9:$F$208,"<"&G208,$G$9:$G$208,">"&F208,$O$9:$O$208,"<>Canceled")>1),"Instructor conflict",IF(AND(OR(I208="In Person",I208="Hybrid"),J208<>"",O208<>"Canceled",COUNTIFS($E$9:$E$208,E208,$J$9:$J$208,J208,$F$9:$F$208,"<"&G208,$G$9:$G$208,">"&F208,$O$9:$O$208,"<>Canceled")>1),"Location conflict",IF(AND(O208="Scheduled",OR(A208="",B208="",C208="",E208="",F208="",G208="",H208="",I208="",L208="",M208="",AND(OR(I208="In Person",I208="Hybrid"),J208=""),AND(OR(I208="Virtual",I208="Hybrid"),K208=""))),"Missing required scheduled details",""))))))) | S208: =IF(COUNTA(A208:O208)=0,"",IF(OR(O208="Completed",O208="Canceled"),"N/A",IF(O208<>"Scheduled","No",IF(R208="","Yes","No"))))

Sheet Settings & Lists
A1: Settings & Lists
A2: Edit list values carefully. Blank cells are ignored after the prepared list area.
A3: Delivery Formats | B3: Statuses | C3: Time Zones | D3: Instructors | F3: List Maintenance
A4: In Person | B4: Draft | C4: Eastern | D4: Avery Brooks | F4: Add instructors in the blank cells below the existing names.
A5: Virtual | B5: Scheduled | C5: Central | D5: Jordan Lee | F5: Do not insert blank rows within an active list.
A6: Hybrid | B6: Completed | C6: Mountain | D6: Morgan Patel | F6: Delivery format and status labels are used by formulas.
B7: Canceled | C7: Pacific | D7: Taylor Nguyen | F7: If those labels change, update the related formulas and checks.
C8: Alaska | D8: Casey Rivera
C9: Hawaii | D9: Riley Chen
D10: Cameron Ellis
D11: Dana Morgan
D12: Quinn Foster
D13: Skyler James

Sheet Instructions
A1: Instructions
B3: Getting Started
B4: Set the report dates on the Dashboard.
B5: Enter one class meeting or session per row on Class Schedule.
B6: Select standardized values from the dropdown lists.
B7: Review the Schedule Alert and Ready to Publish? columns.
B8: Correct conflicts or missing details before operational planning.
B11: Required Scheduled Fields
B12: A row with Status equal to Scheduled needs complete class details.
B13: • Class ID, course code, class title, date, and times
B14: • Time zone, delivery format, instructor, and capacity
B15: • Location for In Person or Hybrid delivery
B16: • Meeting link for Virtual or Hybrid delivery
... B47: Color Key
B48: Gray | C48: Editable input
B49: Blue | C49: Calculated field
B50: Green | C50: Ready or positive result
B51: Yellow | C51: Review recommended
B52: Red | C52: Error or scheduling issue
