Workbook

Sheet Dashboard
A1: Curriculum Mapping Dashboard
A2: Review course-to-outcome coverage, instructional depth, and mapping quality.
A3: As of Date | B3: =TODAY()
A5: Active Courses | B5: =COUNTIF('Lists & Settings'!$C$5:$C$104,"Active") | C5: Active Outcomes | D5: =COUNTIF('Lists & Settings'!$G$5:$G$24,"Active") | E5: Usable Mapping Records | F5: =COUNTIF('Mapping Entries'!$O$5:$O$204,"Yes") | G5: Mapping Issues | H5: =COUNTIFS('Mapping Entries'!$P$5:$P$204,"<>",'Mapping Entries'!$P$5:$P$204,"<>Ready")
A8: Outcomes With Coverage | B8: =SUMPRODUCT(--('Coverage Matrix'!$C$4:$V$4<>""),--('Coverage Matrix'!$C$106:$V$106>0)) | C8: Outcomes With Mastery | D8: =SUMPRODUCT(--('Coverage Matrix'!$C$4:$V$4<>""),--('Coverage Matrix'!$C$107:$V$107>0)) | E8: Outcomes With No Coverage | F8: =SUMPRODUCT(--('Coverage Matrix'!$C$4:$V$4<>""),--('Coverage Matrix'!$C$106:$V$106=0)) | G8: Overdue Reviews | H8: =COUNTIF('Mapping Entries'!$P$5:$P$204,"Review overdue")
A12: Mapping Level | B12: Record Count | D12: Record Status | E12: Record Count
A13: Introduce | B13: =COUNTIFS('Mapping Entries'!$F$5:$F$204,A13,'Mapping Entries'!$O$5:$O$204,"Yes") | D13: Ready | E13: =COUNTIF('Mapping Entries'!$P$5:$P$204,D13)
A14: Develop | B14: =COUNTIFS('Mapping Entries'!$F$5:$F$204,A14,'Mapping Entries'!$O$5:$O$204,"Yes") | D14: Review overdue | E14: =COUNTIF('Mapping Entries'!$P$5:$P$204,D14)
A15: Reinforce | B15: =COUNTIFS('Mapping Entries'!$F$5:$F$204,A15,'Mapping Entries'!$O$5:$O$204,"Yes") | D15: Review date missing | E15: =COUNTIF('Mapping Entries'!$P$5:$P$204,D15)
A16: Mastery | B16: =COUNTIFS('Mapping Entries'!$F$5:$F$204,A16,'Mapping Entries'!$O$5:$O$204,"Yes") | D16: Future review date | E16: =COUNTIF('Mapping Entries'!$P$5:$P$204,D16)
A17: Total | B17: =SUM(B13:B16) | D17: Duplicate course/outcome | E17: =COUNTIF('Mapping Entries'!$P$5:$P$204,D17)
D18: Incomplete | E18: =COUNTIF('Mapping Entries'!$P$5:$P$204,D18)
E19: =""
E20: =""
A21: Outcome ID | B21: Outcome Description | C21: Courses Mapped | D21: Mastery Courses | E21: =""
A22: =IF('Coverage Matrix'!C$4="","",'Coverage Matrix'!C$4) | B22: =IF(A22="","",'Coverage Matrix'!C$3) | C22: =IF(A22="","",'Coverage Matrix'!C$106) | D22: =IF(A22="","",'Coverage Matrix'!C$107) | E22: =""
A23: =IF('Coverage Matrix'!D$4="","",'Coverage Matrix'!D$4) | B23: =IF(A23="","",'Coverage Matrix'!D$3) | C23: =IF(A23="","",'Coverage Matrix'!D$106) | D23: =IF(A23="","",'Coverage Matrix'!D$107) | E23: =""
A24: =IF('Coverage Matrix'!E$4="","",'Coverage Matrix'!E$4) | B24: =IF(A24="","",'Coverage Matrix'!E$3) | C24: =IF(A24="","",'Coverage Matrix'!E$106) | D24: =IF(A24="","",'Coverage Matrix'!E$107) | E24: =""
A25: =IF('Coverage Matrix'!F$4="","",'Coverage Matrix'!F$4) | B25: =IF(A25="","",'Coverage Matrix'!F$3) | C25: =IF(A25="","",'Coverage Matrix'!F$106) | D25: =IF(A25="","",'Coverage Matrix'!F$107) | E25: =""
A26: =IF('Coverage Matrix'!G$4="","",'Coverage Matrix'!G$4) | B26: =IF(A26="","",'Coverage Matrix'!G$3) | C26: =IF(A26="","",'Coverage Matrix'!G$106) | D26: =IF(A26="","",'Coverage Matrix'!G$107) | E26: =""
A27: =IF('Coverage Matrix'!H$4="","",'Coverage Matrix'!H$4) | B27: =IF(A27="","",'Coverage Matrix'!H$3) | C27: =IF(A27="","",'Coverage Matrix'!H$106) | D27: =IF(A27="","",'Coverage Matrix'!H$107) | E27: =""
A28: =IF('Coverage Matrix'!I$4="","",'Coverage Matrix'!I$4) | B28: =IF(A28="","",'Coverage Matrix'!I$3) | C28: =IF(A28="","",'Coverage Matrix'!I$106) | D28: =IF(A28="","",'Coverage Matrix'!I$107) | E28: =""
A29: =IF('Coverage Matrix'!J$4="","",'Coverage Matrix'!J$4) | B29: =IF(A29="","",'Coverage Matrix'!J$3) | C29: =IF(A29="","",'Coverage Matrix'!J$106) | D29: =IF(A29="","",'Coverage Matrix'!J$107) | E29: =""
A30: =IF('Coverage Matrix'!K$4="","",'Coverage Matrix'!K$4) | B30: =IF(A30="","",'Coverage Matrix'!K$3) | C30: =IF(A30="","",'Coverage Matrix'!K$106) | D30: =IF(A30="","",'Coverage Matrix'!K$107) | E30: =""
A31: =IF('Coverage Matrix'!L$4="","",'Coverage Matrix'!L$4) | B31: =IF(A31="","",'Coverage Matrix'!L$3) | C31: =IF(A31="","",'Coverage Matrix'!L$106) | D31: =IF(A31="","",'Coverage Matrix'!L$107) | E31: =""
A32: =IF('Coverage Matrix'!M$4="","",'Coverage Matrix'!M$4) | B32: =IF(A32="","",'Coverage Matrix'!M$3) | C32: =IF(A32="","",'Coverage Matrix'!M$106) | D32: =IF(A32="","",'Coverage Matrix'!M$107) | E32: =""
A33: =IF('Coverage Matrix'!N$4="","",'Coverage Matrix'!N$4) | B33: =IF(A33="","",'Coverage Matrix'!N$3) | C33: =IF(A33="","",'Coverage Matrix'!N$106) | D33: =IF(A33="","",'Coverage Matrix'!N$107) | E33: =""
A34: =IF('Coverage Matrix'!O$4="","",'Coverage Matrix'!O$4) | B34: =IF(A34="","",'Coverage Matrix'!O$3) | C34: =IF(A34="","",'Coverage Matrix'!O$106) | D34: =IF(A34="","",'Coverage Matrix'!O$107) | E34: =""
A35: =IF('Coverage Matrix'!P$4="","",'Coverage Matrix'!P$4) | B35: =IF(A35="","",'Coverage Matrix'!P$3) | C35: =IF(A35="","",'Coverage Matrix'!P$106) | D35: =IF(A35="","",'Coverage Matrix'!P$107) | E35: =""
A36: =IF('Coverage Matrix'!Q$4="","",'Coverage Matrix'!Q$4) | B36: =IF(A36="","",'Coverage Matrix'!Q$3) | C36: =IF(A36="","",'Coverage Matrix'!Q$106) | D36: =IF(A36="","",'Coverage Matrix'!Q$107) | E36: =""
A37: =IF('Coverage Matrix'!R$4="","",'Coverage Matrix'!R$4) | B37: =IF(A37="","",'Coverage Matrix'!R$3) | C37: =IF(A37="","",'Coverage Matrix'!R$106) | D37: =IF(A37="","",'Coverage Matrix'!R$107) | E37: =""
A38: =IF('Coverage Matrix'!S$4="","",'Coverage Matrix'!S$4) | B38: =IF(A38="","",'Coverage Matrix'!S$3) | C38: =IF(A38="","",'Coverage Matrix'!S$106) | D38: =IF(A38="","",'Coverage Matrix'!S$107) | E38: =""
A39: =IF('Coverage Matrix'!T$4="","",'Coverage Matrix'!T$4) | B39: =IF(A39="","",'Coverage Matrix'!T$3) | C39: =IF(A39="","",'Coverage Matrix'!T$106) | D39: =IF(A39="","",'Coverage Matrix'!T$107) | E39: =""
A40: =IF('Coverage Matrix'!U$4="","",'Coverage Matrix'!U$4) | B40: =IF(A40="","",'Coverage Matrix'!U$3) | C40: =IF(A40="","",'Coverage Matrix'!U$106) | D40: =IF(A40="","",'Coverage Matrix'!U$107) | E40: =""
A41: =IF('Coverage Matrix'!V$4="","",'Coverage Matrix'!V$4) | B41: =IF(A41="","",'Coverage Matrix'!V$3) | C41: =IF(A41="","",'Coverage Matrix'!V$106) | D41: =IF(A41="","",'Coverage Matrix'!V$107) | E41: =""
A42: ="" | B42: ="" | C42: ="" | D42: ="" | E42: =""
A43: ="" | B43: ="" | C43: ="" | D43: ="" | E43: =""
A44: ="" | B44: ="" | C44: ="" | D44: ="" | E44: =""
A45: ="" | B45: ="" | C45: ="" | D45: ="" | E45: =""
A46: ="" | B46: ="" | C46: ="" | D46: ="" | E46: =""
...

Sheet Mapping Entries
A1: Curriculum Mapping Entries
A2: Enter one row for each course and curriculum outcome relationship. Yellow cells are editable.
A4: Mapping ID | B4: Course Code | C4: Course Title | D4: Outcome ID | E4: Outcome Description | F4: Mapping Level | G4: Assessment Method | H4: Required Evidence? | I4: Evidence Artifact | J4: Term Reviewed | K4: Last Review Date | L4: Reviewer Role | M4: Notes | N4: Level Score | O4: Use in Analysis | P4: Record Status
A5: MAP-0001 | B5: NLI-101 | C5: =IF(B5="","",IFERROR(INDEX('Lists & Settings'!$B$5:$B$104,MATCH(B5,'Lists & Settings'!$A$5:$A$104,0)),"Course code not found")) | D5: CLO-01 | E5: =IF(D5="","",IFERROR(INDEX('Lists & Settings'!$F$5:$F$24,MATCH(D5,'Lists & Settings'!$E$5:$E$24,0)),"Outcome ID not found")) | F5: Introduce | G5: Project | H5: Yes | I5: Audience profile | J5: Fall 2026 | K5: 46252 | L5: Curriculum Coordinator | M5: Introduces structured audience analysis. | N5: =IF(F5="","",IFERROR(INDEX('Lists & Settings'!$J$5:$J$14,MATCH(F5,'Lists & Settings'!$I$5:$I$14,0)),"")) | O5: =IF(COUNTA(A5:B5,D5,F5:M5)=0,"",IF(AND(B5<>"",C5<>"Course code not found",D5<>"",E5<>"Outcome ID not found",N5<>"",K5<>"",K5<=TODAY(),IFERROR(INDEX('Lists & Settings'!$C$5:$C$104,MATCH(B5,'Lists & Settings'!$A$5:$A$104,0)),"")="Active",IFERROR(INDEX('Lists & Settings'!$G$5:$G$24,MATCH(D5,'Lists & Settings'!$E$5:$E$24,0)),"")="Active"),"Yes","No")) | P5: =IF(COUNTA(A5:B5,D5,F5:M5)=0,"",IF(OR(A5="",B5="",D5="",F5=""),"Incomplete",IF(OR(C5="Course code not found",E5="Outcome ID not found",N5=""),"Invalid list value",IF(K5="","Review date missing",IF(K5>TODAY(),"Future review date",IF(COUNTIFS($B$5:$B$204,B5,$D$5:$D$204,D5)>1,"Duplicate course/outcome",IF(TODAY()-K5>'Lists & Settings'!$Q$5,"Review overdue","Ready")))))))
A6: MAP-0002 | B6: NLI-101 | C6: =IF(B6="","",IFERROR(INDEX('Lists & Settings'!$B$5:$B$104,MATCH(B6,'Lists & Settings'!$A$5:$A$104,0)),"Course code not found")) | D6: CLO-02 | E6: =IF(D6="","",IFERROR(INDEX('Lists & Settings'!$F$5:$F$24,MATCH(D6,'Lists & Settings'!$E$5:$E$24,0)),"Outcome ID not found")) | F6: Develop | G6: Presentation | H6: Yes | I6: Briefing presentation | J6: Fall 2026 | K6: 46252 | L6: Curriculum Coordinator | M6: Learners practice concise oral communication. | N6: =IF(F6="","",IFERROR(INDEX('Lists & Settings'!$J$5:$J$14,MATCH(F6,'Lists & Settings'!$I$5:$I$14,0)),"")) | O6: =IF(COUNTA(A6:B6,D6,F6:M6)=0,"",IF(AND(B6<>"",C6<>"Course code not found",D6<>"",E6<>"Outcome ID not found",N6<>"",K6<>"",K6<=TODAY(),IFERROR(INDEX('Lists & Settings'!$C$5:$C$104,MATCH(B6,'Lists & Settings'!$A$5:$A$104,0)),"")="Active",IFERROR(INDEX('Lists & Settings'!$G$5:$G$24,MATCH(D6,'Lists & Settings'!$E$5:$E$24,0)),"")="Active"),"Yes","No")) | P6: =IF(COUNTA(A6:B6,D6,F6:M6)=0,"",IF(OR(A6="",B6="",D6="",F6=""),"Incomplete",IF(OR(C6="Course code not found",E6="Outcome ID not found",N6=""),"Invalid list value",IF(K6="","Review date missing",IF(K6>TODAY(),"Future review date",IF(COUNTIFS($B$5:$B$204,B6,$D$5:$D$204,D6)>1,"Duplicate course/outcome",IF(TODAY()-K6>'Lists & Settings'!$Q$5,"Review overdue","Ready")))))))
A7: MAP-0003 | B7: NLI-120 | C7: =IF(B7="","",IFERROR(INDEX('Lists & Settings'!$B$5:$B$104,MATCH(B7,'Lists & Settings'!$A$5:$A$104,0)),"Course code not found")) | D7: CLO-03 | E7: =IF(D7="","",IFERROR(INDEX('Lists & Settings'!$F$5:$F$24,MATCH(D7,'Lists & Settings'!$E$5:$E$24,0)),"Outcome ID not found")) | F7: Develop | G7: Written Assignment | H7: Yes | I7: Data summary memo | J7: Summer 2026 | K7: 46185 | L7: Instructional Design Lead | M7: Applies basic interpretation techniques. | N7: =IF(F7="","",IFERROR(INDEX('Lists & Settings'!$J$5:$J$14,MATCH(F7,'Lists & Settings'!$I$5:$I$14,0)),"")) | O7: =IF(COUNTA(A7:B7,D7,F7:M7)=0,"",IF(AND(B7<>"",C7<>"Course code not found",D7<>"",E7<>"Outcome ID not found",N7<>"",K7<>"",K7<=TODAY(),IFERROR(INDEX('Lists & Settings'!$C$5:$C$104,MATCH(B7,'Lists & Settings'!$A$5:$A$104,0)),"")="Active",IFERROR(INDEX('Lists & Settings'!$G$5:$G$24,MATCH(D7,'Lists & Settings'!$E$5:$E$24,0)),"")="Active"),"Yes","No")) | P7: =IF(COUNTA(A7:B7,D7,F7:M7)=0,"",IF(OR(A7="",B7="",D7="",F7=""),"Incomplete",IF(OR(C7="Course code not found",E7="Outcome ID not found",N7=""),"Invalid list value",IF(K7="","Review date missing",IF(K7>TODAY(),"Future review date",IF(COUNTIFS($B$5:$B$204,B7,$D$5:$D$204,D7)>1,"Duplicate course/outcome",IF(TODAY()-K7>'Lists & Settings'!$Q$5,"Review overdue","Ready")))))))
A8: MAP-0004 | B8: NLI-205 | C8: =IF(B8="","",IFERROR(INDEX('Lists & Settings'!$B$5:$B$104,MATCH(B8,'Lists & Settings'!$A$5:$A$104,0)),"Course code not found")) | D8: CLO-01 | E8: =IF(D8="","",IFERROR(INDEX('Lists & Settings'!$F$5:$F$24,MATCH(D8,'Lists & Settings'!$E$5:$E$24,0)),"Outcome ID not found")) | F8: Reinforce | G8: Case Study | H8: Yes | I8: Stakeholder case analysis | J8: Spring 2026 | K8: 46102 | L8: Program Manager | M8: Reinforces audience and stakeholder analysis. | N8: =IF(F8="","",IFERROR(INDEX('Lists & Settings'!$J$5:$J$14,MATCH(F8,'Lists & Settings'!$I$5:$I$14,0)),"")) | O8: =IF(COUNTA(A8:B8,D8,F8:M8)=0,"",IF(AND(B8<>"",C8<>"Course code not found",D8<>"",E8<>"Outcome ID not found",N8<>"",K8<>"",K8<=TODAY(),IFERROR(INDEX('Lists & Settings'!$C$5:$C$104,MATCH(B8,'Lists & Settings'!$A$5:$A$104,0)),"")="Active",IFERROR(INDEX('Lists & Settings'!$G$5:$G$24,MATCH(D8,'Lists & Settings'!$E$5:$E$24,0)),"")="Active"),"Yes","No")) | P8: =IF(COUNTA(A8:B8,D8,F8:M8)=0,"",IF(OR(A8="",B8="",D8="",F8=""),"Incomplete",IF(OR(C8="Course code not found",E8="Outcome ID not found",N8=""),"Invalid list value",IF(K8="","Review date missing",IF(K8>TODAY(),"Future review date",IF(COUNTIFS($B$5:$B$204,B8,$D$5:$D$204,D8)>1,"Duplicate course/outcome",IF(TODAY()-K8>'Lists & Settings'!$Q$5,"Review overdue","Ready")))))))
A9: MAP-0005 | B9: NLI-205 | C9: =IF(B9="","",IFERROR(INDEX('Lists & Settings'!$B$5:$B$104,MATCH(B9,'Lists & Settings'!$A$5:$A$104,0)),"Course code not found")) | D9: CLO-04 | E9: =IF(D9="","",IFERROR(INDEX('Lists & Settings'!$F$5:$F$24,MATCH(D9,'Lists & Settings'!$E$5:$E$24,0)),"Outcome ID not found")) | F9: Develop | G9: Simulation | H9: Yes | I9: Team facilitation plan | J9: Spring 2026 | K9: 46102 | L9: Program Manager | M9: Uses a fictional cross-functional scenario. | N9: =IF(F9="","",IFERROR(INDEX('Lists & Settings'!$J$5:$J$14,MATCH(F9,'Lists & Settings'!$I$5:$I$14,0)),"")) | O9: =IF(COUNTA(A9:B9,D9,F9:M9)=0,"",IF(AND(B9<>"",C9<>"Course code not found",D9<>"",E9<>"Outcome ID not found",N9<>"",K9<>"",K9<=TODAY(),IFERROR(INDEX('Lists & Settings'!$C$5:$C$104,MATCH(B9,'Lists & Settings'!$A$5:$A$104,0)),"")="Active",IFERROR(INDEX('Lists & Settings'!$G$5:$G$24,MATCH(D9,'Lists & Settings'!$E$5:$E$24,0)),"")="Active"),"Yes","No")) | P9: =IF(COUNTA(A9:B9,D9,F9:M9)=0,"",IF(OR(A9="",B9="",D9="",F9=""),"Incomplete",IF(OR(C9="Course code not found",E9="Outcome ID not found",N9=""),"Invalid list value",IF(K9="","Review date missing",IF(K9>TODAY(),"Future review date",IF(COUNTIFS($B$5:$B$204,B9,$D$5:$D$204,D9)>1,"Duplicate course/outcome",IF(TODAY()-K9>'Lists & Settings'!$Q$5,"Review overdue","Ready")))))))
A10: MAP-0006 | B10: NLI-230 | C10: =IF(B10="","",IFERROR(INDEX('Lists & Settings'!$B$5:$B$104,MATCH(B10,'Lists & Settings'!$A$5:$A$104,0)),"Course code not found")) | D10: CLO-05 | E10: =IF(D10="","",IFERROR(INDEX('Lists & Settings'!$F$5:$F$24,MATCH(D10,'Lists & Settings'!$E$5:$E$24,0)),"Outcome ID not found")) | F10: Reinforce | G10: Portfolio | H10: Yes | I10: Process improvement portfolio | J10: Fall 2025 | K10: 45933 | L10: Curriculum Coordinator | M10: Evidence includes a revised workflow map. | N10: =IF(F10="","",IFERROR(INDEX('Lists & Settings'!$J$5:$J$14,MATCH(F10,'Lists & Settings'!$I$5:$I$14,0)),"")) | O10: =IF(COUNTA(A10:B10,D10,F10:M10)=0,"",IF(AND(B10<>"",C10<>"Course code not found",D10<>"",E10<>"Outcome ID not found",N10<>"",K10<>"",K10<=TODAY(),IFERROR(INDEX('Lists & Settings'!$C$5:$C$104,MATCH(B10,'Lists & Settings'!$A$5:$A$104,0)),"")="Active",IFERROR(INDEX('Lists & Settings'!$G$5:$G$24,MATCH(D10,'Lists & Settings'!$E$5:$E$24,0)),"")="Active"),"Yes","No")) | P10: =IF(COUNTA(A10:B10,D10,F10:M10)=0,"",IF(OR(A10="",B10="",D10="",F10=""),"Incomplete",IF(OR(C10="Course code not found",E10="Outcome ID not found",N10=""),"Invalid list value",IF(K10="","Review date missing",IF(K10>TODAY(),"Future review date",IF(COUNTIFS($B$5:$B$204,B10,$D$5:$D$204,D10)>1,"Duplicate course/outcome",IF(TODAY()-K10>'Lists & Settings'!$Q$5,"Review overdue","Ready")))))))
A11: MAP-0007 | B11: NLI-250 | C11: =IF(B11="","",IFERROR(INDEX('Lists & Settings'!$B$5:$B$104,MATCH(B11,'Lists & Settings'!$A$5:$A$104,0)),"Course code not found")) | D11: CLO-03 | E11: =IF(D11="","",IFERROR(INDEX('Lists & Settings'!$F$5:$F$24,MATCH(D11,'Lists & Settings'!$E$5:$E$24,0)),"Outcome ID not found")) | F11: Mastery | G11: Capstone Project | H11: Yes | I11: Decision analysis report | J11: Summer 2026 | K11: 46212 | L11: Assessment Lead | M11: Requires interpretation and recommendation. | N11: =IF(F11="","",IFERROR(INDEX('Lists & Settings'!$J$5:$J$14,MATCH(F11,'Lists & Settings'!$I$5:$I$14,0)),"")) | O11: =IF(COUNTA(A11:B11,D11,F11:M11)=0,"",IF(AND(B11<>"",C11<>"Course code not found",D11<>"",E11<>"Outcome ID not found",N11<>"",K11<>"",K11<=TODAY(),IFERROR(INDEX('Lists & Settings'!$C$5:$C$104,MATCH(B11,'Lists & Settings'!$A$5:$A$104,0)),"")="Active",IFERROR(INDEX('Lists & Settings'!$G$5:$G$24,MATCH(D11,'Lists & Settings'!$E$5:$E$24,0)),"")="Active"),"Yes","No")) | P11: =IF(COUNTA(A11:B11,D11,F11:M11)=0,"",IF(OR(A11="",B11="",D11="",F11=""),"Incomplete",IF(OR(C11="Course code not found",E11="Outcome ID not found",N11=""),"Invalid list value",IF(K11="","Review date missing",IF(K11>TODAY(),"Future review date",IF(COUNTIFS($B$5:$B$204,B11,$D$5:$D$204,D11)>1,"Duplicate course/outcome",IF(TODAY()-K11>'Lists & Settings'!$Q$5,"Review overdue","Ready")))))))
A12: MAP-0008 | B12: NLI-250 | C12: =IF(B12="","",IFERROR(INDEX('Lists & Settings'!$B$5:$B$104,MATCH(B12,'Lists & Settings'!$A$5:$A$104,0)),"Course code not found")) | D12: CLO-06 | E12: =IF(D12="","",IFERROR(INDEX('Lists & Settings'!$F$5:$F$24,MATCH(D12,'Lists & Settings'!$E$5:$E$24,0)),"Outcome ID not found")) | F12: Mastery | G12: Capstone Project | H12: Yes | I12: Implementation proposal | J12: Summer 2026 | K12: 46212 | L12: Assessment Lead | M12: Integrates planning and evaluation. | N12: =IF(F12="","",IFERROR(INDEX('Lists & Settings'!$J$5:$J$14,MATCH(F12,'Lists & Settings'!$I$5:$I$14,0)),"")) | O12: =IF(COUNTA(A12:B12,D12,F12:M12)=0,"",IF(AND(B12<>"",C12<>"Course code not found",D12<>"",E12<>"Outcome ID not found",N12<>"",K12<>"",K12<=TODAY(),IFERROR(INDEX('Lists & Settings'!$C$5:$C$104,MATCH(B12,'Lists & Settings'!$A$5:$A$104,0)),"")="Active",IFERROR(INDEX('Lists & Settings'!$G$5:$G$24,MATCH(D12,'Lists & Settings'!$E$5:$E$24,0)),"")="Active"),"Yes","No")) | P12: =IF(COUNTA(A12:B12,D12,F12:M12)=0,"",IF(OR(A12="",B12="",D12="",F12=""),"Incomplete",IF(OR(C12="Course code not found",E12="Outcome ID not found",N12=""),"Invalid list value",IF(K12="","Review date missing",IF(K12>TODAY(),"Future review date",IF(COUNTIFS($B$5:$B$204,B12,$D$5:$D$204,D12)>1,"Duplicate course/outcome",IF(TODAY()-K12>'Lists & Settings'!$Q$5,"Review overdue","Ready")))))))
A13: MAP-0009 | B13: NLI-280 | C13: =IF(B13="","",IFERROR(INDEX('Lists & Settings'!$B$5:$B$104,MATCH(B13,'Lists & Settings'!$A$5:$A$104,0)),"Course code not found")) | D13: CLO-07 | E13: =IF(D13="","",IFERROR(INDEX('Lists & Settings'!$F$5:$F$24,MATCH(D13,'Lists & Settings'!$E$5:$E$24,0)),"Outcome ID not found")) | F13: Reinforce | G13: Observation | H13: No | I13: Facilitation observation | J13: Fall 2025 | K13: 45915 | L13: Training Operations Lead | M13: Observation uses a standard fictional scenario. | N13: =IF(F13="","",IFERROR(INDEX('Lists & Settings'!$J$5:$J$14,MATCH(F13,'Lists & Settings'!$I$5:$I$14,0)),"")) | O13: =IF(COUNTA(A13:B13,D13,F13:M13)=0,"",IF(AND(B13<>"",C13<>"Course code not found",D13<>"",E13<>"Outcome ID not found",N13<>"",K13<>"",K13<=TODAY(),IFERROR(INDEX('Lists & Settings'!$C$5:$C$104,MATCH(B13,'Lists & Settings'!$A$5:$A$104,0)),"")="Active",IFERROR(INDEX('Lists & Settings'!$G$5:$G$24,MATCH(D13,'Lists & Settings'!$E$5:$E$24,0)),"")="Active"),"Yes","No")) | P13: =IF(COUNTA(A13:B13,D13,F13:M13)=0,"",IF(OR(A13="",B13="",D13="",F13=""),"Incomplete",IF(OR(C13="Course code not found",E13="Outcome ID not found",N13=""),"Invalid list value",IF(K13="","Review date missing",IF(K13>TODAY(),"Future review date",IF(COUNTIFS($B$5:$B$204,B13,$D$5:$D$204,D13)>1,"Duplicate course/outcome",IF(TODAY()-K13>'Lists & Settings'!$Q$5,"Review overdue","Ready")))))))
A14: MAP-0010 | B14: NLI-280 | C14: =IF(B14="","",IFERROR(INDEX('Lists & Settings'!$B$5:$B$104,MATCH(B14,'Lists & Settings'!$A$5:$A$104,0)),"Course code not found")) | D14: CLO-02 | E14: =IF(D14="","",IFERROR(INDEX('Lists & Settings'!$F$5:$F$24,MATCH(D14,'Lists & Settings'!$E$5:$E$24,0)),"Outcome ID not found")) | F14: Mastery | G14: Presentation | H14: Yes | I14: Executive briefing | J14: Fall 2025 | K14: 45915 | L14: Training Operations Lead | M14: Demonstrates advanced communication skills. | N14: =IF(F14="","",IFERROR(INDEX('Lists & Settings'!$J$5:$J$14,MATCH(F14,'Lists & Settings'!$I$5:$I$14,0)),"")) | O14: =IF(COUNTA(A14:B14,D14,F14:M14)=0,"",IF(AND(B14<>"",C14<>"Course code not found",D14<>"",E14<>"Outcome ID not found",N14<>"",K14<>"",K14<=TODAY(),IFERROR(INDEX('Lists & Settings'!$C$5:$C$104,MATCH(B14,'Lists & Settings'!$A$5:$A$104,0)),"")="Active",IFERROR(INDEX('Lists & Settings'!$G$5:$G$24,MATCH(D14,'Lists & Settings'!$E$5:$E$24,0)),"")="Active"),"Yes","No")) | P14: =IF(COUNTA(A14:B14,D14,F14:M14)=0,"",IF(OR(A14="",B14="",D14="",F14=""),"Incomplete",IF(OR(C14="Course code not found",E14="Outcome ID not found",N14=""),"Invalid list value",IF(K14="","Review date missing",IF(K14>TODAY(),"Future review date",IF(COUNTIFS($B$5:$B$204,B14,$D$5:$D$204,D14)>1,"Duplicate course/outcome",IF(TODAY()-K14>'Lists & Settings'!$Q$5,"Review overdue","Ready")))))))
C15: =IF(B15="","",IFERROR(INDEX('Lists & Settings'!$B$5:$B$104,MATCH(B15,'Lists & Settings'!$A$5:$A$104,0)),"Course code not found")) | E15: =IF(D15="","",IFERROR(INDEX('Lists & Settings'!$F$5:$F$24,MATCH(D15,'Lists & Settings'!$E$5:$E$24,0)),"Outcome ID not found")) | N15: =IF(F15="","",IFERROR(INDEX('Lists & Settings'!$J$5:$J$14,MATCH(F15,'Lists & Settings'!$I$5:$I$14,0)),"")) | O15: =IF(COUNTA(A15:B15,D15,F15:M15)=0,"",IF(AND(B15<>"",C15<>"Course code not found",D15<>"",E15<>"Outcome ID not found",N15<>"",K15<>"",K15<=TODAY(),IFERROR(INDEX('Lists & Settings'!$C$5:$C$104,MATCH(B15,'Lists & Settings'!$A$5:$A$104,0)),"")="Active",IFERROR(INDEX('Lists & Settings'!$G$5:$G$24,MATCH(D15,'Lists & Settings'!$E$5:$E$24,0)),"")="Active"),"Yes","No")) | P15: =IF(COUNTA(A15:B15,D15,F15:M15)=0,"",IF(OR(A15="",B15="",D15="",F15=""),"Incomplete",IF(OR(C15="Course code not found",E15="Outcome ID not found",N15=""),"Invalid list value",IF(K15="","Review date missing",IF(K15>TODAY(),"Future review date",IF(COUNTIFS($B$5:$B$204,B15,$D$5:$D$204,D15)>1,"Duplicate course/outcome",IF(TODAY()-K15>'Lists & Settings'!$Q$5,"Review overdue","Ready")))))))
C16: =IF(B16="","",IFERROR(INDEX('Lists & Settings'!$B$5:$B$104,MATCH(B16,'Lists & Settings'!$A$5:$A$104,0)),"Course code not found")) | E16: =IF(D16="","",IFERROR(INDEX('Lists & Settings'!$F$5:$F$24,MATCH(D16,'Lists & Settings'!$E$5:$E$24,0)),"Outcome ID not found")) | N16: =IF(F16="","",IFERROR(INDEX('Lists & Settings'!$J$5:$J$14,MATCH(F16,'Lists & Settings'!$I$5:$I$14,0)),"")) | O16: =IF(COUNTA(A16:B16,D16,F16:M16)=0,"",IF(AND(B16<>"",C16<>"Course code not found",D16<>"",E16<>"Outcome ID not found",N16<>"",K16<>"",K16<=TODAY(),IFERROR(INDEX('Lists & Settings'!$C$5:$C$104,MATCH(B16,'Lists & Settings'!$A$5:$A$104,0)),"")="Active",IFERROR(INDEX('Lists & Settings'!$G$5:$G$24,MATCH(D16,'Lists & Settings'!$E$5:$E$24,0)),"")="Active"),"Yes","No")) | P16: =IF(COUNTA(A16:B16,D16,F16:M16)=0,"",IF(OR(A16="",B16="",D16="",F16=""),"Incomplete",IF(OR(C16="Course code not found",E16="Outcome ID not found",N16=""),"Invalid list value",IF(K16="","Review date missing",IF(K16>TODAY(),"Future review date",IF(COUNTIFS($B$5:$B$204,B16,$D$5:$D$204,D16)>1,"Duplicate course/outcome",IF(TODAY()-K16>'Lists & Settings'!$Q$5,"Review overdue","Ready")))))))
C17: =IF(B17="","",IFERROR(INDEX('Lists & Settings'!$B$5:$B$104,MATCH(B17,'Lists & Settings'!$A$5:$A$104,0)),"Course code not found")) | E17: =IF(D17="","",IFERROR(INDEX('Lists & Settings'!$F$5:$F$24,MATCH(D17,'Lists & Settings'!$E$5:$E$24,0)),"Outcome ID not found")) | N17: =IF(F17="","",IFERROR(INDEX('Lists & Settings'!$J$5:$J$14,MATCH(F17,'Lists & Settings'!$I$5:$I$14,0)),"")) | O17: =IF(COUNTA(A17:B17,D17,F17:M17)=0,"",IF(AND(B17<>"",C17<>"Course code not found",D17<>"",E17<>"Outcome ID not found",N17<>"",K17<>"",K17<=TODAY(),IFERROR(INDEX('Lists & Settings'!$C$5:$C$104,MATCH(B17,'Lists & Settings'!$A$5:$A$104,0)),"")="Active",IFERROR(INDEX('Lists & Settings'!$G$5:$G$24,MATCH(D17,'Lists & Settings'!$E$5:$E$24,0)),"")="Active"),"Yes","No")) | P17: =IF(COUNTA(A17:B17,D17,F17:M17)=0,"",IF(OR(A17="",B17="",D17="",F17=""),"Incomplete",IF(OR(C17="Course code not found",E17="Outcome ID not found",N17=""),"Invalid list value",IF(K17="","Review date missing",IF(K17>TODAY(),"Future review date",IF(COUNTIFS($B$5:$B$204,B17,$D$5:$D$204,D17)>1,"Duplicate course/outcome",IF(TODAY()-K17>'Lists & Settings'!$Q$5,"Review overdue","Ready")))))))
C18: =IF(B18="","",IFERROR(INDEX('Lists & Settings'!$B$5:$B$104,MATCH(B18,'Lists & Settings'!$A$5:$A$104,0)),"Course code not found")) | E18: =IF(D18="","",IFERROR(INDEX('Lists & Settings'!$F$5:$F$24,MATCH(D18,'Lists & Settings'!$E$5:$E$24,0)),"Outcome ID not found")) | N18: =IF(F18="","",IFERROR(INDEX('Lists & Settings'!$J$5:$J$14,MATCH(F18,'Lists & Settings'!$I$5:$I$14,0)),"")) | O18: =IF(COUNTA(A18:B18,D18,F18:M18)=0,"",IF(AND(B18<>"",C18<>"Course code not found",D18<>"",E18<>"Outcome ID not found",N18<>"",K18<>"",K18<=TODAY(),IFERROR(INDEX('Lists & Settings'!$C$5:$C$104,MATCH(B18,'Lists & Settings'!$A$5:$A$104,0)),"")="Active",IFERROR(INDEX('Lists & Settings'!$G$5:$G$24,MATCH(D18,'Lists & Settings'!$E$5:$E$24,0)),"")="Active"),"Yes","No")) | P18: =IF(COUNTA(A18:B18,D18,F18:M18)=0,"",IF(OR(A18="",B18="",D18="",F18=""),"Incomplete",IF(OR(C18="Course code not found",E18="Outcome ID not found",N18=""),"Invalid list value",IF(K18="","Review date missing",IF(K18>TODAY(),"Future review date",IF(COUNTIFS($B$5:$B$204,B18,$D$5:$D$204,D18)>1,"Duplicate course/outcome",IF(TODAY()-K18>'Lists & Settings'!$Q$5,"Review overdue","Ready")))))))
C19: =IF(B19="","",IFERROR(INDEX('Lists & Settings'!$B$5:$B$104,MATCH(B19,'Lists & Settings'!$A$5:$A$104,0)),"Course code not found")) | E19: =IF(D19="","",IFERROR(INDEX('Lists & Settings'!$F$5:$F$24,MATCH(D19,'Lists & Settings'!$E$5:$E$24,0)),"Outcome ID not found")) | N19: =IF(F19="","",IFERROR(INDEX('Lists & Settings'!$J$5:$J$14,MATCH(F19,'Lists & Settings'!$I$5:$I$14,0)),"")) | O19: =IF(COUNTA(A19:B19,D19,F19:M19)=0,"",IF(AND(B19<>"",C19<>"Course code not found",D19<>"",E19<>"Outcome ID not found",N19<>"",K19<>"",K19<=TODAY(),IFERROR(INDEX('Lists & Settings'!$C$5:$C$104,MATCH(B19,'Lists & Settings'!$A$5:$A$104,0)),"")="Active",IFERROR(INDEX('Lists & Settings'!$G$5:$G$24,MATCH(D19,'Lists & Settings'!$E$5:$E$24,0)),"")="Active"),"Yes","No")) | P19: =IF(COUNTA(A19:B19,D19,F19:M19)=0,"",IF(OR(A19="",B19="",D19="",F19=""),"Incomplete",IF(OR(C19="Course code not found",E19="Outcome ID not found",N19=""),"Invalid list value",IF(K19="","Review date missing",IF(K19>TODAY(),"Future review date",IF(COUNTIFS($B$5:$B$204,B19,$D$5:$D$204,D19)>1,"Duplicate course/outcome",IF(TODAY()-K19>'Lists & Settings'!$Q$5,"Review overdue","Ready")))))))
C20: =IF(B20="","",IFERROR(INDEX('Lists & Settings'!$B$5:$B$104,MATCH(B20,'Lists & Settings'!$A$5:$A$104,0)),"Course code not found")) | E20: =IF(D20="","",IFERROR(INDEX('Lists & Settings'!$F$5:$F$24,MATCH(D20,'Lists & Settings'!$E$5:$E$24,0)),"Outcome ID not found")) | N20: =IF(F20="","",IFERROR(INDEX('Lists & Settings'!$J$5:$J$14,MATCH(F20,'Lists & Settings'!$I$5:$I$14,0)),"")) | O20: =IF(COUNTA(A20:B20,D20,F20:M20)=0,"",IF(AND(B20<>"",C20<>"Course code not found",D20<>"",E20<>"Outcome ID not found",N20<>"",K20<>"",K20<=TODAY(),IFERROR(INDEX('Lists & Settings'!$C$5:$C$104,MATCH(B20,'Lists & Settings'!$A$5:$A$104,0)),"")="Active",IFERROR(INDEX('Lists & Settings'!$G$5:$G$24,MATCH(D20,'Lists & Settings'!$E$5:$E$24,0)),"")="Active"),"Yes","No")) | P20: =IF(COUNTA(A20:B20,D20,F20:M20)=0,"",IF(OR(A20="",B20="",D20="",F20=""),"Incomplete",IF(OR(C20="Course code not found",E20="Outcome ID not found",N20=""),"Invalid list value",IF(K20="","Review date missing",IF(K20>TODAY(),"Future review date",IF(COUNTIFS($B$5:$B$204,B20,$D$5:$D$204,D20)>1,"Duplicate course/outcome",IF(TODAY()-K20>'Lists & Settings'!$Q$5,"Review overdue","Ready")))))))
C21: =IF(B21="","",IFERROR(INDEX('Lists & Settings'!$B$5:$B$104,MATCH(B21,'Lists & Settings'!$A$5:$A$104,0)),"Course code not found")) | E21: =IF(D21="","",IFERROR(INDEX('Lists & Settings'!$F$5:$F$24,MATCH(D21,'Lists & Settings'!$E$5:$E$24,0)),"Outcome ID not found")) | N21: =IF(F21="","",IFERROR(INDEX('Lists & Settings'!$J$5:$J$14,MATCH(F21,'Lists & Settings'!$I$5:$I$14,0)),"")) | O21: =IF(COUNTA(A21:B21,D21,F21:M21)=0,"",IF(AND(B21<>"",C21<>"Course code not found",D21<>"",E21<>"Outcome ID not found",N21<>"",K21<>"",K21<=TODAY(),IFERROR(INDEX('Lists & Settings'!$C$5:$C$104,MATCH(B21,'Lists & Settings'!$A$5:$A$104,0)),"")="Active",IFERROR(INDEX('Lists & Settings'!$G$5:$G$24,MATCH(D21,'Lists & Settings'!$E$5:$E$24,0)),"")="Active"),"Yes","No")) | P21: =IF(COUNTA(A21:B21,D21,F21:M21)=0,"",IF(OR(A21="",B21="",D21="",F21=""),"Incomplete",IF(OR(C21="Course code not found",E21="Outcome ID not found",N21=""),"Invalid list value",IF(K21="","Review date missing",IF(K21>TODAY(),"Future review date",IF(COUNTIFS($B$5:$B$204,B21,$D$5:$D$204,D21)>1,"Duplicate course/outcome",IF(TODAY()-K21>'Lists & Settings'!$Q$5,"Review overdue","Ready")))))))
C22: =IF(B22="","",IFERROR(INDEX('Lists & Settings'!$B$5:$B$104,MATCH(B22,'Lists & Settings'!$A$5:$A$104,0)),"Course code not found")) | E22: =IF(D22="","",IFERROR(INDEX('Lists & Settings'!$F$5:$F$24,MATCH(D22,'Lists & Settings'!$E$5:$E$24,0)),"Outcome ID not found")) | N22: =IF(F22="","",IFERROR(INDEX('Lists & Settings'!$J$5:$J$14,MATCH(F22,'Lists & Settings'!$I$5:$I$14,0)),"")) | O22: =IF(COUNTA(A22:B22,D22,F22:M22)=0,"",IF(AND(B22<>"",C22<>"Course code not found",D22<>"",E22<>"Outcome ID not found",N22<>"",K22<>"",K22<=TODAY(),IFERROR(INDEX('Lists & Settings'!$C$5:$C$104,MATCH(B22,'Lists & Settings'!$A$5:$A$104,0)),"")="Active",IFERROR(INDEX('Lists & Settings'!$G$5:$G$24,MATCH(D22,'Lists & Settings'!$E$5:$E$24,0)),"")="Active"),"Yes","No")) | P22: =IF(COUNTA(A22:B22,D22,F22:M22)=0,"",IF(OR(A22="",B22="",D22="",F22=""),"Incomplete",IF(OR(C22="Course code not found",E22="Outcome ID not found",N22=""),"Invalid list value",IF(K22="","Review date missing",IF(K22>TODAY(),"Future review date",IF(COUNTIFS($B$5:$B$204,B22,$D$5:$D$204,D22)>1,"Duplicate course/outcome",IF(TODAY()-K22>'Lists & Settings'!$Q$5,"Review overdue","Ready")))))))
C23: =IF(B23="","",IFERROR(INDEX('Lists & Settings'!$B$5:$B$104,MATCH(B23,'Lists & Settings'!$A$5:$A$104,0)),"Course code not found")) | E23: =IF(D23="","",IFERROR(INDEX('Lists & Settings'!$F$5:$F$24,MATCH(D23,'Lists & Settings'!$E$5:$E$24,0)),"Outcome ID not found")) | N23: =IF(F23="","",IFERROR(INDEX('Lists & Settings'!$J$5:$J$14,MATCH(F23,'Lists & Settings'!$I$5:$I$14,0)),"")) | O23: =IF(COUNTA(A23:B23,D23,F23:M23)=0,"",IF(AND(B23<>"",C23<>"Course code not found",D23<>"",E23<>"Outcome ID not found",N23<>"",K23<>"",K23<=TODAY(),IFERROR(INDEX('Lists & Settings'!$C$5:$C$104,MATCH(B23,'Lists & Settings'!$A$5:$A$104,0)),"")="Active",IFERROR(INDEX('Lists & Settings'!$G$5:$G$24,MATCH(D23,'Lists & Settings'!$E$5:$E$24,0)),"")="Active"),"Yes","No")) | P23: =IF(COUNTA(A23:B23,D23,F23:M23)=0,"",IF(OR(A23="",B23="",D23="",F23=""),"Incomplete",IF(OR(C23="Course code not found",E23="Outcome ID not found",N23=""),"Invalid list value",IF(K23="","Review date missing",IF(K23>TODAY(),"Future review date",IF(COUNTIFS($B$5:$B$204,B23,$D$5:$D$204,D23)>1,"Duplicate course/outcome",IF(TODAY()-K23>'Lists & Settings'!$Q$5,"Review overdue","Ready")))))))
C24: =IF(B24="","",IFERROR(INDEX('Lists & Settings'!$B$5:$B$104,MATCH(B24,'Lists & Settings'!$A$5:$A$104,0)),"Course code not found")) | E24: =IF(D24="","",IFERROR(INDEX('Lists & Settings'!$F$5:$F$24,MATCH(D24,'Lists & Settings'!$E$5:$E$24,0)),"Outcome ID not found")) | N24: =IF(F24="","",IFERROR(INDEX('Lists & Settings'!$J$5:$J$14,MATCH(F24,'Lists & Settings'!$I$5:$I$14,0)),"")) | O24: =IF(COUNTA(A24:B24,D24,F24:M24)=0,"",IF(AND(B24<>"",C24<>"Course code not found",D24<>"",E24<>"Outcome ID not found",N24<>"",K24<>"",K24<=TODAY(),IFERROR(INDEX('Lists & Settings'!$C$5:$C$104,MATCH(B24,'Lists & Settings'!$A$5:$A$104,0)),"")="Active",IFERROR(INDEX('Lists & Settings'!$G$5:$G$24,MATCH(D24,'Lists & Settings'!$E$5:$E$24,0)),"")="Active"),"Yes","No")) | P24: =IF(COUNTA(A24:B24,D24,F24:M24)=0,"",IF(OR(A24="",B24="",D24="",F24=""),"Incomplete",IF(OR(C24="Course code not found",E24="Outcome ID not found",N24=""),"Invalid list value",IF(K24="","Review date missing",IF(K24>TODAY(),"Future review date",IF(COUNTIFS($B$5:$B$204,B24,$D$5:$D$204,D24)>1,"Duplicate course/outcome",IF(TODAY()-K24>'Lists & Settings'!$Q$5,"Review overdue","Ready")))))))
C25: =IF(B25="","",IFERROR(INDEX('Lists & Settings'!$B$5:$B$104,MATCH(B25,'Lists & Settings'!$A$5:$A$104,0)),"Course code not found")) | E25: =IF(D25="","",IFERROR(INDEX('Lists & Settings'!$F$5:$F$24,MATCH(D25,'Lists & Settings'!$E$5:$E$24,0)),"Outcome ID not found")) | N25: =IF(F25="","",IFERROR(INDEX('Lists & Settings'!$J$5:$J$14,MATCH(F25,'Lists & Settings'!$I$5:$I$14,0)),"")) | O25: =IF(COUNTA(A25:B25,D25,F25:M25)=0,"",IF(AND(B25<>"",C25<>"Course code not found",D25<>"",E25<>"Outcome ID not found",N25<>"",K25<>"",K25<=TODAY(),IFERROR(INDEX('Lists & Settings'!$C$5:$C$104,MATCH(B25,'Lists & Settings'!$A$5:$A$104,0)),"")="Active",IFERROR(INDEX('Lists & Settings'!$G$5:$G$24,MATCH(D25,'Lists & Settings'!$E$5:$E$24,0)),"")="Active"),"Yes","No")) | P25: =IF(COUNTA(A25:B25,D25,F25:M25)=0,"",IF(OR(A25="",B25="",D25="",F25=""),"Incomplete",IF(OR(C25="Course code not found",E25="Outcome ID not found",N25=""),"Invalid list value",IF(K25="","Review date missing",IF(K25>TODAY(),"Future review date",IF(COUNTIFS($B$5:$B$204,B25,$D$5:$D$204,D25)>1,"Duplicate course/outcome",IF(TODAY()-K25>'Lists & Settings'!$Q$5,"Review overdue","Ready")))))))
C26: =IF(B26="","",IFERROR(INDEX('Lists & Settings'!$B$5:$B$104,MATCH(B26,'Lists & Settings'!$A$5:$A$104,0)),"Course code not found")) | E26: =IF(D26="","",IFERROR(INDEX('Lists & Settings'!$F$5:$F$24,MATCH(D26,'Lists & Settings'!$E$5:$E$24,0)),"Outcome ID not found")) | N26: =IF(F26="","",IFERROR(INDEX('Lists & Settings'!$J$5:$J$14,MATCH(F26,'Lists & Settings'!$I$5:$I$14,0)),"")) | O26: =IF(COUNTA(A26:B26,D26,F26:M26)=0,"",IF(AND(B26<>"",C26<>"Course code not found",D26<>"",E26<>"Outcome ID not found",N26<>"",K26<>"",K26<=TODAY(),IFERROR(INDEX('Lists & Settings'!$C$5:$C$104,MATCH(B26,'Lists & Settings'!$A$5:$A$104,0)),"")="Active",IFERROR(INDEX('Lists & Settings'!$G$5:$G$24,MATCH(D26,'Lists & Settings'!$E$5:$E$24,0)),"")="Active"),"Yes","No")) | P26: =IF(COUNTA(A26:B26,D26,F26:M26)=0,"",IF(OR(A26="",B26="",D26="",F26=""),"Incomplete",IF(OR(C26="Course code not found",E26="Outcome ID not found",N26=""),"Invalid list value",IF(K26="","Review date missing",IF(K26>TODAY(),"Future review date",IF(COUNTIFS($B$5:$B$204,B26,$D$5:$D$204,D26)>1,"Duplicate course/outcome",IF(TODAY()-K26>'Lists & Settings'!$Q$5,"Review overdue","Ready")))))))
... C204: =IF(B204="","",IFERROR(INDEX('Lists & Settings'!$B$5:$B$104,MATCH(B204,'Lists & Settings'!$A$5:$A$104,0)),"Course code not found")) | E204: =IF(D204="","",IFERROR(INDEX('Lists & Settings'!$F$5:$F$24,MATCH(D204,'Lists & Settings'!$E$5:$E$24,0)),"Outcome ID not found")) | N204: =IF(F204="","",IFERROR(INDEX('Lists & Settings'!$J$5:$J$14,MATCH(F204,'Lists & Settings'!$I$5:$I$14,0)),"")) | O204: =IF(COUNTA(A204:B204,D204,F204:M204)=0,"",IF(AND(B204<>"",C204<>"Course code not found",D204<>"",E204<>"Outcome ID not found",N204<>"",K204<>"",K204<=TODAY(),IFERROR(INDEX('Lists & Settings'!$C$5:$C$104,MATCH(B204,'Lists & Settings'!$A$5:$A$104,0)),"")="Active",IFERROR(INDEX('Lists & Settings'!$G$5:$G$24,MATCH(D204,'Lists & Settings'!$E$5:$E$24,0)),"")="Active"),"Yes","No")) | P204: =IF(COUNTA(A204:B204,D204,F204:M204)=0,"",IF(OR(A204="",B204="",D204="",F204=""),"Incomplete",IF(OR(C204="Course code not found",E204="Outcome ID not found",N204=""),"Invalid list value",IF(K204="","Review date missing",IF(K204>TODAY(),"Future review date",IF(COUNTIFS($B$5:$B$204,B204,$D$5:$D$204,D204)>1,"Duplicate course/outcome",IF(TODAY()-K204>'Lists & Settings'!$Q$5,"Review overdue","Ready")))))))

Sheet Coverage Matrix
A1: Course-to-Outcome Coverage Matrix
A2: I = Introduce, D = Develop, R = Reinforce, M = Mastery. The matrix uses usable records only.
C3: =IF(C4="","",'Lists & Settings'!F5) | D3: =IF(D4="","",'Lists & Settings'!F6) | E3: =IF(E4="","",'Lists & Settings'!F7) | F3: =IF(F4="","",'Lists & Settings'!F8) | G3: =IF(G4="","",'Lists & Settings'!F9) | H3: =IF(H4="","",'Lists & Settings'!F10) | I3: =IF(I4="","",'Lists & Settings'!F11) | J3: =IF(J4="","",'Lists & Settings'!F12) | K3: =IF(K4="","",'Lists & Settings'!F13) | L3: =IF(L4="","",'Lists & Settings'!F14) | M3: =IF(M4="","",'Lists & Settings'!F15) | N3: =IF(N4="","",'Lists & Settings'!F16) | O3: =IF(O4="","",'Lists & Settings'!F17) | P3: =IF(P4="","",'Lists & Settings'!F18) | Q3: =IF(Q4="","",'Lists & Settings'!F19) | R3: =IF(R4="","",'Lists & Settings'!F20) | S3: =IF(S4="","",'Lists & Settings'!F21) | T3: =IF(T4="","",'Lists & Settings'!F22) | U3: =IF(U4="","",'Lists & Settings'!F23) | V3: =IF(V4="","",'Lists & Settings'!F24)
A4: Course Code | B4: Course Title | C4: =IF('Lists & Settings'!E5="","",'Lists & Settings'!E5) | D4: =IF('Lists & Settings'!E6="","",'Lists & Settings'!E6) | E4: =IF('Lists & Settings'!E7="","",'Lists & Settings'!E7) | F4: =IF('Lists & Settings'!E8="","",'Lists & Settings'!E8) | G4: =IF('Lists & Settings'!E9="","",'Lists & Settings'!E9) | H4: =IF('Lists & Settings'!E10="","",'Lists & Settings'!E10) | I4: =IF('Lists & Settings'!E11="","",'Lists & Settings'!E11) | J4: =IF('Lists & Settings'!E12="","",'Lists & Settings'!E12) | K4: =IF('Lists & Settings'!E13="","",'Lists & Settings'!E13) | L4: =IF('Lists & Settings'!E14="","",'Lists & Settings'!E14) | M4: =IF('Lists & Settings'!E15="","",'Lists & Settings'!E15) | N4: =IF('Lists & Settings'!E16="","",'Lists & Settings'!E16) | O4: =IF('Lists & Settings'!E17="","",'Lists & Settings'!E17) | P4: =IF('Lists & Settings'!E18="","",'Lists & Settings'!E18) | Q4: =IF('Lists & Settings'!E19="","",'Lists & Settings'!E19) | R4: =IF('Lists & Settings'!E20="","",'Lists & Settings'!E20) | S4: =IF('Lists & Settings'!E21="","",'Lists & Settings'!E21) | T4: =IF('Lists & Settings'!E22="","",'Lists & Settings'!E22) | U4: =IF('Lists & Settings'!E23="","",'Lists & Settings'!E23) | V4: =IF('Lists & Settings'!E24="","",'Lists & Settings'!E24) | W4: Outcomes Mapped | X4: Coverage % | Y4: Mastery Outcomes
A5: =IF('Lists & Settings'!A5="","",'Lists & Settings'!A5) | B5: =IF(A5="","",'Lists & Settings'!B5) | C5: =IF(OR($A5="",C$4=""),"",IF(COUNTIFS('Mapping Entries'!$B$5:$B$204,$A5,'Mapping Entries'!$D$5:$D$204,C$4,'Mapping Entries'!$O$5:$O$204,"Yes")=0,"",CHOOSE(MAXIFS('Mapping Entries'!$N$5:$N$204,'Mapping Entries'!$B$5:$B$204,$A5,'Mapping Entries'!$D$5:$D$204,C$4,'Mapping Entries'!$O$5:$O$204,"Yes"),"I","D","R","M"))) | D5: =IF(OR($A5="",D$4=""),"",IF(COUNTIFS('Mapping Entries'!$B$5:$B$204,$A5,'Mapping Entries'!$D$5:$D$204,D$4,'Mapping Entries'!$O$5:$O$204,"Yes")=0,"",CHOOSE(MAXIFS('Mapping Entries'!$N$5:$N$204,'Mapping Entries'!$B$5:$B$204,$A5,'Mapping Entries'!$D$5:$D$204,D$4,'Mapping Entries'!$O$5:$O$204,"Yes"),"I","D","R","M"))) | E5: =IF(OR($A5="",E$4=""),"",IF(COUNTIFS('Mapping Entries'!$B$5:$B$204,$A5,'Mapping Entries'!$D$5:$D$204,E$4,'Mapping Entries'!$O$5:$O$204,"Yes")=0,"",CHOOSE(MAXIFS('Mapping Entries'!$N$5:$N$204,'Mapping Entries'!$B$5:$B$204,$A5,'Mapping Entries'!$D$5:$D$204,E$4,'Mapping Entries'!$O$5:$O$204,"Yes"),"I","D","R","M"))) | F5: =IF(OR($A5="",F$4=""),"",IF(COUNTIFS('Mapping Entries'!$B$5:$B$204,$A5,'Mapping Entries'!$D$5:$D$204,F$4,'Mapping Entries'!$O$5:$O$204,"Yes")=0,"",CHOOSE(MAXIFS('Mapping Entries'!$N$5:$N$204,'Mapping Entries'!$B$5:$B$204,$A5,'Mapping Entries'!$D$5:$D$204,F$4,'Mapping Entries'!$O$5:$O$204,"Yes"),"I","D","R","M"))) | G5: =IF(OR($A5="",G$4=""),"",IF(COUNTIFS('Mapping Entries'!$B$5:$B$204,$A5,'Mapping Entries'!$D$5:$D$204,G$4,'Mapping Entries'!$O$5:$O$204,"Yes")=0,"",CHOOSE(MAXIFS('Mapping Entries'!$N$5:$N$204,'Mapping Entries'!$B$5:$B$204,$A5,'Mapping Entries'!$D$5:$D$204,G$4,'Mapping Entries'!$O$5:$O$204,"Yes"),"I","D","R","M"))) | H5: =IF(OR($A5="",H$4=""),"",IF(COUNTIFS('Mapping Entries'!$B$5:$B$204,$A5,'Mapping Entries'!$D$5:$D$204,H$4,'Mapping Entries'!$O$5:$O$204,"Yes")=0,"",CHOOSE(MAXIFS('Mapping Entries'!$N$5:$N$204,'Mapping Entries'!$B$5:$B$204,$A5,'Mapping Entries'!$D$5:$D$204,H$4,'Mapping Entries'!$O$5:$O$204,"Yes"),"I","D","R","M"))) | I5: =IF(OR($A5="",I$4=""),"",IF(COUNTIFS('Mapping Entries'!$B$5:$B$204,$A5,'Mapping Entries'!$D$5:$D$204,I$4,'Mapping Entries'!$O$5:$O$204,"Yes")=0,"",CHOOSE(MAXIFS('Mapping Entries'!$N$5:$N$204,'Mapping Entries'!$B$5:$B$204,$A5,'Mapping Entries'!$D$5:$D$204,I$4,'Mapping Entries'!$O$5:$O$204,"Yes"),"I","D","R","M"))) | J5: =IF(OR($A5="",J$4=""),"",IF(COUNTIFS('Mapping Entries'!$B$5:$B$204,$A5,'Mapping Entries'!$D$5:$D$204,J$4,'Mapping Entries'!$O$5:$O$204,"Yes")=0,"",CHOOSE(MAXIFS('Mapping Entries'!$N$5:$N$204,'Mapping Entries'!$B$5:$B$204,$A5,'Mapping Entries'!$D$5:$D$204,J$4,'Mapping Entries'!$O$5:$O$204,"Yes"),"I","D","R","M"))) | ... V5: =IF(OR($A5="",V$4=""),"",IF(COUNTIFS('Mapping Entries'!$B$5:$B$204,$A5,'Mapping Entries'!$D$5:$D$204,V$4,'Mapping Entries'!$O$5:$O$204,"Yes")=0,"",CHOOSE(MAXIFS('Mapping Entries'!$N$5:$N$204,'Mapping Entries'!$B$5:$B$204,$A5,'Mapping Entries'!$D$5:$D$204,V$4,'Mapping Entries'!$O$5:$O$204,"Yes"),"I","D","R","M"))) | W5: =IF(A5="","",COUNTIF(C5:V5,"?")) | X5: =IF(A5="","",IFERROR(W5/COUNTIF($C$4:$V$4,"?*"),"")) | Y5: =IF(A5="","",COUNTIF(C5:V5,"M"))
A6: =IF('Lists & Settings'!A6="","",'Lists & Settings'!A6) | B6: =IF(A6="","",'Lists & Settings'!B6) | C6: =IF(OR($A6="",C$4=""),"",IF(COUNTIFS('Mapping Entries'!$B$5:$B$204,$A6,'Mapping Entries'!$D$5:$D$204,C$4,'Mapping Entries'!$O$5:$O$204,"Yes")=0,"",CHOOSE(MAXIFS('Mapping Entries'!$N$5:$N$204,'Mapping Entries'!$B$5:$B$204,$A6,'Mapping Entries'!$D$5:$D$204,C$4,'Mapping Entries'!$O$5:$O$204,"Yes"),"I","D","R","M"))) | D6: =IF(OR($A6="",D$4=""),"",IF(COUNTIFS('Mapping Entries'!$B$5:$B$204,$A6,'Mapping Entries'!$D$5:$D$204,D$4,'Mapping Entries'!$O$5:$O$204,"Yes")=0,"",CHOOSE(MAXIFS('Mapping Entries'!$N$5:$N$204,'Mapping Entries'!$B$5:$B$204,$A6,'Mapping Entries'!$D$5:$D$204,D$4,'Mapping Entries'!$O$5:$O$204,"Yes"),"I","D","R","M"))) | E6: =IF(OR($A6="",E$4=""),"",IF(COUNTIFS('Mapping Entries'!$B$5:$B$204,$A6,'Mapping Entries'!$D$5:$D$204,E$4,'Mapping Entries'!$O$5:$O$204,"Yes")=0,"",CHOOSE(MAXIFS('Mapping Entries'!$N$5:$N$204,'Mapping Entries'!$B$5:$B$204,$A6,'Mapping Entries'!$D$5:$D$204,E$4,'Mapping Entries'!$O$5:$O$204,"Yes"),"I","D","R","M"))) | F6: =IF(OR($A6="",F$4=""),"",IF(COUNTIFS('Mapping Entries'!$B$5:$B$204,$A6,'Mapping Entries'!$D$5:$D$204,F$4,'Mapping Entries'!$O$5:$O$204,"Yes")=0,"",CHOOSE(MAXIFS('Mapping Entries'!$N$5:$N$204,'Mapping Entries'!$B$5:$B$204,$A6,'Mapping Entries'!$D$5:$D$204,F$4,'Mapping Entries'!$O$5:$O$204,"Yes"),"I","D","R","M"))) | G6: =IF(OR($A6="",G$4=""),"",IF(COUNTIFS('Mapping Entries'!$B$5:$B$204,$A6,'Mapping Entries'!$D$5:$D$204,G$4,'Mapping Entries'!$O$5:$O$204,"Yes")=0,"",CHOOSE(MAXIFS('Mapping Entries'!$N$5:$N$204,'Mapping Entries'!$B$5:$B$204,$A6,'Mapping Entries'!$D$5:$D$204,G$4,'Mapping Entries'!$O$5:$O$204,"Yes"),"I","D","R","M"))) | H6: =IF(OR($A6="",H$4=""),"",IF(COUNTIFS('Mapping Entries'!$B$5:$B$204,$A6,'Mapping Entries'!$D$5:$D$204,H$4,'Mapping Entries'!$O$5:$O$204,"Yes")=0,"",CHOOSE(MAXIFS('Mapping Entries'!$N$5:$N$204,'Mapping Entries'!$B$5:$B$204,$A6,'Mapping Entries'!$D$5:$D$204,H$4,'Mapping Entries'!$O$5:$O$204,"Yes"),"I","D","R","M"))) | I6: =IF(OR($A6="",I$4=""),"",IF(COUNTIFS('Mapping Entries'!$B$5:$B$204,$A6,'Mapping Entries'!$D$5:$D$204,I$4,'Mapping Entries'!$O$5:$O$204,"Yes")=0,"",CHOOSE(MAXIFS('Mapping Entries'!$N$5:$N$204,'Mapping Entries'!$B$5:$B$204,$A6,'Mapping Entries'!$D$5:$D$204,I$4,'Mapping Entries'!$O$5:$O$204,"Yes"),"I","D","R","M"))) | J6: =IF(OR($A6="",J$4=""),"",IF(COUNTIFS('Mapping Entries'!$B$5:$B$204,$A6,'Mapping Entries'!$D$5:$D$204,J$4,'Mapping Entries'!$O$5:$O$204,"Yes")=0,"",CHOOSE(MAXIFS('Mapping Entries'!$N$5:$N$204,'Mapping Entries'!$B$5:$B$204,$A6,'Mapping Entries'!$D$5:$D$204,J$4,'Mapping Entries'!$O$5:$O$204,"Yes"),"I","D","R","M"))) | ... V6: =IF(OR($A6="",V$4=""),"",IF(COUNTIFS('Mapping Entries'!$B$5:$B$204,$A6,'Mapping Entries'!$D$5:$D$204,V$4,'Mapping Entries'!$O$5:$O$204,"Yes")=0,"",CHOOSE(MAXIFS('Mapping Entries'!$N$5:$N$204,'Mapping Entries'!$B$5:$B$204,$A6,'Mapping Entries'!$D$5:$D$204,V$4,'Mapping Entries'!$O$5:$O$204,"Yes"),"I","D","R","M"))) | W6: =IF(A6="","",COUNTIF(C6:V6,"?")) | X6: =IF(A6="","",IFERROR(W6/COUNTIF($C$4:$V$4,"?*"),"")) | Y6: =IF(A6="","",COUNTIF(C6:V6,"M"))
A7: =IF('Lists & Settings'!A7="","",'Lists & Settings'!A7) | B7: =IF(A7="","",'Lists & Settings'!B7) | C7: =IF(OR($A7="",C$4=""),"",IF(COUNTIFS('Mapping Entries'!$B$5:$B$204,$A7,'Mapping Entries'!$D$5:$D$204,C$4,'Mapping Entries'!$O$5:$O$204,"Yes")=0,"",CHOOSE(MAXIFS('Mapping Entries'!$N$5:$N$204,'Mapping Entries'!$B$5:$B$204,$A7,'Mapping Entries'!$D$5:$D$204,C$4,'Mapping Entries'!$O$5:$O$204,"Yes"),"I","D","R","M"))) | D7: =IF(OR($A7="",D$4=""),"",IF(COUNTIFS('Mapping Entries'!$B$5:$B$204,$A7,'Mapping Entries'!$D$5:$D$204,D$4,'Mapping Entries'!$O$5:$O$204,"Yes")=0,"",CHOOSE(MAXIFS('Mapping Entries'!$N$5:$N$204,'Mapping Entries'!$B$5:$B$204,$A7,'Mapping Entries'!$D$5:$D$204,D$4,'Mapping Entries'!$O$5:$O$204,"Yes"),"I","D","R","M"))) | E7: =IF(OR($A7="",E$4=""),"",IF(COUNTIFS('Mapping Entries'!$B$5:$B$204,$A7,'Mapping Entries'!$D$5:$D$204,E$4,'Mapping Entries'!$O$5:$O$204,"Yes")=0,"",CHOOSE(MAXIFS('Mapping Entries'!$N$5:$N$204,'Mapping Entries'!$B$5:$B$204,$A7,'Mapping Entries'!$D$5:$D$204,E$4,'Mapping Entries'!$O$5:$O$204,"Yes"),"I","D","R","M"))) | F7: =IF(OR($A7="",F$4=""),"",IF(COUNTIFS('Mapping Entries'!$B$5:$B$204,$A7,'Mapping Entries'!$D$5:$D$204,F$4,'Mapping Entries'!$O$5:$O$204,"Yes")=0,"",CHOOSE(MAXIFS('Mapping Entries'!$N$5:$N$204,'Mapping Entries'!$B$5:$B$204,$A7,'Mapping Entries'!$D$5:$D$204,F$4,'Mapping Entries'!$O$5:$O$204,"Yes"),"I","D","R","M"))) | G7: =IF(OR($A7="",G$4=""),"",IF(COUNTIFS('Mapping Entries'!$B$5:$B$204,$A7,'Mapping Entries'!$D$5:$D$204,G$4,'Mapping Entries'!$O$5:$O$204,"Yes")=0,"",CHOOSE(MAXIFS('Mapping Entries'!$N$5:$N$204,'Mapping Entries'!$B$5:$B$204,$A7,'Mapping Entries'!$D$5:$D$204,G$4,'Mapping Entries'!$O$5:$O$204,"Yes"),"I","D","R","M"))) | H7: =IF(OR($A7="",H$4=""),"",IF(COUNTIFS('Mapping Entries'!$B$5:$B$204,$A7,'Mapping Entries'!$D$5:$D$204,H$4,'Mapping Entries'!$O$5:$O$204,"Yes")=0,"",CHOOSE(MAXIFS('Mapping Entries'!$N$5:$N$204,'Mapping Entries'!$B$5:$B$204,$A7,'Mapping Entries'!$D$5:$D$204,H$4,'Mapping Entries'!$O$5:$O$204,"Yes"),"I","D","R","M"))) | I7: =IF(OR($A7="",I$4=""),"",IF(COUNTIFS('Mapping Entries'!$B$5:$B$204,$A7,'Mapping Entries'!$D$5:$D$204,I$4,'Mapping Entries'!$O$5:$O$204,"Yes")=0,"",CHOOSE(MAXIFS('Mapping Entries'!$N$5:$N$204,'Mapping Entries'!$B$5:$B$204,$A7,'Mapping Entries'!$D$5:$D$204,I$4,'Mapping Entries'!$O$5:$O$204,"Yes"),"I","D","R","M"))) | J7: =IF(OR($A7="",J$4=""),"",IF(COUNTIFS('Mapping Entries'!$B$5:$B$204,$A7,'Mapping Entries'!$D$5:$D$204,J$4,'Mapping Entries'!$O$5:$O$204,"Yes")=0,"",CHOOSE(MAXIFS('Mapping Entries'!$N$5:$N$204,'Mapping Entries'!$B$5:$B$204,$A7,'Mapping Entries'!$D$5:$D$204,J$4,'Mapping Entries'!$O$5:$O$204,"Yes"),"I","D","R","M"))) | ... V7: =IF(OR($A7="",V$4=""),"",IF(COUNTIFS('Mapping Entries'!$B$5:$B$204,$A7,'Mapping Entries'!$D$5:$D$204,V$4,'Mapping Entries'!$O$5:$O$204,"Yes")=0,"",CHOOSE(MAXIFS('Mapping Entries'!$N$5:$N$204,'Mapping Entries'!$B$5:$B$204,$A7,'Mapping Entries'!$D$5:$D$204,V$4,'Mapping Entries'!$O$5:$O$204,"Yes"),"I","D","R","M"))) | W7: =IF(A7="","",COUNTIF(C7:V7,"?")) | X7: =IF(A7="","",IFERROR(W7/COUNTIF($C$4:$V$4,"?*"),"")) | Y7: =IF(A7="","",COUNTIF(C7:V7,"M"))
A8: =IF('Lists & Settings'!A8="","",'Lists & Settings'!A8) | B8: =IF(A8="","",'Lists & Settings'!B8) | C8: =IF(OR($A8="",C$4=""),"",IF(COUNTIFS('Mapping Entries'!$B$5:$B$204,$A8,'Mapping Entries'!$D$5:$D$204,C$4,'Mapping Entries'!$O$5:$O$204,"Yes")=0,"",CHOOSE(MAXIFS('Mapping Entries'!$N$5:$N$204,'Mapping Entries'!$B$5:$B$204,$A8,'Mapping Entries'!$D$5:$D$204,C$4,'Mapping Entries'!$O$5:$O$204,"Yes"),"I","D","R","M"))) | D8: =IF(OR($A8="",D$4=""),"",IF(COUNTIFS('Mapping Entries'!$B$5:$B$204,$A8,'Mapping Entries'!$D$5:$D$204,D$4,'Mapping Entries'!$O$5:$O$204,"Yes")=0,"",CHOOSE(MAXIFS('Mapping Entries'!$N$5:$N$204,'Mapping Entries'!$B$5:$B$204,$A8,'Mapping Entries'!$D$5:$D$204,D$4,'Mapping Entries'!$O$5:$O$204,"Yes"),"I","D","R","M"))) | E8: =IF(OR($A8="",E$4=""),"",IF(COUNTIFS('Mapping Entries'!$B$5:$B$204,$A8,'Mapping Entries'!$D$5:$D$204,E$4,'Mapping Entries'!$O$5:$O$204,"Yes")=0,"",CHOOSE(MAXIFS('Mapping Entries'!$N$5:$N$204,'Mapping Entries'!$B$5:$B$204,$A8,'Mapping Entries'!$D$5:$D$204,E$4,'Mapping Entries'!$O$5:$O$204,"Yes"),"I","D","R","M"))) | F8: =IF(OR($A8="",F$4=""),"",IF(COUNTIFS('Mapping Entries'!$B$5:$B$204,$A8,'Mapping Entries'!$D$5:$D$204,F$4,'Mapping Entries'!$O$5:$O$204,"Yes")=0,"",CHOOSE(MAXIFS('Mapping Entries'!$N$5:$N$204,'Mapping Entries'!$B$5:$B$204,$A8,'Mapping Entries'!$D$5:$D$204,F$4,'Mapping Entries'!$O$5:$O$204,"Yes"),"I","D","R","M"))) | G8: =IF(OR($A8="",G$4=""),"",IF(COUNTIFS('Mapping Entries'!$B$5:$B$204,$A8,'Mapping Entries'!$D$5:$D$204,G$4,'Mapping Entries'!$O$5:$O$204,"Yes")=0,"",CHOOSE(MAXIFS('Mapping Entries'!$N$5:$N$204,'Mapping Entries'!$B$5:$B$204,$A8,'Mapping Entries'!$D$5:$D$204,G$4,'Mapping Entries'!$O$5:$O$204,"Yes"),"I","D","R","M"))) | H8: =IF(OR($A8="",H$4=""),"",IF(COUNTIFS('Mapping Entries'!$B$5:$B$204,$A8,'Mapping Entries'!$D$5:$D$204,H$4,'Mapping Entries'!$O$5:$O$204,"Yes")=0,"",CHOOSE(MAXIFS('Mapping Entries'!$N$5:$N$204,'Mapping Entries'!$B$5:$B$204,$A8,'Mapping Entries'!$D$5:$D$204,H$4,'Mapping Entries'!$O$5:$O$204,"Yes"),"I","D","R","M"))) | I8: =IF(OR($A8="",I$4=""),"",IF(COUNTIFS('Mapping Entries'!$B$5:$B$204,$A8,'Mapping Entries'!$D$5:$D$204,I$4,'Mapping Entries'!$O$5:$O$204,"Yes")=0,"",CHOOSE(MAXIFS('Mapping Entries'!$N$5:$N$204,'Mapping Entries'!$B$5:$B$204,$A8,'Mapping Entries'!$D$5:$D$204,I$4,'Mapping Entries'!$O$5:$O$204,"Yes"),"I","D","R","M"))) | J8: =IF(OR($A8="",J$4=""),"",IF(COUNTIFS('Mapping Entries'!$B$5:$B$204,$A8,'Mapping Entries'!$D$5:$D$204,J$4,'Mapping Entries'!$O$5:$O$204,"Yes")=0,"",CHOOSE(MAXIFS('Mapping Entries'!$N$5:$N$204,'Mapping Entries'!$B$5:$B$204,$A8,'Mapping Entries'!$D$5:$D$204,J$4,'Mapping Entries'!$O$5:$O$204,"Yes"),"I","D","R","M"))) | ... V8: =IF(OR($A8="",V$4=""),"",IF(COUNTIFS('Mapping Entries'!$B$5:$B$204,$A8,'Mapping Entries'!$D$5:$D$204,V$4,'Mapping Entries'!$O$5:$O$204,"Yes")=0,"",CHOOSE(MAXIFS('Mapping Entries'!$N$5:$N$204,'Mapping Entries'!$B$5:$B$204,$A8,'Mapping Entries'!$D$5:$D$204,V$4,'Mapping Entries'!$O$5:$O$204,"Yes"),"I","D","R","M"))) | W8: =IF(A8="","",COUNTIF(C8:V8,"?")) | X8: =IF(A8="","",IFERROR(W8/COUNTIF($C$4:$V$4,"?*"),"")) | Y8: =IF(A8="","",COUNTIF(C8:V8,"M"))
A9: =IF('Lists & Settings'!A9="","",'Lists & Settings'!A9) | B9: =IF(A9="","",'Lists & Settings'!B9) | C9: =IF(OR($A9="",C$4=""),"",IF(COUNTIFS('Mapping Entries'!$B$5:$B$204,$A9,'Mapping Entries'!$D$5:$D$204,C$4,'Mapping Entries'!$O$5:$O$204,"Yes")=0,"",CHOOSE(MAXIFS('Mapping Entries'!$N$5:$N$204,'Mapping Entries'!$B$5:$B$204,$A9,'Mapping Entries'!$D$5:$D$204,C$4,'Mapping Entries'!$O$5:$O$204,"Yes"),"I","D","R","M"))) | D9: =IF(OR($A9="",D$4=""),"",IF(COUNTIFS('Mapping Entries'!$B$5:$B$204,$A9,'Mapping Entries'!$D$5:$D$204,D$4,'Mapping Entries'!$O$5:$O$204,"Yes")=0,"",CHOOSE(MAXIFS('Mapping Entries'!$N$5:$N$204,'Mapping Entries'!$B$5:$B$204,$A9,'Mapping Entries'!$D$5:$D$204,D$4,'Mapping Entries'!$O$5:$O$204,"Yes"),"I","D","R","M"))) | E9: =IF(OR($A9="",E$4=""),"",IF(COUNTIFS('Mapping Entries'!$B$5:$B$204,$A9,'Mapping Entries'!$D$5:$D$204,E$4,'Mapping Entries'!$O$5:$O$204,"Yes")=0,"",CHOOSE(MAXIFS('Mapping Entries'!$N$5:$N$204,'Mapping Entries'!$B$5:$B$204,$A9,'Mapping Entries'!$D$5:$D$204,E$4,'Mapping Entries'!$O$5:$O$204,"Yes"),"I","D","R","M"))) | F9: =IF(OR($A9="",F$4=""),"",IF(COUNTIFS('Mapping Entries'!$B$5:$B$204,$A9,'Mapping Entries'!$D$5:$D$204,F$4,'Mapping Entries'!$O$5:$O$204,"Yes")=0,"",CHOOSE(MAXIFS('Mapping Entries'!$N$5:$N$204,'Mapping Entries'!$B$5:$B$204,$A9,'Mapping Entries'!$D$5:$D$204,F$4,'Mapping Entries'!$O$5:$O$204,"Yes"),"I","D","R","M"))) | G9: =IF(OR($A9="",G$4=""),"",IF(COUNTIFS('Mapping Entries'!$B$5:$B$204,$A9,'Mapping Entries'!$D$5:$D$204,G$4,'Mapping Entries'!$O$5:$O$204,"Yes")=0,"",CHOOSE(MAXIFS('Mapping Entries'!$N$5:$N$204,'Mapping Entries'!$B$5:$B$204,$A9,'Mapping Entries'!$D$5:$D$204,G$4,'Mapping Entries'!$O$5:$O$204,"Yes"),"I","D","R","M"))) | H9: =IF(OR($A9="",H$4=""),"",IF(COUNTIFS('Mapping Entries'!$B$5:$B$204,$A9,'Mapping Entries'!$D$5:$D$204,H$4,'Mapping Entries'!$O$5:$O$204,"Yes")=0,"",CHOOSE(MAXIFS('Mapping Entries'!$N$5:$N$204,'Mapping Entries'!$B$5:$B$204,$A9,'Mapping Entries'!$D$5:$D$204,H$4,'Mapping Entries'!$O$5:$O$204,"Yes"),"I","D","R","M"))) | I9: =IF(OR($A9="",I$4=""),"",IF(COUNTIFS('Mapping Entries'!$B$5:$B$204,$A9,'Mapping Entries'!$D$5:$D$204,I$4,'Mapping Entries'!$O$5:$O$204,"Yes")=0,"",CHOOSE(MAXIFS('Mapping Entries'!$N$5:$N$204,'Mapping Entries'!$B$5:$B$204,$A9,'Mapping Entries'!$D$5:$D$204,I$4,'Mapping Entries'!$O$5:$O$204,"Yes"),"I","D","R","M"))) | J9: =IF(OR($A9="",J$4=""),"",IF(COUNTIFS('Mapping Entries'!$B$5:$B$204,$A9,'Mapping Entries'!$D$5:$D$204,J$4,'Mapping Entries'!$O$5:$O$204,"Yes")=0,"",CHOOSE(MAXIFS('Mapping Entries'!$N$5:$N$204,'Mapping Entries'!$B$5:$B$204,$A9,'Mapping Entries'!$D$5:$D$204,J$4,'Mapping Entries'!$O$5:$O$204,"Yes"),"I","D","R","M"))) | ... V9: =IF(OR($A9="",V$4=""),"",IF(COUNTIFS('Mapping Entries'!$B$5:$B$204,$A9,'Mapping Entries'!$D$5:$D$204,V$4,'Mapping Entries'!$O$5:$O$204,"Yes")=0,"",CHOOSE(MAXIFS('Mapping Entries'!$N$5:$N$204,'Mapping Entries'!$B$5:$B$204,$A9,'Mapping Entries'!$D$5:$D$204,V$4,'Mapping Entries'!$O$5:$O$204,"Yes"),"I","D","R","M"))) | W9: =IF(A9="","",COUNTIF(C9:V9,"?")) | X9: =IF(A9="","",IFERROR(W9/COUNTIF($C$4:$V$4,"?*"),"")) | Y9: =IF(A9="","",COUNTIF(C9:V9,"M"))
A10: =IF('Lists & Settings'!A10="","",'Lists & Settings'!A10) | B10: =IF(A10="","",'Lists & Settings'!B10) | C10: =IF(OR($A10="",C$4=""),"",IF(COUNTIFS('Mapping Entries'!$B$5:$B$204,$A10,'Mapping Entries'!$D$5:$D$204,C$4,'Mapping Entries'!$O$5:$O$204,"Yes")=0,"",CHOOSE(MAXIFS('Mapping Entries'!$N$5:$N$204,'Mapping Entries'!$B$5:$B$204,$A10,'Mapping Entries'!$D$5:$D$204,C$4,'Mapping Entries'!$O$5:$O$204,"Yes"),"I","D","R","M"))) | D10: =IF(OR($A10="",D$4=""),"",IF(COUNTIFS('Mapping Entries'!$B$5:$B$204,$A10,'Mapping Entries'!$D$5:$D$204,D$4,'Mapping Entries'!$O$5:$O$204,"Yes")=0,"",CHOOSE(MAXIFS('Mapping Entries'!$N$5:$N$204,'Mapping Entries'!$B$5:$B$204,$A10,'Mapping Entries'!$D$5:$D$204,D$4,'Mapping Entries'!$O$5:$O$204,"Yes"),"I","D","R","M"))) | E10: =IF(OR($A10="",E$4=""),"",IF(COUNTIFS('Mapping Entries'!$B$5:$B$204,$A10,'Mapping Entries'!$D$5:$D$204,E$4,'Mapping Entries'!$O$5:$O$204,"Yes")=0,"",CHOOSE(MAXIFS('Mapping Entries'!$N$5:$N$204,'Mapping Entries'!$B$5:$B$204,$A10,'Mapping Entries'!$D$5:$D$204,E$4,'Mapping Entries'!$O$5:$O$204,"Yes"),"I","D","R","M"))) | F10: =IF(OR($A10="",F$4=""),"",IF(COUNTIFS('Mapping Entries'!$B$5:$B$204,$A10,'Mapping Entries'!$D$5:$D$204,F$4,'Mapping Entries'!$O$5:$O$204,"Yes")=0,"",CHOOSE(MAXIFS('Mapping Entries'!$N$5:$N$204,'Mapping Entries'!$B$5:$B$204,$A10,'Mapping Entries'!$D$5:$D$204,F$4,'Mapping Entries'!$O$5:$O$204,"Yes"),"I","D","R","M"))) | G10: =IF(OR($A10="",G$4=""),"",IF(COUNTIFS('Mapping Entries'!$B$5:$B$204,$A10,'Mapping Entries'!$D$5:$D$204,G$4,'Mapping Entries'!$O$5:$O$204,"Yes")=0,"",CHOOSE(MAXIFS('Mapping Entries'!$N$5:$N$204,'Mapping Entries'!$B$5:$B$204,$A10,'Mapping Entries'!$D$5:$D$204,G$4,'Mapping Entries'!$O$5:$O$204,"Yes"),"I","D","R","M"))) | H10: =IF(OR($A10="",H$4=""),"",IF(COUNTIFS('Mapping Entries'!$B$5:$B$204,$A10,'Mapping Entries'!$D$5:$D$204,H$4,'Mapping Entries'!$O$5:$O$204,"Yes")=0,"",CHOOSE(MAXIFS('Mapping Entries'!$N$5:$N$204,'Mapping Entries'!$B$5:$B$204,$A10,'Mapping Entries'!$D$5:$D$204,H$4,'Mapping Entries'!$O$5:$O$204,"Yes"),"I","D","R","M"))) | I10: =IF(OR($A10="",I$4=""),"",IF(COUNTIFS('Mapping Entries'!$B$5:$B$204,$A10,'Mapping Entries'!$D$5:$D$204,I$4,'Mapping Entries'!$O$5:$O$204,"Yes")=0,"",CHOOSE(MAXIFS('Mapping Entries'!$N$5:$N$204,'Mapping Entries'!$B$5:$B$204,$A10,'Mapping Entries'!$D$5:$D$204,I$4,'Mapping Entries'!$O$5:$O$204,"Yes"),"I","D","R","M"))) | J10: =IF(OR($A10="",J$4=""),"",IF(COUNTIFS('Mapping Entries'!$B$5:$B$204,$A10,'Mapping Entries'!$D$5:$D$204,J$4,'Mapping Entries'!$O$5:$O$204,"Yes")=0,"",CHOOSE(MAXIFS('Mapping Entries'!$N$5:$N$204,'Mapping Entries'!$B$5:$B$204,$A10,'Mapping Entries'!$D$5:$D$204,J$4,'Mapping Entries'!$O$5:$O$204,"Yes"),"I","D","R","M"))) | ... V10: =IF(OR($A10="",V$4=""),"",IF(COUNTIFS('Mapping Entries'!$B$5:$B$204,$A10,'Mapping Entries'!$D$5:$D$204,V$4,'Mapping Entries'!$O$5:$O$204,"Yes")=0,"",CHOOSE(MAXIFS('Mapping Entries'!$N$5:$N$204,'Mapping Entries'!$B$5:$B$204,$A10,'Mapping Entries'!$D$5:$D$204,V$4,'Mapping Entries'!$O$5:$O$204,"Yes"),"I","D","R","M"))) | W10: =IF(A10="","",COUNTIF(C10:V10,"?")) | X10: =IF(A10="","",IFERROR(W10/COUNTIF($C$4:$V$4,"?*"),"")) | Y10: =IF(A10="","",COUNTIF(C10:V10,"M"))
A11: =IF('Lists & Settings'!A11="","",'Lists & Settings'!A11) | B11: =IF(A11="","",'Lists & Settings'!B11) | C11: =IF(OR($A11="",C$4=""),"",IF(COUNTIFS('Mapping Entries'!$B$5:$B$204,$A11,'Mapping Entries'!$D$5:$D$204,C$4,'Mapping Entries'!$O$5:$O$204,"Yes")=0,"",CHOOSE(MAXIFS('Mapping Entries'!$N$5:$N$204,'Mapping Entries'!$B$5:$B$204,$A11,'Mapping Entries'!$D$5:$D$204,C$4,'Mapping Entries'!$O$5:$O$204,"Yes"),"I","D","R","M"))) | D11: =IF(OR($A11="",D$4=""),"",IF(COUNTIFS('Mapping Entries'!$B$5:$B$204,$A11,'Mapping Entries'!$D$5:$D$204,D$4,'Mapping Entries'!$O$5:$O$204,"Yes")=0,"",CHOOSE(MAXIFS('Mapping Entries'!$N$5:$N$204,'Mapping Entries'!$B$5:$B$204,$A11,'Mapping Entries'!$D$5:$D$204,D$4,'Mapping Entries'!$O$5:$O$204,"Yes"),"I","D","R","M"))) | E11: =IF(OR($A11="",E$4=""),"",IF(COUNTIFS('Mapping Entries'!$B$5:$B$204,$A11,'Mapping Entries'!$D$5:$D$204,E$4,'Mapping Entries'!$O$5:$O$204,"Yes")=0,"",CHOOSE(MAXIFS('Mapping Entries'!$N$5:$N$204,'Mapping Entries'!$B$5:$B$204,$A11,'Mapping Entries'!$D$5:$D$204,E$4,'Mapping Entries'!$O$5:$O$204,"Yes"),"I","D","R","M"))) | F11: =IF(OR($A11="",F$4=""),"",IF(COUNTIFS('Mapping Entries'!$B$5:$B$204,$A11,'Mapping Entries'!$D$5:$D$204,F$4,'Mapping Entries'!$O$5:$O$204,"Yes")=0,"",CHOOSE(MAXIFS('Mapping Entries'!$N$5:$N$204,'Mapping Entries'!$B$5:$B$204,$A11,'Mapping Entries'!$D$5:$D$204,F$4,'Mapping Entries'!$O$5:$O$204,"Yes"),"I","D","R","M"))) | G11: =IF(OR($A11="",G$4=""),"",IF(COUNTIFS('Mapping Entries'!$B$5:$B$204,$A11,'Mapping Entries'!$D$5:$D$204,G$4,'Mapping Entries'!$O$5:$O$204,"Yes")=0,"",CHOOSE(MAXIFS('Mapping Entries'!$N$5:$N$204,'Mapping Entries'!$B$5:$B$204,$A11,'Mapping Entries'!$D$5:$D$204,G$4,'Mapping Entries'!$O$5:$O$204,"Yes"),"I","D","R","M"))) | H11: =IF(OR($A11="",H$4=""),"",IF(COUNTIFS('Mapping Entries'!$B$5:$B$204,$A11,'Mapping Entries'!$D$5:$D$204,H$4,'Mapping Entries'!$O$5:$O$204,"Yes")=0,"",CHOOSE(MAXIFS('Mapping Entries'!$N$5:$N$204,'Mapping Entries'!$B$5:$B$204,$A11,'Mapping Entries'!$D$5:$D$204,H$4,'Mapping Entries'!$O$5:$O$204,"Yes"),"I","D","R","M"))) | I11: =IF(OR($A11="",I$4=""),"",IF(COUNTIFS('Mapping Entries'!$B$5:$B$204,$A11,'Mapping Entries'!$D$5:$D$204,I$4,'Mapping Entries'!$O$5:$O$204,"Yes")=0,"",CHOOSE(MAXIFS('Mapping Entries'!$N$5:$N$204,'Mapping Entries'!$B$5:$B$204,$A11,'Mapping Entries'!$D$5:$D$204,I$4,'Mapping Entries'!$O$5:$O$204,"Yes"),"I","D","R","M"))) | J11: =IF(OR($A11="",J$4=""),"",IF(COUNTIFS('Mapping Entries'!$B$5:$B$204,$A11,'Mapping Entries'!$D$5:$D$204,J$4,'Mapping Entries'!$O$5:$O$204,"Yes")=0,"",CHOOSE(MAXIFS('Mapping Entries'!$N$5:$N$204,'Mapping Entries'!$B$5:$B$204,$A11,'Mapping Entries'!$D$5:$D$204,J$4,'Mapping Entries'!$O$5:$O$204,"Yes"),"I","D","R","M"))) | ... V11: =IF(OR($A11="",V$4=""),"",IF(COUNTIFS('Mapping Entries'!$B$5:$B$204,$A11,'Mapping Entries'!$D$5:$D$204,V$4,'Mapping Entries'!$O$5:$O$204,"Yes")=0,"",CHOOSE(MAXIFS('Mapping Entries'!$N$5:$N$204,'Mapping Entries'!$B$5:$B$204,$A11,'Mapping Entries'!$D$5:$D$204,V$4,'Mapping Entries'!$O$5:$O$204,"Yes"),"I","D","R","M"))) | W11: =IF(A11="","",COUNTIF(C11:V11,"?")) | X11: =IF(A11="","",IFERROR(W11/COUNTIF($C$4:$V$4,"?*"),"")) | Y11: =IF(A11="","",COUNTIF(C11:V11,"M"))
