Workbook

Sheet Dashboard
A1: Excused Absence Documentation Dashboard
A2: Operational status of absence documentation and internal review | J2: Review Outcome | K2: Record Count | M2: Program | N2: Absence Records
A3: As of Date | B3: ='Lists & Settings'!$B$2 | J3: Pending | K3: =COUNTIFS(tblAbsences[Record ID],"<>",tblAbsences[Review Outcome],J3) | M3: Allied Health Foundations | N3: =COUNTIFS(tblAbsences[Record ID],"<>",tblAbsences[Program],M3)
J4: Excused | K4: =COUNTIFS(tblAbsences[Record ID],"<>",tblAbsences[Review Outcome],J4) | M4: Business Skills Lab | N4: =COUNTIFS(tblAbsences[Record ID],"<>",tblAbsences[Program],M4)
A5: Total Absence Records | D5: Pending Review | G5: Overdue Documentation | J5: Not Excused | K5: =COUNTIFS(tblAbsences[Record ID],"<>",tblAbsences[Review Outcome],J5) | M5: Digital Support Academy | N5: =COUNTIFS(tblAbsences[Record ID],"<>",tblAbsences[Program],M5)
A6: =COUNTIF(tblAbsences[Record ID],"<>") | D6: =COUNTIFS(tblAbsences[Record ID],"<>",tblAbsences[Review Outcome],"Pending") | G6: =COUNTIFS(tblAbsences[Record ID],"<>",tblAbsences[Documentation Status],"Overdue") | J6: Withdrawn | K6: =COUNTIFS(tblAbsences[Record ID],"<>",tblAbsences[Review Outcome],J6) | M6: Manufacturing Basics | N6: =COUNTIFS(tblAbsences[Record ID],"<>",tblAbsences[Program],M6)
K7: ="" | M7: Community Leadership | N7: =COUNTIFS(tblAbsences[Record ID],"<>",tblAbsences[Program],M7)
A8: Due in 7 Days | D8: Excused Records | G8: Scheduled Hours Logged | K8: ="" | M8: Workforce Readiness | N8: =COUNTIFS(tblAbsences[Record ID],"<>",tblAbsences[Program],M8)
A9: =COUNTIFS(tblAbsences[Record ID],"<>",tblAbsences[Documentation Status],"Due in 7 Days") | D9: =COUNTIFS(tblAbsences[Record ID],"<>",tblAbsences[Review Outcome],"Excused") | G9: =IFERROR(SUM(tblAbsences[Scheduled Hours]),0) | K9: ="" | N9: =""
K10: ="" | N10: =""
A11: Operational Alerts | K11: ="" | N11: =""
A12: Records with Data Checks | B12: =COUNTIFS(tblAbsences[Record ID],"<>",tblAbsences[Data Check],"<>"&"") | K12: ="" | N12: =""
A13: Missing Documentation Due Date | B13: =COUNTIFS(tblAbsences[Record ID],"<>",tblAbsences[Documentation Status],"Missing Due Date") | K13: ="" | N13: =""
A14: Follow-Up Past Due | B14: =COUNTIFS(tblAbsences[Record ID],"<>",tblAbsences[Follow-Up Needed],"Yes",tblAbsences[Follow-Up Date],"<"&'Lists & Settings'!$B$2,tblAbsences[Follow-Up Date],"<>"&"") | K14: ="" | N14: =""
A15: Received Documentation Awaiting Review | B15: =COUNTIFS(tblAbsences[Record ID],"<>",tblAbsences[Documentation Status],"Received",tblAbsences[Review Outcome],"Pending") | K15: ="" | N15: =""
B16: ="" | K16: ="" | N16: =""
B17: ="" | K17: ="" | N17: =""
B18: ="" | K18: ="" | N18: =""
B19: ="" | K19: ="" | N19: =""
B20: ="" | K20: ="" | N20: =""
B21: ="" | K21: ="" | N21: =""
B22: ="" | K22: ="" | N22: =""
B23: ="" | K23: ="" | N23: =""
B24: ="" | K24: ="" | N24: =""
B25: ="" | K25: ="" | N25: =""
B26: ="" | K26: ="" | N26: =""
B27: ="" | K27: ="" | N27: =""
... B101: ="" | K101: ="" | N101: =""

Sheet Absence Log
A1: Record ID | B1: Participant ID | C1: Participant Name | D1: Program | E1: Cohort | F1: Attendance Event | G1: Absence Date | H1: Scheduled Hours | I1: Reported Date | J1: Documentation Required | K1: Documentation Category | L1: Documentation Due Date | M1: Documentation Received Date | N1: Reviewer | O1: Review Outcome | P1: Decision Date | Q1: Follow-Up Needed | R1: Follow-Up Date | S1: Notes | T1: Documentation Status | U1: Submission Timing | V1: Data Check
A2: EA-0001 | B2: P-1042 | C2: Avery L. | D2: Allied Health Foundations | E2: Fall 2026 A | F2: Class Session | G2: 46258 | H2: 4 | I2: 46258 | J2: Yes | K2: Provider Note | L2: 46265 | M2: 46263 | N2: Morgan Reed | O2: Excused | P2: 46266 | Q2: No | S2: Receipt date logged; no document details stored. | T2: =IF(COUNTA(A2:S2)=0,"",IF(J2="No","Not Required",IF(J2<>"Yes","Needs Review",IF(M2<>"","Received",IF(L2="","Missing Due Date",IF(L2<'Lists & Settings'!$B$2,"Overdue",IF(L2<='Lists & Settings'!$B$2+7,"Due in 7 Days","Awaiting Documentation"))))))) | U2: =IF(COUNTA(A2:S2)=0,"",IF(J2="No","Not Required",IF(M2="","Open",IF(L2="","Due Date Missing",IF(M2<=L2,"On Time","Late"))))) | V2: =IF(COUNTA(A2:S2)=0,"",IF(A2="","Missing Record ID",IF(COUNTIF($A$2:$A$201,A2)>1,"Duplicate Record ID",IF(B2="","Missing Participant ID",IF(D2="","Missing Program",IF(F2="","Missing Attendance Event",IF(G2="","Missing Absence Date",IF(G2>'Lists & Settings'!$B$2,"Absence Date Is in the Future",IF(J2="","Select Documentation Required",IF(AND(J2="Yes",OR(K2="",K2="Not Applicable")),"Select Documentation Category",IF(AND(J2="No",K2<>"",K2<>"Not Applicable"),"Category Conflicts with Not Required",IF(AND(I2<>"",I2<G2),"Reported Date Precedes Absence",IF(AND(L2<>"",L2<G2),"Due Date Precedes Absence",IF(AND(M2<>"",M2<G2),"Received Date Precedes Absence",IF(O2="","Select Review Outcome",IF(AND(OR(O2="Excused",O2="Not Excused",O2="Withdrawn"),P2=""),"Missing Decision Date",IF(AND(O2="Pending",P2<>""),"Pending Record Has Decision Date",IF(Q2="","Select Follow-Up Needed",IF(AND(Q2="Yes",R2=""),"Missing Follow-Up Date","")))))))))))))))))))
A3: EA-0002 | B3: P-1088 | C3: Jordan K. | D3: Business Skills Lab | E3: Fall 2026 B | F3: Skills Lab | G3: 46267 | H3: 3.5 | I3: 46268 | J3: Yes | K3: Transportation Disruption | L3: 46274 | N3: Casey Brooks | O3: Pending | Q3: Yes | R3: 46274 | S3: Reminder scheduled. | T3: =IF(COUNTA(A3:S3)=0,"",IF(J3="No","Not Required",IF(J3<>"Yes","Needs Review",IF(M3<>"","Received",IF(L3="","Missing Due Date",IF(L3<'Lists & Settings'!$B$2,"Overdue",IF(L3<='Lists & Settings'!$B$2+7,"Due in 7 Days","Awaiting Documentation"))))))) | U3: =IF(COUNTA(A3:S3)=0,"",IF(J3="No","Not Required",IF(M3="","Open",IF(L3="","Due Date Missing",IF(M3<=L3,"On Time","Late"))))) | V3: =IF(COUNTA(A3:S3)=0,"",IF(A3="","Missing Record ID",IF(COUNTIF($A$2:$A$201,A3)>1,"Duplicate Record ID",IF(B3="","Missing Participant ID",IF(D3="","Missing Program",IF(F3="","Missing Attendance Event",IF(G3="","Missing Absence Date",IF(G3>'Lists & Settings'!$B$2,"Absence Date Is in the Future",IF(J3="","Select Documentation Required",IF(AND(J3="Yes",OR(K3="",K3="Not Applicable")),"Select Documentation Category",IF(AND(J3="No",K3<>"",K3<>"Not Applicable"),"Category Conflicts with Not Required",IF(AND(I3<>"",I3<G3),"Reported Date Precedes Absence",IF(AND(L3<>"",L3<G3),"Due Date Precedes Absence",IF(AND(M3<>"",M3<G3),"Received Date Precedes Absence",IF(O3="","Select Review Outcome",IF(AND(OR(O3="Excused",O3="Not Excused",O3="Withdrawn"),P3=""),"Missing Decision Date",IF(AND(O3="Pending",P3<>""),"Pending Record Has Decision Date",IF(Q3="","Select Follow-Up Needed",IF(AND(Q3="Yes",R3=""),"Missing Follow-Up Date","")))))))))))))))))))
A4: EA-0003 | B4: P-1117 | C4: Riley M. | D4: Digital Support Academy | E4: Summer 2026 | F4: Assessment | G4: 46254 | H4: 2 | I4: 46255 | J4: Yes | K4: Court Notice | L4: 46261 | N4: Taylor Quinn | O4: Pending | Q4: Yes | R4: 46273 | S4: Awaiting documentation. | T4: =IF(COUNTA(A4:S4)=0,"",IF(J4="No","Not Required",IF(J4<>"Yes","Needs Review",IF(M4<>"","Received",IF(L4="","Missing Due Date",IF(L4<'Lists & Settings'!$B$2,"Overdue",IF(L4<='Lists & Settings'!$B$2+7,"Due in 7 Days","Awaiting Documentation"))))))) | U4: =IF(COUNTA(A4:S4)=0,"",IF(J4="No","Not Required",IF(M4="","Open",IF(L4="","Due Date Missing",IF(M4<=L4,"On Time","Late"))))) | V4: =IF(COUNTA(A4:S4)=0,"",IF(A4="","Missing Record ID",IF(COUNTIF($A$2:$A$201,A4)>1,"Duplicate Record ID",IF(B4="","Missing Participant ID",IF(D4="","Missing Program",IF(F4="","Missing Attendance Event",IF(G4="","Missing Absence Date",IF(G4>'Lists & Settings'!$B$2,"Absence Date Is in the Future",IF(J4="","Select Documentation Required",IF(AND(J4="Yes",OR(K4="",K4="Not Applicable")),"Select Documentation Category",IF(AND(J4="No",K4<>"",K4<>"Not Applicable"),"Category Conflicts with Not Required",IF(AND(I4<>"",I4<G4),"Reported Date Precedes Absence",IF(AND(L4<>"",L4<G4),"Due Date Precedes Absence",IF(AND(M4<>"",M4<G4),"Received Date Precedes Absence",IF(O4="","Select Review Outcome",IF(AND(OR(O4="Excused",O4="Not Excused",O4="Withdrawn"),P4=""),"Missing Decision Date",IF(AND(O4="Pending",P4<>""),"Pending Record Has Decision Date",IF(Q4="","Select Follow-Up Needed",IF(AND(Q4="Yes",R4=""),"Missing Follow-Up Date","")))))))))))))))))))
A5: EA-0004 | B5: P-1164 | C5: Cameron S. | D5: Manufacturing Basics | E5: Fall 2026 A | F5: Class Session | G5: 46269 | H5: 6 | I5: 46269 | J5: No | K5: Not Applicable | N5: Morgan Reed | O5: Excused | P5: 46270 | Q5: No | S5: Documentation not required under local procedure. | T5: =IF(COUNTA(A5:S5)=0,"",IF(J5="No","Not Required",IF(J5<>"Yes","Needs Review",IF(M5<>"","Received",IF(L5="","Missing Due Date",IF(L5<'Lists & Settings'!$B$2,"Overdue",IF(L5<='Lists & Settings'!$B$2+7,"Due in 7 Days","Awaiting Documentation"))))))) | U5: =IF(COUNTA(A5:S5)=0,"",IF(J5="No","Not Required",IF(M5="","Open",IF(L5="","Due Date Missing",IF(M5<=L5,"On Time","Late"))))) | V5: =IF(COUNTA(A5:S5)=0,"",IF(A5="","Missing Record ID",IF(COUNTIF($A$2:$A$201,A5)>1,"Duplicate Record ID",IF(B5="","Missing Participant ID",IF(D5="","Missing Program",IF(F5="","Missing Attendance Event",IF(G5="","Missing Absence Date",IF(G5>'Lists & Settings'!$B$2,"Absence Date Is in the Future",IF(J5="","Select Documentation Required",IF(AND(J5="Yes",OR(K5="",K5="Not Applicable")),"Select Documentation Category",IF(AND(J5="No",K5<>"",K5<>"Not Applicable"),"Category Conflicts with Not Required",IF(AND(I5<>"",I5<G5),"Reported Date Precedes Absence",IF(AND(L5<>"",L5<G5),"Due Date Precedes Absence",IF(AND(M5<>"",M5<G5),"Received Date Precedes Absence",IF(O5="","Select Review Outcome",IF(AND(OR(O5="Excused",O5="Not Excused",O5="Withdrawn"),P5=""),"Missing Decision Date",IF(AND(O5="Pending",P5<>""),"Pending Record Has Decision Date",IF(Q5="","Select Follow-Up Needed",IF(AND(Q5="Yes",R5=""),"Missing Follow-Up Date","")))))))))))))))))))
A6: EA-0005 | B6: P-1203 | C6: Skyler D. | D6: Community Leadership | E6: Fall 2026 | F6: Field Activity | G6: 46265 | H6: 5 | I6: 46266 | J6: Yes | K6: Bereavement Notice | L6: 46272 | M6: 46272 | N6: Casey Brooks | O6: Pending | Q6: No | S6: Documentation received; review pending. | T6: =IF(COUNTA(A6:S6)=0,"",IF(J6="No","Not Required",IF(J6<>"Yes","Needs Review",IF(M6<>"","Received",IF(L6="","Missing Due Date",IF(L6<'Lists & Settings'!$B$2,"Overdue",IF(L6<='Lists & Settings'!$B$2+7,"Due in 7 Days","Awaiting Documentation"))))))) | U6: =IF(COUNTA(A6:S6)=0,"",IF(J6="No","Not Required",IF(M6="","Open",IF(L6="","Due Date Missing",IF(M6<=L6,"On Time","Late"))))) | V6: =IF(COUNTA(A6:S6)=0,"",IF(A6="","Missing Record ID",IF(COUNTIF($A$2:$A$201,A6)>1,"Duplicate Record ID",IF(B6="","Missing Participant ID",IF(D6="","Missing Program",IF(F6="","Missing Attendance Event",IF(G6="","Missing Absence Date",IF(G6>'Lists & Settings'!$B$2,"Absence Date Is in the Future",IF(J6="","Select Documentation Required",IF(AND(J6="Yes",OR(K6="",K6="Not Applicable")),"Select Documentation Category",IF(AND(J6="No",K6<>"",K6<>"Not Applicable"),"Category Conflicts with Not Required",IF(AND(I6<>"",I6<G6),"Reported Date Precedes Absence",IF(AND(L6<>"",L6<G6),"Due Date Precedes Absence",IF(AND(M6<>"",M6<G6),"Received Date Precedes Absence",IF(O6="","Select Review Outcome",IF(AND(OR(O6="Excused",O6="Not Excused",O6="Withdrawn"),P6=""),"Missing Decision Date",IF(AND(O6="Pending",P6<>""),"Pending Record Has Decision Date",IF(Q6="","Select Follow-Up Needed",IF(AND(Q6="Yes",R6=""),"Missing Follow-Up Date","")))))))))))))))))))
A7: EA-0006 | B7: P-1246 | C7: Emerson T. | D7: Workforce Readiness | E7: Summer 2026 B | F7: Workshop | G7: 46218 | H7: 4 | I7: 46219 | J7: Yes | K7: Other Supporting Document | L7: 46225 | M7: 46228 | N7: Taylor Quinn | O7: Not Excused | P7: 46231 | Q7: No | S7: Submitted after the assigned due date. | T7: =IF(COUNTA(A7:S7)=0,"",IF(J7="No","Not Required",IF(J7<>"Yes","Needs Review",IF(M7<>"","Received",IF(L7="","Missing Due Date",IF(L7<'Lists & Settings'!$B$2,"Overdue",IF(L7<='Lists & Settings'!$B$2+7,"Due in 7 Days","Awaiting Documentation"))))))) | U7: =IF(COUNTA(A7:S7)=0,"",IF(J7="No","Not Required",IF(M7="","Open",IF(L7="","Due Date Missing",IF(M7<=L7,"On Time","Late"))))) | V7: =IF(COUNTA(A7:S7)=0,"",IF(A7="","Missing Record ID",IF(COUNTIF($A$2:$A$201,A7)>1,"Duplicate Record ID",IF(B7="","Missing Participant ID",IF(D7="","Missing Program",IF(F7="","Missing Attendance Event",IF(G7="","Missing Absence Date",IF(G7>'Lists & Settings'!$B$2,"Absence Date Is in the Future",IF(J7="","Select Documentation Required",IF(AND(J7="Yes",OR(K7="",K7="Not Applicable")),"Select Documentation Category",IF(AND(J7="No",K7<>"",K7<>"Not Applicable"),"Category Conflicts with Not Required",IF(AND(I7<>"",I7<G7),"Reported Date Precedes Absence",IF(AND(L7<>"",L7<G7),"Due Date Precedes Absence",IF(AND(M7<>"",M7<G7),"Received Date Precedes Absence",IF(O7="","Select Review Outcome",IF(AND(OR(O7="Excused",O7="Not Excused",O7="Withdrawn"),P7=""),"Missing Decision Date",IF(AND(O7="Pending",P7<>""),"Pending Record Has Decision Date",IF(Q7="","Select Follow-Up Needed",IF(AND(Q7="Yes",R7=""),"Missing Follow-Up Date","")))))))))))))))))))
A8: EA-0007 | B8: P-1291 | C8: Finley R. | D8: Allied Health Foundations | E8: Fall 2026 A | F8: Clinical Simulation | G8: 46272 | H8: 4.5 | I8: 46272 | J8: Yes | K8: Provider Note | L8: 46279 | N8: Morgan Reed | O8: Pending | Q8: Yes | R8: 46279 | S8: Follow-up aligned with due date. | T8: =IF(COUNTA(A8:S8)=0,"",IF(J8="No","Not Required",IF(J8<>"Yes","Needs Review",IF(M8<>"","Received",IF(L8="","Missing Due Date",IF(L8<'Lists & Settings'!$B$2,"Overdue",IF(L8<='Lists & Settings'!$B$2+7,"Due in 7 Days","Awaiting Documentation"))))))) | U8: =IF(COUNTA(A8:S8)=0,"",IF(J8="No","Not Required",IF(M8="","Open",IF(L8="","Due Date Missing",IF(M8<=L8,"On Time","Late"))))) | V8: =IF(COUNTA(A8:S8)=0,"",IF(A8="","Missing Record ID",IF(COUNTIF($A$2:$A$201,A8)>1,"Duplicate Record ID",IF(B8="","Missing Participant ID",IF(D8="","Missing Program",IF(F8="","Missing Attendance Event",IF(G8="","Missing Absence Date",IF(G8>'Lists & Settings'!$B$2,"Absence Date Is in the Future",IF(J8="","Select Documentation Required",IF(AND(J8="Yes",OR(K8="",K8="Not Applicable")),"Select Documentation Category",IF(AND(J8="No",K8<>"",K8<>"Not Applicable"),"Category Conflicts with Not Required",IF(AND(I8<>"",I8<G8),"Reported Date Precedes Absence",IF(AND(L8<>"",L8<G8),"Due Date Precedes Absence",IF(AND(M8<>"",M8<G8),"Received Date Precedes Absence",IF(O8="","Select Review Outcome",IF(AND(OR(O8="Excused",O8="Not Excused",O8="Withdrawn"),P8=""),"Missing Decision Date",IF(AND(O8="Pending",P8<>""),"Pending Record Has Decision Date",IF(Q8="","Select Follow-Up Needed",IF(AND(Q8="Yes",R8=""),"Missing Follow-Up Date","")))))))))))))))))))
A9: EA-0008 | B9: P-1325 | C9: Parker N. | D9: Business Skills Lab | E9: Fall 2026 B | F9: Class Session | G9: 46262 | H9: 3 | I9: 46262 | J9: No | K9: Not Applicable | N9: Casey Brooks | O9: Pending | Q9: No | S9: Internal review remains open. | T9: =IF(COUNTA(A9:S9)=0,"",IF(J9="No","Not Required",IF(J9<>"Yes","Needs Review",IF(M9<>"","Received",IF(L9="","Missing Due Date",IF(L9<'Lists & Settings'!$B$2,"Overdue",IF(L9<='Lists & Settings'!$B$2+7,"Due in 7 Days","Awaiting Documentation"))))))) | U9: =IF(COUNTA(A9:S9)=0,"",IF(J9="No","Not Required",IF(M9="","Open",IF(L9="","Due Date Missing",IF(M9<=L9,"On Time","Late"))))) | V9: =IF(COUNTA(A9:S9)=0,"",IF(A9="","Missing Record ID",IF(COUNTIF($A$2:$A$201,A9)>1,"Duplicate Record ID",IF(B9="","Missing Participant ID",IF(D9="","Missing Program",IF(F9="","Missing Attendance Event",IF(G9="","Missing Absence Date",IF(G9>'Lists & Settings'!$B$2,"Absence Date Is in the Future",IF(J9="","Select Documentation Required",IF(AND(J9="Yes",OR(K9="",K9="Not Applicable")),"Select Documentation Category",IF(AND(J9="No",K9<>"",K9<>"Not Applicable"),"Category Conflicts with Not Required",IF(AND(I9<>"",I9<G9),"Reported Date Precedes Absence",IF(AND(L9<>"",L9<G9),"Due Date Precedes Absence",IF(AND(M9<>"",M9<G9),"Received Date Precedes Absence",IF(O9="","Select Review Outcome",IF(AND(OR(O9="Excused",O9="Not Excused",O9="Withdrawn"),P9=""),"Missing Decision Date",IF(AND(O9="Pending",P9<>""),"Pending Record Has Decision Date",IF(Q9="","Select Follow-Up Needed",IF(AND(Q9="Yes",R9=""),"Missing Follow-Up Date","")))))))))))))))))))
A10: EA-0009 | B10: P-1362 | C10: Rowan H. | D10: Digital Support Academy | E10: Fall 2026 | F10: Skills Lab | G10: 46244 | H10: 5.5 | I10: 46245 | J10: Yes | K10: Military Duty Notice | N10: Taylor Quinn | O10: Pending | Q10: Yes | R10: 46275 | S10: Due date has not been assigned. | T10: =IF(COUNTA(A10:S10)=0,"",IF(J10="No","Not Required",IF(J10<>"Yes","Needs Review",IF(M10<>"","Received",IF(L10="","Missing Due Date",IF(L10<'Lists & Settings'!$B$2,"Overdue",IF(L10<='Lists & Settings'!$B$2+7,"Due in 7 Days","Awaiting Documentation"))))))) | U10: =IF(COUNTA(A10:S10)=0,"",IF(J10="No","Not Required",IF(M10="","Open",IF(L10="","Due Date Missing",IF(M10<=L10,"On Time","Late"))))) | V10: =IF(COUNTA(A10:S10)=0,"",IF(A10="","Missing Record ID",IF(COUNTIF($A$2:$A$201,A10)>1,"Duplicate Record ID",IF(B10="","Missing Participant ID",IF(D10="","Missing Program",IF(F10="","Missing Attendance Event",IF(G10="","Missing Absence Date",IF(G10>'Lists & Settings'!$B$2,"Absence Date Is in the Future",IF(J10="","Select Documentation Required",IF(AND(J10="Yes",OR(K10="",K10="Not Applicable")),"Select Documentation Category",IF(AND(J10="No",K10<>"",K10<>"Not Applicable"),"Category Conflicts with Not Required",IF(AND(I10<>"",I10<G10),"Reported Date Precedes Absence",IF(AND(L10<>"",L10<G10),"Due Date Precedes Absence",IF(AND(M10<>"",M10<G10),"Received Date Precedes Absence",IF(O10="","Select Review Outcome",IF(AND(OR(O10="Excused",O10="Not Excused",O10="Withdrawn"),P10=""),"Missing Decision Date",IF(AND(O10="Pending",P10<>""),"Pending Record Has Decision Date",IF(Q10="","Select Follow-Up Needed",IF(AND(Q10="Yes",R10=""),"Missing Follow-Up Date","")))))))))))))))))))
A11: EA-0010 | B11: P-1408 | C11: Reese W. | D11: Manufacturing Basics | E11: Fall 2026 A | F11: Assessment | G11: 46266 | H11: 2.5 | I11: 46266 | J11: Yes | K11: Other Supporting Document | L11: 46273 | M11: 46271 | N11: Morgan Reed | O11: Excused | P11: 46272 | Q11: No | S11: Documentation received before due date. | T11: =IF(COUNTA(A11:S11)=0,"",IF(J11="No","Not Required",IF(J11<>"Yes","Needs Review",IF(M11<>"","Received",IF(L11="","Missing Due Date",IF(L11<'Lists & Settings'!$B$2,"Overdue",IF(L11<='Lists & Settings'!$B$2+7,"Due in 7 Days","Awaiting Documentation"))))))) | U11: =IF(COUNTA(A11:S11)=0,"",IF(J11="No","Not Required",IF(M11="","Open",IF(L11="","Due Date Missing",IF(M11<=L11,"On Time","Late"))))) | V11: =IF(COUNTA(A11:S11)=0,"",IF(A11="","Missing Record ID",IF(COUNTIF($A$2:$A$201,A11)>1,"Duplicate Record ID",IF(B11="","Missing Participant ID",IF(D11="","Missing Program",IF(F11="","Missing Attendance Event",IF(G11="","Missing Absence Date",IF(G11>'Lists & Settings'!$B$2,"Absence Date Is in the Future",IF(J11="","Select Documentation Required",IF(AND(J11="Yes",OR(K11="",K11="Not Applicable")),"Select Documentation Category",IF(AND(J11="No",K11<>"",K11<>"Not Applicable"),"Category Conflicts with Not Required",IF(AND(I11<>"",I11<G11),"Reported Date Precedes Absence",IF(AND(L11<>"",L11<G11),"Due Date Precedes Absence",IF(AND(M11<>"",M11<G11),"Received Date Precedes Absence",IF(O11="","Select Review Outcome",IF(AND(OR(O11="Excused",O11="Not Excused",O11="Withdrawn"),P11=""),"Missing Decision Date",IF(AND(O11="Pending",P11<>""),"Pending Record Has Decision Date",IF(Q11="","Select Follow-Up Needed",IF(AND(Q11="Yes",R11=""),"Missing Follow-Up Date","")))))))))))))))))))
T12: =IF(COUNTA(A12:S12)=0,"",IF(J12="No","Not Required",IF(J12<>"Yes","Needs Review",IF(M12<>"","Received",IF(L12="","Missing Due Date",IF(L12<'Lists & Settings'!$B$2,"Overdue",IF(L12<='Lists & Settings'!$B$2+7,"Due in 7 Days","Awaiting Documentation"))))))) | U12: =IF(COUNTA(A12:S12)=0,"",IF(J12="No","Not Required",IF(M12="","Open",IF(L12="","Due Date Missing",IF(M12<=L12,"On Time","Late"))))) | V12: =IF(COUNTA(A12:S12)=0,"",IF(A12="","Missing Record ID",IF(COUNTIF($A$2:$A$201,A12)>1,"Duplicate Record ID",IF(B12="","Missing Participant ID",IF(D12="","Missing Program",IF(F12="","Missing Attendance Event",IF(G12="","Missing Absence Date",IF(G12>'Lists & Settings'!$B$2,"Absence Date Is in the Future",IF(J12="","Select Documentation Required",IF(AND(J12="Yes",OR(K12="",K12="Not Applicable")),"Select Documentation Category",IF(AND(J12="No",K12<>"",K12<>"Not Applicable"),"Category Conflicts with Not Required",IF(AND(I12<>"",I12<G12),"Reported Date Precedes Absence",IF(AND(L12<>"",L12<G12),"Due Date Precedes Absence",IF(AND(M12<>"",M12<G12),"Received Date Precedes Absence",IF(O12="","Select Review Outcome",IF(AND(OR(O12="Excused",O12="Not Excused",O12="Withdrawn"),P12=""),"Missing Decision Date",IF(AND(O12="Pending",P12<>""),"Pending Record Has Decision Date",IF(Q12="","Select Follow-Up Needed",IF(AND(Q12="Yes",R12=""),"Missing Follow-Up Date","")))))))))))))))))))
T13: =IF(COUNTA(A13:S13)=0,"",IF(J13="No","Not Required",IF(J13<>"Yes","Needs Review",IF(M13<>"","Received",IF(L13="","Missing Due Date",IF(L13<'Lists & Settings'!$B$2,"Overdue",IF(L13<='Lists & Settings'!$B$2+7,"Due in 7 Days","Awaiting Documentation"))))))) | U13: =IF(COUNTA(A13:S13)=0,"",IF(J13="No","Not Required",IF(M13="","Open",IF(L13="","Due Date Missing",IF(M13<=L13,"On Time","Late"))))) | V13: =IF(COUNTA(A13:S13)=0,"",IF(A13="","Missing Record ID",IF(COUNTIF($A$2:$A$201,A13)>1,"Duplicate Record ID",IF(B13="","Missing Participant ID",IF(D13="","Missing Program",IF(F13="","Missing Attendance Event",IF(G13="","Missing Absence Date",IF(G13>'Lists & Settings'!$B$2,"Absence Date Is in the Future",IF(J13="","Select Documentation Required",IF(AND(J13="Yes",OR(K13="",K13="Not Applicable")),"Select Documentation Category",IF(AND(J13="No",K13<>"",K13<>"Not Applicable"),"Category Conflicts with Not Required",IF(AND(I13<>"",I13<G13),"Reported Date Precedes Absence",IF(AND(L13<>"",L13<G13),"Due Date Precedes Absence",IF(AND(M13<>"",M13<G13),"Received Date Precedes Absence",IF(O13="","Select Review Outcome",IF(AND(OR(O13="Excused",O13="Not Excused",O13="Withdrawn"),P13=""),"Missing Decision Date",IF(AND(O13="Pending",P13<>""),"Pending Record Has Decision Date",IF(Q13="","Select Follow-Up Needed",IF(AND(Q13="Yes",R13=""),"Missing Follow-Up Date","")))))))))))))))))))
T14: =IF(COUNTA(A14:S14)=0,"",IF(J14="No","Not Required",IF(J14<>"Yes","Needs Review",IF(M14<>"","Received",IF(L14="","Missing Due Date",IF(L14<'Lists & Settings'!$B$2,"Overdue",IF(L14<='Lists & Settings'!$B$2+7,"Due in 7 Days","Awaiting Documentation"))))))) | U14: =IF(COUNTA(A14:S14)=0,"",IF(J14="No","Not Required",IF(M14="","Open",IF(L14="","Due Date Missing",IF(M14<=L14,"On Time","Late"))))) | V14: =IF(COUNTA(A14:S14)=0,"",IF(A14="","Missing Record ID",IF(COUNTIF($A$2:$A$201,A14)>1,"Duplicate Record ID",IF(B14="","Missing Participant ID",IF(D14="","Missing Program",IF(F14="","Missing Attendance Event",IF(G14="","Missing Absence Date",IF(G14>'Lists & Settings'!$B$2,"Absence Date Is in the Future",IF(J14="","Select Documentation Required",IF(AND(J14="Yes",OR(K14="",K14="Not Applicable")),"Select Documentation Category",IF(AND(J14="No",K14<>"",K14<>"Not Applicable"),"Category Conflicts with Not Required",IF(AND(I14<>"",I14<G14),"Reported Date Precedes Absence",IF(AND(L14<>"",L14<G14),"Due Date Precedes Absence",IF(AND(M14<>"",M14<G14),"Received Date Precedes Absence",IF(O14="","Select Review Outcome",IF(AND(OR(O14="Excused",O14="Not Excused",O14="Withdrawn"),P14=""),"Missing Decision Date",IF(AND(O14="Pending",P14<>""),"Pending Record Has Decision Date",IF(Q14="","Select Follow-Up Needed",IF(AND(Q14="Yes",R14=""),"Missing Follow-Up Date","")))))))))))))))))))
T15: =IF(COUNTA(A15:S15)=0,"",IF(J15="No","Not Required",IF(J15<>"Yes","Needs Review",IF(M15<>"","Received",IF(L15="","Missing Due Date",IF(L15<'Lists & Settings'!$B$2,"Overdue",IF(L15<='Lists & Settings'!$B$2+7,"Due in 7 Days","Awaiting Documentation"))))))) | U15: =IF(COUNTA(A15:S15)=0,"",IF(J15="No","Not Required",IF(M15="","Open",IF(L15="","Due Date Missing",IF(M15<=L15,"On Time","Late"))))) | V15: =IF(COUNTA(A15:S15)=0,"",IF(A15="","Missing Record ID",IF(COUNTIF($A$2:$A$201,A15)>1,"Duplicate Record ID",IF(B15="","Missing Participant ID",IF(D15="","Missing Program",IF(F15="","Missing Attendance Event",IF(G15="","Missing Absence Date",IF(G15>'Lists & Settings'!$B$2,"Absence Date Is in the Future",IF(J15="","Select Documentation Required",IF(AND(J15="Yes",OR(K15="",K15="Not Applicable")),"Select Documentation Category",IF(AND(J15="No",K15<>"",K15<>"Not Applicable"),"Category Conflicts with Not Required",IF(AND(I15<>"",I15<G15),"Reported Date Precedes Absence",IF(AND(L15<>"",L15<G15),"Due Date Precedes Absence",IF(AND(M15<>"",M15<G15),"Received Date Precedes Absence",IF(O15="","Select Review Outcome",IF(AND(OR(O15="Excused",O15="Not Excused",O15="Withdrawn"),P15=""),"Missing Decision Date",IF(AND(O15="Pending",P15<>""),"Pending Record Has Decision Date",IF(Q15="","Select Follow-Up Needed",IF(AND(Q15="Yes",R15=""),"Missing Follow-Up Date","")))))))))))))))))))
T16: =IF(COUNTA(A16:S16)=0,"",IF(J16="No","Not Required",IF(J16<>"Yes","Needs Review",IF(M16<>"","Received",IF(L16="","Missing Due Date",IF(L16<'Lists & Settings'!$B$2,"Overdue",IF(L16<='Lists & Settings'!$B$2+7,"Due in 7 Days","Awaiting Documentation"))))))) | U16: =IF(COUNTA(A16:S16)=0,"",IF(J16="No","Not Required",IF(M16="","Open",IF(L16="","Due Date Missing",IF(M16<=L16,"On Time","Late"))))) | V16: =IF(COUNTA(A16:S16)=0,"",IF(A16="","Missing Record ID",IF(COUNTIF($A$2:$A$201,A16)>1,"Duplicate Record ID",IF(B16="","Missing Participant ID",IF(D16="","Missing Program",IF(F16="","Missing Attendance Event",IF(G16="","Missing Absence Date",IF(G16>'Lists & Settings'!$B$2,"Absence Date Is in the Future",IF(J16="","Select Documentation Required",IF(AND(J16="Yes",OR(K16="",K16="Not Applicable")),"Select Documentation Category",IF(AND(J16="No",K16<>"",K16<>"Not Applicable"),"Category Conflicts with Not Required",IF(AND(I16<>"",I16<G16),"Reported Date Precedes Absence",IF(AND(L16<>"",L16<G16),"Due Date Precedes Absence",IF(AND(M16<>"",M16<G16),"Received Date Precedes Absence",IF(O16="","Select Review Outcome",IF(AND(OR(O16="Excused",O16="Not Excused",O16="Withdrawn"),P16=""),"Missing Decision Date",IF(AND(O16="Pending",P16<>""),"Pending Record Has Decision Date",IF(Q16="","Select Follow-Up Needed",IF(AND(Q16="Yes",R16=""),"Missing Follow-Up Date","")))))))))))))))))))
T17: =IF(COUNTA(A17:S17)=0,"",IF(J17="No","Not Required",IF(J17<>"Yes","Needs Review",IF(M17<>"","Received",IF(L17="","Missing Due Date",IF(L17<'Lists & Settings'!$B$2,"Overdue",IF(L17<='Lists & Settings'!$B$2+7,"Due in 7 Days","Awaiting Documentation"))))))) | U17: =IF(COUNTA(A17:S17)=0,"",IF(J17="No","Not Required",IF(M17="","Open",IF(L17="","Due Date Missing",IF(M17<=L17,"On Time","Late"))))) | V17: =IF(COUNTA(A17:S17)=0,"",IF(A17="","Missing Record ID",IF(COUNTIF($A$2:$A$201,A17)>1,"Duplicate Record ID",IF(B17="","Missing Participant ID",IF(D17="","Missing Program",IF(F17="","Missing Attendance Event",IF(G17="","Missing Absence Date",IF(G17>'Lists & Settings'!$B$2,"Absence Date Is in the Future",IF(J17="","Select Documentation Required",IF(AND(J17="Yes",OR(K17="",K17="Not Applicable")),"Select Documentation Category",IF(AND(J17="No",K17<>"",K17<>"Not Applicable"),"Category Conflicts with Not Required",IF(AND(I17<>"",I17<G17),"Reported Date Precedes Absence",IF(AND(L17<>"",L17<G17),"Due Date Precedes Absence",IF(AND(M17<>"",M17<G17),"Received Date Precedes Absence",IF(O17="","Select Review Outcome",IF(AND(OR(O17="Excused",O17="Not Excused",O17="Withdrawn"),P17=""),"Missing Decision Date",IF(AND(O17="Pending",P17<>""),"Pending Record Has Decision Date",IF(Q17="","Select Follow-Up Needed",IF(AND(Q17="Yes",R17=""),"Missing Follow-Up Date","")))))))))))))))))))
T18: =IF(COUNTA(A18:S18)=0,"",IF(J18="No","Not Required",IF(J18<>"Yes","Needs Review",IF(M18<>"","Received",IF(L18="","Missing Due Date",IF(L18<'Lists & Settings'!$B$2,"Overdue",IF(L18<='Lists & Settings'!$B$2+7,"Due in 7 Days","Awaiting Documentation"))))))) | U18: =IF(COUNTA(A18:S18)=0,"",IF(J18="No","Not Required",IF(M18="","Open",IF(L18="","Due Date Missing",IF(M18<=L18,"On Time","Late"))))) | V18: =IF(COUNTA(A18:S18)=0,"",IF(A18="","Missing Record ID",IF(COUNTIF($A$2:$A$201,A18)>1,"Duplicate Record ID",IF(B18="","Missing Participant ID",IF(D18="","Missing Program",IF(F18="","Missing Attendance Event",IF(G18="","Missing Absence Date",IF(G18>'Lists & Settings'!$B$2,"Absence Date Is in the Future",IF(J18="","Select Documentation Required",IF(AND(J18="Yes",OR(K18="",K18="Not Applicable")),"Select Documentation Category",IF(AND(J18="No",K18<>"",K18<>"Not Applicable"),"Category Conflicts with Not Required",IF(AND(I18<>"",I18<G18),"Reported Date Precedes Absence",IF(AND(L18<>"",L18<G18),"Due Date Precedes Absence",IF(AND(M18<>"",M18<G18),"Received Date Precedes Absence",IF(O18="","Select Review Outcome",IF(AND(OR(O18="Excused",O18="Not Excused",O18="Withdrawn"),P18=""),"Missing Decision Date",IF(AND(O18="Pending",P18<>""),"Pending Record Has Decision Date",IF(Q18="","Select Follow-Up Needed",IF(AND(Q18="Yes",R18=""),"Missing Follow-Up Date","")))))))))))))))))))
T19: =IF(COUNTA(A19:S19)=0,"",IF(J19="No","Not Required",IF(J19<>"Yes","Needs Review",IF(M19<>"","Received",IF(L19="","Missing Due Date",IF(L19<'Lists & Settings'!$B$2,"Overdue",IF(L19<='Lists & Settings'!$B$2+7,"Due in 7 Days","Awaiting Documentation"))))))) | U19: =IF(COUNTA(A19:S19)=0,"",IF(J19="No","Not Required",IF(M19="","Open",IF(L19="","Due Date Missing",IF(M19<=L19,"On Time","Late"))))) | V19: =IF(COUNTA(A19:S19)=0,"",IF(A19="","Missing Record ID",IF(COUNTIF($A$2:$A$201,A19)>1,"Duplicate Record ID",IF(B19="","Missing Participant ID",IF(D19="","Missing Program",IF(F19="","Missing Attendance Event",IF(G19="","Missing Absence Date",IF(G19>'Lists & Settings'!$B$2,"Absence Date Is in the Future",IF(J19="","Select Documentation Required",IF(AND(J19="Yes",OR(K19="",K19="Not Applicable")),"Select Documentation Category",IF(AND(J19="No",K19<>"",K19<>"Not Applicable"),"Category Conflicts with Not Required",IF(AND(I19<>"",I19<G19),"Reported Date Precedes Absence",IF(AND(L19<>"",L19<G19),"Due Date Precedes Absence",IF(AND(M19<>"",M19<G19),"Received Date Precedes Absence",IF(O19="","Select Review Outcome",IF(AND(OR(O19="Excused",O19="Not Excused",O19="Withdrawn"),P19=""),"Missing Decision Date",IF(AND(O19="Pending",P19<>""),"Pending Record Has Decision Date",IF(Q19="","Select Follow-Up Needed",IF(AND(Q19="Yes",R19=""),"Missing Follow-Up Date","")))))))))))))))))))
T20: =IF(COUNTA(A20:S20)=0,"",IF(J20="No","Not Required",IF(J20<>"Yes","Needs Review",IF(M20<>"","Received",IF(L20="","Missing Due Date",IF(L20<'Lists & Settings'!$B$2,"Overdue",IF(L20<='Lists & Settings'!$B$2+7,"Due in 7 Days","Awaiting Documentation"))))))) | U20: =IF(COUNTA(A20:S20)=0,"",IF(J20="No","Not Required",IF(M20="","Open",IF(L20="","Due Date Missing",IF(M20<=L20,"On Time","Late"))))) | V20: =IF(COUNTA(A20:S20)=0,"",IF(A20="","Missing Record ID",IF(COUNTIF($A$2:$A$201,A20)>1,"Duplicate Record ID",IF(B20="","Missing Participant ID",IF(D20="","Missing Program",IF(F20="","Missing Attendance Event",IF(G20="","Missing Absence Date",IF(G20>'Lists & Settings'!$B$2,"Absence Date Is in the Future",IF(J20="","Select Documentation Required",IF(AND(J20="Yes",OR(K20="",K20="Not Applicable")),"Select Documentation Category",IF(AND(J20="No",K20<>"",K20<>"Not Applicable"),"Category Conflicts with Not Required",IF(AND(I20<>"",I20<G20),"Reported Date Precedes Absence",IF(AND(L20<>"",L20<G20),"Due Date Precedes Absence",IF(AND(M20<>"",M20<G20),"Received Date Precedes Absence",IF(O20="","Select Review Outcome",IF(AND(OR(O20="Excused",O20="Not Excused",O20="Withdrawn"),P20=""),"Missing Decision Date",IF(AND(O20="Pending",P20<>""),"Pending Record Has Decision Date",IF(Q20="","Select Follow-Up Needed",IF(AND(Q20="Yes",R20=""),"Missing Follow-Up Date","")))))))))))))))))))
T21: =IF(COUNTA(A21:S21)=0,"",IF(J21="No","Not Required",IF(J21<>"Yes","Needs Review",IF(M21<>"","Received",IF(L21="","Missing Due Date",IF(L21<'Lists & Settings'!$B$2,"Overdue",IF(L21<='Lists & Settings'!$B$2+7,"Due in 7 Days","Awaiting Documentation"))))))) | U21: =IF(COUNTA(A21:S21)=0,"",IF(J21="No","Not Required",IF(M21="","Open",IF(L21="","Due Date Missing",IF(M21<=L21,"On Time","Late"))))) | V21: =IF(COUNTA(A21:S21)=0,"",IF(A21="","Missing Record ID",IF(COUNTIF($A$2:$A$201,A21)>1,"Duplicate Record ID",IF(B21="","Missing Participant ID",IF(D21="","Missing Program",IF(F21="","Missing Attendance Event",IF(G21="","Missing Absence Date",IF(G21>'Lists & Settings'!$B$2,"Absence Date Is in the Future",IF(J21="","Select Documentation Required",IF(AND(J21="Yes",OR(K21="",K21="Not Applicable")),"Select Documentation Category",IF(AND(J21="No",K21<>"",K21<>"Not Applicable"),"Category Conflicts with Not Required",IF(AND(I21<>"",I21<G21),"Reported Date Precedes Absence",IF(AND(L21<>"",L21<G21),"Due Date Precedes Absence",IF(AND(M21<>"",M21<G21),"Received Date Precedes Absence",IF(O21="","Select Review Outcome",IF(AND(OR(O21="Excused",O21="Not Excused",O21="Withdrawn"),P21=""),"Missing Decision Date",IF(AND(O21="Pending",P21<>""),"Pending Record Has Decision Date",IF(Q21="","Select Follow-Up Needed",IF(AND(Q21="Yes",R21=""),"Missing Follow-Up Date","")))))))))))))))))))
T22: =IF(COUNTA(A22:S22)=0,"",IF(J22="No","Not Required",IF(J22<>"Yes","Needs Review",IF(M22<>"","Received",IF(L22="","Missing Due Date",IF(L22<'Lists & Settings'!$B$2,"Overdue",IF(L22<='Lists & Settings'!$B$2+7,"Due in 7 Days","Awaiting Documentation"))))))) | U22: =IF(COUNTA(A22:S22)=0,"",IF(J22="No","Not Required",IF(M22="","Open",IF(L22="","Due Date Missing",IF(M22<=L22,"On Time","Late"))))) | V22: =IF(COUNTA(A22:S22)=0,"",IF(A22="","Missing Record ID",IF(COUNTIF($A$2:$A$201,A22)>1,"Duplicate Record ID",IF(B22="","Missing Participant ID",IF(D22="","Missing Program",IF(F22="","Missing Attendance Event",IF(G22="","Missing Absence Date",IF(G22>'Lists & Settings'!$B$2,"Absence Date Is in the Future",IF(J22="","Select Documentation Required",IF(AND(J22="Yes",OR(K22="",K22="Not Applicable")),"Select Documentation Category",IF(AND(J22="No",K22<>"",K22<>"Not Applicable"),"Category Conflicts with Not Required",IF(AND(I22<>"",I22<G22),"Reported Date Precedes Absence",IF(AND(L22<>"",L22<G22),"Due Date Precedes Absence",IF(AND(M22<>"",M22<G22),"Received Date Precedes Absence",IF(O22="","Select Review Outcome",IF(AND(OR(O22="Excused",O22="Not Excused",O22="Withdrawn"),P22=""),"Missing Decision Date",IF(AND(O22="Pending",P22<>""),"Pending Record Has Decision Date",IF(Q22="","Select Follow-Up Needed",IF(AND(Q22="Yes",R22=""),"Missing Follow-Up Date","")))))))))))))))))))
T23: =IF(COUNTA(A23:S23)=0,"",IF(J23="No","Not Required",IF(J23<>"Yes","Needs Review",IF(M23<>"","Received",IF(L23="","Missing Due Date",IF(L23<'Lists & Settings'!$B$2,"Overdue",IF(L23<='Lists & Settings'!$B$2+7,"Due in 7 Days","Awaiting Documentation"))))))) | U23: =IF(COUNTA(A23:S23)=0,"",IF(J23="No","Not Required",IF(M23="","Open",IF(L23="","Due Date Missing",IF(M23<=L23,"On Time","Late"))))) | V23: =IF(COUNTA(A23:S23)=0,"",IF(A23="","Missing Record ID",IF(COUNTIF($A$2:$A$201,A23)>1,"Duplicate Record ID",IF(B23="","Missing Participant ID",IF(D23="","Missing Program",IF(F23="","Missing Attendance Event",IF(G23="","Missing Absence Date",IF(G23>'Lists & Settings'!$B$2,"Absence Date Is in the Future",IF(J23="","Select Documentation Required",IF(AND(J23="Yes",OR(K23="",K23="Not Applicable")),"Select Documentation Category",IF(AND(J23="No",K23<>"",K23<>"Not Applicable"),"Category Conflicts with Not Required",IF(AND(I23<>"",I23<G23),"Reported Date Precedes Absence",IF(AND(L23<>"",L23<G23),"Due Date Precedes Absence",IF(AND(M23<>"",M23<G23),"Received Date Precedes Absence",IF(O23="","Select Review Outcome",IF(AND(OR(O23="Excused",O23="Not Excused",O23="Withdrawn"),P23=""),"Missing Decision Date",IF(AND(O23="Pending",P23<>""),"Pending Record Has Decision Date",IF(Q23="","Select Follow-Up Needed",IF(AND(Q23="Yes",R23=""),"Missing Follow-Up Date","")))))))))))))))))))
... T201: =IF(COUNTA(A201:S201)=0,"",IF(J201="No","Not Required",IF(J201<>"Yes","Needs Review",IF(M201<>"","Received",IF(L201="","Missing Due Date",IF(L201<'Lists & Settings'!$B$2,"Overdue",IF(L201<='Lists & Settings'!$B$2+7,"Due in 7 Days","Awaiting Documentation"))))))) | U201: =IF(COUNTA(A201:S201)=0,"",IF(J201="No","Not Required",IF(M201="","Open",IF(L201="","Due Date Missing",IF(M201<=L201,"On Time","Late"))))) | V201: =IF(COUNTA(A201:S201)=0,"",IF(A201="","Missing Record ID",IF(COUNTIF($A$2:$A$201,A201)>1,"Duplicate Record ID",IF(B201="","Missing Participant ID",IF(D201="","Missing Program",IF(F201="","Missing Attendance Event",IF(G201="","Missing Absence Date",IF(G201>'Lists & Settings'!$B$2,"Absence Date Is in the Future",IF(J201="","Select Documentation Required",IF(AND(J201="Yes",OR(K201="",K201="Not Applicable")),"Select Documentation Category",IF(AND(J201="No",K201<>"",K201<>"Not Applicable"),"Category Conflicts with Not Required",IF(AND(I201<>"",I201<G201),"Reported Date Precedes Absence",IF(AND(L201<>"",L201<G201),"Due Date Precedes Absence",IF(AND(M201<>"",M201<G201),"Received Date Precedes Absence",IF(O201="","Select Review Outcome",IF(AND(OR(O201="Excused",O201="Not Excused",O201="Withdrawn"),P201=""),"Missing Decision Date",IF(AND(O201="Pending",P201<>""),"Pending Record Has Decision Date",IF(Q201="","Select Follow-Up Needed",IF(AND(Q201="Yes",R201=""),"Missing Follow-Up Date","")))))))))))))))))))

Sheet Lists & Settings
A1: Workbook Settings
A2: As of Date | B2: 46272
A3: Due Soon Window | B3: 7 | C3: calendar days
A5: The As of Date controls overdue and upcoming deadline alerts. Update it when reviewing the workbook.
A8: Programs | C8: Attendance Events | E8: Documentation Categories | G8: Reviewers | I8: Review Outcomes | K8: Yes or No
A9: Allied Health Foundations | C9: Class Session | E9: Provider Note | G9: Morgan Reed | I9: Pending | K9: Yes
A10: Business Skills Lab | C10: Skills Lab | E10: Court Notice | G10: Casey Brooks | I10: Excused | K10: No
A11: Digital Support Academy | C11: Workshop | E11: Bereavement Notice | G11: Taylor Quinn | I11: Not Excused
A12: Manufacturing Basics | C12: Assessment | E12: Military Duty Notice | G12: Devon Lane | I12: Withdrawn
A13: Community Leadership | C13: Field Activity | E13: Transportation Disruption
A14: Workforce Readiness | C14: Clinical Simulation | E14: Other Supporting Document | G14: Reviewer names in this template are fictional. Replace them with appropriate role names or staff names if needed.
C15: Orientation | E15: Not Applicable

Sheet Instructions
A1: Excused Absence Documentation Log — Instructions
A2: Section 1: Before You Begin
A3: 1. Open Lists & Settings and confirm the As of Date.
A4: 2. Review the available program, event, documentation, reviewer, and outcome lists.
A5: 3. Replace fictional reviewer names if the workbook will be used operationally.
A6: Section 2: Add an Absence Record
A7: 1. Go to Absence Log.
A8: 2. Use one row for each absence event.
A9: 3. Enter a unique Record ID and an internal Participant ID.
A10: 4. Enter the absence date, program, event, and scheduled hours.
A11: 5. Select whether documentation is required.
A12: 6. If documentation is required, select a category and enter the due date.
... A27: The Absence Log contains 200 prepared rows. Unused rows should remain blank. Calculated columns may contain formulas even when the rest of the row is empty.
