Workbook

Sheet Dashboard
A1: Master Course Schedule Planner
A2: Schedule status, capacity, room conflicts, and instructor conflicts.
A4: Selected Term | B4: All Terms | D4: Section Status | E4: All Statuses
A7: Active Sections | C7: Confirmed Sections | E7: Expected Enrollment | G7: Average Room Utilization
A8: =SUMPRODUCT(--('Course Schedule'!$A$6:$A$155<>""),--((($E$4="Canceled")+('Course Schedule'!$G$6:$G$155<>"Canceled"))>0),--((($B$4="All Terms")+('Course Schedule'!$B$6:$B$155=$B$4))>0),--((($E$4="All Statuses")+('Course Schedule'!$G$6:$G$155=$E$4))>0)) | C8: =SUMPRODUCT(--('Course Schedule'!$A$6:$A$155<>""),--('Course Schedule'!$G$6:$G$155="Confirmed"),--((($B$4="All Terms")+('Course Schedule'!$B$6:$B$155=$B$4))>0),--((($E$4="All Statuses")+('Course Schedule'!$G$6:$G$155=$E$4))>0)) | E8: =SUMPRODUCT(N('Course Schedule'!$V$6:$V$155),--('Course Schedule'!$A$6:$A$155<>""),--((($E$4="Canceled")+('Course Schedule'!$G$6:$G$155<>"Canceled"))>0),--((($B$4="All Terms")+('Course Schedule'!$B$6:$B$155=$B$4))>0),--((($E$4="All Statuses")+('Course Schedule'!$G$6:$G$155=$E$4))>0)) | G8: =IFERROR(AVERAGE('Course Schedule'!$Z$6:$Z$155),0)
A10: Room Conflicts | C10: Instructor Conflicts | E10: Capacity Alerts | G10: Sections Requiring Review
A11: =SUMPRODUCT(--('Course Schedule'!$A$6:$A$155<>""),--('Course Schedule'!$AA$6:$AA$155="Conflict"),--((($B$4="All Terms")+('Course Schedule'!$B$6:$B$155=$B$4))>0),--((($E$4="All Statuses")+('Course Schedule'!$G$6:$G$155=$E$4))>0)) | C11: =SUMPRODUCT(--('Course Schedule'!$A$6:$A$155<>""),--('Course Schedule'!$AB$6:$AB$155="Conflict"),--((($B$4="All Terms")+('Course Schedule'!$B$6:$B$155=$B$4))>0),--((($E$4="All Statuses")+('Course Schedule'!$G$6:$G$155=$E$4))>0)) | E11: =SUMPRODUCT(--('Course Schedule'!$A$6:$A$155<>""),--('Course Schedule'!$AC$6:$AC$155="Over Capacity"),--((($B$4="All Terms")+('Course Schedule'!$B$6:$B$155=$B$4))>0),--((($E$4="All Statuses")+('Course Schedule'!$G$6:$G$155=$E$4))>0)) | G11: =SUMPRODUCT(--('Course Schedule'!$A$6:$A$155<>""),--('Course Schedule'!$AD$6:$AD$155<>""),--('Course Schedule'!$AD$6:$AD$155<>"Ready"),--((($B$4="All Terms")+('Course Schedule'!$B$6:$B$155=$B$4))>0),--((($E$4="All Statuses")+('Course Schedule'!$G$6:$G$155=$E$4))>0))
A15: Section Status | B15: Section Count
A16: Draft | B16: =COUNTIF('Course Schedule'!$G$6:$G$155,$A16)
A17: Confirmed | B17: =COUNTIF('Course Schedule'!$G$6:$G$155,$A17)
A18: Canceled | B18: =COUNTIF('Course Schedule'!$G$6:$G$155,$A18)
A22: Meeting Day | B22: Active Sections
A23: Monday | B23: =COUNTIF('Course Schedule'!$M$6:$M$155,"Yes")
A24: Tuesday | B24: =COUNTIF('Course Schedule'!$N$6:$N$155,"Yes")
A25: Wednesday | B25: =COUNTIF('Course Schedule'!$O$6:$O$155,"Yes")
A26: Thursday | B26: =COUNTIF('Course Schedule'!$P$6:$P$155,"Yes")
A27: Friday | B27: =COUNTIF('Course Schedule'!$Q$6:$Q$155,"Yes")
A28: Saturday | B28: =COUNTIF('Course Schedule'!$R$6:$R$155,"Yes")
A29: Sunday | B29: =COUNTIF('Course Schedule'!$S$6:$S$155,"Yes")
B30: =""
B31: =""
B32: =""
B33: =""
B34: =""
B35: =""
B36: =""
B37: =""
B38: =""
B39: =""
B40: =""
B41: =""
... B45: =""
A46: =IF(AND($A$11=0,$C$11=0,$E$11=0,$G$11=0),"No schedule alerts for the selected filters.","Review the highlighted schedule rows before finalizing assignments.") | B46: =""
A47: ="" | B47: =""
A48: ="" | B48: =""
A49: ="" | B49: =""
A50: ="" | B50: =""
A51: ="" | B51: =""
A52: ="" | B52: =""
A53: ="" | B53: =""
...

Sheet Course Schedule
A1: Course Schedule
A2: Enter one row per scheduled section. Use the weekday columns to indicate recurring meeting days.
A5: Section ID | B5: Term | C5: Department | D5: Course Code | E5: Course Title | F5: Section | G5: Status | H5: Delivery Mode | I5: Start Date | J5: End Date | K5: Start Time | L5: End Time | M5: Monday | N5: Tuesday | O5: Wednesday | P5: Thursday | Q5: Friday | R5: Saturday | S5: Sunday | T5: Room ID | U5: Instructor ID | V5: Expected Enrollment | W5: Duration Hours | X5: Weekly Contact Hours | Y5: Room Capacity | Z5: Room Utilization | AA5: Room Conflict | AB5: Instructor Conflict | AC5: Capacity Alert | AD5: Schedule Alert
A6: SEC-2701 | B6: Spring 2027 | C6: Business | D6: BUS 210 | E6: Foundations of Project Planning | F6: 01 | G6: Confirmed | H6: In Person | I6: 46398 | J6: 46514 | K6: 0.375 | L6: 0.42708333 | M6: Yes | O6: Yes | T6: RM-A101 | U6: INS-1001 | V6: 26 | W6: =IF(OR($K6="",$L6=""),"",ROUND(MOD($L6-$K6,1)*24,2)) | X6: =IF($W6="","",$W6*COUNTIF($M6:$S6,"Yes")) | Y6: =IF($T6="","",IFERROR(INDEX(Rooms!$D$6:$D$101,MATCH($T6,Rooms!$A$6:$A$101,0)),"")) | Z6: =IF(OR($V6="",$Y6="",$Y6=0,$G6="Canceled"),"",$V6/$Y6) | AA6: =IF(OR($A6="",$G6="Canceled",$H6="Online",$T6=""),"",IF(SUMPRODUCT(--($A$6:$A$155<>""),--($G$6:$G$155<>"Canceled"),--($I$6:$I$155<=$J6),--($J$6:$J$155>=$I6),--($K$6:$K$155<$L6),--($L$6:$L$155>$K6),--((($M$6:$M$155="Yes")*($M6="Yes")+($N$6:$N$155="Yes")*($N6="Yes")+($O$6:$O$155="Yes")*($O6="Yes")+($P$6:$P$155="Yes")*($P6="Yes")+($Q$6:$Q$155="Yes")*($Q6="Yes")+($R$6:$R$155="Yes")*($R6="Yes")+($S$6:$S$155="Yes")*($S6="Yes"))>0),--($T$6:$T$155=$T6))>1,"Conflict","Clear")) | AB6: =IF(OR($A6="",$G6="Canceled",$U6=""),"",IF(SUMPRODUCT(--($A$6:$A$155<>""),--($G$6:$G$155<>"Canceled"),--($I$6:$I$155<=$J6),--($J$6:$J$155>=$I6),--($K$6:$K$155<$L6),--($L$6:$L$155>$K6),--((($M$6:$M$155="Yes")*($M6="Yes")+($N$6:$N$155="Yes")*($N6="Yes")+($O$6:$O$155="Yes")*($O6="Yes")+($P$6:$P$155="Yes")*($P6="Yes")+($Q$6:$Q$155="Yes")*($Q6="Yes")+($R$6:$R$155="Yes")*($R6="Yes")+($S$6:$S$155="Yes")*($S6="Yes"))>0),--($U$6:$U$155=$U6))>1,"Conflict","Clear")) | AC6: =IF($A6="","",IF($G6="Canceled","Not Applicable",IF($H6="Online","Not Applicable",IF(OR($V6="",$Y6=""),"",IF($V6>$Y6,"Over Capacity","Within Capacity"))))) | AD6: =IF($A6="","",IF(OR($B6="",$C6="",$D6="",$E6="",$F6="",$G6="",$H6="",$I6="",$J6="",$K6="",$L6="",$U6=""),"Missing Required Fields",IF(COUNTIF($M6:$S6,"Yes")=0,"Select a Meeting Day",IF(AND(OR($H6="In Person",$H6="Hybrid"),$T6=""),"Room Required",IF($AA6="Conflict","Room Conflict",IF($AB6="Conflict","Instructor Conflict",IF($AC6="Over Capacity","Over Capacity",IF($G6="Canceled","Canceled","Ready"))))))))
A7: SEC-2702 | B7: Spring 2027 | C7: Business | D7: BUS 235 | E7: Business Data Basics | F7: 01 | G7: Draft | H7: In Person | I7: 46398 | J7: 46514 | K7: 0.41666667 | L7: 0.46875 | M7: Yes | O7: Yes | T7: RM-A101 | U7: INS-1002 | V7: 22 | W7: =IF(OR($K7="",$L7=""),"",ROUND(MOD($L7-$K7,1)*24,2)) | X7: =IF($W7="","",$W7*COUNTIF($M7:$S7,"Yes")) | Y7: =IF($T7="","",IFERROR(INDEX(Rooms!$D$6:$D$101,MATCH($T7,Rooms!$A$6:$A$101,0)),"")) | Z7: =IF(OR($V7="",$Y7="",$Y7=0,$G7="Canceled"),"",$V7/$Y7) | AA7: =IF(OR($A7="",$G7="Canceled",$H7="Online",$T7=""),"",IF(SUMPRODUCT(--($A$6:$A$155<>""),--($G$6:$G$155<>"Canceled"),--($I$6:$I$155<=$J7),--($J$6:$J$155>=$I7),--($K$6:$K$155<$L7),--($L$6:$L$155>$K7),--((($M$6:$M$155="Yes")*($M7="Yes")+($N$6:$N$155="Yes")*($N7="Yes")+($O$6:$O$155="Yes")*($O7="Yes")+($P$6:$P$155="Yes")*($P7="Yes")+($Q$6:$Q$155="Yes")*($Q7="Yes")+($R$6:$R$155="Yes")*($R7="Yes")+($S$6:$S$155="Yes")*($S7="Yes"))>0),--($T$6:$T$155=$T7))>1,"Conflict","Clear")) | AB7: =IF(OR($A7="",$G7="Canceled",$U7=""),"",IF(SUMPRODUCT(--($A$6:$A$155<>""),--($G$6:$G$155<>"Canceled"),--($I$6:$I$155<=$J7),--($J$6:$J$155>=$I7),--($K$6:$K$155<$L7),--($L$6:$L$155>$K7),--((($M$6:$M$155="Yes")*($M7="Yes")+($N$6:$N$155="Yes")*($N7="Yes")+($O$6:$O$155="Yes")*($O7="Yes")+($P$6:$P$155="Yes")*($P7="Yes")+($Q$6:$Q$155="Yes")*($Q7="Yes")+($R$6:$R$155="Yes")*($R7="Yes")+($S$6:$S$155="Yes")*($S7="Yes"))>0),--($U$6:$U$155=$U7))>1,"Conflict","Clear")) | AC7: =IF($A7="","",IF($G7="Canceled","Not Applicable",IF($H7="Online","Not Applicable",IF(OR($V7="",$Y7=""),"",IF($V7>$Y7,"Over Capacity","Within Capacity"))))) | AD7: =IF($A7="","",IF(OR($B7="",$C7="",$D7="",$E7="",$F7="",$G7="",$H7="",$I7="",$J7="",$K7="",$L7="",$U7=""),"Missing Required Fields",IF(COUNTIF($M7:$S7,"Yes")=0,"Select a Meeting Day",IF(AND(OR($H7="In Person",$H7="Hybrid"),$T7=""),"Room Required",IF($AA7="Conflict","Room Conflict",IF($AB7="Conflict","Instructor Conflict",IF($AC7="Over Capacity","Over Capacity",IF($G7="Canceled","Canceled","Ready"))))))))
A8: SEC-2703 | B8: Spring 2027 | C8: Information Technology | D8: IT 140 | E8: Support Desk Essentials | F8: 01 | G8: Confirmed | H8: In Person | I8: 46399 | J8: 46513 | K8: 0.54166667 | L8: 0.60416667 | N8: Yes | P8: Yes | T8: RM-B204 | U8: INS-1003 | V8: 18 | W8: =IF(OR($K8="",$L8=""),"",ROUND(MOD($L8-$K8,1)*24,2)) | X8: =IF($W8="","",$W8*COUNTIF($M8:$S8,"Yes")) | Y8: =IF($T8="","",IFERROR(INDEX(Rooms!$D$6:$D$101,MATCH($T8,Rooms!$A$6:$A$101,0)),"")) | Z8: =IF(OR($V8="",$Y8="",$Y8=0,$G8="Canceled"),"",$V8/$Y8) | AA8: =IF(OR($A8="",$G8="Canceled",$H8="Online",$T8=""),"",IF(SUMPRODUCT(--($A$6:$A$155<>""),--($G$6:$G$155<>"Canceled"),--($I$6:$I$155<=$J8),--($J$6:$J$155>=$I8),--($K$6:$K$155<$L8),--($L$6:$L$155>$K8),--((($M$6:$M$155="Yes")*($M8="Yes")+($N$6:$N$155="Yes")*($N8="Yes")+($O$6:$O$155="Yes")*($O8="Yes")+($P$6:$P$155="Yes")*($P8="Yes")+($Q$6:$Q$155="Yes")*($Q8="Yes")+($R$6:$R$155="Yes")*($R8="Yes")+($S$6:$S$155="Yes")*($S8="Yes"))>0),--($T$6:$T$155=$T8))>1,"Conflict","Clear")) | AB8: =IF(OR($A8="",$G8="Canceled",$U8=""),"",IF(SUMPRODUCT(--($A$6:$A$155<>""),--($G$6:$G$155<>"Canceled"),--($I$6:$I$155<=$J8),--($J$6:$J$155>=$I8),--($K$6:$K$155<$L8),--($L$6:$L$155>$K8),--((($M$6:$M$155="Yes")*($M8="Yes")+($N$6:$N$155="Yes")*($N8="Yes")+($O$6:$O$155="Yes")*($O8="Yes")+($P$6:$P$155="Yes")*($P8="Yes")+($Q$6:$Q$155="Yes")*($Q8="Yes")+($R$6:$R$155="Yes")*($R8="Yes")+($S$6:$S$155="Yes")*($S8="Yes"))>0),--($U$6:$U$155=$U8))>1,"Conflict","Clear")) | AC8: =IF($A8="","",IF($G8="Canceled","Not Applicable",IF($H8="Online","Not Applicable",IF(OR($V8="",$Y8=""),"",IF($V8>$Y8,"Over Capacity","Within Capacity"))))) | AD8: =IF($A8="","",IF(OR($B8="",$C8="",$D8="",$E8="",$F8="",$G8="",$H8="",$I8="",$J8="",$K8="",$L8="",$U8=""),"Missing Required Fields",IF(COUNTIF($M8:$S8,"Yes")=0,"Select a Meeting Day",IF(AND(OR($H8="In Person",$H8="Hybrid"),$T8=""),"Room Required",IF($AA8="Conflict","Room Conflict",IF($AB8="Conflict","Instructor Conflict",IF($AC8="Over Capacity","Over Capacity",IF($G8="Canceled","Canceled","Ready"))))))))
A9: SEC-2704 | B9: Spring 2027 | C9: Information Technology | D9: IT 245 | E9: Network Operations Lab | F9: 01 | G9: Draft | H9: Hybrid | I9: 46399 | J9: 46513 | K9: 0.58333333 | L9: 0.64583333 | N9: Yes | P9: Yes | T9: RM-B204 | U9: INS-1004 | V9: 24 | W9: =IF(OR($K9="",$L9=""),"",ROUND(MOD($L9-$K9,1)*24,2)) | X9: =IF($W9="","",$W9*COUNTIF($M9:$S9,"Yes")) | Y9: =IF($T9="","",IFERROR(INDEX(Rooms!$D$6:$D$101,MATCH($T9,Rooms!$A$6:$A$101,0)),"")) | Z9: =IF(OR($V9="",$Y9="",$Y9=0,$G9="Canceled"),"",$V9/$Y9) | AA9: =IF(OR($A9="",$G9="Canceled",$H9="Online",$T9=""),"",IF(SUMPRODUCT(--($A$6:$A$155<>""),--($G$6:$G$155<>"Canceled"),--($I$6:$I$155<=$J9),--($J$6:$J$155>=$I9),--($K$6:$K$155<$L9),--($L$6:$L$155>$K9),--((($M$6:$M$155="Yes")*($M9="Yes")+($N$6:$N$155="Yes")*($N9="Yes")+($O$6:$O$155="Yes")*($O9="Yes")+($P$6:$P$155="Yes")*($P9="Yes")+($Q$6:$Q$155="Yes")*($Q9="Yes")+($R$6:$R$155="Yes")*($R9="Yes")+($S$6:$S$155="Yes")*($S9="Yes"))>0),--($T$6:$T$155=$T9))>1,"Conflict","Clear")) | AB9: =IF(OR($A9="",$G9="Canceled",$U9=""),"",IF(SUMPRODUCT(--($A$6:$A$155<>""),--($G$6:$G$155<>"Canceled"),--($I$6:$I$155<=$J9),--($J$6:$J$155>=$I9),--($K$6:$K$155<$L9),--($L$6:$L$155>$K9),--((($M$6:$M$155="Yes")*($M9="Yes")+($N$6:$N$155="Yes")*($N9="Yes")+($O$6:$O$155="Yes")*($O9="Yes")+($P$6:$P$155="Yes")*($P9="Yes")+($Q$6:$Q$155="Yes")*($Q9="Yes")+($R$6:$R$155="Yes")*($R9="Yes")+($S$6:$S$155="Yes")*($S9="Yes"))>0),--($U$6:$U$155=$U9))>1,"Conflict","Clear")) | AC9: =IF($A9="","",IF($G9="Canceled","Not Applicable",IF($H9="Online","Not Applicable",IF(OR($V9="",$Y9=""),"",IF($V9>$Y9,"Over Capacity","Within Capacity"))))) | AD9: =IF($A9="","",IF(OR($B9="",$C9="",$D9="",$E9="",$F9="",$G9="",$H9="",$I9="",$J9="",$K9="",$L9="",$U9=""),"Missing Required Fields",IF(COUNTIF($M9:$S9,"Yes")=0,"Select a Meeting Day",IF(AND(OR($H9="In Person",$H9="Hybrid"),$T9=""),"Room Required",IF($AA9="Conflict","Room Conflict",IF($AB9="Conflict","Instructor Conflict",IF($AC9="Over Capacity","Over Capacity",IF($G9="Canceled","Canceled","Ready"))))))))
A10: SEC-2705 | B10: Spring 2027 | C10: Health Sciences | D10: HSC 115 | E10: Community Wellness Concepts | F10: 01 | G10: Confirmed | H10: In Person | I10: 46402 | J10: 46514 | K10: 0.35416667 | L10: 0.46875 | Q10: Yes | T10: RM-C110 | U10: INS-1005 | V10: 34 | W10: =IF(OR($K10="",$L10=""),"",ROUND(MOD($L10-$K10,1)*24,2)) | X10: =IF($W10="","",$W10*COUNTIF($M10:$S10,"Yes")) | Y10: =IF($T10="","",IFERROR(INDEX(Rooms!$D$6:$D$101,MATCH($T10,Rooms!$A$6:$A$101,0)),"")) | Z10: =IF(OR($V10="",$Y10="",$Y10=0,$G10="Canceled"),"",$V10/$Y10) | AA10: =IF(OR($A10="",$G10="Canceled",$H10="Online",$T10=""),"",IF(SUMPRODUCT(--($A$6:$A$155<>""),--($G$6:$G$155<>"Canceled"),--($I$6:$I$155<=$J10),--($J$6:$J$155>=$I10),--($K$6:$K$155<$L10),--($L$6:$L$155>$K10),--((($M$6:$M$155="Yes")*($M10="Yes")+($N$6:$N$155="Yes")*($N10="Yes")+($O$6:$O$155="Yes")*($O10="Yes")+($P$6:$P$155="Yes")*($P10="Yes")+($Q$6:$Q$155="Yes")*($Q10="Yes")+($R$6:$R$155="Yes")*($R10="Yes")+($S$6:$S$155="Yes")*($S10="Yes"))>0),--($T$6:$T$155=$T10))>1,"Conflict","Clear")) | AB10: =IF(OR($A10="",$G10="Canceled",$U10=""),"",IF(SUMPRODUCT(--($A$6:$A$155<>""),--($G$6:$G$155<>"Canceled"),--($I$6:$I$155<=$J10),--($J$6:$J$155>=$I10),--($K$6:$K$155<$L10),--($L$6:$L$155>$K10),--((($M$6:$M$155="Yes")*($M10="Yes")+($N$6:$N$155="Yes")*($N10="Yes")+($O$6:$O$155="Yes")*($O10="Yes")+($P$6:$P$155="Yes")*($P10="Yes")+($Q$6:$Q$155="Yes")*($Q10="Yes")+($R$6:$R$155="Yes")*($R10="Yes")+($S$6:$S$155="Yes")*($S10="Yes"))>0),--($U$6:$U$155=$U10))>1,"Conflict","Clear")) | AC10: =IF($A10="","",IF($G10="Canceled","Not Applicable",IF($H10="Online","Not Applicable",IF(OR($V10="",$Y10=""),"",IF($V10>$Y10,"Over Capacity","Within Capacity"))))) | AD10: =IF($A10="","",IF(OR($B10="",$C10="",$D10="",$E10="",$F10="",$G10="",$H10="",$I10="",$J10="",$K10="",$L10="",$U10=""),"Missing Required Fields",IF(COUNTIF($M10:$S10,"Yes")=0,"Select a Meeting Day",IF(AND(OR($H10="In Person",$H10="Hybrid"),$T10=""),"Room Required",IF($AA10="Conflict","Room Conflict",IF($AB10="Conflict","Instructor Conflict",IF($AC10="Over Capacity","Over Capacity",IF($G10="Canceled","Canceled","Ready"))))))))
A11: SEC-2706 | B11: Spring 2027 | C11: Professional Studies | D11: PRO 180 | E11: Workplace Communication | F11: 01 | G11: Confirmed | H11: Online | I11: 46398 | J11: 46451 | K11: 0.75 | L11: 0.8125 | M11: Yes | U11: INS-1006 | V11: 40 | W11: =IF(OR($K11="",$L11=""),"",ROUND(MOD($L11-$K11,1)*24,2)) | X11: =IF($W11="","",$W11*COUNTIF($M11:$S11,"Yes")) | Y11: =IF($T11="","",IFERROR(INDEX(Rooms!$D$6:$D$101,MATCH($T11,Rooms!$A$6:$A$101,0)),"")) | Z11: =IF(OR($V11="",$Y11="",$Y11=0,$G11="Canceled"),"",$V11/$Y11) | AA11: =IF(OR($A11="",$G11="Canceled",$H11="Online",$T11=""),"",IF(SUMPRODUCT(--($A$6:$A$155<>""),--($G$6:$G$155<>"Canceled"),--($I$6:$I$155<=$J11),--($J$6:$J$155>=$I11),--($K$6:$K$155<$L11),--($L$6:$L$155>$K11),--((($M$6:$M$155="Yes")*($M11="Yes")+($N$6:$N$155="Yes")*($N11="Yes")+($O$6:$O$155="Yes")*($O11="Yes")+($P$6:$P$155="Yes")*($P11="Yes")+($Q$6:$Q$155="Yes")*($Q11="Yes")+($R$6:$R$155="Yes")*($R11="Yes")+($S$6:$S$155="Yes")*($S11="Yes"))>0),--($T$6:$T$155=$T11))>1,"Conflict","Clear")) | AB11: =IF(OR($A11="",$G11="Canceled",$U11=""),"",IF(SUMPRODUCT(--($A$6:$A$155<>""),--($G$6:$G$155<>"Canceled"),--($I$6:$I$155<=$J11),--($J$6:$J$155>=$I11),--($K$6:$K$155<$L11),--($L$6:$L$155>$K11),--((($M$6:$M$155="Yes")*($M11="Yes")+($N$6:$N$155="Yes")*($N11="Yes")+($O$6:$O$155="Yes")*($O11="Yes")+($P$6:$P$155="Yes")*($P11="Yes")+($Q$6:$Q$155="Yes")*($Q11="Yes")+($R$6:$R$155="Yes")*($R11="Yes")+($S$6:$S$155="Yes")*($S11="Yes"))>0),--($U$6:$U$155=$U11))>1,"Conflict","Clear")) | AC11: =IF($A11="","",IF($G11="Canceled","Not Applicable",IF($H11="Online","Not Applicable",IF(OR($V11="",$Y11=""),"",IF($V11>$Y11,"Over Capacity","Within Capacity"))))) | AD11: =IF($A11="","",IF(OR($B11="",$C11="",$D11="",$E11="",$F11="",$G11="",$H11="",$I11="",$J11="",$K11="",$L11="",$U11=""),"Missing Required Fields",IF(COUNTIF($M11:$S11,"Yes")=0,"Select a Meeting Day",IF(AND(OR($H11="In Person",$H11="Hybrid"),$T11=""),"Room Required",IF($AA11="Conflict","Room Conflict",IF($AB11="Conflict","Instructor Conflict",IF($AC11="Over Capacity","Over Capacity",IF($G11="Canceled","Canceled","Ready"))))))))
A12: SEC-2707 | B12: Spring 2027 | C12: Continuing Education | D12: CE 320 | E12: Supervisory Skills Workshop | F12: 01 | G12: Draft | H12: In Person | I12: 46424 | J12: 46459 | K12: 0.375 | L12: 0.5 | R12: Yes | T12: RM-D120 | U12: INS-1007 | V12: 20 | W12: =IF(OR($K12="",$L12=""),"",ROUND(MOD($L12-$K12,1)*24,2)) | X12: =IF($W12="","",$W12*COUNTIF($M12:$S12,"Yes")) | Y12: =IF($T12="","",IFERROR(INDEX(Rooms!$D$6:$D$101,MATCH($T12,Rooms!$A$6:$A$101,0)),"")) | Z12: =IF(OR($V12="",$Y12="",$Y12=0,$G12="Canceled"),"",$V12/$Y12) | AA12: =IF(OR($A12="",$G12="Canceled",$H12="Online",$T12=""),"",IF(SUMPRODUCT(--($A$6:$A$155<>""),--($G$6:$G$155<>"Canceled"),--($I$6:$I$155<=$J12),--($J$6:$J$155>=$I12),--($K$6:$K$155<$L12),--($L$6:$L$155>$K12),--((($M$6:$M$155="Yes")*($M12="Yes")+($N$6:$N$155="Yes")*($N12="Yes")+($O$6:$O$155="Yes")*($O12="Yes")+($P$6:$P$155="Yes")*($P12="Yes")+($Q$6:$Q$155="Yes")*($Q12="Yes")+($R$6:$R$155="Yes")*($R12="Yes")+($S$6:$S$155="Yes")*($S12="Yes"))>0),--($T$6:$T$155=$T12))>1,"Conflict","Clear")) | AB12: =IF(OR($A12="",$G12="Canceled",$U12=""),"",IF(SUMPRODUCT(--($A$6:$A$155<>""),--($G$6:$G$155<>"Canceled"),--($I$6:$I$155<=$J12),--($J$6:$J$155>=$I12),--($K$6:$K$155<$L12),--($L$6:$L$155>$K12),--((($M$6:$M$155="Yes")*($M12="Yes")+($N$6:$N$155="Yes")*($N12="Yes")+($O$6:$O$155="Yes")*($O12="Yes")+($P$6:$P$155="Yes")*($P12="Yes")+($Q$6:$Q$155="Yes")*($Q12="Yes")+($R$6:$R$155="Yes")*($R12="Yes")+($S$6:$S$155="Yes")*($S12="Yes"))>0),--($U$6:$U$155=$U12))>1,"Conflict","Clear")) | AC12: =IF($A12="","",IF($G12="Canceled","Not Applicable",IF($H12="Online","Not Applicable",IF(OR($V12="",$Y12=""),"",IF($V12>$Y12,"Over Capacity","Within Capacity"))))) | AD12: =IF($A12="","",IF(OR($B12="",$C12="",$D12="",$E12="",$F12="",$G12="",$H12="",$I12="",$J12="",$K12="",$L12="",$U12=""),"Missing Required Fields",IF(COUNTIF($M12:$S12,"Yes")=0,"Select a Meeting Day",IF(AND(OR($H12="In Person",$H12="Hybrid"),$T12=""),"Room Required",IF($AA12="Conflict","Room Conflict",IF($AB12="Conflict","Instructor Conflict",IF($AC12="Over Capacity","Over Capacity",IF($G12="Canceled","Canceled","Ready"))))))))
A13: SEC-2708 | B13: Spring 2027 | C13: Arts and Humanities | D13: ART 105 | E13: Visual Design Fundamentals | F13: 01 | G13: Confirmed | H13: In Person | I13: 46399 | J13: 46513 | K13: 0.45833333 | L13: 0.51041667 | N13: Yes | P13: Yes | T13: RM-E215 | U13: INS-1002 | V13: 16 | W13: =IF(OR($K13="",$L13=""),"",ROUND(MOD($L13-$K13,1)*24,2)) | X13: =IF($W13="","",$W13*COUNTIF($M13:$S13,"Yes")) | Y13: =IF($T13="","",IFERROR(INDEX(Rooms!$D$6:$D$101,MATCH($T13,Rooms!$A$6:$A$101,0)),"")) | Z13: =IF(OR($V13="",$Y13="",$Y13=0,$G13="Canceled"),"",$V13/$Y13) | AA13: =IF(OR($A13="",$G13="Canceled",$H13="Online",$T13=""),"",IF(SUMPRODUCT(--($A$6:$A$155<>""),--($G$6:$G$155<>"Canceled"),--($I$6:$I$155<=$J13),--($J$6:$J$155>=$I13),--($K$6:$K$155<$L13),--($L$6:$L$155>$K13),--((($M$6:$M$155="Yes")*($M13="Yes")+($N$6:$N$155="Yes")*($N13="Yes")+($O$6:$O$155="Yes")*($O13="Yes")+($P$6:$P$155="Yes")*($P13="Yes")+($Q$6:$Q$155="Yes")*($Q13="Yes")+($R$6:$R$155="Yes")*($R13="Yes")+($S$6:$S$155="Yes")*($S13="Yes"))>0),--($T$6:$T$155=$T13))>1,"Conflict","Clear")) | AB13: =IF(OR($A13="",$G13="Canceled",$U13=""),"",IF(SUMPRODUCT(--($A$6:$A$155<>""),--($G$6:$G$155<>"Canceled"),--($I$6:$I$155<=$J13),--($J$6:$J$155>=$I13),--($K$6:$K$155<$L13),--($L$6:$L$155>$K13),--((($M$6:$M$155="Yes")*($M13="Yes")+($N$6:$N$155="Yes")*($N13="Yes")+($O$6:$O$155="Yes")*($O13="Yes")+($P$6:$P$155="Yes")*($P13="Yes")+($Q$6:$Q$155="Yes")*($Q13="Yes")+($R$6:$R$155="Yes")*($R13="Yes")+($S$6:$S$155="Yes")*($S13="Yes"))>0),--($U$6:$U$155=$U13))>1,"Conflict","Clear")) | AC13: =IF($A13="","",IF($G13="Canceled","Not Applicable",IF($H13="Online","Not Applicable",IF(OR($V13="",$Y13=""),"",IF($V13>$Y13,"Over Capacity","Within Capacity"))))) | AD13: =IF($A13="","",IF(OR($B13="",$C13="",$D13="",$E13="",$F13="",$G13="",$H13="",$I13="",$J13="",$K13="",$L13="",$U13=""),"Missing Required Fields",IF(COUNTIF($M13:$S13,"Yes")=0,"Select a Meeting Day",IF(AND(OR($H13="In Person",$H13="Hybrid"),$T13=""),"Room Required",IF($AA13="Conflict","Room Conflict",IF($AB13="Conflict","Instructor Conflict",IF($AC13="Over Capacity","Over Capacity",IF($G13="Canceled","Canceled","Ready"))))))))
A14: SEC-2709 | B14: Summer 2027 | C14: Science and Engineering | D14: SCI 125 | E14: Applied Environmental Science | F14: 01 | G14: Draft | H14: Hybrid | I14: 46539 | J14: 46597 | K14: 0.39583333 | L14: 0.47916667 | N14: Yes | P14: Yes | T14: RM-C110 | U14: INS-1005 | V14: 31 | W14: =IF(OR($K14="",$L14=""),"",ROUND(MOD($L14-$K14,1)*24,2)) | X14: =IF($W14="","",$W14*COUNTIF($M14:$S14,"Yes")) | Y14: =IF($T14="","",IFERROR(INDEX(Rooms!$D$6:$D$101,MATCH($T14,Rooms!$A$6:$A$101,0)),"")) | Z14: =IF(OR($V14="",$Y14="",$Y14=0,$G14="Canceled"),"",$V14/$Y14) | AA14: =IF(OR($A14="",$G14="Canceled",$H14="Online",$T14=""),"",IF(SUMPRODUCT(--($A$6:$A$155<>""),--($G$6:$G$155<>"Canceled"),--($I$6:$I$155<=$J14),--($J$6:$J$155>=$I14),--($K$6:$K$155<$L14),--($L$6:$L$155>$K14),--((($M$6:$M$155="Yes")*($M14="Yes")+($N$6:$N$155="Yes")*($N14="Yes")+($O$6:$O$155="Yes")*($O14="Yes")+($P$6:$P$155="Yes")*($P14="Yes")+($Q$6:$Q$155="Yes")*($Q14="Yes")+($R$6:$R$155="Yes")*($R14="Yes")+($S$6:$S$155="Yes")*($S14="Yes"))>0),--($T$6:$T$155=$T14))>1,"Conflict","Clear")) | AB14: =IF(OR($A14="",$G14="Canceled",$U14=""),"",IF(SUMPRODUCT(--($A$6:$A$155<>""),--($G$6:$G$155<>"Canceled"),--($I$6:$I$155<=$J14),--($J$6:$J$155>=$I14),--($K$6:$K$155<$L14),--($L$6:$L$155>$K14),--((($M$6:$M$155="Yes")*($M14="Yes")+($N$6:$N$155="Yes")*($N14="Yes")+($O$6:$O$155="Yes")*($O14="Yes")+($P$6:$P$155="Yes")*($P14="Yes")+($Q$6:$Q$155="Yes")*($Q14="Yes")+($R$6:$R$155="Yes")*($R14="Yes")+($S$6:$S$155="Yes")*($S14="Yes"))>0),--($U$6:$U$155=$U14))>1,"Conflict","Clear")) | AC14: =IF($A14="","",IF($G14="Canceled","Not Applicable",IF($H14="Online","Not Applicable",IF(OR($V14="",$Y14=""),"",IF($V14>$Y14,"Over Capacity","Within Capacity"))))) | AD14: =IF($A14="","",IF(OR($B14="",$C14="",$D14="",$E14="",$F14="",$G14="",$H14="",$I14="",$J14="",$K14="",$L14="",$U14=""),"Missing Required Fields",IF(COUNTIF($M14:$S14,"Yes")=0,"Select a Meeting Day",IF(AND(OR($H14="In Person",$H14="Hybrid"),$T14=""),"Room Required",IF($AA14="Conflict","Room Conflict",IF($AB14="Conflict","Instructor Conflict",IF($AC14="Over Capacity","Over Capacity",IF($G14="Canceled","Canceled","Ready"))))))))
A15: SEC-2710 | B15: Spring 2027 | C15: Business | D15: BUS 299 | E15: Collaborative Business Seminar | F15: 01 | G15: Canceled | H15: In Person | I15: 46400 | J15: 46512 | K15: 0.625 | L15: 0.67708333 | O15: Yes | T15: RM-A102 | U15: INS-1001 | V15: 15 | W15: =IF(OR($K15="",$L15=""),"",ROUND(MOD($L15-$K15,1)*24,2)) | X15: =IF($W15="","",$W15*COUNTIF($M15:$S15,"Yes")) | Y15: =IF($T15="","",IFERROR(INDEX(Rooms!$D$6:$D$101,MATCH($T15,Rooms!$A$6:$A$101,0)),"")) | Z15: =IF(OR($V15="",$Y15="",$Y15=0,$G15="Canceled"),"",$V15/$Y15) | AA15: =IF(OR($A15="",$G15="Canceled",$H15="Online",$T15=""),"",IF(SUMPRODUCT(--($A$6:$A$155<>""),--($G$6:$G$155<>"Canceled"),--($I$6:$I$155<=$J15),--($J$6:$J$155>=$I15),--($K$6:$K$155<$L15),--($L$6:$L$155>$K15),--((($M$6:$M$155="Yes")*($M15="Yes")+($N$6:$N$155="Yes")*($N15="Yes")+($O$6:$O$155="Yes")*($O15="Yes")+($P$6:$P$155="Yes")*($P15="Yes")+($Q$6:$Q$155="Yes")*($Q15="Yes")+($R$6:$R$155="Yes")*($R15="Yes")+($S$6:$S$155="Yes")*($S15="Yes"))>0),--($T$6:$T$155=$T15))>1,"Conflict","Clear")) | AB15: =IF(OR($A15="",$G15="Canceled",$U15=""),"",IF(SUMPRODUCT(--($A$6:$A$155<>""),--($G$6:$G$155<>"Canceled"),--($I$6:$I$155<=$J15),--($J$6:$J$155>=$I15),--($K$6:$K$155<$L15),--($L$6:$L$155>$K15),--((($M$6:$M$155="Yes")*($M15="Yes")+($N$6:$N$155="Yes")*($N15="Yes")+($O$6:$O$155="Yes")*($O15="Yes")+($P$6:$P$155="Yes")*($P15="Yes")+($Q$6:$Q$155="Yes")*($Q15="Yes")+($R$6:$R$155="Yes")*($R15="Yes")+($S$6:$S$155="Yes")*($S15="Yes"))>0),--($U$6:$U$155=$U15))>1,"Conflict","Clear")) | AC15: =IF($A15="","",IF($G15="Canceled","Not Applicable",IF($H15="Online","Not Applicable",IF(OR($V15="",$Y15=""),"",IF($V15>$Y15,"Over Capacity","Within Capacity"))))) | AD15: =IF($A15="","",IF(OR($B15="",$C15="",$D15="",$E15="",$F15="",$G15="",$H15="",$I15="",$J15="",$K15="",$L15="",$U15=""),"Missing Required Fields",IF(COUNTIF($M15:$S15,"Yes")=0,"Select a Meeting Day",IF(AND(OR($H15="In Person",$H15="Hybrid"),$T15=""),"Room Required",IF($AA15="Conflict","Room Conflict",IF($AB15="Conflict","Instructor Conflict",IF($AC15="Over Capacity","Over Capacity",IF($G15="Canceled","Canceled","Ready"))))))))
W16: =IF(OR($K16="",$L16=""),"",ROUND(MOD($L16-$K16,1)*24,2)) | X16: =IF($W16="","",$W16*COUNTIF($M16:$S16,"Yes")) | Y16: =IF($T16="","",IFERROR(INDEX(Rooms!$D$6:$D$101,MATCH($T16,Rooms!$A$6:$A$101,0)),"")) | Z16: =IF(OR($V16="",$Y16="",$Y16=0,$G16="Canceled"),"",$V16/$Y16) | AA16: =IF(OR($A16="",$G16="Canceled",$H16="Online",$T16=""),"",IF(SUMPRODUCT(--($A$6:$A$155<>""),--($G$6:$G$155<>"Canceled"),--($I$6:$I$155<=$J16),--($J$6:$J$155>=$I16),--($K$6:$K$155<$L16),--($L$6:$L$155>$K16),--((($M$6:$M$155="Yes")*($M16="Yes")+($N$6:$N$155="Yes")*($N16="Yes")+($O$6:$O$155="Yes")*($O16="Yes")+($P$6:$P$155="Yes")*($P16="Yes")+($Q$6:$Q$155="Yes")*($Q16="Yes")+($R$6:$R$155="Yes")*($R16="Yes")+($S$6:$S$155="Yes")*($S16="Yes"))>0),--($T$6:$T$155=$T16))>1,"Conflict","Clear")) | AB16: =IF(OR($A16="",$G16="Canceled",$U16=""),"",IF(SUMPRODUCT(--($A$6:$A$155<>""),--($G$6:$G$155<>"Canceled"),--($I$6:$I$155<=$J16),--($J$6:$J$155>=$I16),--($K$6:$K$155<$L16),--($L$6:$L$155>$K16),--((($M$6:$M$155="Yes")*($M16="Yes")+($N$6:$N$155="Yes")*($N16="Yes")+($O$6:$O$155="Yes")*($O16="Yes")+($P$6:$P$155="Yes")*($P16="Yes")+($Q$6:$Q$155="Yes")*($Q16="Yes")+($R$6:$R$155="Yes")*($R16="Yes")+($S$6:$S$155="Yes")*($S16="Yes"))>0),--($U$6:$U$155=$U16))>1,"Conflict","Clear")) | AC16: =IF($A16="","",IF($G16="Canceled","Not Applicable",IF($H16="Online","Not Applicable",IF(OR($V16="",$Y16=""),"",IF($V16>$Y16,"Over Capacity","Within Capacity"))))) | AD16: =IF($A16="","",IF(OR($B16="",$C16="",$D16="",$E16="",$F16="",$G16="",$H16="",$I16="",$J16="",$K16="",$L16="",$U16=""),"Missing Required Fields",IF(COUNTIF($M16:$S16,"Yes")=0,"Select a Meeting Day",IF(AND(OR($H16="In Person",$H16="Hybrid"),$T16=""),"Room Required",IF($AA16="Conflict","Room Conflict",IF($AB16="Conflict","Instructor Conflict",IF($AC16="Over Capacity","Over Capacity",IF($G16="Canceled","Canceled","Ready"))))))))
W17: =IF(OR($K17="",$L17=""),"",ROUND(MOD($L17-$K17,1)*24,2)) | X17: =IF($W17="","",$W17*COUNTIF($M17:$S17,"Yes")) | Y17: =IF($T17="","",IFERROR(INDEX(Rooms!$D$6:$D$101,MATCH($T17,Rooms!$A$6:$A$101,0)),"")) | Z17: =IF(OR($V17="",$Y17="",$Y17=0,$G17="Canceled"),"",$V17/$Y17) | AA17: =IF(OR($A17="",$G17="Canceled",$H17="Online",$T17=""),"",IF(SUMPRODUCT(--($A$6:$A$155<>""),--($G$6:$G$155<>"Canceled"),--($I$6:$I$155<=$J17),--($J$6:$J$155>=$I17),--($K$6:$K$155<$L17),--($L$6:$L$155>$K17),--((($M$6:$M$155="Yes")*($M17="Yes")+($N$6:$N$155="Yes")*($N17="Yes")+($O$6:$O$155="Yes")*($O17="Yes")+($P$6:$P$155="Yes")*($P17="Yes")+($Q$6:$Q$155="Yes")*($Q17="Yes")+($R$6:$R$155="Yes")*($R17="Yes")+($S$6:$S$155="Yes")*($S17="Yes"))>0),--($T$6:$T$155=$T17))>1,"Conflict","Clear")) | AB17: =IF(OR($A17="",$G17="Canceled",$U17=""),"",IF(SUMPRODUCT(--($A$6:$A$155<>""),--($G$6:$G$155<>"Canceled"),--($I$6:$I$155<=$J17),--($J$6:$J$155>=$I17),--($K$6:$K$155<$L17),--($L$6:$L$155>$K17),--((($M$6:$M$155="Yes")*($M17="Yes")+($N$6:$N$155="Yes")*($N17="Yes")+($O$6:$O$155="Yes")*($O17="Yes")+($P$6:$P$155="Yes")*($P17="Yes")+($Q$6:$Q$155="Yes")*($Q17="Yes")+($R$6:$R$155="Yes")*($R17="Yes")+($S$6:$S$155="Yes")*($S17="Yes"))>0),--($U$6:$U$155=$U17))>1,"Conflict","Clear")) | AC17: =IF($A17="","",IF($G17="Canceled","Not Applicable",IF($H17="Online","Not Applicable",IF(OR($V17="",$Y17=""),"",IF($V17>$Y17,"Over Capacity","Within Capacity"))))) | AD17: =IF($A17="","",IF(OR($B17="",$C17="",$D17="",$E17="",$F17="",$G17="",$H17="",$I17="",$J17="",$K17="",$L17="",$U17=""),"Missing Required Fields",IF(COUNTIF($M17:$S17,"Yes")=0,"Select a Meeting Day",IF(AND(OR($H17="In Person",$H17="Hybrid"),$T17=""),"Room Required",IF($AA17="Conflict","Room Conflict",IF($AB17="Conflict","Instructor Conflict",IF($AC17="Over Capacity","Over Capacity",IF($G17="Canceled","Canceled","Ready"))))))))
W18: =IF(OR($K18="",$L18=""),"",ROUND(MOD($L18-$K18,1)*24,2)) | X18: =IF($W18="","",$W18*COUNTIF($M18:$S18,"Yes")) | Y18: =IF($T18="","",IFERROR(INDEX(Rooms!$D$6:$D$101,MATCH($T18,Rooms!$A$6:$A$101,0)),"")) | Z18: =IF(OR($V18="",$Y18="",$Y18=0,$G18="Canceled"),"",$V18/$Y18) | AA18: =IF(OR($A18="",$G18="Canceled",$H18="Online",$T18=""),"",IF(SUMPRODUCT(--($A$6:$A$155<>""),--($G$6:$G$155<>"Canceled"),--($I$6:$I$155<=$J18),--($J$6:$J$155>=$I18),--($K$6:$K$155<$L18),--($L$6:$L$155>$K18),--((($M$6:$M$155="Yes")*($M18="Yes")+($N$6:$N$155="Yes")*($N18="Yes")+($O$6:$O$155="Yes")*($O18="Yes")+($P$6:$P$155="Yes")*($P18="Yes")+($Q$6:$Q$155="Yes")*($Q18="Yes")+($R$6:$R$155="Yes")*($R18="Yes")+($S$6:$S$155="Yes")*($S18="Yes"))>0),--($T$6:$T$155=$T18))>1,"Conflict","Clear")) | AB18: =IF(OR($A18="",$G18="Canceled",$U18=""),"",IF(SUMPRODUCT(--($A$6:$A$155<>""),--($G$6:$G$155<>"Canceled"),--($I$6:$I$155<=$J18),--($J$6:$J$155>=$I18),--($K$6:$K$155<$L18),--($L$6:$L$155>$K18),--((($M$6:$M$155="Yes")*($M18="Yes")+($N$6:$N$155="Yes")*($N18="Yes")+($O$6:$O$155="Yes")*($O18="Yes")+($P$6:$P$155="Yes")*($P18="Yes")+($Q$6:$Q$155="Yes")*($Q18="Yes")+($R$6:$R$155="Yes")*($R18="Yes")+($S$6:$S$155="Yes")*($S18="Yes"))>0),--($U$6:$U$155=$U18))>1,"Conflict","Clear")) | AC18: =IF($A18="","",IF($G18="Canceled","Not Applicable",IF($H18="Online","Not Applicable",IF(OR($V18="",$Y18=""),"",IF($V18>$Y18,"Over Capacity","Within Capacity"))))) | AD18: =IF($A18="","",IF(OR($B18="",$C18="",$D18="",$E18="",$F18="",$G18="",$H18="",$I18="",$J18="",$K18="",$L18="",$U18=""),"Missing Required Fields",IF(COUNTIF($M18:$S18,"Yes")=0,"Select a Meeting Day",IF(AND(OR($H18="In Person",$H18="Hybrid"),$T18=""),"Room Required",IF($AA18="Conflict","Room Conflict",IF($AB18="Conflict","Instructor Conflict",IF($AC18="Over Capacity","Over Capacity",IF($G18="Canceled","Canceled","Ready"))))))))
W19: =IF(OR($K19="",$L19=""),"",ROUND(MOD($L19-$K19,1)*24,2)) | X19: =IF($W19="","",$W19*COUNTIF($M19:$S19,"Yes")) | Y19: =IF($T19="","",IFERROR(INDEX(Rooms!$D$6:$D$101,MATCH($T19,Rooms!$A$6:$A$101,0)),"")) | Z19: =IF(OR($V19="",$Y19="",$Y19=0,$G19="Canceled"),"",$V19/$Y19) | AA19: =IF(OR($A19="",$G19="Canceled",$H19="Online",$T19=""),"",IF(SUMPRODUCT(--($A$6:$A$155<>""),--($G$6:$G$155<>"Canceled"),--($I$6:$I$155<=$J19),--($J$6:$J$155>=$I19),--($K$6:$K$155<$L19),--($L$6:$L$155>$K19),--((($M$6:$M$155="Yes")*($M19="Yes")+($N$6:$N$155="Yes")*($N19="Yes")+($O$6:$O$155="Yes")*($O19="Yes")+($P$6:$P$155="Yes")*($P19="Yes")+($Q$6:$Q$155="Yes")*($Q19="Yes")+($R$6:$R$155="Yes")*($R19="Yes")+($S$6:$S$155="Yes")*($S19="Yes"))>0),--($T$6:$T$155=$T19))>1,"Conflict","Clear")) | AB19: =IF(OR($A19="",$G19="Canceled",$U19=""),"",IF(SUMPRODUCT(--($A$6:$A$155<>""),--($G$6:$G$155<>"Canceled"),--($I$6:$I$155<=$J19),--($J$6:$J$155>=$I19),--($K$6:$K$155<$L19),--($L$6:$L$155>$K19),--((($M$6:$M$155="Yes")*($M19="Yes")+($N$6:$N$155="Yes")*($N19="Yes")+($O$6:$O$155="Yes")*($O19="Yes")+($P$6:$P$155="Yes")*($P19="Yes")+($Q$6:$Q$155="Yes")*($Q19="Yes")+($R$6:$R$155="Yes")*($R19="Yes")+($S$6:$S$155="Yes")*($S19="Yes"))>0),--($U$6:$U$155=$U19))>1,"Conflict","Clear")) | AC19: =IF($A19="","",IF($G19="Canceled","Not Applicable",IF($H19="Online","Not Applicable",IF(OR($V19="",$Y19=""),"",IF($V19>$Y19,"Over Capacity","Within Capacity"))))) | AD19: =IF($A19="","",IF(OR($B19="",$C19="",$D19="",$E19="",$F19="",$G19="",$H19="",$I19="",$J19="",$K19="",$L19="",$U19=""),"Missing Required Fields",IF(COUNTIF($M19:$S19,"Yes")=0,"Select a Meeting Day",IF(AND(OR($H19="In Person",$H19="Hybrid"),$T19=""),"Room Required",IF($AA19="Conflict","Room Conflict",IF($AB19="Conflict","Instructor Conflict",IF($AC19="Over Capacity","Over Capacity",IF($G19="Canceled","Canceled","Ready"))))))))
W20: =IF(OR($K20="",$L20=""),"",ROUND(MOD($L20-$K20,1)*24,2)) | X20: =IF($W20="","",$W20*COUNTIF($M20:$S20,"Yes")) | Y20: =IF($T20="","",IFERROR(INDEX(Rooms!$D$6:$D$101,MATCH($T20,Rooms!$A$6:$A$101,0)),"")) | Z20: =IF(OR($V20="",$Y20="",$Y20=0,$G20="Canceled"),"",$V20/$Y20) | AA20: =IF(OR($A20="",$G20="Canceled",$H20="Online",$T20=""),"",IF(SUMPRODUCT(--($A$6:$A$155<>""),--($G$6:$G$155<>"Canceled"),--($I$6:$I$155<=$J20),--($J$6:$J$155>=$I20),--($K$6:$K$155<$L20),--($L$6:$L$155>$K20),--((($M$6:$M$155="Yes")*($M20="Yes")+($N$6:$N$155="Yes")*($N20="Yes")+($O$6:$O$155="Yes")*($O20="Yes")+($P$6:$P$155="Yes")*($P20="Yes")+($Q$6:$Q$155="Yes")*($Q20="Yes")+($R$6:$R$155="Yes")*($R20="Yes")+($S$6:$S$155="Yes")*($S20="Yes"))>0),--($T$6:$T$155=$T20))>1,"Conflict","Clear")) | AB20: =IF(OR($A20="",$G20="Canceled",$U20=""),"",IF(SUMPRODUCT(--($A$6:$A$155<>""),--($G$6:$G$155<>"Canceled"),--($I$6:$I$155<=$J20),--($J$6:$J$155>=$I20),--($K$6:$K$155<$L20),--($L$6:$L$155>$K20),--((($M$6:$M$155="Yes")*($M20="Yes")+($N$6:$N$155="Yes")*($N20="Yes")+($O$6:$O$155="Yes")*($O20="Yes")+($P$6:$P$155="Yes")*($P20="Yes")+($Q$6:$Q$155="Yes")*($Q20="Yes")+($R$6:$R$155="Yes")*($R20="Yes")+($S$6:$S$155="Yes")*($S20="Yes"))>0),--($U$6:$U$155=$U20))>1,"Conflict","Clear")) | AC20: =IF($A20="","",IF($G20="Canceled","Not Applicable",IF($H20="Online","Not Applicable",IF(OR($V20="",$Y20=""),"",IF($V20>$Y20,"Over Capacity","Within Capacity"))))) | AD20: =IF($A20="","",IF(OR($B20="",$C20="",$D20="",$E20="",$F20="",$G20="",$H20="",$I20="",$J20="",$K20="",$L20="",$U20=""),"Missing Required Fields",IF(COUNTIF($M20:$S20,"Yes")=0,"Select a Meeting Day",IF(AND(OR($H20="In Person",$H20="Hybrid"),$T20=""),"Room Required",IF($AA20="Conflict","Room Conflict",IF($AB20="Conflict","Instructor Conflict",IF($AC20="Over Capacity","Over Capacity",IF($G20="Canceled","Canceled","Ready"))))))))
W21: =IF(OR($K21="",$L21=""),"",ROUND(MOD($L21-$K21,1)*24,2)) | X21: =IF($W21="","",$W21*COUNTIF($M21:$S21,"Yes")) | Y21: =IF($T21="","",IFERROR(INDEX(Rooms!$D$6:$D$101,MATCH($T21,Rooms!$A$6:$A$101,0)),"")) | Z21: =IF(OR($V21="",$Y21="",$Y21=0,$G21="Canceled"),"",$V21/$Y21) | AA21: =IF(OR($A21="",$G21="Canceled",$H21="Online",$T21=""),"",IF(SUMPRODUCT(--($A$6:$A$155<>""),--($G$6:$G$155<>"Canceled"),--($I$6:$I$155<=$J21),--($J$6:$J$155>=$I21),--($K$6:$K$155<$L21),--($L$6:$L$155>$K21),--((($M$6:$M$155="Yes")*($M21="Yes")+($N$6:$N$155="Yes")*($N21="Yes")+($O$6:$O$155="Yes")*($O21="Yes")+($P$6:$P$155="Yes")*($P21="Yes")+($Q$6:$Q$155="Yes")*($Q21="Yes")+($R$6:$R$155="Yes")*($R21="Yes")+($S$6:$S$155="Yes")*($S21="Yes"))>0),--($T$6:$T$155=$T21))>1,"Conflict","Clear")) | AB21: =IF(OR($A21="",$G21="Canceled",$U21=""),"",IF(SUMPRODUCT(--($A$6:$A$155<>""),--($G$6:$G$155<>"Canceled"),--($I$6:$I$155<=$J21),--($J$6:$J$155>=$I21),--($K$6:$K$155<$L21),--($L$6:$L$155>$K21),--((($M$6:$M$155="Yes")*($M21="Yes")+($N$6:$N$155="Yes")*($N21="Yes")+($O$6:$O$155="Yes")*($O21="Yes")+($P$6:$P$155="Yes")*($P21="Yes")+($Q$6:$Q$155="Yes")*($Q21="Yes")+($R$6:$R$155="Yes")*($R21="Yes")+($S$6:$S$155="Yes")*($S21="Yes"))>0),--($U$6:$U$155=$U21))>1,"Conflict","Clear")) | AC21: =IF($A21="","",IF($G21="Canceled","Not Applicable",IF($H21="Online","Not Applicable",IF(OR($V21="",$Y21=""),"",IF($V21>$Y21,"Over Capacity","Within Capacity"))))) | AD21: =IF($A21="","",IF(OR($B21="",$C21="",$D21="",$E21="",$F21="",$G21="",$H21="",$I21="",$J21="",$K21="",$L21="",$U21=""),"Missing Required Fields",IF(COUNTIF($M21:$S21,"Yes")=0,"Select a Meeting Day",IF(AND(OR($H21="In Person",$H21="Hybrid"),$T21=""),"Room Required",IF($AA21="Conflict","Room Conflict",IF($AB21="Conflict","Instructor Conflict",IF($AC21="Over Capacity","Over Capacity",IF($G21="Canceled","Canceled","Ready"))))))))
W22: =IF(OR($K22="",$L22=""),"",ROUND(MOD($L22-$K22,1)*24,2)) | X22: =IF($W22="","",$W22*COUNTIF($M22:$S22,"Yes")) | Y22: =IF($T22="","",IFERROR(INDEX(Rooms!$D$6:$D$101,MATCH($T22,Rooms!$A$6:$A$101,0)),"")) | Z22: =IF(OR($V22="",$Y22="",$Y22=0,$G22="Canceled"),"",$V22/$Y22) | AA22: =IF(OR($A22="",$G22="Canceled",$H22="Online",$T22=""),"",IF(SUMPRODUCT(--($A$6:$A$155<>""),--($G$6:$G$155<>"Canceled"),--($I$6:$I$155<=$J22),--($J$6:$J$155>=$I22),--($K$6:$K$155<$L22),--($L$6:$L$155>$K22),--((($M$6:$M$155="Yes")*($M22="Yes")+($N$6:$N$155="Yes")*($N22="Yes")+($O$6:$O$155="Yes")*($O22="Yes")+($P$6:$P$155="Yes")*($P22="Yes")+($Q$6:$Q$155="Yes")*($Q22="Yes")+($R$6:$R$155="Yes")*($R22="Yes")+($S$6:$S$155="Yes")*($S22="Yes"))>0),--($T$6:$T$155=$T22))>1,"Conflict","Clear")) | AB22: =IF(OR($A22="",$G22="Canceled",$U22=""),"",IF(SUMPRODUCT(--($A$6:$A$155<>""),--($G$6:$G$155<>"Canceled"),--($I$6:$I$155<=$J22),--($J$6:$J$155>=$I22),--($K$6:$K$155<$L22),--($L$6:$L$155>$K22),--((($M$6:$M$155="Yes")*($M22="Yes")+($N$6:$N$155="Yes")*($N22="Yes")+($O$6:$O$155="Yes")*($O22="Yes")+($P$6:$P$155="Yes")*($P22="Yes")+($Q$6:$Q$155="Yes")*($Q22="Yes")+($R$6:$R$155="Yes")*($R22="Yes")+($S$6:$S$155="Yes")*($S22="Yes"))>0),--($U$6:$U$155=$U22))>1,"Conflict","Clear")) | AC22: =IF($A22="","",IF($G22="Canceled","Not Applicable",IF($H22="Online","Not Applicable",IF(OR($V22="",$Y22=""),"",IF($V22>$Y22,"Over Capacity","Within Capacity"))))) | AD22: =IF($A22="","",IF(OR($B22="",$C22="",$D22="",$E22="",$F22="",$G22="",$H22="",$I22="",$J22="",$K22="",$L22="",$U22=""),"Missing Required Fields",IF(COUNTIF($M22:$S22,"Yes")=0,"Select a Meeting Day",IF(AND(OR($H22="In Person",$H22="Hybrid"),$T22=""),"Room Required",IF($AA22="Conflict","Room Conflict",IF($AB22="Conflict","Instructor Conflict",IF($AC22="Over Capacity","Over Capacity",IF($G22="Canceled","Canceled","Ready"))))))))
W23: =IF(OR($K23="",$L23=""),"",ROUND(MOD($L23-$K23,1)*24,2)) | X23: =IF($W23="","",$W23*COUNTIF($M23:$S23,"Yes")) | Y23: =IF($T23="","",IFERROR(INDEX(Rooms!$D$6:$D$101,MATCH($T23,Rooms!$A$6:$A$101,0)),"")) | Z23: =IF(OR($V23="",$Y23="",$Y23=0,$G23="Canceled"),"",$V23/$Y23) | AA23: =IF(OR($A23="",$G23="Canceled",$H23="Online",$T23=""),"",IF(SUMPRODUCT(--($A$6:$A$155<>""),--($G$6:$G$155<>"Canceled"),--($I$6:$I$155<=$J23),--($J$6:$J$155>=$I23),--($K$6:$K$155<$L23),--($L$6:$L$155>$K23),--((($M$6:$M$155="Yes")*($M23="Yes")+($N$6:$N$155="Yes")*($N23="Yes")+($O$6:$O$155="Yes")*($O23="Yes")+($P$6:$P$155="Yes")*($P23="Yes")+($Q$6:$Q$155="Yes")*($Q23="Yes")+($R$6:$R$155="Yes")*($R23="Yes")+($S$6:$S$155="Yes")*($S23="Yes"))>0),--($T$6:$T$155=$T23))>1,"Conflict","Clear")) | AB23: =IF(OR($A23="",$G23="Canceled",$U23=""),"",IF(SUMPRODUCT(--($A$6:$A$155<>""),--($G$6:$G$155<>"Canceled"),--($I$6:$I$155<=$J23),--($J$6:$J$155>=$I23),--($K$6:$K$155<$L23),--($L$6:$L$155>$K23),--((($M$6:$M$155="Yes")*($M23="Yes")+($N$6:$N$155="Yes")*($N23="Yes")+($O$6:$O$155="Yes")*($O23="Yes")+($P$6:$P$155="Yes")*($P23="Yes")+($Q$6:$Q$155="Yes")*($Q23="Yes")+($R$6:$R$155="Yes")*($R23="Yes")+($S$6:$S$155="Yes")*($S23="Yes"))>0),--($U$6:$U$155=$U23))>1,"Conflict","Clear")) | AC23: =IF($A23="","",IF($G23="Canceled","Not Applicable",IF($H23="Online","Not Applicable",IF(OR($V23="",$Y23=""),"",IF($V23>$Y23,"Over Capacity","Within Capacity"))))) | AD23: =IF($A23="","",IF(OR($B23="",$C23="",$D23="",$E23="",$F23="",$G23="",$H23="",$I23="",$J23="",$K23="",$L23="",$U23=""),"Missing Required Fields",IF(COUNTIF($M23:$S23,"Yes")=0,"Select a Meeting Day",IF(AND(OR($H23="In Person",$H23="Hybrid"),$T23=""),"Room Required",IF($AA23="Conflict","Room Conflict",IF($AB23="Conflict","Instructor Conflict",IF($AC23="Over Capacity","Over Capacity",IF($G23="Canceled","Canceled","Ready"))))))))
W24: =IF(OR($K24="",$L24=""),"",ROUND(MOD($L24-$K24,1)*24,2)) | X24: =IF($W24="","",$W24*COUNTIF($M24:$S24,"Yes")) | Y24: =IF($T24="","",IFERROR(INDEX(Rooms!$D$6:$D$101,MATCH($T24,Rooms!$A$6:$A$101,0)),"")) | Z24: =IF(OR($V24="",$Y24="",$Y24=0,$G24="Canceled"),"",$V24/$Y24) | AA24: =IF(OR($A24="",$G24="Canceled",$H24="Online",$T24=""),"",IF(SUMPRODUCT(--($A$6:$A$155<>""),--($G$6:$G$155<>"Canceled"),--($I$6:$I$155<=$J24),--($J$6:$J$155>=$I24),--($K$6:$K$155<$L24),--($L$6:$L$155>$K24),--((($M$6:$M$155="Yes")*($M24="Yes")+($N$6:$N$155="Yes")*($N24="Yes")+($O$6:$O$155="Yes")*($O24="Yes")+($P$6:$P$155="Yes")*($P24="Yes")+($Q$6:$Q$155="Yes")*($Q24="Yes")+($R$6:$R$155="Yes")*($R24="Yes")+($S$6:$S$155="Yes")*($S24="Yes"))>0),--($T$6:$T$155=$T24))>1,"Conflict","Clear")) | AB24: =IF(OR($A24="",$G24="Canceled",$U24=""),"",IF(SUMPRODUCT(--($A$6:$A$155<>""),--($G$6:$G$155<>"Canceled"),--($I$6:$I$155<=$J24),--($J$6:$J$155>=$I24),--($K$6:$K$155<$L24),--($L$6:$L$155>$K24),--((($M$6:$M$155="Yes")*($M24="Yes")+($N$6:$N$155="Yes")*($N24="Yes")+($O$6:$O$155="Yes")*($O24="Yes")+($P$6:$P$155="Yes")*($P24="Yes")+($Q$6:$Q$155="Yes")*($Q24="Yes")+($R$6:$R$155="Yes")*($R24="Yes")+($S$6:$S$155="Yes")*($S24="Yes"))>0),--($U$6:$U$155=$U24))>1,"Conflict","Clear")) | AC24: =IF($A24="","",IF($G24="Canceled","Not Applicable",IF($H24="Online","Not Applicable",IF(OR($V24="",$Y24=""),"",IF($V24>$Y24,"Over Capacity","Within Capacity"))))) | AD24: =IF($A24="","",IF(OR($B24="",$C24="",$D24="",$E24="",$F24="",$G24="",$H24="",$I24="",$J24="",$K24="",$L24="",$U24=""),"Missing Required Fields",IF(COUNTIF($M24:$S24,"Yes")=0,"Select a Meeting Day",IF(AND(OR($H24="In Person",$H24="Hybrid"),$T24=""),"Room Required",IF($AA24="Conflict","Room Conflict",IF($AB24="Conflict","Instructor Conflict",IF($AC24="Over Capacity","Over Capacity",IF($G24="Canceled","Canceled","Ready"))))))))
W25: =IF(OR($K25="",$L25=""),"",ROUND(MOD($L25-$K25,1)*24,2)) | X25: =IF($W25="","",$W25*COUNTIF($M25:$S25,"Yes")) | Y25: =IF($T25="","",IFERROR(INDEX(Rooms!$D$6:$D$101,MATCH($T25,Rooms!$A$6:$A$101,0)),"")) | Z25: =IF(OR($V25="",$Y25="",$Y25=0,$G25="Canceled"),"",$V25/$Y25) | AA25: =IF(OR($A25="",$G25="Canceled",$H25="Online",$T25=""),"",IF(SUMPRODUCT(--($A$6:$A$155<>""),--($G$6:$G$155<>"Canceled"),--($I$6:$I$155<=$J25),--($J$6:$J$155>=$I25),--($K$6:$K$155<$L25),--($L$6:$L$155>$K25),--((($M$6:$M$155="Yes")*($M25="Yes")+($N$6:$N$155="Yes")*($N25="Yes")+($O$6:$O$155="Yes")*($O25="Yes")+($P$6:$P$155="Yes")*($P25="Yes")+($Q$6:$Q$155="Yes")*($Q25="Yes")+($R$6:$R$155="Yes")*($R25="Yes")+($S$6:$S$155="Yes")*($S25="Yes"))>0),--($T$6:$T$155=$T25))>1,"Conflict","Clear")) | AB25: =IF(OR($A25="",$G25="Canceled",$U25=""),"",IF(SUMPRODUCT(--($A$6:$A$155<>""),--($G$6:$G$155<>"Canceled"),--($I$6:$I$155<=$J25),--($J$6:$J$155>=$I25),--($K$6:$K$155<$L25),--($L$6:$L$155>$K25),--((($M$6:$M$155="Yes")*($M25="Yes")+($N$6:$N$155="Yes")*($N25="Yes")+($O$6:$O$155="Yes")*($O25="Yes")+($P$6:$P$155="Yes")*($P25="Yes")+($Q$6:$Q$155="Yes")*($Q25="Yes")+($R$6:$R$155="Yes")*($R25="Yes")+($S$6:$S$155="Yes")*($S25="Yes"))>0),--($U$6:$U$155=$U25))>1,"Conflict","Clear")) | AC25: =IF($A25="","",IF($G25="Canceled","Not Applicable",IF($H25="Online","Not Applicable",IF(OR($V25="",$Y25=""),"",IF($V25>$Y25,"Over Capacity","Within Capacity"))))) | AD25: =IF($A25="","",IF(OR($B25="",$C25="",$D25="",$E25="",$F25="",$G25="",$H25="",$I25="",$J25="",$K25="",$L25="",$U25=""),"Missing Required Fields",IF(COUNTIF($M25:$S25,"Yes")=0,"Select a Meeting Day",IF(AND(OR($H25="In Person",$H25="Hybrid"),$T25=""),"Room Required",IF($AA25="Conflict","Room Conflict",IF($AB25="Conflict","Instructor Conflict",IF($AC25="Over Capacity","Over Capacity",IF($G25="Canceled","Canceled","Ready"))))))))
W26: =IF(OR($K26="",$L26=""),"",ROUND(MOD($L26-$K26,1)*24,2)) | X26: =IF($W26="","",$W26*COUNTIF($M26:$S26,"Yes")) | Y26: =IF($T26="","",IFERROR(INDEX(Rooms!$D$6:$D$101,MATCH($T26,Rooms!$A$6:$A$101,0)),"")) | Z26: =IF(OR($V26="",$Y26="",$Y26=0,$G26="Canceled"),"",$V26/$Y26) | AA26: =IF(OR($A26="",$G26="Canceled",$H26="Online",$T26=""),"",IF(SUMPRODUCT(--($A$6:$A$155<>""),--($G$6:$G$155<>"Canceled"),--($I$6:$I$155<=$J26),--($J$6:$J$155>=$I26),--($K$6:$K$155<$L26),--($L$6:$L$155>$K26),--((($M$6:$M$155="Yes")*($M26="Yes")+($N$6:$N$155="Yes")*($N26="Yes")+($O$6:$O$155="Yes")*($O26="Yes")+($P$6:$P$155="Yes")*($P26="Yes")+($Q$6:$Q$155="Yes")*($Q26="Yes")+($R$6:$R$155="Yes")*($R26="Yes")+($S$6:$S$155="Yes")*($S26="Yes"))>0),--($T$6:$T$155=$T26))>1,"Conflict","Clear")) | AB26: =IF(OR($A26="",$G26="Canceled",$U26=""),"",IF(SUMPRODUCT(--($A$6:$A$155<>""),--($G$6:$G$155<>"Canceled"),--($I$6:$I$155<=$J26),--($J$6:$J$155>=$I26),--($K$6:$K$155<$L26),--($L$6:$L$155>$K26),--((($M$6:$M$155="Yes")*($M26="Yes")+($N$6:$N$155="Yes")*($N26="Yes")+($O$6:$O$155="Yes")*($O26="Yes")+($P$6:$P$155="Yes")*($P26="Yes")+($Q$6:$Q$155="Yes")*($Q26="Yes")+($R$6:$R$155="Yes")*($R26="Yes")+($S$6:$S$155="Yes")*($S26="Yes"))>0),--($U$6:$U$155=$U26))>1,"Conflict","Clear")) | AC26: =IF($A26="","",IF($G26="Canceled","Not Applicable",IF($H26="Online","Not Applicable",IF(OR($V26="",$Y26=""),"",IF($V26>$Y26,"Over Capacity","Within Capacity"))))) | AD26: =IF($A26="","",IF(OR($B26="",$C26="",$D26="",$E26="",$F26="",$G26="",$H26="",$I26="",$J26="",$K26="",$L26="",$U26=""),"Missing Required Fields",IF(COUNTIF($M26:$S26,"Yes")=0,"Select a Meeting Day",IF(AND(OR($H26="In Person",$H26="Hybrid"),$T26=""),"Room Required",IF($AA26="Conflict","Room Conflict",IF($AB26="Conflict","Instructor Conflict",IF($AC26="Over Capacity","Over Capacity",IF($G26="Canceled","Canceled","Ready"))))))))
W27: =IF(OR($K27="",$L27=""),"",ROUND(MOD($L27-$K27,1)*24,2)) | X27: =IF($W27="","",$W27*COUNTIF($M27:$S27,"Yes")) | Y27: =IF($T27="","",IFERROR(INDEX(Rooms!$D$6:$D$101,MATCH($T27,Rooms!$A$6:$A$101,0)),"")) | Z27: =IF(OR($V27="",$Y27="",$Y27=0,$G27="Canceled"),"",$V27/$Y27) | AA27: =IF(OR($A27="",$G27="Canceled",$H27="Online",$T27=""),"",IF(SUMPRODUCT(--($A$6:$A$155<>""),--($G$6:$G$155<>"Canceled"),--($I$6:$I$155<=$J27),--($J$6:$J$155>=$I27),--($K$6:$K$155<$L27),--($L$6:$L$155>$K27),--((($M$6:$M$155="Yes")*($M27="Yes")+($N$6:$N$155="Yes")*($N27="Yes")+($O$6:$O$155="Yes")*($O27="Yes")+($P$6:$P$155="Yes")*($P27="Yes")+($Q$6:$Q$155="Yes")*($Q27="Yes")+($R$6:$R$155="Yes")*($R27="Yes")+($S$6:$S$155="Yes")*($S27="Yes"))>0),--($T$6:$T$155=$T27))>1,"Conflict","Clear")) | AB27: =IF(OR($A27="",$G27="Canceled",$U27=""),"",IF(SUMPRODUCT(--($A$6:$A$155<>""),--($G$6:$G$155<>"Canceled"),--($I$6:$I$155<=$J27),--($J$6:$J$155>=$I27),--($K$6:$K$155<$L27),--($L$6:$L$155>$K27),--((($M$6:$M$155="Yes")*($M27="Yes")+($N$6:$N$155="Yes")*($N27="Yes")+($O$6:$O$155="Yes")*($O27="Yes")+($P$6:$P$155="Yes")*($P27="Yes")+($Q$6:$Q$155="Yes")*($Q27="Yes")+($R$6:$R$155="Yes")*($R27="Yes")+($S$6:$S$155="Yes")*($S27="Yes"))>0),--($U$6:$U$155=$U27))>1,"Conflict","Clear")) | AC27: =IF($A27="","",IF($G27="Canceled","Not Applicable",IF($H27="Online","Not Applicable",IF(OR($V27="",$Y27=""),"",IF($V27>$Y27,"Over Capacity","Within Capacity"))))) | AD27: =IF($A27="","",IF(OR($B27="",$C27="",$D27="",$E27="",$F27="",$G27="",$H27="",$I27="",$J27="",$K27="",$L27="",$U27=""),"Missing Required Fields",IF(COUNTIF($M27:$S27,"Yes")=0,"Select a Meeting Day",IF(AND(OR($H27="In Person",$H27="Hybrid"),$T27=""),"Room Required",IF($AA27="Conflict","Room Conflict",IF($AB27="Conflict","Instructor Conflict",IF($AC27="Over Capacity","Over Capacity",IF($G27="Canceled","Canceled","Ready"))))))))
... W155: =IF(OR($K155="",$L155=""),"",ROUND(MOD($L155-$K155,1)*24,2)) | X155: =IF($W155="","",$W155*COUNTIF($M155:$S155,"Yes")) | Y155: =IF($T155="","",IFERROR(INDEX(Rooms!$D$6:$D$101,MATCH($T155,Rooms!$A$6:$A$101,0)),"")) | Z155: =IF(OR($V155="",$Y155="",$Y155=0,$G155="Canceled"),"",$V155/$Y155) | AA155: =IF(OR($A155="",$G155="Canceled",$H155="Online",$T155=""),"",IF(SUMPRODUCT(--($A$6:$A$155<>""),--($G$6:$G$155<>"Canceled"),--($I$6:$I$155<=$J155),--($J$6:$J$155>=$I155),--($K$6:$K$155<$L155),--($L$6:$L$155>$K155),--((($M$6:$M$155="Yes")*($M155="Yes")+($N$6:$N$155="Yes")*($N155="Yes")+($O$6:$O$155="Yes")*($O155="Yes")+($P$6:$P$155="Yes")*($P155="Yes")+($Q$6:$Q$155="Yes")*($Q155="Yes")+($R$6:$R$155="Yes")*($R155="Yes")+($S$6:$S$155="Yes")*($S155="Yes"))>0),--($T$6:$T$155=$T155))>1,"Conflict","Clear")) | AB155: =IF(OR($A155="",$G155="Canceled",$U155=""),"",IF(SUMPRODUCT(--($A$6:$A$155<>""),--($G$6:$G$155<>"Canceled"),--($I$6:$I$155<=$J155),--($J$6:$J$155>=$I155),--($K$6:$K$155<$L155),--($L$6:$L$155>$K155),--((($M$6:$M$155="Yes")*($M155="Yes")+($N$6:$N$155="Yes")*($N155="Yes")+($O$6:$O$155="Yes")*($O155="Yes")+($P$6:$P$155="Yes")*($P155="Yes")+($Q$6:$Q$155="Yes")*($Q155="Yes")+($R$6:$R$155="Yes")*($R155="Yes")+($S$6:$S$155="Yes")*($S155="Yes"))>0),--($U$6:$U$155=$U155))>1,"Conflict","Clear")) | AC155: =IF($A155="","",IF($G155="Canceled","Not Applicable",IF($H155="Online","Not Applicable",IF(OR($V155="",$Y155=""),"",IF($V155>$Y155,"Over Capacity","Within Capacity"))))) | AD155: =IF($A155="","",IF(OR($B155="",$C155="",$D155="",$E155="",$F155="",$G155="",$H155="",$I155="",$J155="",$K155="",$L155="",$U155=""),"Missing Required Fields",IF(COUNTIF($M155:$S155,"Yes")=0,"Select a Meeting Day",IF(AND(OR($H155="In Person",$H155="Hybrid"),$T155=""),"Room Required",IF($AA155="Conflict","Room Conflict",IF($AB155="Conflict","Instructor Conflict",IF($AC155="Over Capacity","Over Capacity",IF($G155="Canceled","Canceled","Ready"))))))))

Sheet Rooms
A1: Rooms
A2: Maintain room capacity and availability settings used by the Course Schedule sheet.
A5: Room ID | B5: Building | C5: Room Name | D5: Capacity | E5: Room Type | F5: Active | G5: Scheduled Sections | H5: Room Record Alert
A6: RM-A101 | B6: Juniper Hall | C6: Juniper 101 | D6: 28 | E6: Classroom | F6: Yes | G6: =IF($A6="","",COUNTIFS('Course Schedule'!$T$6:$T$155,$A6,'Course Schedule'!$G$6:$G$155,"<>Canceled")) | H6: =IF($A6="","",IF(COUNTIF($A$6:$A$101,$A6)>1,"Duplicate Room ID",IF(OR($D6="",$D6<1),"Missing Capacity",IF(AND($F6="No",$G6>0),"Inactive Room in Use","Ready"))))
A7: RM-A102 | B7: Juniper Hall | C7: Juniper 102 | D7: 24 | E7: Seminar Room | F7: Yes | G7: =IF($A7="","",COUNTIFS('Course Schedule'!$T$6:$T$155,$A7,'Course Schedule'!$G$6:$G$155,"<>Canceled")) | H7: =IF($A7="","",IF(COUNTIF($A$6:$A$101,$A7)>1,"Duplicate Room ID",IF(OR($D7="",$D7<1),"Missing Capacity",IF(AND($F7="No",$G7>0),"Inactive Room in Use","Ready"))))
A8: RM-B204 | B8: Meridian Center | C8: Technology Lab 204 | D8: 20 | E8: Computer Lab | F8: Yes | G8: =IF($A8="","",COUNTIFS('Course Schedule'!$T$6:$T$155,$A8,'Course Schedule'!$G$6:$G$155,"<>Canceled")) | H8: =IF($A8="","",IF(COUNTIF($A$6:$A$101,$A8)>1,"Duplicate Room ID",IF(OR($D8="",$D8<1),"Missing Capacity",IF(AND($F8="No",$G8>0),"Inactive Room in Use","Ready"))))
A9: RM-C110 | B9: Harbor Building | C9: Harbor Classroom 110 | D9: 30 | E9: Classroom | F9: Yes | G9: =IF($A9="","",COUNTIFS('Course Schedule'!$T$6:$T$155,$A9,'Course Schedule'!$G$6:$G$155,"<>Canceled")) | H9: =IF($A9="","",IF(COUNTIF($A$6:$A$101,$A9)>1,"Duplicate Room ID",IF(OR($D9="",$D9<1),"Missing Capacity",IF(AND($F9="No",$G9>0),"Inactive Room in Use","Ready"))))
A10: RM-D120 | B10: Summit Annex | C10: Summit Training Room | D10: 24 | E10: Training Room | F10: Yes | G10: =IF($A10="","",COUNTIFS('Course Schedule'!$T$6:$T$155,$A10,'Course Schedule'!$G$6:$G$155,"<>Canceled")) | H10: =IF($A10="","",IF(COUNTIF($A$6:$A$101,$A10)>1,"Duplicate Room ID",IF(OR($D10="",$D10<1),"Missing Capacity",IF(AND($F10="No",$G10>0),"Inactive Room in Use","Ready"))))
A11: RM-E215 | B11: Willow Arts Center | C11: Design Studio 215 | D11: 18 | E11: Classroom | F11: Yes | G11: =IF($A11="","",COUNTIFS('Course Schedule'!$T$6:$T$155,$A11,'Course Schedule'!$G$6:$G$155,"<>Canceled")) | H11: =IF($A11="","",IF(COUNTIF($A$6:$A$101,$A11)>1,"Duplicate Room ID",IF(OR($D11="",$D11<1),"Missing Capacity",IF(AND($F11="No",$G11>0),"Inactive Room in Use","Ready"))))
A12: RM-F108 | B12: Pioneer Center | C12: Pioneer Seminar 108 | D12: 16 | E12: Seminar Room | F12: Yes | G12: =IF($A12="","",COUNTIFS('Course Schedule'!$T$6:$T$155,$A12,'Course Schedule'!$G$6:$G$155,"<>Canceled")) | H12: =IF($A12="","",IF(COUNTIF($A$6:$A$101,$A12)>1,"Duplicate Room ID",IF(OR($D12="",$D12<1),"Missing Capacity",IF(AND($F12="No",$G12>0),"Inactive Room in Use","Ready"))))
A13: RM-G310 | B13: Cedar Science Hall | C13: Cedar Lab 310 | D13: 22 | E13: Science Lab | F13: Yes | G13: =IF($A13="","",COUNTIFS('Course Schedule'!$T$6:$T$155,$A13,'Course Schedule'!$G$6:$G$155,"<>Canceled")) | H13: =IF($A13="","",IF(COUNTIF($A$6:$A$101,$A13)>1,"Duplicate Room ID",IF(OR($D13="",$D13<1),"Missing Capacity",IF(AND($F13="No",$G13>0),"Inactive Room in Use","Ready"))))
G14: =IF($A14="","",COUNTIFS('Course Schedule'!$T$6:$T$155,$A14,'Course Schedule'!$G$6:$G$155,"<>Canceled")) | H14: =IF($A14="","",IF(COUNTIF($A$6:$A$101,$A14)>1,"Duplicate Room ID",IF(OR($D14="",$D14<1),"Missing Capacity",IF(AND($F14="No",$G14>0),"Inactive Room in Use","Ready"))))
G15: =IF($A15="","",COUNTIFS('Course Schedule'!$T$6:$T$155,$A15,'Course Schedule'!$G$6:$G$155,"<>Canceled")) | H15: =IF($A15="","",IF(COUNTIF($A$6:$A$101,$A15)>1,"Duplicate Room ID",IF(OR($D15="",$D15<1),"Missing Capacity",IF(AND($F15="No",$G15>0),"Inactive Room in Use","Ready"))))
G16: =IF($A16="","",COUNTIFS('Course Schedule'!$T$6:$T$155,$A16,'Course Schedule'!$G$6:$G$155,"<>Canceled")) | H16: =IF($A16="","",IF(COUNTIF($A$6:$A$101,$A16)>1,"Duplicate Room ID",IF(OR($D16="",$D16<1),"Missing Capacity",IF(AND($F16="No",$G16>0),"Inactive Room in Use","Ready"))))
G17: =IF($A17="","",COUNTIFS('Course Schedule'!$T$6:$T$155,$A17,'Course Schedule'!$G$6:$G$155,"<>Canceled")) | H17: =IF($A17="","",IF(COUNTIF($A$6:$A$101,$A17)>1,"Duplicate Room ID",IF(OR($D17="",$D17<1),"Missing Capacity",IF(AND($F17="No",$G17>0),"Inactive Room in Use","Ready"))))
G18: =IF($A18="","",COUNTIFS('Course Schedule'!$T$6:$T$155,$A18,'Course Schedule'!$G$6:$G$155,"<>Canceled")) | H18: =IF($A18="","",IF(COUNTIF($A$6:$A$101,$A18)>1,"Duplicate Room ID",IF(OR($D18="",$D18<1),"Missing Capacity",IF(AND($F18="No",$G18>0),"Inactive Room in Use","Ready"))))
G19: =IF($A19="","",COUNTIFS('Course Schedule'!$T$6:$T$155,$A19,'Course Schedule'!$G$6:$G$155,"<>Canceled")) | H19: =IF($A19="","",IF(COUNTIF($A$6:$A$101,$A19)>1,"Duplicate Room ID",IF(OR($D19="",$D19<1),"Missing Capacity",IF(AND($F19="No",$G19>0),"Inactive Room in Use","Ready"))))
G20: =IF($A20="","",COUNTIFS('Course Schedule'!$T$6:$T$155,$A20,'Course Schedule'!$G$6:$G$155,"<>Canceled")) | H20: =IF($A20="","",IF(COUNTIF($A$6:$A$101,$A20)>1,"Duplicate Room ID",IF(OR($D20="",$D20<1),"Missing Capacity",IF(AND($F20="No",$G20>0),"Inactive Room in Use","Ready"))))
G21: =IF($A21="","",COUNTIFS('Course Schedule'!$T$6:$T$155,$A21,'Course Schedule'!$G$6:$G$155,"<>Canceled")) | H21: =IF($A21="","",IF(COUNTIF($A$6:$A$101,$A21)>1,"Duplicate Room ID",IF(OR($D21="",$D21<1),"Missing Capacity",IF(AND($F21="No",$G21>0),"Inactive Room in Use","Ready"))))
G22: =IF($A22="","",COUNTIFS('Course Schedule'!$T$6:$T$155,$A22,'Course Schedule'!$G$6:$G$155,"<>Canceled")) | H22: =IF($A22="","",IF(COUNTIF($A$6:$A$101,$A22)>1,"Duplicate Room ID",IF(OR($D22="",$D22<1),"Missing Capacity",IF(AND($F22="No",$G22>0),"Inactive Room in Use","Ready"))))
G23: =IF($A23="","",COUNTIFS('Course Schedule'!$T$6:$T$155,$A23,'Course Schedule'!$G$6:$G$155,"<>Canceled")) | H23: =IF($A23="","",IF(COUNTIF($A$6:$A$101,$A23)>1,"Duplicate Room ID",IF(OR($D23="",$D23<1),"Missing Capacity",IF(AND($F23="No",$G23>0),"Inactive Room in Use","Ready"))))
G24: =IF($A24="","",COUNTIFS('Course Schedule'!$T$6:$T$155,$A24,'Course Schedule'!$G$6:$G$155,"<>Canceled")) | H24: =IF($A24="","",IF(COUNTIF($A$6:$A$101,$A24)>1,"Duplicate Room ID",IF(OR($D24="",$D24<1),"Missing Capacity",IF(AND($F24="No",$G24>0),"Inactive Room in Use","Ready"))))
G25: =IF($A25="","",COUNTIFS('Course Schedule'!$T$6:$T$155,$A25,'Course Schedule'!$G$6:$G$155,"<>Canceled")) | H25: =IF($A25="","",IF(COUNTIF($A$6:$A$101,$A25)>1,"Duplicate Room ID",IF(OR($D25="",$D25<1),"Missing Capacity",IF(AND($F25="No",$G25>0),"Inactive Room in Use","Ready"))))
... G101: =IF($A101="","",COUNTIFS('Course Schedule'!$T$6:$T$155,$A101,'Course Schedule'!$G$6:$G$155,"<>Canceled")) | H101: =IF($A101="","",IF(COUNTIF($A$6:$A$101,$A101)>1,"Duplicate Room ID",IF(OR($D101="",$D101<1),"Missing Capacity",IF(AND($F101="No",$G101>0),"Inactive Room in Use","Ready"))))

Sheet Instructors
A1: Instructors
A2: Maintain instructor availability and planning limits. Use fictional or internal operational identifiers only.
A5: Instructor ID | B5: Instructor Name | C5: Home Department | D5: Active | E5: Maximum Weekly Hours | F5: Assigned Sections | G5: Assigned Weekly Hours | H5: Instructor Record Alert
A6: INS-1001 | B6: Avery Bennett | C6: Business | D6: Yes | E6: 12 | F6: =IF($A6="","",COUNTIFS('Course Schedule'!$U$6:$U$155,$A6,'Course Schedule'!$G$6:$G$155,"<>Canceled")) | G6: =IF($A6="","",SUMIFS('Course Schedule'!$X$6:$X$155,'Course Schedule'!$U$6:$U$155,$A6,'Course Schedule'!$G$6:$G$155,"<>Canceled")) | H6: =IF($A6="","",IF(COUNTIF($A$6:$A$101,$A6)>1,"Duplicate Instructor ID",IF($E6="","Missing Limit",IF(AND($D6="No",$F6>0),"Inactive Instructor in Use",IF($G6>$E6,"Over Weekly Limit","Ready")))))
A7: INS-1002 | B7: Jordan Ellis | C7: Business | D7: Yes | E7: 15 | F7: =IF($A7="","",COUNTIFS('Course Schedule'!$U$6:$U$155,$A7,'Course Schedule'!$G$6:$G$155,"<>Canceled")) | G7: =IF($A7="","",SUMIFS('Course Schedule'!$X$6:$X$155,'Course Schedule'!$U$6:$U$155,$A7,'Course Schedule'!$G$6:$G$155,"<>Canceled")) | H7: =IF($A7="","",IF(COUNTIF($A$6:$A$101,$A7)>1,"Duplicate Instructor ID",IF($E7="","Missing Limit",IF(AND($D7="No",$F7>0),"Inactive Instructor in Use",IF($G7>$E7,"Over Weekly Limit","Ready")))))
A8: INS-1003 | B8: Morgan Patel | C8: Information Technology | D8: Yes | E8: 12 | F8: =IF($A8="","",COUNTIFS('Course Schedule'!$U$6:$U$155,$A8,'Course Schedule'!$G$6:$G$155,"<>Canceled")) | G8: =IF($A8="","",SUMIFS('Course Schedule'!$X$6:$X$155,'Course Schedule'!$U$6:$U$155,$A8,'Course Schedule'!$G$6:$G$155,"<>Canceled")) | H8: =IF($A8="","",IF(COUNTIF($A$6:$A$101,$A8)>1,"Duplicate Instructor ID",IF($E8="","Missing Limit",IF(AND($D8="No",$F8>0),"Inactive Instructor in Use",IF($G8>$E8,"Over Weekly Limit","Ready")))))
A9: INS-1004 | B9: Casey Rivera | C9: Information Technology | D9: Yes | E9: 12 | F9: =IF($A9="","",COUNTIFS('Course Schedule'!$U$6:$U$155,$A9,'Course Schedule'!$G$6:$G$155,"<>Canceled")) | G9: =IF($A9="","",SUMIFS('Course Schedule'!$X$6:$X$155,'Course Schedule'!$U$6:$U$155,$A9,'Course Schedule'!$G$6:$G$155,"<>Canceled")) | H9: =IF($A9="","",IF(COUNTIF($A$6:$A$101,$A9)>1,"Duplicate Instructor ID",IF($E9="","Missing Limit",IF(AND($D9="No",$F9>0),"Inactive Instructor in Use",IF($G9>$E9,"Over Weekly Limit","Ready")))))
A10: INS-1005 | B10: Taylor Brooks | C10: Health Sciences | D10: Yes | E10: 10 | F10: =IF($A10="","",COUNTIFS('Course Schedule'!$U$6:$U$155,$A10,'Course Schedule'!$G$6:$G$155,"<>Canceled")) | G10: =IF($A10="","",SUMIFS('Course Schedule'!$X$6:$X$155,'Course Schedule'!$U$6:$U$155,$A10,'Course Schedule'!$G$6:$G$155,"<>Canceled")) | H10: =IF($A10="","",IF(COUNTIF($A$6:$A$101,$A10)>1,"Duplicate Instructor ID",IF($E10="","Missing Limit",IF(AND($D10="No",$F10>0),"Inactive Instructor in Use",IF($G10>$E10,"Over Weekly Limit","Ready")))))
A11: INS-1006 | B11: Riley Chen | C11: Professional Studies | D11: Yes | E11: 12 | F11: =IF($A11="","",COUNTIFS('Course Schedule'!$U$6:$U$155,$A11,'Course Schedule'!$G$6:$G$155,"<>Canceled")) | G11: =IF($A11="","",SUMIFS('Course Schedule'!$X$6:$X$155,'Course Schedule'!$U$6:$U$155,$A11,'Course Schedule'!$G$6:$G$155,"<>Canceled")) | H11: =IF($A11="","",IF(COUNTIF($A$6:$A$101,$A11)>1,"Duplicate Instructor ID",IF($E11="","Missing Limit",IF(AND($D11="No",$F11>0),"Inactive Instructor in Use",IF($G11>$E11,"Over Weekly Limit","Ready")))))
