Workbook

Sheet Dashboard
A1: No-Show Follow-Up Dashboard
A2: Operational follow-up status by case
A3: As of Date | B3: 46272 | D3: Update the As of Date to review workload for a different day.
A5: Total No-Shows | C5: Open Cases | E5: Needs Attention | G5: Overdue Follow-Ups
A6: =COUNTIF('No-Show Cases'!$A$6:$A$205,"<>") | C6: =COUNTIF('No-Show Cases'!$A$6:$A$205,"<>")-COUNTIF('No-Show Cases'!$O$6:$O$205,"Closed*") | E6: =COUNTIF('No-Show Cases'!$U$6:$U$205,"<>") | G6: =COUNTIF('No-Show Cases'!$U$6:$U$205,"*overdue*")
A8: Rescheduled | C8: Closed – Unable to Reach | E8: First Follow-Up Completed | G8: On-Time First Follow-Up Rate
A9: =COUNTIF('No-Show Cases'!$O$6:$O$205,"Rescheduled") | C9: =COUNTIF('No-Show Cases'!$O$6:$O$205,"Closed - Unable to Reach") | E9: =COUNTIF('No-Show Cases'!$K$6:$K$205,">0") | G9: =IFERROR(SUMPRODUCT(--('No-Show Cases'!$L$6:$L$205<>""),--('No-Show Cases'!$L$6:$L$205<='No-Show Cases'!$J$6:$J$205))/COUNTIF('No-Show Cases'!$L$6:$L$205,"<>"),0)
A12: Case Status | B12: Case Count
A13: New | B13: =COUNTIF('No-Show Cases'!$O$6:$O$205,A13)
A14: Follow-Up In Progress | B14: =COUNTIF('No-Show Cases'!$O$6:$O$205,A14)
A15: Awaiting Learner Response | B15: =COUNTIF('No-Show Cases'!$O$6:$O$205,A15)
A16: Rescheduled | B16: =COUNTIF('No-Show Cases'!$O$6:$O$205,A16)
A17: Closed - Reached | B17: =COUNTIF('No-Show Cases'!$O$6:$O$205,A17)
A18: Closed - Unable to Reach | B18: =COUNTIF('No-Show Cases'!$O$6:$O$205,A18)
A19: Closed - No Action Needed | B19: =COUNTIF('No-Show Cases'!$O$6:$O$205,A19)
A23: Program | B23: Total Cases | C23: Open Cases
A24: Medical Office Basics | B24: =COUNTIF('No-Show Cases'!$D$6:$D$205,A24) | C24: =COUNTIFS('No-Show Cases'!$D$6:$D$205,A24,'No-Show Cases'!$A$6:$A$205,"<>")-COUNTIFS('No-Show Cases'!$D$6:$D$205,A24,'No-Show Cases'!$O$6:$O$205,"Closed*")
A25: Workplace Communication | B25: =COUNTIF('No-Show Cases'!$D$6:$D$205,A25) | C25: =COUNTIFS('No-Show Cases'!$D$6:$D$205,A25,'No-Show Cases'!$A$6:$A$205,"<>")-COUNTIFS('No-Show Cases'!$D$6:$D$205,A25,'No-Show Cases'!$O$6:$O$205,"Closed*")
A26: Digital Skills Foundations | B26: =COUNTIF('No-Show Cases'!$D$6:$D$205,A26) | C26: =COUNTIFS('No-Show Cases'!$D$6:$D$205,A26,'No-Show Cases'!$A$6:$A$205,"<>")-COUNTIFS('No-Show Cases'!$D$6:$D$205,A26,'No-Show Cases'!$O$6:$O$205,"Closed*")
A27: Customer Service Essentials | B27: =COUNTIF('No-Show Cases'!$D$6:$D$205,A27) | C27: =COUNTIFS('No-Show Cases'!$D$6:$D$205,A27,'No-Show Cases'!$A$6:$A$205,"<>")-COUNTIFS('No-Show Cases'!$D$6:$D$205,A27,'No-Show Cases'!$O$6:$O$205,"Closed*")
A28: Career Readiness | B28: =COUNTIF('No-Show Cases'!$D$6:$D$205,A28) | C28: =COUNTIFS('No-Show Cases'!$D$6:$D$205,A28,'No-Show Cases'!$A$6:$A$205,"<>")-COUNTIFS('No-Show Cases'!$D$6:$D$205,A28,'No-Show Cases'!$O$6:$O$205,"Closed*")
A29: Supervisory Skills | B29: =COUNTIF('No-Show Cases'!$D$6:$D$205,A29) | C29: =COUNTIFS('No-Show Cases'!$D$6:$D$205,A29,'No-Show Cases'!$A$6:$A$205,"<>")-COUNTIFS('No-Show Cases'!$D$6:$D$205,A29,'No-Show Cases'!$O$6:$O$205,"Closed*")
A30: New Employee Orientation | B30: =COUNTIF('No-Show Cases'!$D$6:$D$205,A30) | C30: =COUNTIFS('No-Show Cases'!$D$6:$D$205,A30,'No-Show Cases'!$A$6:$A$205,"<>")-COUNTIFS('No-Show Cases'!$D$6:$D$205,A30,'No-Show Cases'!$O$6:$O$205,"Closed*")
C31: =""
C32: =""
A33: Cases with Data Quality Issues | B33: =COUNTIF('No-Show Cases'!$V$6:$V$205,"<>") | C33: =""
A34: Log Entries with Data Quality Issues | B34: =COUNTIF('Follow-Up Log'!$I$6:$I$405,"<>") | C34: =""
A35: Open Cases with No Attempts | B35: =COUNTIFS('No-Show Cases'!$A$6:$A$205,"<>",'No-Show Cases'!$K$6:$K$205,0)-COUNTIFS('No-Show Cases'!$O$6:$O$205,"Closed*",'No-Show Cases'!$K$6:$K$205,0) | C35: =""
A36: Open Cases Without a Next Follow-Up | B36: =COUNTIFS('No-Show Cases'!$A$6:$A$205,"<>",'No-Show Cases'!$K$6:$K$205,">0",'No-Show Cases'!$N$6:$N$205,"")-COUNTIFS('No-Show Cases'!$O$6:$O$205,"Closed*",'No-Show Cases'!$K$6:$K$205,">0",'No-Show Cases'!$N$6:$N$205,"") | C36: =""
B37: ="" | C37: =""
B38: ="" | C38: =""
B39: ="" | C39: =""
B40: ="" | C40: =""
B41: ="" | C41: =""
B42: ="" | C42: =""
B43: ="" | C43: =""
B44: ="" | C44: =""
B45: ="" | C45: =""
B46: ="" | C46: =""
B47: ="" | C47: =""
...

Sheet No-Show Cases
A1: No-Show Cases
A2: Enter one row for each missed session. Record individual contact attempts on the Follow-Up Log sheet.
A5: No-Show ID | B5: Learner ID | C5: Learner Display Name | D5: Program | E5: Missed Session Date | F5: Session Type | G5: Delivery Format | H5: Assigned To | I5: Preferred Contact Method | J5: First Follow-Up Due | K5: Attempt Count | L5: First Attempt Date | M5: Last Attempt Date | N5: Next Follow-Up Date | O5: Status | P5: Outcome | Q5: Rescheduled Session Date | R5: Closed Date | S5: Case Notes | T5: Days Open | U5: Follow-Up Alert | V5: Data Quality Check
A6: NS-26001 | B6: LRN-1042 | C6: Maya Benton | D6: Medical Office Basics | E6: 46265 | F6: Workshop | G6: In Person | H6: Jordan Lee | I6: Email | J6: =IF(E6="","",WORKDAY(E6,'Lists & Settings'!$B$3)) | K6: =IF(A6="","",COUNTIF('Follow-Up Log'!$B$6:$B$405,A6)) | L6: =IF(A6="","",IF(K6=0,"",IFERROR(MINIFS('Follow-Up Log'!$C$6:$C$405,'Follow-Up Log'!$B$6:$B$405,A6),""))) | M6: =IF(A6="","",IF(K6=0,"",IFERROR(MAXIFS('Follow-Up Log'!$C$6:$C$405,'Follow-Up Log'!$B$6:$B$405,A6),""))) | O6: Closed - Reached | P6: Rescheduled | Q6: 46279 | R6: 46266 | S6: Learner selected a later workshop. | T6: =IF(E6="","",IF(LEFT(O6,6)="Closed",IF(R6="","",MAX(0,R6-E6)),MAX(0,Dashboard!$B$3-E6))) | U6: =IF(A6="","",IF(OR(B6="",C6="",D6="",E6="",F6="",G6="",H6="",O6=""),"Missing required fields",IF(AND(O6="Rescheduled",Q6=""),"Rescheduled date missing",IF(AND(LEFT(O6,6)="Closed",P6=""),"Closed outcome missing",IF(AND(LEFT(O6,6)="Closed",R6=""),"Closed date missing",IF(AND(LEFT(O6,6)<>"Closed",K6=0,J6<Dashboard!$B$3),"First follow-up overdue",IF(AND(LEFT(O6,6)<>"Closed",K6=0,J6=Dashboard!$B$3),"First follow-up due today",IF(AND(LEFT(O6,6)<>"Closed",N6<>"",N6<Dashboard!$B$3),"Next follow-up overdue",IF(AND(LEFT(O6,6)<>"Closed",N6=Dashboard!$B$3),"Next follow-up due today",IF(AND(LEFT(O6,6)<>"Closed",K6>0,N6="",M6<=Dashboard!$B$3-'Lists & Settings'!$B$4),"No next step / stale",""))))))))) | V6: =IF(A6="","",IF(COUNTIF($A$6:$A$205,A6)>1,"Duplicate No-Show ID",IF(E6>Dashboard!$B$3,"Session date is after as-of date",IF(AND(L6<>"",L6<E6),"Attempt before missed session",IF(AND(R6<>"",R6<E6),"Closed date before missed session",IF(AND(Q6<>"",Q6<E6),"Rescheduled date before missed session",IF(AND(LEFT(O6,6)="Closed",N6<>""),"Closed case still has a next follow-up",IF(AND(O6="Rescheduled",Q6=""),"Rescheduled date is required","")))))))
A7: NS-26002 | B7: LRN-1088 | C7: Owen Hartley | D7: Workplace Communication | E7: 46267 | F7: Class Session | G7: Virtual | H7: Casey Morgan | I7: Text Message | J7: =IF(E7="","",WORKDAY(E7,'Lists & Settings'!$B$3)) | K7: =IF(A7="","",COUNTIF('Follow-Up Log'!$B$6:$B$405,A7)) | L7: =IF(A7="","",IF(K7=0,"",IFERROR(MINIFS('Follow-Up Log'!$C$6:$C$405,'Follow-Up Log'!$B$6:$B$405,A7),""))) | M7: =IF(A7="","",IF(K7=0,"",IFERROR(MAXIFS('Follow-Up Log'!$C$6:$C$405,'Follow-Up Log'!$B$6:$B$405,A7),""))) | O7: New | S7: Initial follow-up has not been completed. | T7: =IF(E7="","",IF(LEFT(O7,6)="Closed",IF(R7="","",MAX(0,R7-E7)),MAX(0,Dashboard!$B$3-E7))) | U7: =IF(A7="","",IF(OR(B7="",C7="",D7="",E7="",F7="",G7="",H7="",O7=""),"Missing required fields",IF(AND(O7="Rescheduled",Q7=""),"Rescheduled date missing",IF(AND(LEFT(O7,6)="Closed",P7=""),"Closed outcome missing",IF(AND(LEFT(O7,6)="Closed",R7=""),"Closed date missing",IF(AND(LEFT(O7,6)<>"Closed",K7=0,J7<Dashboard!$B$3),"First follow-up overdue",IF(AND(LEFT(O7,6)<>"Closed",K7=0,J7=Dashboard!$B$3),"First follow-up due today",IF(AND(LEFT(O7,6)<>"Closed",N7<>"",N7<Dashboard!$B$3),"Next follow-up overdue",IF(AND(LEFT(O7,6)<>"Closed",N7=Dashboard!$B$3),"Next follow-up due today",IF(AND(LEFT(O7,6)<>"Closed",K7>0,N7="",M7<=Dashboard!$B$3-'Lists & Settings'!$B$4),"No next step / stale",""))))))))) | V7: =IF(A7="","",IF(COUNTIF($A$6:$A$205,A7)>1,"Duplicate No-Show ID",IF(E7>Dashboard!$B$3,"Session date is after as-of date",IF(AND(L7<>"",L7<E7),"Attempt before missed session",IF(AND(R7<>"",R7<E7),"Closed date before missed session",IF(AND(Q7<>"",Q7<E7),"Rescheduled date before missed session",IF(AND(LEFT(O7,6)="Closed",N7<>""),"Closed case still has a next follow-up",IF(AND(O7="Rescheduled",Q7=""),"Rescheduled date is required","")))))))
A8: NS-26003 | B8: LRN-1103 | C8: Priya Dalton | D8: Digital Skills Foundations | E8: 46268 | F8: Lab | G8: Hybrid | H8: Avery Brooks | I8: Phone | J8: =IF(E8="","",WORKDAY(E8,'Lists & Settings'!$B$3)) | K8: =IF(A8="","",COUNTIF('Follow-Up Log'!$B$6:$B$405,A8)) | L8: =IF(A8="","",IF(K8=0,"",IFERROR(MINIFS('Follow-Up Log'!$C$6:$C$405,'Follow-Up Log'!$B$6:$B$405,A8),""))) | M8: =IF(A8="","",IF(K8=0,"",IFERROR(MAXIFS('Follow-Up Log'!$C$6:$C$405,'Follow-Up Log'!$B$6:$B$405,A8),""))) | N8: 46273 | O8: Awaiting Learner Response | P8: Pending | S8: Message left; review after the holiday weekend. | T8: =IF(E8="","",IF(LEFT(O8,6)="Closed",IF(R8="","",MAX(0,R8-E8)),MAX(0,Dashboard!$B$3-E8))) | U8: =IF(A8="","",IF(OR(B8="",C8="",D8="",E8="",F8="",G8="",H8="",O8=""),"Missing required fields",IF(AND(O8="Rescheduled",Q8=""),"Rescheduled date missing",IF(AND(LEFT(O8,6)="Closed",P8=""),"Closed outcome missing",IF(AND(LEFT(O8,6)="Closed",R8=""),"Closed date missing",IF(AND(LEFT(O8,6)<>"Closed",K8=0,J8<Dashboard!$B$3),"First follow-up overdue",IF(AND(LEFT(O8,6)<>"Closed",K8=0,J8=Dashboard!$B$3),"First follow-up due today",IF(AND(LEFT(O8,6)<>"Closed",N8<>"",N8<Dashboard!$B$3),"Next follow-up overdue",IF(AND(LEFT(O8,6)<>"Closed",N8=Dashboard!$B$3),"Next follow-up due today",IF(AND(LEFT(O8,6)<>"Closed",K8>0,N8="",M8<=Dashboard!$B$3-'Lists & Settings'!$B$4),"No next step / stale",""))))))))) | V8: =IF(A8="","",IF(COUNTIF($A$6:$A$205,A8)>1,"Duplicate No-Show ID",IF(E8>Dashboard!$B$3,"Session date is after as-of date",IF(AND(L8<>"",L8<E8),"Attempt before missed session",IF(AND(R8<>"",R8<E8),"Closed date before missed session",IF(AND(Q8<>"",Q8<E8),"Rescheduled date before missed session",IF(AND(LEFT(O8,6)="Closed",N8<>""),"Closed case still has a next follow-up",IF(AND(O8="Rescheduled",Q8=""),"Rescheduled date is required","")))))))
A9: NS-26004 | B9: LRN-1126 | C9: Elias Monroe | D9: Customer Service Essentials | E9: 46269 | F9: Class Session | G9: In Person | H9: Riley Chen | I9: Email | J9: =IF(E9="","",WORKDAY(E9,'Lists & Settings'!$B$3)) | K9: =IF(A9="","",COUNTIF('Follow-Up Log'!$B$6:$B$405,A9)) | L9: =IF(A9="","",IF(K9=0,"",IFERROR(MINIFS('Follow-Up Log'!$C$6:$C$405,'Follow-Up Log'!$B$6:$B$405,A9),""))) | M9: =IF(A9="","",IF(K9=0,"",IFERROR(MAXIFS('Follow-Up Log'!$C$6:$C$405,'Follow-Up Log'!$B$6:$B$405,A9),""))) | O9: New | T9: =IF(E9="","",IF(LEFT(O9,6)="Closed",IF(R9="","",MAX(0,R9-E9)),MAX(0,Dashboard!$B$3-E9))) | U9: =IF(A9="","",IF(OR(B9="",C9="",D9="",E9="",F9="",G9="",H9="",O9=""),"Missing required fields",IF(AND(O9="Rescheduled",Q9=""),"Rescheduled date missing",IF(AND(LEFT(O9,6)="Closed",P9=""),"Closed outcome missing",IF(AND(LEFT(O9,6)="Closed",R9=""),"Closed date missing",IF(AND(LEFT(O9,6)<>"Closed",K9=0,J9<Dashboard!$B$3),"First follow-up overdue",IF(AND(LEFT(O9,6)<>"Closed",K9=0,J9=Dashboard!$B$3),"First follow-up due today",IF(AND(LEFT(O9,6)<>"Closed",N9<>"",N9<Dashboard!$B$3),"Next follow-up overdue",IF(AND(LEFT(O9,6)<>"Closed",N9=Dashboard!$B$3),"Next follow-up due today",IF(AND(LEFT(O9,6)<>"Closed",K9>0,N9="",M9<=Dashboard!$B$3-'Lists & Settings'!$B$4),"No next step / stale",""))))))))) | V9: =IF(A9="","",IF(COUNTIF($A$6:$A$205,A9)>1,"Duplicate No-Show ID",IF(E9>Dashboard!$B$3,"Session date is after as-of date",IF(AND(L9<>"",L9<E9),"Attempt before missed session",IF(AND(R9<>"",R9<E9),"Closed date before missed session",IF(AND(Q9<>"",Q9<E9),"Rescheduled date before missed session",IF(AND(LEFT(O9,6)="Closed",N9<>""),"Closed case still has a next follow-up",IF(AND(O9="Rescheduled",Q9=""),"Rescheduled date is required","")))))))
A10: NS-26005 | B10: LRN-1131 | C10: Tessa Vaughn | D10: Career Readiness | E10: 46258 | F10: Coaching Appointment | G10: Virtual | H10: Morgan Price | I10: Text Message | J10: =IF(E10="","",WORKDAY(E10,'Lists & Settings'!$B$3)) | K10: =IF(A10="","",COUNTIF('Follow-Up Log'!$B$6:$B$405,A10)) | L10: =IF(A10="","",IF(K10=0,"",IFERROR(MINIFS('Follow-Up Log'!$C$6:$C$405,'Follow-Up Log'!$B$6:$B$405,A10),""))) | M10: =IF(A10="","",IF(K10=0,"",IFERROR(MAXIFS('Follow-Up Log'!$C$6:$C$405,'Follow-Up Log'!$B$6:$B$405,A10),""))) | O10: Follow-Up In Progress | P10: Pending | S10: Two attempts completed; next step not recorded. | T10: =IF(E10="","",IF(LEFT(O10,6)="Closed",IF(R10="","",MAX(0,R10-E10)),MAX(0,Dashboard!$B$3-E10))) | U10: =IF(A10="","",IF(OR(B10="",C10="",D10="",E10="",F10="",G10="",H10="",O10=""),"Missing required fields",IF(AND(O10="Rescheduled",Q10=""),"Rescheduled date missing",IF(AND(LEFT(O10,6)="Closed",P10=""),"Closed outcome missing",IF(AND(LEFT(O10,6)="Closed",R10=""),"Closed date missing",IF(AND(LEFT(O10,6)<>"Closed",K10=0,J10<Dashboard!$B$3),"First follow-up overdue",IF(AND(LEFT(O10,6)<>"Closed",K10=0,J10=Dashboard!$B$3),"First follow-up due today",IF(AND(LEFT(O10,6)<>"Closed",N10<>"",N10<Dashboard!$B$3),"Next follow-up overdue",IF(AND(LEFT(O10,6)<>"Closed",N10=Dashboard!$B$3),"Next follow-up due today",IF(AND(LEFT(O10,6)<>"Closed",K10>0,N10="",M10<=Dashboard!$B$3-'Lists & Settings'!$B$4),"No next step / stale",""))))))))) | V10: =IF(A10="","",IF(COUNTIF($A$6:$A$205,A10)>1,"Duplicate No-Show ID",IF(E10>Dashboard!$B$3,"Session date is after as-of date",IF(AND(L10<>"",L10<E10),"Attempt before missed session",IF(AND(R10<>"",R10<E10),"Closed date before missed session",IF(AND(Q10<>"",Q10<E10),"Rescheduled date before missed session",IF(AND(LEFT(O10,6)="Closed",N10<>""),"Closed case still has a next follow-up",IF(AND(O10="Rescheduled",Q10=""),"Rescheduled date is required","")))))))
A11: NS-26006 | B11: LRN-1150 | C11: Nolan Pierce | D11: Supervisory Skills | E11: 46266 | F11: Workshop | G11: In Person | H11: Jordan Lee | I11: Phone | J11: =IF(E11="","",WORKDAY(E11,'Lists & Settings'!$B$3)) | K11: =IF(A11="","",COUNTIF('Follow-Up Log'!$B$6:$B$405,A11)) | L11: =IF(A11="","",IF(K11=0,"",IFERROR(MINIFS('Follow-Up Log'!$C$6:$C$405,'Follow-Up Log'!$B$6:$B$405,A11),""))) | M11: =IF(A11="","",IF(K11=0,"",IFERROR(MAXIFS('Follow-Up Log'!$C$6:$C$405,'Follow-Up Log'!$B$6:$B$405,A11),""))) | O11: Closed - Unable to Reach | P11: No Response | R11: 46269 | S11: Closed after documented attempts. | T11: =IF(E11="","",IF(LEFT(O11,6)="Closed",IF(R11="","",MAX(0,R11-E11)),MAX(0,Dashboard!$B$3-E11))) | U11: =IF(A11="","",IF(OR(B11="",C11="",D11="",E11="",F11="",G11="",H11="",O11=""),"Missing required fields",IF(AND(O11="Rescheduled",Q11=""),"Rescheduled date missing",IF(AND(LEFT(O11,6)="Closed",P11=""),"Closed outcome missing",IF(AND(LEFT(O11,6)="Closed",R11=""),"Closed date missing",IF(AND(LEFT(O11,6)<>"Closed",K11=0,J11<Dashboard!$B$3),"First follow-up overdue",IF(AND(LEFT(O11,6)<>"Closed",K11=0,J11=Dashboard!$B$3),"First follow-up due today",IF(AND(LEFT(O11,6)<>"Closed",N11<>"",N11<Dashboard!$B$3),"Next follow-up overdue",IF(AND(LEFT(O11,6)<>"Closed",N11=Dashboard!$B$3),"Next follow-up due today",IF(AND(LEFT(O11,6)<>"Closed",K11>0,N11="",M11<=Dashboard!$B$3-'Lists & Settings'!$B$4),"No next step / stale",""))))))))) | V11: =IF(A11="","",IF(COUNTIF($A$6:$A$205,A11)>1,"Duplicate No-Show ID",IF(E11>Dashboard!$B$3,"Session date is after as-of date",IF(AND(L11<>"",L11<E11),"Attempt before missed session",IF(AND(R11<>"",R11<E11),"Closed date before missed session",IF(AND(Q11<>"",Q11<E11),"Rescheduled date before missed session",IF(AND(LEFT(O11,6)="Closed",N11<>""),"Closed case still has a next follow-up",IF(AND(O11="Rescheduled",Q11=""),"Rescheduled date is required","")))))))
A12: NS-26007 | B12: LRN-1174 | C12: Amara Wells | D12: Digital Skills Foundations | E12: 46270 | F12: Lab | G12: Virtual | H12: Casey Morgan | I12: Email | J12: =IF(E12="","",WORKDAY(E12,'Lists & Settings'!$B$3)) | K12: =IF(A12="","",COUNTIF('Follow-Up Log'!$B$6:$B$405,A12)) | L12: =IF(A12="","",IF(K12=0,"",IFERROR(MINIFS('Follow-Up Log'!$C$6:$C$405,'Follow-Up Log'!$B$6:$B$405,A12),""))) | M12: =IF(A12="","",IF(K12=0,"",IFERROR(MAXIFS('Follow-Up Log'!$C$6:$C$405,'Follow-Up Log'!$B$6:$B$405,A12),""))) | O12: New | S12: Weekend session no-show. | T12: =IF(E12="","",IF(LEFT(O12,6)="Closed",IF(R12="","",MAX(0,R12-E12)),MAX(0,Dashboard!$B$3-E12))) | U12: =IF(A12="","",IF(OR(B12="",C12="",D12="",E12="",F12="",G12="",H12="",O12=""),"Missing required fields",IF(AND(O12="Rescheduled",Q12=""),"Rescheduled date missing",IF(AND(LEFT(O12,6)="Closed",P12=""),"Closed outcome missing",IF(AND(LEFT(O12,6)="Closed",R12=""),"Closed date missing",IF(AND(LEFT(O12,6)<>"Closed",K12=0,J12<Dashboard!$B$3),"First follow-up overdue",IF(AND(LEFT(O12,6)<>"Closed",K12=0,J12=Dashboard!$B$3),"First follow-up due today",IF(AND(LEFT(O12,6)<>"Closed",N12<>"",N12<Dashboard!$B$3),"Next follow-up overdue",IF(AND(LEFT(O12,6)<>"Closed",N12=Dashboard!$B$3),"Next follow-up due today",IF(AND(LEFT(O12,6)<>"Closed",K12>0,N12="",M12<=Dashboard!$B$3-'Lists & Settings'!$B$4),"No next step / stale",""))))))))) | V12: =IF(A12="","",IF(COUNTIF($A$6:$A$205,A12)>1,"Duplicate No-Show ID",IF(E12>Dashboard!$B$3,"Session date is after as-of date",IF(AND(L12<>"",L12<E12),"Attempt before missed session",IF(AND(R12<>"",R12<E12),"Closed date before missed session",IF(AND(Q12<>"",Q12<E12),"Rescheduled date before missed session",IF(AND(LEFT(O12,6)="Closed",N12<>""),"Closed case still has a next follow-up",IF(AND(O12="Rescheduled",Q12=""),"Rescheduled date is required","")))))))
A13: NS-26008 | B13: LRN-1192 | C13: Caleb Frost | D13: Workplace Communication | E13: 46271 | F13: Orientation | G13: Hybrid | H13: Avery Brooks | I13: Portal Message | J13: =IF(E13="","",WORKDAY(E13,'Lists & Settings'!$B$3)) | K13: =IF(A13="","",COUNTIF('Follow-Up Log'!$B$6:$B$405,A13)) | L13: =IF(A13="","",IF(K13=0,"",IFERROR(MINIFS('Follow-Up Log'!$C$6:$C$405,'Follow-Up Log'!$B$6:$B$405,A13),""))) | M13: =IF(A13="","",IF(K13=0,"",IFERROR(MAXIFS('Follow-Up Log'!$C$6:$C$405,'Follow-Up Log'!$B$6:$B$405,A13),""))) | O13: Closed - No Action Needed | P13: Excused or Administrative | R13: 46272 | S13: Attendance record was corrected administratively. | T13: =IF(E13="","",IF(LEFT(O13,6)="Closed",IF(R13="","",MAX(0,R13-E13)),MAX(0,Dashboard!$B$3-E13))) | U13: =IF(A13="","",IF(OR(B13="",C13="",D13="",E13="",F13="",G13="",H13="",O13=""),"Missing required fields",IF(AND(O13="Rescheduled",Q13=""),"Rescheduled date missing",IF(AND(LEFT(O13,6)="Closed",P13=""),"Closed outcome missing",IF(AND(LEFT(O13,6)="Closed",R13=""),"Closed date missing",IF(AND(LEFT(O13,6)<>"Closed",K13=0,J13<Dashboard!$B$3),"First follow-up overdue",IF(AND(LEFT(O13,6)<>"Closed",K13=0,J13=Dashboard!$B$3),"First follow-up due today",IF(AND(LEFT(O13,6)<>"Closed",N13<>"",N13<Dashboard!$B$3),"Next follow-up overdue",IF(AND(LEFT(O13,6)<>"Closed",N13=Dashboard!$B$3),"Next follow-up due today",IF(AND(LEFT(O13,6)<>"Closed",K13>0,N13="",M13<=Dashboard!$B$3-'Lists & Settings'!$B$4),"No next step / stale",""))))))))) | V13: =IF(A13="","",IF(COUNTIF($A$6:$A$205,A13)>1,"Duplicate No-Show ID",IF(E13>Dashboard!$B$3,"Session date is after as-of date",IF(AND(L13<>"",L13<E13),"Attempt before missed session",IF(AND(R13<>"",R13<E13),"Closed date before missed session",IF(AND(Q13<>"",Q13<E13),"Rescheduled date before missed session",IF(AND(LEFT(O13,6)="Closed",N13<>""),"Closed case still has a next follow-up",IF(AND(O13="Rescheduled",Q13=""),"Rescheduled date is required","")))))))
A14: NS-26009 | B14: LRN-1210 | C14: Lena Ortiz | D14: Medical Office Basics | E14: 46272 | F14: Class Session | G14: In Person | H14: Riley Chen | I14: Text Message | J14: =IF(E14="","",WORKDAY(E14,'Lists & Settings'!$B$3)) | K14: =IF(A14="","",COUNTIF('Follow-Up Log'!$B$6:$B$405,A14)) | L14: =IF(A14="","",IF(K14=0,"",IFERROR(MINIFS('Follow-Up Log'!$C$6:$C$405,'Follow-Up Log'!$B$6:$B$405,A14),""))) | M14: =IF(A14="","",IF(K14=0,"",IFERROR(MAXIFS('Follow-Up Log'!$C$6:$C$405,'Follow-Up Log'!$B$6:$B$405,A14),""))) | O14: New | S14: Same-day case; follow-up is due next business day. | T14: =IF(E14="","",IF(LEFT(O14,6)="Closed",IF(R14="","",MAX(0,R14-E14)),MAX(0,Dashboard!$B$3-E14))) | U14: =IF(A14="","",IF(OR(B14="",C14="",D14="",E14="",F14="",G14="",H14="",O14=""),"Missing required fields",IF(AND(O14="Rescheduled",Q14=""),"Rescheduled date missing",IF(AND(LEFT(O14,6)="Closed",P14=""),"Closed outcome missing",IF(AND(LEFT(O14,6)="Closed",R14=""),"Closed date missing",IF(AND(LEFT(O14,6)<>"Closed",K14=0,J14<Dashboard!$B$3),"First follow-up overdue",IF(AND(LEFT(O14,6)<>"Closed",K14=0,J14=Dashboard!$B$3),"First follow-up due today",IF(AND(LEFT(O14,6)<>"Closed",N14<>"",N14<Dashboard!$B$3),"Next follow-up overdue",IF(AND(LEFT(O14,6)<>"Closed",N14=Dashboard!$B$3),"Next follow-up due today",IF(AND(LEFT(O14,6)<>"Closed",K14>0,N14="",M14<=Dashboard!$B$3-'Lists & Settings'!$B$4),"No next step / stale",""))))))))) | V14: =IF(A14="","",IF(COUNTIF($A$6:$A$205,A14)>1,"Duplicate No-Show ID",IF(E14>Dashboard!$B$3,"Session date is after as-of date",IF(AND(L14<>"",L14<E14),"Attempt before missed session",IF(AND(R14<>"",R14<E14),"Closed date before missed session",IF(AND(Q14<>"",Q14<E14),"Rescheduled date before missed session",IF(AND(LEFT(O14,6)="Closed",N14<>""),"Closed case still has a next follow-up",IF(AND(O14="Rescheduled",Q14=""),"Rescheduled date is required","")))))))
A15: NS-26010 | B15: LRN-1227 | C15: Marcus Bellamy | D15: Career Readiness | E15: 46254 | F15: Coaching Appointment | G15: Virtual | H15: Morgan Price | I15: Phone | J15: =IF(E15="","",WORKDAY(E15,'Lists & Settings'!$B$3)) | K15: =IF(A15="","",COUNTIF('Follow-Up Log'!$B$6:$B$405,A15)) | L15: =IF(A15="","",IF(K15=0,"",IFERROR(MINIFS('Follow-Up Log'!$C$6:$C$405,'Follow-Up Log'!$B$6:$B$405,A15),""))) | M15: =IF(A15="","",IF(K15=0,"",IFERROR(MAXIFS('Follow-Up Log'!$C$6:$C$405,'Follow-Up Log'!$B$6:$B$405,A15),""))) | O15: Rescheduled | P15: Rescheduled | Q15: 46275 | S15: Learner moved to a new coaching appointment. | T15: =IF(E15="","",IF(LEFT(O15,6)="Closed",IF(R15="","",MAX(0,R15-E15)),MAX(0,Dashboard!$B$3-E15))) | U15: =IF(A15="","",IF(OR(B15="",C15="",D15="",E15="",F15="",G15="",H15="",O15=""),"Missing required fields",IF(AND(O15="Rescheduled",Q15=""),"Rescheduled date missing",IF(AND(LEFT(O15,6)="Closed",P15=""),"Closed outcome missing",IF(AND(LEFT(O15,6)="Closed",R15=""),"Closed date missing",IF(AND(LEFT(O15,6)<>"Closed",K15=0,J15<Dashboard!$B$3),"First follow-up overdue",IF(AND(LEFT(O15,6)<>"Closed",K15=0,J15=Dashboard!$B$3),"First follow-up due today",IF(AND(LEFT(O15,6)<>"Closed",N15<>"",N15<Dashboard!$B$3),"Next follow-up overdue",IF(AND(LEFT(O15,6)<>"Closed",N15=Dashboard!$B$3),"Next follow-up due today",IF(AND(LEFT(O15,6)<>"Closed",K15>0,N15="",M15<=Dashboard!$B$3-'Lists & Settings'!$B$4),"No next step / stale",""))))))))) | V15: =IF(A15="","",IF(COUNTIF($A$6:$A$205,A15)>1,"Duplicate No-Show ID",IF(E15>Dashboard!$B$3,"Session date is after as-of date",IF(AND(L15<>"",L15<E15),"Attempt before missed session",IF(AND(R15<>"",R15<E15),"Closed date before missed session",IF(AND(Q15<>"",Q15<E15),"Rescheduled date before missed session",IF(AND(LEFT(O15,6)="Closed",N15<>""),"Closed case still has a next follow-up",IF(AND(O15="Rescheduled",Q15=""),"Rescheduled date is required","")))))))
J16: =IF(E16="","",WORKDAY(E16,'Lists & Settings'!$B$3)) | K16: =IF(A16="","",COUNTIF('Follow-Up Log'!$B$6:$B$405,A16)) | L16: =IF(A16="","",IF(K16=0,"",IFERROR(MINIFS('Follow-Up Log'!$C$6:$C$405,'Follow-Up Log'!$B$6:$B$405,A16),""))) | M16: =IF(A16="","",IF(K16=0,"",IFERROR(MAXIFS('Follow-Up Log'!$C$6:$C$405,'Follow-Up Log'!$B$6:$B$405,A16),""))) | T16: =IF(E16="","",IF(LEFT(O16,6)="Closed",IF(R16="","",MAX(0,R16-E16)),MAX(0,Dashboard!$B$3-E16))) | U16: =IF(A16="","",IF(OR(B16="",C16="",D16="",E16="",F16="",G16="",H16="",O16=""),"Missing required fields",IF(AND(O16="Rescheduled",Q16=""),"Rescheduled date missing",IF(AND(LEFT(O16,6)="Closed",P16=""),"Closed outcome missing",IF(AND(LEFT(O16,6)="Closed",R16=""),"Closed date missing",IF(AND(LEFT(O16,6)<>"Closed",K16=0,J16<Dashboard!$B$3),"First follow-up overdue",IF(AND(LEFT(O16,6)<>"Closed",K16=0,J16=Dashboard!$B$3),"First follow-up due today",IF(AND(LEFT(O16,6)<>"Closed",N16<>"",N16<Dashboard!$B$3),"Next follow-up overdue",IF(AND(LEFT(O16,6)<>"Closed",N16=Dashboard!$B$3),"Next follow-up due today",IF(AND(LEFT(O16,6)<>"Closed",K16>0,N16="",M16<=Dashboard!$B$3-'Lists & Settings'!$B$4),"No next step / stale",""))))))))) | V16: =IF(A16="","",IF(COUNTIF($A$6:$A$205,A16)>1,"Duplicate No-Show ID",IF(E16>Dashboard!$B$3,"Session date is after as-of date",IF(AND(L16<>"",L16<E16),"Attempt before missed session",IF(AND(R16<>"",R16<E16),"Closed date before missed session",IF(AND(Q16<>"",Q16<E16),"Rescheduled date before missed session",IF(AND(LEFT(O16,6)="Closed",N16<>""),"Closed case still has a next follow-up",IF(AND(O16="Rescheduled",Q16=""),"Rescheduled date is required","")))))))
J17: =IF(E17="","",WORKDAY(E17,'Lists & Settings'!$B$3)) | K17: =IF(A17="","",COUNTIF('Follow-Up Log'!$B$6:$B$405,A17)) | L17: =IF(A17="","",IF(K17=0,"",IFERROR(MINIFS('Follow-Up Log'!$C$6:$C$405,'Follow-Up Log'!$B$6:$B$405,A17),""))) | M17: =IF(A17="","",IF(K17=0,"",IFERROR(MAXIFS('Follow-Up Log'!$C$6:$C$405,'Follow-Up Log'!$B$6:$B$405,A17),""))) | T17: =IF(E17="","",IF(LEFT(O17,6)="Closed",IF(R17="","",MAX(0,R17-E17)),MAX(0,Dashboard!$B$3-E17))) | U17: =IF(A17="","",IF(OR(B17="",C17="",D17="",E17="",F17="",G17="",H17="",O17=""),"Missing required fields",IF(AND(O17="Rescheduled",Q17=""),"Rescheduled date missing",IF(AND(LEFT(O17,6)="Closed",P17=""),"Closed outcome missing",IF(AND(LEFT(O17,6)="Closed",R17=""),"Closed date missing",IF(AND(LEFT(O17,6)<>"Closed",K17=0,J17<Dashboard!$B$3),"First follow-up overdue",IF(AND(LEFT(O17,6)<>"Closed",K17=0,J17=Dashboard!$B$3),"First follow-up due today",IF(AND(LEFT(O17,6)<>"Closed",N17<>"",N17<Dashboard!$B$3),"Next follow-up overdue",IF(AND(LEFT(O17,6)<>"Closed",N17=Dashboard!$B$3),"Next follow-up due today",IF(AND(LEFT(O17,6)<>"Closed",K17>0,N17="",M17<=Dashboard!$B$3-'Lists & Settings'!$B$4),"No next step / stale",""))))))))) | V17: =IF(A17="","",IF(COUNTIF($A$6:$A$205,A17)>1,"Duplicate No-Show ID",IF(E17>Dashboard!$B$3,"Session date is after as-of date",IF(AND(L17<>"",L17<E17),"Attempt before missed session",IF(AND(R17<>"",R17<E17),"Closed date before missed session",IF(AND(Q17<>"",Q17<E17),"Rescheduled date before missed session",IF(AND(LEFT(O17,6)="Closed",N17<>""),"Closed case still has a next follow-up",IF(AND(O17="Rescheduled",Q17=""),"Rescheduled date is required","")))))))
J18: =IF(E18="","",WORKDAY(E18,'Lists & Settings'!$B$3)) | K18: =IF(A18="","",COUNTIF('Follow-Up Log'!$B$6:$B$405,A18)) | L18: =IF(A18="","",IF(K18=0,"",IFERROR(MINIFS('Follow-Up Log'!$C$6:$C$405,'Follow-Up Log'!$B$6:$B$405,A18),""))) | M18: =IF(A18="","",IF(K18=0,"",IFERROR(MAXIFS('Follow-Up Log'!$C$6:$C$405,'Follow-Up Log'!$B$6:$B$405,A18),""))) | T18: =IF(E18="","",IF(LEFT(O18,6)="Closed",IF(R18="","",MAX(0,R18-E18)),MAX(0,Dashboard!$B$3-E18))) | U18: =IF(A18="","",IF(OR(B18="",C18="",D18="",E18="",F18="",G18="",H18="",O18=""),"Missing required fields",IF(AND(O18="Rescheduled",Q18=""),"Rescheduled date missing",IF(AND(LEFT(O18,6)="Closed",P18=""),"Closed outcome missing",IF(AND(LEFT(O18,6)="Closed",R18=""),"Closed date missing",IF(AND(LEFT(O18,6)<>"Closed",K18=0,J18<Dashboard!$B$3),"First follow-up overdue",IF(AND(LEFT(O18,6)<>"Closed",K18=0,J18=Dashboard!$B$3),"First follow-up due today",IF(AND(LEFT(O18,6)<>"Closed",N18<>"",N18<Dashboard!$B$3),"Next follow-up overdue",IF(AND(LEFT(O18,6)<>"Closed",N18=Dashboard!$B$3),"Next follow-up due today",IF(AND(LEFT(O18,6)<>"Closed",K18>0,N18="",M18<=Dashboard!$B$3-'Lists & Settings'!$B$4),"No next step / stale",""))))))))) | V18: =IF(A18="","",IF(COUNTIF($A$6:$A$205,A18)>1,"Duplicate No-Show ID",IF(E18>Dashboard!$B$3,"Session date is after as-of date",IF(AND(L18<>"",L18<E18),"Attempt before missed session",IF(AND(R18<>"",R18<E18),"Closed date before missed session",IF(AND(Q18<>"",Q18<E18),"Rescheduled date before missed session",IF(AND(LEFT(O18,6)="Closed",N18<>""),"Closed case still has a next follow-up",IF(AND(O18="Rescheduled",Q18=""),"Rescheduled date is required","")))))))
J19: =IF(E19="","",WORKDAY(E19,'Lists & Settings'!$B$3)) | K19: =IF(A19="","",COUNTIF('Follow-Up Log'!$B$6:$B$405,A19)) | L19: =IF(A19="","",IF(K19=0,"",IFERROR(MINIFS('Follow-Up Log'!$C$6:$C$405,'Follow-Up Log'!$B$6:$B$405,A19),""))) | M19: =IF(A19="","",IF(K19=0,"",IFERROR(MAXIFS('Follow-Up Log'!$C$6:$C$405,'Follow-Up Log'!$B$6:$B$405,A19),""))) | T19: =IF(E19="","",IF(LEFT(O19,6)="Closed",IF(R19="","",MAX(0,R19-E19)),MAX(0,Dashboard!$B$3-E19))) | U19: =IF(A19="","",IF(OR(B19="",C19="",D19="",E19="",F19="",G19="",H19="",O19=""),"Missing required fields",IF(AND(O19="Rescheduled",Q19=""),"Rescheduled date missing",IF(AND(LEFT(O19,6)="Closed",P19=""),"Closed outcome missing",IF(AND(LEFT(O19,6)="Closed",R19=""),"Closed date missing",IF(AND(LEFT(O19,6)<>"Closed",K19=0,J19<Dashboard!$B$3),"First follow-up overdue",IF(AND(LEFT(O19,6)<>"Closed",K19=0,J19=Dashboard!$B$3),"First follow-up due today",IF(AND(LEFT(O19,6)<>"Closed",N19<>"",N19<Dashboard!$B$3),"Next follow-up overdue",IF(AND(LEFT(O19,6)<>"Closed",N19=Dashboard!$B$3),"Next follow-up due today",IF(AND(LEFT(O19,6)<>"Closed",K19>0,N19="",M19<=Dashboard!$B$3-'Lists & Settings'!$B$4),"No next step / stale",""))))))))) | V19: =IF(A19="","",IF(COUNTIF($A$6:$A$205,A19)>1,"Duplicate No-Show ID",IF(E19>Dashboard!$B$3,"Session date is after as-of date",IF(AND(L19<>"",L19<E19),"Attempt before missed session",IF(AND(R19<>"",R19<E19),"Closed date before missed session",IF(AND(Q19<>"",Q19<E19),"Rescheduled date before missed session",IF(AND(LEFT(O19,6)="Closed",N19<>""),"Closed case still has a next follow-up",IF(AND(O19="Rescheduled",Q19=""),"Rescheduled date is required","")))))))
J20: =IF(E20="","",WORKDAY(E20,'Lists & Settings'!$B$3)) | K20: =IF(A20="","",COUNTIF('Follow-Up Log'!$B$6:$B$405,A20)) | L20: =IF(A20="","",IF(K20=0,"",IFERROR(MINIFS('Follow-Up Log'!$C$6:$C$405,'Follow-Up Log'!$B$6:$B$405,A20),""))) | M20: =IF(A20="","",IF(K20=0,"",IFERROR(MAXIFS('Follow-Up Log'!$C$6:$C$405,'Follow-Up Log'!$B$6:$B$405,A20),""))) | T20: =IF(E20="","",IF(LEFT(O20,6)="Closed",IF(R20="","",MAX(0,R20-E20)),MAX(0,Dashboard!$B$3-E20))) | U20: =IF(A20="","",IF(OR(B20="",C20="",D20="",E20="",F20="",G20="",H20="",O20=""),"Missing required fields",IF(AND(O20="Rescheduled",Q20=""),"Rescheduled date missing",IF(AND(LEFT(O20,6)="Closed",P20=""),"Closed outcome missing",IF(AND(LEFT(O20,6)="Closed",R20=""),"Closed date missing",IF(AND(LEFT(O20,6)<>"Closed",K20=0,J20<Dashboard!$B$3),"First follow-up overdue",IF(AND(LEFT(O20,6)<>"Closed",K20=0,J20=Dashboard!$B$3),"First follow-up due today",IF(AND(LEFT(O20,6)<>"Closed",N20<>"",N20<Dashboard!$B$3),"Next follow-up overdue",IF(AND(LEFT(O20,6)<>"Closed",N20=Dashboard!$B$3),"Next follow-up due today",IF(AND(LEFT(O20,6)<>"Closed",K20>0,N20="",M20<=Dashboard!$B$3-'Lists & Settings'!$B$4),"No next step / stale",""))))))))) | V20: =IF(A20="","",IF(COUNTIF($A$6:$A$205,A20)>1,"Duplicate No-Show ID",IF(E20>Dashboard!$B$3,"Session date is after as-of date",IF(AND(L20<>"",L20<E20),"Attempt before missed session",IF(AND(R20<>"",R20<E20),"Closed date before missed session",IF(AND(Q20<>"",Q20<E20),"Rescheduled date before missed session",IF(AND(LEFT(O20,6)="Closed",N20<>""),"Closed case still has a next follow-up",IF(AND(O20="Rescheduled",Q20=""),"Rescheduled date is required","")))))))
J21: =IF(E21="","",WORKDAY(E21,'Lists & Settings'!$B$3)) | K21: =IF(A21="","",COUNTIF('Follow-Up Log'!$B$6:$B$405,A21)) | L21: =IF(A21="","",IF(K21=0,"",IFERROR(MINIFS('Follow-Up Log'!$C$6:$C$405,'Follow-Up Log'!$B$6:$B$405,A21),""))) | M21: =IF(A21="","",IF(K21=0,"",IFERROR(MAXIFS('Follow-Up Log'!$C$6:$C$405,'Follow-Up Log'!$B$6:$B$405,A21),""))) | T21: =IF(E21="","",IF(LEFT(O21,6)="Closed",IF(R21="","",MAX(0,R21-E21)),MAX(0,Dashboard!$B$3-E21))) | U21: =IF(A21="","",IF(OR(B21="",C21="",D21="",E21="",F21="",G21="",H21="",O21=""),"Missing required fields",IF(AND(O21="Rescheduled",Q21=""),"Rescheduled date missing",IF(AND(LEFT(O21,6)="Closed",P21=""),"Closed outcome missing",IF(AND(LEFT(O21,6)="Closed",R21=""),"Closed date missing",IF(AND(LEFT(O21,6)<>"Closed",K21=0,J21<Dashboard!$B$3),"First follow-up overdue",IF(AND(LEFT(O21,6)<>"Closed",K21=0,J21=Dashboard!$B$3),"First follow-up due today",IF(AND(LEFT(O21,6)<>"Closed",N21<>"",N21<Dashboard!$B$3),"Next follow-up overdue",IF(AND(LEFT(O21,6)<>"Closed",N21=Dashboard!$B$3),"Next follow-up due today",IF(AND(LEFT(O21,6)<>"Closed",K21>0,N21="",M21<=Dashboard!$B$3-'Lists & Settings'!$B$4),"No next step / stale",""))))))))) | V21: =IF(A21="","",IF(COUNTIF($A$6:$A$205,A21)>1,"Duplicate No-Show ID",IF(E21>Dashboard!$B$3,"Session date is after as-of date",IF(AND(L21<>"",L21<E21),"Attempt before missed session",IF(AND(R21<>"",R21<E21),"Closed date before missed session",IF(AND(Q21<>"",Q21<E21),"Rescheduled date before missed session",IF(AND(LEFT(O21,6)="Closed",N21<>""),"Closed case still has a next follow-up",IF(AND(O21="Rescheduled",Q21=""),"Rescheduled date is required","")))))))
J22: =IF(E22="","",WORKDAY(E22,'Lists & Settings'!$B$3)) | K22: =IF(A22="","",COUNTIF('Follow-Up Log'!$B$6:$B$405,A22)) | L22: =IF(A22="","",IF(K22=0,"",IFERROR(MINIFS('Follow-Up Log'!$C$6:$C$405,'Follow-Up Log'!$B$6:$B$405,A22),""))) | M22: =IF(A22="","",IF(K22=0,"",IFERROR(MAXIFS('Follow-Up Log'!$C$6:$C$405,'Follow-Up Log'!$B$6:$B$405,A22),""))) | T22: =IF(E22="","",IF(LEFT(O22,6)="Closed",IF(R22="","",MAX(0,R22-E22)),MAX(0,Dashboard!$B$3-E22))) | U22: =IF(A22="","",IF(OR(B22="",C22="",D22="",E22="",F22="",G22="",H22="",O22=""),"Missing required fields",IF(AND(O22="Rescheduled",Q22=""),"Rescheduled date missing",IF(AND(LEFT(O22,6)="Closed",P22=""),"Closed outcome missing",IF(AND(LEFT(O22,6)="Closed",R22=""),"Closed date missing",IF(AND(LEFT(O22,6)<>"Closed",K22=0,J22<Dashboard!$B$3),"First follow-up overdue",IF(AND(LEFT(O22,6)<>"Closed",K22=0,J22=Dashboard!$B$3),"First follow-up due today",IF(AND(LEFT(O22,6)<>"Closed",N22<>"",N22<Dashboard!$B$3),"Next follow-up overdue",IF(AND(LEFT(O22,6)<>"Closed",N22=Dashboard!$B$3),"Next follow-up due today",IF(AND(LEFT(O22,6)<>"Closed",K22>0,N22="",M22<=Dashboard!$B$3-'Lists & Settings'!$B$4),"No next step / stale",""))))))))) | V22: =IF(A22="","",IF(COUNTIF($A$6:$A$205,A22)>1,"Duplicate No-Show ID",IF(E22>Dashboard!$B$3,"Session date is after as-of date",IF(AND(L22<>"",L22<E22),"Attempt before missed session",IF(AND(R22<>"",R22<E22),"Closed date before missed session",IF(AND(Q22<>"",Q22<E22),"Rescheduled date before missed session",IF(AND(LEFT(O22,6)="Closed",N22<>""),"Closed case still has a next follow-up",IF(AND(O22="Rescheduled",Q22=""),"Rescheduled date is required","")))))))
J23: =IF(E23="","",WORKDAY(E23,'Lists & Settings'!$B$3)) | K23: =IF(A23="","",COUNTIF('Follow-Up Log'!$B$6:$B$405,A23)) | L23: =IF(A23="","",IF(K23=0,"",IFERROR(MINIFS('Follow-Up Log'!$C$6:$C$405,'Follow-Up Log'!$B$6:$B$405,A23),""))) | M23: =IF(A23="","",IF(K23=0,"",IFERROR(MAXIFS('Follow-Up Log'!$C$6:$C$405,'Follow-Up Log'!$B$6:$B$405,A23),""))) | T23: =IF(E23="","",IF(LEFT(O23,6)="Closed",IF(R23="","",MAX(0,R23-E23)),MAX(0,Dashboard!$B$3-E23))) | U23: =IF(A23="","",IF(OR(B23="",C23="",D23="",E23="",F23="",G23="",H23="",O23=""),"Missing required fields",IF(AND(O23="Rescheduled",Q23=""),"Rescheduled date missing",IF(AND(LEFT(O23,6)="Closed",P23=""),"Closed outcome missing",IF(AND(LEFT(O23,6)="Closed",R23=""),"Closed date missing",IF(AND(LEFT(O23,6)<>"Closed",K23=0,J23<Dashboard!$B$3),"First follow-up overdue",IF(AND(LEFT(O23,6)<>"Closed",K23=0,J23=Dashboard!$B$3),"First follow-up due today",IF(AND(LEFT(O23,6)<>"Closed",N23<>"",N23<Dashboard!$B$3),"Next follow-up overdue",IF(AND(LEFT(O23,6)<>"Closed",N23=Dashboard!$B$3),"Next follow-up due today",IF(AND(LEFT(O23,6)<>"Closed",K23>0,N23="",M23<=Dashboard!$B$3-'Lists & Settings'!$B$4),"No next step / stale",""))))))))) | V23: =IF(A23="","",IF(COUNTIF($A$6:$A$205,A23)>1,"Duplicate No-Show ID",IF(E23>Dashboard!$B$3,"Session date is after as-of date",IF(AND(L23<>"",L23<E23),"Attempt before missed session",IF(AND(R23<>"",R23<E23),"Closed date before missed session",IF(AND(Q23<>"",Q23<E23),"Rescheduled date before missed session",IF(AND(LEFT(O23,6)="Closed",N23<>""),"Closed case still has a next follow-up",IF(AND(O23="Rescheduled",Q23=""),"Rescheduled date is required","")))))))
J24: =IF(E24="","",WORKDAY(E24,'Lists & Settings'!$B$3)) | K24: =IF(A24="","",COUNTIF('Follow-Up Log'!$B$6:$B$405,A24)) | L24: =IF(A24="","",IF(K24=0,"",IFERROR(MINIFS('Follow-Up Log'!$C$6:$C$405,'Follow-Up Log'!$B$6:$B$405,A24),""))) | M24: =IF(A24="","",IF(K24=0,"",IFERROR(MAXIFS('Follow-Up Log'!$C$6:$C$405,'Follow-Up Log'!$B$6:$B$405,A24),""))) | T24: =IF(E24="","",IF(LEFT(O24,6)="Closed",IF(R24="","",MAX(0,R24-E24)),MAX(0,Dashboard!$B$3-E24))) | U24: =IF(A24="","",IF(OR(B24="",C24="",D24="",E24="",F24="",G24="",H24="",O24=""),"Missing required fields",IF(AND(O24="Rescheduled",Q24=""),"Rescheduled date missing",IF(AND(LEFT(O24,6)="Closed",P24=""),"Closed outcome missing",IF(AND(LEFT(O24,6)="Closed",R24=""),"Closed date missing",IF(AND(LEFT(O24,6)<>"Closed",K24=0,J24<Dashboard!$B$3),"First follow-up overdue",IF(AND(LEFT(O24,6)<>"Closed",K24=0,J24=Dashboard!$B$3),"First follow-up due today",IF(AND(LEFT(O24,6)<>"Closed",N24<>"",N24<Dashboard!$B$3),"Next follow-up overdue",IF(AND(LEFT(O24,6)<>"Closed",N24=Dashboard!$B$3),"Next follow-up due today",IF(AND(LEFT(O24,6)<>"Closed",K24>0,N24="",M24<=Dashboard!$B$3-'Lists & Settings'!$B$4),"No next step / stale",""))))))))) | V24: =IF(A24="","",IF(COUNTIF($A$6:$A$205,A24)>1,"Duplicate No-Show ID",IF(E24>Dashboard!$B$3,"Session date is after as-of date",IF(AND(L24<>"",L24<E24),"Attempt before missed session",IF(AND(R24<>"",R24<E24),"Closed date before missed session",IF(AND(Q24<>"",Q24<E24),"Rescheduled date before missed session",IF(AND(LEFT(O24,6)="Closed",N24<>""),"Closed case still has a next follow-up",IF(AND(O24="Rescheduled",Q24=""),"Rescheduled date is required","")))))))
J25: =IF(E25="","",WORKDAY(E25,'Lists & Settings'!$B$3)) | K25: =IF(A25="","",COUNTIF('Follow-Up Log'!$B$6:$B$405,A25)) | L25: =IF(A25="","",IF(K25=0,"",IFERROR(MINIFS('Follow-Up Log'!$C$6:$C$405,'Follow-Up Log'!$B$6:$B$405,A25),""))) | M25: =IF(A25="","",IF(K25=0,"",IFERROR(MAXIFS('Follow-Up Log'!$C$6:$C$405,'Follow-Up Log'!$B$6:$B$405,A25),""))) | T25: =IF(E25="","",IF(LEFT(O25,6)="Closed",IF(R25="","",MAX(0,R25-E25)),MAX(0,Dashboard!$B$3-E25))) | U25: =IF(A25="","",IF(OR(B25="",C25="",D25="",E25="",F25="",G25="",H25="",O25=""),"Missing required fields",IF(AND(O25="Rescheduled",Q25=""),"Rescheduled date missing",IF(AND(LEFT(O25,6)="Closed",P25=""),"Closed outcome missing",IF(AND(LEFT(O25,6)="Closed",R25=""),"Closed date missing",IF(AND(LEFT(O25,6)<>"Closed",K25=0,J25<Dashboard!$B$3),"First follow-up overdue",IF(AND(LEFT(O25,6)<>"Closed",K25=0,J25=Dashboard!$B$3),"First follow-up due today",IF(AND(LEFT(O25,6)<>"Closed",N25<>"",N25<Dashboard!$B$3),"Next follow-up overdue",IF(AND(LEFT(O25,6)<>"Closed",N25=Dashboard!$B$3),"Next follow-up due today",IF(AND(LEFT(O25,6)<>"Closed",K25>0,N25="",M25<=Dashboard!$B$3-'Lists & Settings'!$B$4),"No next step / stale",""))))))))) | V25: =IF(A25="","",IF(COUNTIF($A$6:$A$205,A25)>1,"Duplicate No-Show ID",IF(E25>Dashboard!$B$3,"Session date is after as-of date",IF(AND(L25<>"",L25<E25),"Attempt before missed session",IF(AND(R25<>"",R25<E25),"Closed date before missed session",IF(AND(Q25<>"",Q25<E25),"Rescheduled date before missed session",IF(AND(LEFT(O25,6)="Closed",N25<>""),"Closed case still has a next follow-up",IF(AND(O25="Rescheduled",Q25=""),"Rescheduled date is required","")))))))
J26: =IF(E26="","",WORKDAY(E26,'Lists & Settings'!$B$3)) | K26: =IF(A26="","",COUNTIF('Follow-Up Log'!$B$6:$B$405,A26)) | L26: =IF(A26="","",IF(K26=0,"",IFERROR(MINIFS('Follow-Up Log'!$C$6:$C$405,'Follow-Up Log'!$B$6:$B$405,A26),""))) | M26: =IF(A26="","",IF(K26=0,"",IFERROR(MAXIFS('Follow-Up Log'!$C$6:$C$405,'Follow-Up Log'!$B$6:$B$405,A26),""))) | T26: =IF(E26="","",IF(LEFT(O26,6)="Closed",IF(R26="","",MAX(0,R26-E26)),MAX(0,Dashboard!$B$3-E26))) | U26: =IF(A26="","",IF(OR(B26="",C26="",D26="",E26="",F26="",G26="",H26="",O26=""),"Missing required fields",IF(AND(O26="Rescheduled",Q26=""),"Rescheduled date missing",IF(AND(LEFT(O26,6)="Closed",P26=""),"Closed outcome missing",IF(AND(LEFT(O26,6)="Closed",R26=""),"Closed date missing",IF(AND(LEFT(O26,6)<>"Closed",K26=0,J26<Dashboard!$B$3),"First follow-up overdue",IF(AND(LEFT(O26,6)<>"Closed",K26=0,J26=Dashboard!$B$3),"First follow-up due today",IF(AND(LEFT(O26,6)<>"Closed",N26<>"",N26<Dashboard!$B$3),"Next follow-up overdue",IF(AND(LEFT(O26,6)<>"Closed",N26=Dashboard!$B$3),"Next follow-up due today",IF(AND(LEFT(O26,6)<>"Closed",K26>0,N26="",M26<=Dashboard!$B$3-'Lists & Settings'!$B$4),"No next step / stale",""))))))))) | V26: =IF(A26="","",IF(COUNTIF($A$6:$A$205,A26)>1,"Duplicate No-Show ID",IF(E26>Dashboard!$B$3,"Session date is after as-of date",IF(AND(L26<>"",L26<E26),"Attempt before missed session",IF(AND(R26<>"",R26<E26),"Closed date before missed session",IF(AND(Q26<>"",Q26<E26),"Rescheduled date before missed session",IF(AND(LEFT(O26,6)="Closed",N26<>""),"Closed case still has a next follow-up",IF(AND(O26="Rescheduled",Q26=""),"Rescheduled date is required","")))))))
J27: =IF(E27="","",WORKDAY(E27,'Lists & Settings'!$B$3)) | K27: =IF(A27="","",COUNTIF('Follow-Up Log'!$B$6:$B$405,A27)) | L27: =IF(A27="","",IF(K27=0,"",IFERROR(MINIFS('Follow-Up Log'!$C$6:$C$405,'Follow-Up Log'!$B$6:$B$405,A27),""))) | M27: =IF(A27="","",IF(K27=0,"",IFERROR(MAXIFS('Follow-Up Log'!$C$6:$C$405,'Follow-Up Log'!$B$6:$B$405,A27),""))) | T27: =IF(E27="","",IF(LEFT(O27,6)="Closed",IF(R27="","",MAX(0,R27-E27)),MAX(0,Dashboard!$B$3-E27))) | U27: =IF(A27="","",IF(OR(B27="",C27="",D27="",E27="",F27="",G27="",H27="",O27=""),"Missing required fields",IF(AND(O27="Rescheduled",Q27=""),"Rescheduled date missing",IF(AND(LEFT(O27,6)="Closed",P27=""),"Closed outcome missing",IF(AND(LEFT(O27,6)="Closed",R27=""),"Closed date missing",IF(AND(LEFT(O27,6)<>"Closed",K27=0,J27<Dashboard!$B$3),"First follow-up overdue",IF(AND(LEFT(O27,6)<>"Closed",K27=0,J27=Dashboard!$B$3),"First follow-up due today",IF(AND(LEFT(O27,6)<>"Closed",N27<>"",N27<Dashboard!$B$3),"Next follow-up overdue",IF(AND(LEFT(O27,6)<>"Closed",N27=Dashboard!$B$3),"Next follow-up due today",IF(AND(LEFT(O27,6)<>"Closed",K27>0,N27="",M27<=Dashboard!$B$3-'Lists & Settings'!$B$4),"No next step / stale",""))))))))) | V27: =IF(A27="","",IF(COUNTIF($A$6:$A$205,A27)>1,"Duplicate No-Show ID",IF(E27>Dashboard!$B$3,"Session date is after as-of date",IF(AND(L27<>"",L27<E27),"Attempt before missed session",IF(AND(R27<>"",R27<E27),"Closed date before missed session",IF(AND(Q27<>"",Q27<E27),"Rescheduled date before missed session",IF(AND(LEFT(O27,6)="Closed",N27<>""),"Closed case still has a next follow-up",IF(AND(O27="Rescheduled",Q27=""),"Rescheduled date is required","")))))))
... J205: =IF(E205="","",WORKDAY(E205,'Lists & Settings'!$B$3)) | K205: =IF(A205="","",COUNTIF('Follow-Up Log'!$B$6:$B$405,A205)) | L205: =IF(A205="","",IF(K205=0,"",IFERROR(MINIFS('Follow-Up Log'!$C$6:$C$405,'Follow-Up Log'!$B$6:$B$405,A205),""))) | M205: =IF(A205="","",IF(K205=0,"",IFERROR(MAXIFS('Follow-Up Log'!$C$6:$C$405,'Follow-Up Log'!$B$6:$B$405,A205),""))) | T205: =IF(E205="","",IF(LEFT(O205,6)="Closed",IF(R205="","",MAX(0,R205-E205)),MAX(0,Dashboard!$B$3-E205))) | U205: =IF(A205="","",IF(OR(B205="",C205="",D205="",E205="",F205="",G205="",H205="",O205=""),"Missing required fields",IF(AND(O205="Rescheduled",Q205=""),"Rescheduled date missing",IF(AND(LEFT(O205,6)="Closed",P205=""),"Closed outcome missing",IF(AND(LEFT(O205,6)="Closed",R205=""),"Closed date missing",IF(AND(LEFT(O205,6)<>"Closed",K205=0,J205<Dashboard!$B$3),"First follow-up overdue",IF(AND(LEFT(O205,6)<>"Closed",K205=0,J205=Dashboard!$B$3),"First follow-up due today",IF(AND(LEFT(O205,6)<>"Closed",N205<>"",N205<Dashboard!$B$3),"Next follow-up overdue",IF(AND(LEFT(O205,6)<>"Closed",N205=Dashboard!$B$3),"Next follow-up due today",IF(AND(LEFT(O205,6)<>"Closed",K205>0,N205="",M205<=Dashboard!$B$3-'Lists & Settings'!$B$4),"No next step / stale",""))))))))) | V205: =IF(A205="","",IF(COUNTIF($A$6:$A$205,A205)>1,"Duplicate No-Show ID",IF(E205>Dashboard!$B$3,"Session date is after as-of date",IF(AND(L205<>"",L205<E205),"Attempt before missed session",IF(AND(R205<>"",R205<E205),"Closed date before missed session",IF(AND(Q205<>"",Q205<E205),"Rescheduled date before missed session",IF(AND(LEFT(O205,6)="Closed",N205<>""),"Closed case still has a next follow-up",IF(AND(O205="Rescheduled",Q205=""),"Rescheduled date is required","")))))))

Sheet Follow-Up Log
A1: Follow-Up Log
A2: Enter one row for each contact attempt or documented follow-up action.
A5: Attempt ID | B5: No-Show ID | C5: Attempt Date | D5: Contact Method | E5: Staff Member | F5: Attempt Result | G5: Next Follow-Up Date | H5: Attempt Notes | I5: Data Quality Check
A6: ATT-260001 | B6: NS-26001 | C6: 46266 | D6: Email | E6: Jordan Lee | F6: Reached - Rescheduled | H6: Confirmed a new workshop date. | I6: =IF(A6="","",IF(OR(B6="",C6="",D6="",E6="",F6=""),"Missing required fields",IF(COUNTIF($A$6:$A$405,A6)>1,"Duplicate Attempt ID",IF(COUNTIF('No-Show Cases'!$A$6:$A$205,B6)=0,"No-Show ID not found",IFERROR(IF(C6<INDEX('No-Show Cases'!$E$6:$E$205,MATCH(B6,'No-Show Cases'!$A$6:$A$205,0)),"Attempt before missed session",IF(AND(G6<>"",G6<C6),"Next follow-up before attempt date","")),"No-Show ID not found"))))
A7: ATT-260002 | B7: NS-26003 | C7: 46269 | D7: Phone | E7: Avery Brooks | F7: Left Message | G7: 46273 | H7: Brief callback request left. | I7: =IF(A7="","",IF(OR(B7="",C7="",D7="",E7="",F7=""),"Missing required fields",IF(COUNTIF($A$6:$A$405,A7)>1,"Duplicate Attempt ID",IF(COUNTIF('No-Show Cases'!$A$6:$A$205,B7)=0,"No-Show ID not found",IFERROR(IF(C7<INDEX('No-Show Cases'!$E$6:$E$205,MATCH(B7,'No-Show Cases'!$A$6:$A$205,0)),"Attempt before missed session",IF(AND(G7<>"",G7<C7),"Next follow-up before attempt date","")),"No-Show ID not found"))))
A8: ATT-260003 | B8: NS-26005 | C8: 46259 | D8: Text Message | E8: Morgan Price | F8: No Response | G8: 46262 | H8: No response to first message. | I8: =IF(A8="","",IF(OR(B8="",C8="",D8="",E8="",F8=""),"Missing required fields",IF(COUNTIF($A$6:$A$405,A8)>1,"Duplicate Attempt ID",IF(COUNTIF('No-Show Cases'!$A$6:$A$205,B8)=0,"No-Show ID not found",IFERROR(IF(C8<INDEX('No-Show Cases'!$E$6:$E$205,MATCH(B8,'No-Show Cases'!$A$6:$A$205,0)),"Attempt before missed session",IF(AND(G8<>"",G8<C8),"Next follow-up before attempt date","")),"No-Show ID not found"))))
A9: ATT-260004 | B9: NS-26005 | C9: 46262 | D9: Email | E9: Morgan Price | F9: No Response | H9: Second attempt completed. | I9: =IF(A9="","",IF(OR(B9="",C9="",D9="",E9="",F9=""),"Missing required fields",IF(COUNTIF($A$6:$A$405,A9)>1,"Duplicate Attempt ID",IF(COUNTIF('No-Show Cases'!$A$6:$A$205,B9)=0,"No-Show ID not found",IFERROR(IF(C9<INDEX('No-Show Cases'!$E$6:$E$205,MATCH(B9,'No-Show Cases'!$A$6:$A$205,0)),"Attempt before missed session",IF(AND(G9<>"",G9<C9),"Next follow-up before attempt date","")),"No-Show ID not found"))))
A10: ATT-260005 | B10: NS-26006 | C10: 46267 | D10: Phone | E10: Jordan Lee | F10: Left Message | G10: 46269 | H10: Message left with callback request. | I10: =IF(A10="","",IF(OR(B10="",C10="",D10="",E10="",F10=""),"Missing required fields",IF(COUNTIF($A$6:$A$405,A10)>1,"Duplicate Attempt ID",IF(COUNTIF('No-Show Cases'!$A$6:$A$205,B10)=0,"No-Show ID not found",IFERROR(IF(C10<INDEX('No-Show Cases'!$E$6:$E$205,MATCH(B10,'No-Show Cases'!$A$6:$A$205,0)),"Attempt before missed session",IF(AND(G10<>"",G10<C10),"Next follow-up before attempt date","")),"No-Show ID not found"))))
A11: ATT-260006 | B11: NS-26006 | C11: 46269 | D11: Email | E11: Jordan Lee | F11: No Response | H11: Final outreach completed. | I11: =IF(A11="","",IF(OR(B11="",C11="",D11="",E11="",F11=""),"Missing required fields",IF(COUNTIF($A$6:$A$405,A11)>1,"Duplicate Attempt ID",IF(COUNTIF('No-Show Cases'!$A$6:$A$205,B11)=0,"No-Show ID not found",IFERROR(IF(C11<INDEX('No-Show Cases'!$E$6:$E$205,MATCH(B11,'No-Show Cases'!$A$6:$A$205,0)),"Attempt before missed session",IF(AND(G11<>"",G11<C11),"Next follow-up before attempt date","")),"No-Show ID not found"))))
A12: ATT-260007 | B12: NS-26010 | C12: 46255 | D12: Phone | E12: Morgan Price | F12: Reached - Rescheduled | H12: New coaching appointment selected. | I12: =IF(A12="","",IF(OR(B12="",C12="",D12="",E12="",F12=""),"Missing required fields",IF(COUNTIF($A$6:$A$405,A12)>1,"Duplicate Attempt ID",IF(COUNTIF('No-Show Cases'!$A$6:$A$205,B12)=0,"No-Show ID not found",IFERROR(IF(C12<INDEX('No-Show Cases'!$E$6:$E$205,MATCH(B12,'No-Show Cases'!$A$6:$A$205,0)),"Attempt before missed session",IF(AND(G12<>"",G12<C12),"Next follow-up before attempt date","")),"No-Show ID not found"))))
A13: ATT-260008 | B13: NS-26001 | C13: 46266 | D13: Portal Message | E13: Jordan Lee | F13: Confirmation Sent | H13: Rescheduled session details sent. | I13: =IF(A13="","",IF(OR(B13="",C13="",D13="",E13="",F13=""),"Missing required fields",IF(COUNTIF($A$6:$A$405,A13)>1,"Duplicate Attempt ID",IF(COUNTIF('No-Show Cases'!$A$6:$A$205,B13)=0,"No-Show ID not found",IFERROR(IF(C13<INDEX('No-Show Cases'!$E$6:$E$205,MATCH(B13,'No-Show Cases'!$A$6:$A$205,0)),"Attempt before missed session",IF(AND(G13<>"",G13<C13),"Next follow-up before attempt date","")),"No-Show ID not found"))))
A14: ATT-260009 | B14: NS-26003 | C14: 46269 | D14: Email | E14: Avery Brooks | F14: Follow-Up Sent | G14: 46273 | H14: Follow-up message sent after phone attempt. | I14: =IF(A14="","",IF(OR(B14="",C14="",D14="",E14="",F14=""),"Missing required fields",IF(COUNTIF($A$6:$A$405,A14)>1,"Duplicate Attempt ID",IF(COUNTIF('No-Show Cases'!$A$6:$A$205,B14)=0,"No-Show ID not found",IFERROR(IF(C14<INDEX('No-Show Cases'!$E$6:$E$205,MATCH(B14,'No-Show Cases'!$A$6:$A$205,0)),"Attempt before missed session",IF(AND(G14<>"",G14<C14),"Next follow-up before attempt date","")),"No-Show ID not found"))))
A15: ATT-260010 | B15: NS-26006 | C15: 46268 | D15: Text Message | E15: Jordan Lee | F15: No Response | G15: 46269 | H15: No response received. | I15: =IF(A15="","",IF(OR(B15="",C15="",D15="",E15="",F15=""),"Missing required fields",IF(COUNTIF($A$6:$A$405,A15)>1,"Duplicate Attempt ID",IF(COUNTIF('No-Show Cases'!$A$6:$A$205,B15)=0,"No-Show ID not found",IFERROR(IF(C15<INDEX('No-Show Cases'!$E$6:$E$205,MATCH(B15,'No-Show Cases'!$A$6:$A$205,0)),"Attempt before missed session",IF(AND(G15<>"",G15<C15),"Next follow-up before attempt date","")),"No-Show ID not found"))))
A16: ATT-260011 | B16: NS-26008 | C16: 46272 | D16: Portal Message | E16: Avery Brooks | F16: Administrative Review | H16: Attendance record corrected. | I16: =IF(A16="","",IF(OR(B16="",C16="",D16="",E16="",F16=""),"Missing required fields",IF(COUNTIF($A$6:$A$405,A16)>1,"Duplicate Attempt ID",IF(COUNTIF('No-Show Cases'!$A$6:$A$205,B16)=0,"No-Show ID not found",IFERROR(IF(C16<INDEX('No-Show Cases'!$E$6:$E$205,MATCH(B16,'No-Show Cases'!$A$6:$A$205,0)),"Attempt before missed session",IF(AND(G16<>"",G16<C16),"Next follow-up before attempt date","")),"No-Show ID not found"))))
A17: ATT-260012 | B17: NS-26010 | C17: 46255 | D17: Email | E17: Morgan Price | F17: Confirmation Sent | H17: Appointment confirmation sent. | I17: =IF(A17="","",IF(OR(B17="",C17="",D17="",E17="",F17=""),"Missing required fields",IF(COUNTIF($A$6:$A$405,A17)>1,"Duplicate Attempt ID",IF(COUNTIF('No-Show Cases'!$A$6:$A$205,B17)=0,"No-Show ID not found",IFERROR(IF(C17<INDEX('No-Show Cases'!$E$6:$E$205,MATCH(B17,'No-Show Cases'!$A$6:$A$205,0)),"Attempt before missed session",IF(AND(G17<>"",G17<C17),"Next follow-up before attempt date","")),"No-Show ID not found"))))
A18: ATT-260013 | B18: NS-26005 | C18: 46260 | D18: Phone | E18: Morgan Price | F18: Left Message | G18: 46262 | H18: Voicemail left. | I18: =IF(A18="","",IF(OR(B18="",C18="",D18="",E18="",F18=""),"Missing required fields",IF(COUNTIF($A$6:$A$405,A18)>1,"Duplicate Attempt ID",IF(COUNTIF('No-Show Cases'!$A$6:$A$205,B18)=0,"No-Show ID not found",IFERROR(IF(C18<INDEX('No-Show Cases'!$E$6:$E$205,MATCH(B18,'No-Show Cases'!$A$6:$A$205,0)),"Attempt before missed session",IF(AND(G18<>"",G18<C18),"Next follow-up before attempt date","")),"No-Show ID not found"))))
A19: ATT-260014 | B19: NS-26003 | C19: 46270 | D19: Portal Message | E19: Avery Brooks | F19: No Response | G19: 46273 | H19: Portal message remains unread. | I19: =IF(A19="","",IF(OR(B19="",C19="",D19="",E19="",F19=""),"Missing required fields",IF(COUNTIF($A$6:$A$405,A19)>1,"Duplicate Attempt ID",IF(COUNTIF('No-Show Cases'!$A$6:$A$205,B19)=0,"No-Show ID not found",IFERROR(IF(C19<INDEX('No-Show Cases'!$E$6:$E$205,MATCH(B19,'No-Show Cases'!$A$6:$A$205,0)),"Attempt before missed session",IF(AND(G19<>"",G19<C19),"Next follow-up before attempt date","")),"No-Show ID not found"))))
I20: =IF(A20="","",IF(OR(B20="",C20="",D20="",E20="",F20=""),"Missing required fields",IF(COUNTIF($A$6:$A$405,A20)>1,"Duplicate Attempt ID",IF(COUNTIF('No-Show Cases'!$A$6:$A$205,B20)=0,"No-Show ID not found",IFERROR(IF(C20<INDEX('No-Show Cases'!$E$6:$E$205,MATCH(B20,'No-Show Cases'!$A$6:$A$205,0)),"Attempt before missed session",IF(AND(G20<>"",G20<C20),"Next follow-up before attempt date","")),"No-Show ID not found"))))
I21: =IF(A21="","",IF(OR(B21="",C21="",D21="",E21="",F21=""),"Missing required fields",IF(COUNTIF($A$6:$A$405,A21)>1,"Duplicate Attempt ID",IF(COUNTIF('No-Show Cases'!$A$6:$A$205,B21)=0,"No-Show ID not found",IFERROR(IF(C21<INDEX('No-Show Cases'!$E$6:$E$205,MATCH(B21,'No-Show Cases'!$A$6:$A$205,0)),"Attempt before missed session",IF(AND(G21<>"",G21<C21),"Next follow-up before attempt date","")),"No-Show ID not found"))))
I22: =IF(A22="","",IF(OR(B22="",C22="",D22="",E22="",F22=""),"Missing required fields",IF(COUNTIF($A$6:$A$405,A22)>1,"Duplicate Attempt ID",IF(COUNTIF('No-Show Cases'!$A$6:$A$205,B22)=0,"No-Show ID not found",IFERROR(IF(C22<INDEX('No-Show Cases'!$E$6:$E$205,MATCH(B22,'No-Show Cases'!$A$6:$A$205,0)),"Attempt before missed session",IF(AND(G22<>"",G22<C22),"Next follow-up before attempt date","")),"No-Show ID not found"))))
I23: =IF(A23="","",IF(OR(B23="",C23="",D23="",E23="",F23=""),"Missing required fields",IF(COUNTIF($A$6:$A$405,A23)>1,"Duplicate Attempt ID",IF(COUNTIF('No-Show Cases'!$A$6:$A$205,B23)=0,"No-Show ID not found",IFERROR(IF(C23<INDEX('No-Show Cases'!$E$6:$E$205,MATCH(B23,'No-Show Cases'!$A$6:$A$205,0)),"Attempt before missed session",IF(AND(G23<>"",G23<C23),"Next follow-up before attempt date","")),"No-Show ID not found"))))
I24: =IF(A24="","",IF(OR(B24="",C24="",D24="",E24="",F24=""),"Missing required fields",IF(COUNTIF($A$6:$A$405,A24)>1,"Duplicate Attempt ID",IF(COUNTIF('No-Show Cases'!$A$6:$A$205,B24)=0,"No-Show ID not found",IFERROR(IF(C24<INDEX('No-Show Cases'!$E$6:$E$205,MATCH(B24,'No-Show Cases'!$A$6:$A$205,0)),"Attempt before missed session",IF(AND(G24<>"",G24<C24),"Next follow-up before attempt date","")),"No-Show ID not found"))))
I25: =IF(A25="","",IF(OR(B25="",C25="",D25="",E25="",F25=""),"Missing required fields",IF(COUNTIF($A$6:$A$405,A25)>1,"Duplicate Attempt ID",IF(COUNTIF('No-Show Cases'!$A$6:$A$205,B25)=0,"No-Show ID not found",IFERROR(IF(C25<INDEX('No-Show Cases'!$E$6:$E$205,MATCH(B25,'No-Show Cases'!$A$6:$A$205,0)),"Attempt before missed session",IF(AND(G25<>"",G25<C25),"Next follow-up before attempt date","")),"No-Show ID not found"))))
I26: =IF(A26="","",IF(OR(B26="",C26="",D26="",E26="",F26=""),"Missing required fields",IF(COUNTIF($A$6:$A$405,A26)>1,"Duplicate Attempt ID",IF(COUNTIF('No-Show Cases'!$A$6:$A$205,B26)=0,"No-Show ID not found",IFERROR(IF(C26<INDEX('No-Show Cases'!$E$6:$E$205,MATCH(B26,'No-Show Cases'!$A$6:$A$205,0)),"Attempt before missed session",IF(AND(G26<>"",G26<C26),"Next follow-up before attempt date","")),"No-Show ID not found"))))
I27: =IF(A27="","",IF(OR(B27="",C27="",D27="",E27="",F27=""),"Missing required fields",IF(COUNTIF($A$6:$A$405,A27)>1,"Duplicate Attempt ID",IF(COUNTIF('No-Show Cases'!$A$6:$A$205,B27)=0,"No-Show ID not found",IFERROR(IF(C27<INDEX('No-Show Cases'!$E$6:$E$205,MATCH(B27,'No-Show Cases'!$A$6:$A$205,0)),"Attempt before missed session",IF(AND(G27<>"",G27<C27),"Next follow-up before attempt date","")),"No-Show ID not found"))))
I28: =IF(A28="","",IF(OR(B28="",C28="",D28="",E28="",F28=""),"Missing required fields",IF(COUNTIF($A$6:$A$405,A28)>1,"Duplicate Attempt ID",IF(COUNTIF('No-Show Cases'!$A$6:$A$205,B28)=0,"No-Show ID not found",IFERROR(IF(C28<INDEX('No-Show Cases'!$E$6:$E$205,MATCH(B28,'No-Show Cases'!$A$6:$A$205,0)),"Attempt before missed session",IF(AND(G28<>"",G28<C28),"Next follow-up before attempt date","")),"No-Show ID not found"))))
I29: =IF(A29="","",IF(OR(B29="",C29="",D29="",E29="",F29=""),"Missing required fields",IF(COUNTIF($A$6:$A$405,A29)>1,"Duplicate Attempt ID",IF(COUNTIF('No-Show Cases'!$A$6:$A$205,B29)=0,"No-Show ID not found",IFERROR(IF(C29<INDEX('No-Show Cases'!$E$6:$E$205,MATCH(B29,'No-Show Cases'!$A$6:$A$205,0)),"Attempt before missed session",IF(AND(G29<>"",G29<C29),"Next follow-up before attempt date","")),"No-Show ID not found"))))
I30: =IF(A30="","",IF(OR(B30="",C30="",D30="",E30="",F30=""),"Missing required fields",IF(COUNTIF($A$6:$A$405,A30)>1,"Duplicate Attempt ID",IF(COUNTIF('No-Show Cases'!$A$6:$A$205,B30)=0,"No-Show ID not found",IFERROR(IF(C30<INDEX('No-Show Cases'!$E$6:$E$205,MATCH(B30,'No-Show Cases'!$A$6:$A$205,0)),"Attempt before missed session",IF(AND(G30<>"",G30<C30),"Next follow-up before attempt date","")),"No-Show ID not found"))))
I31: =IF(A31="","",IF(OR(B31="",C31="",D31="",E31="",F31=""),"Missing required fields",IF(COUNTIF($A$6:$A$405,A31)>1,"Duplicate Attempt ID",IF(COUNTIF('No-Show Cases'!$A$6:$A$205,B31)=0,"No-Show ID not found",IFERROR(IF(C31<INDEX('No-Show Cases'!$E$6:$E$205,MATCH(B31,'No-Show Cases'!$A$6:$A$205,0)),"Attempt before missed session",IF(AND(G31<>"",G31<C31),"Next follow-up before attempt date","")),"No-Show ID not found"))))
... I405: =IF(A405="","",IF(OR(B405="",C405="",D405="",E405="",F405=""),"Missing required fields",IF(COUNTIF($A$6:$A$405,A405)>1,"Duplicate Attempt ID",IF(COUNTIF('No-Show Cases'!$A$6:$A$205,B405)=0,"No-Show ID not found",IFERROR(IF(C405<INDEX('No-Show Cases'!$E$6:$E$205,MATCH(B405,'No-Show Cases'!$A$6:$A$205,0)),"Attempt before missed session",IF(AND(G405<>"",G405<C405),"Next follow-up before attempt date","")),"No-Show ID not found"))))

Sheet Lists & Settings
A1: Tracker Settings | D1: Programs | F1: Session Types | H1: Delivery Formats | J1: Staff Members | L1: Contact Methods | N1: Case Statuses | P1: Outcomes | R1: Attempt Results
D2: Medical Office Basics | F2: Class Session | H2: In Person | J2: Jordan Lee | L2: Phone | N2: New | P2: Pending | R2: Reached - Rescheduled
A3: First Follow-Up Business Days | B3: 1 | D3: Workplace Communication | F3: Workshop | H3: Virtual | J3: Casey Morgan | L3: Email | N3: Follow-Up In Progress | P3: Rescheduled | R3: Reached - Returning
A4: Stale Case Days | B4: 5 | D4: Digital Skills Foundations | F4: Lab | H4: Hybrid | J4: Avery Brooks | L4: Text Message | N4: Awaiting Learner Response | P4: Returned to Program | R4: Reached - Withdrew
A5: Default As of Date | B5: 46272 | D5: Customer Service Essentials | F5: Orientation | J5: Riley Chen | L5: Portal Message | N5: Rescheduled | P5: Withdrew | R5: Left Message
D6: Career Readiness | F6: Coaching Appointment | J6: Morgan Price | L6: In Person | N6: Closed - Reached | P6: No Response | R6: No Response
D7: Supervisory Skills | N7: Closed - Unable to Reach | P7: Excused or Administrative | R7: Follow-Up Sent
