Workbook

Sheet Dashboard
A1: Prerequisite Clearance Dashboard
A2: Status and aging metrics recalculate when the workbook opens.
A3: As of Date | B3: =TODAY()
A5: Total Requests | C5: Cleared | E5: Pending Review | G5: Evidence Needed
A6: =COUNTIF('Clearance Tracker'!$A$6:$A$205,"<>") | C6: =COUNTIF('Clearance Tracker'!$R$6:$R$205,"Cleared") | E6: =COUNTIF('Clearance Tracker'!$R$6:$R$205,"Pending Review") | G6: =COUNTIF('Clearance Tracker'!$R$6:$R$205,"Evidence Needed")
A8: Not Cleared | C8: On Hold | E8: Expired Evidence | G8: Data Issues
A9: =COUNTIF('Clearance Tracker'!$R$6:$R$205,"Not Cleared") | C9: =COUNTIF('Clearance Tracker'!$R$6:$R$205,"On Hold") | E9: =COUNTIF('Clearance Tracker'!$R$6:$R$205,"Expired") | G9: =COUNTIFS('Clearance Tracker'!$A$6:$A$205,"<>",'Clearance Tracker'!$U$6:$U$205,"<>")
A11: Overdue Follow-Up | D11: Follow-Up Due in Next 7 Days | G11: Average Days Open
A12: =COUNTIFS('Clearance Tracker'!$A$6:$A$205,"<>",'Clearance Tracker'!$S$6:$S$205,"<"&TODAY(),'Clearance Tracker'!$S$6:$S$205,"<>",'Clearance Tracker'!$R$6:$R$205,"<>Cleared") | D12: =COUNTIFS('Clearance Tracker'!$A$6:$A$205,"<>",'Clearance Tracker'!$S$6:$S$205,">="&TODAY(),'Clearance Tracker'!$S$6:$S$205,"<="&TODAY()+7,'Clearance Tracker'!$R$6:$R$205,"<>Cleared") | G12: =IFERROR(AVERAGEIF('Clearance Tracker'!$A$6:$A$205,"<>",'Clearance Tracker'!$Q$6:$Q$205),0)
A13: ="" | G13: =""
A14: Clearance Status | B14: Request Count | D14: Target Course | E14: Request Count | G14: =""
A15: Cleared | B15: =COUNTIF('Clearance Tracker'!$R$6:$R$205,A15) | D15: BIO-220 | E15: =COUNTIF('Clearance Tracker'!$F$6:$F$205,D15) | G15: =""
A16: Pending Review | B16: =COUNTIF('Clearance Tracker'!$R$6:$R$205,A16) | D16: CIS-240 | E16: =COUNTIF('Clearance Tracker'!$F$6:$F$205,D16) | G16: =""
A17: Evidence Needed | B17: =COUNTIF('Clearance Tracker'!$R$6:$R$205,A17) | D17: ENG-201 | E17: =COUNTIF('Clearance Tracker'!$F$6:$F$205,D17) | G17: =""
A18: Not Cleared | B18: =COUNTIF('Clearance Tracker'!$R$6:$R$205,A18) | D18: MAT-210 | E18: =COUNTIF('Clearance Tracker'!$F$6:$F$205,D18) | G18: =""
A19: On Hold | B19: =COUNTIF('Clearance Tracker'!$R$6:$R$205,A19) | E19: ="" | G19: =""
A20: Expired | B20: =COUNTIF('Clearance Tracker'!$R$6:$R$205,A20) | E20: ="" | G20: =""
A21: Route Needed | B21: =COUNTIF('Clearance Tracker'!$R$6:$R$205,A21) | E21: ="" | G21: =""
A22: ="" | B22: ="" | E22: ="" | G22: =""
A23: ="" | B23: ="" | E23: ="" | G23: =""
A24: ="" | B24: ="" | E24: ="" | G24: =""
A25: ="" | B25: ="" | E25: ="" | G25: =""
A26: ="" | B26: ="" | E26: ="" | G26: =""
A27: ="" | B27: ="" | E27: ="" | G27: =""
A28: ="" | B28: ="" | E28: ="" | G28: =""
A29: ="" | B29: ="" | E29: ="" | G29: =""
A30: ="" | B30: ="" | E30: ="" | G30: =""
A31: ="" | B31: ="" | E31: ="" | G31: =""
A32: ="" | B32: ="" | E32: ="" | G32: =""
A33: ="" | B33: ="" | E33: ="" | G33: =""
... A101: ="" | B101: ="" | E101: ="" | G101: =""

Sheet Clearance Tracker
A1: Prerequisite Clearance Tracker
A2: Enter one request per row. Use a learner alias rather than a full name or student number. Yellow cells are editable; blue-gray cells are calculated.
A3: A cleared result requires received evidence, a completed review, and a Meets assessment.
A5: Request ID | B5: Learner Alias | C5: Request Date | D5: Term | E5: Route Code | F5: Target Course | G5: Requirement Summary | H5: Evidence Received | I5: Evidence Date | J5: Evidence Grade | K5: Evidence Score | L5: Evidence Assessment | M5: Reviewer | N5: Review Status | O5: Decision Date | P5: Valid Through | Q5: Days Open | R5: Clearance Status | S5: Follow-Up Date | T5: Notes | U5: Data Check
A6: PC-260901 | B6: Cedar Fox | C6: 46252 | D6: Fall 2026 | E6: BIO220-GRADE | F6: =IF($A6="","",IF($E6="","",IFERROR(INDEX('Rules & Lists'!$B$5:$B$24,MATCH($E6,'Rules & Lists'!$A$5:$A$24,0)),"Unknown Route"))) | G6: =IF($A6="","",IF($E6="","",IFERROR(INDEX('Rules & Lists'!$H$5:$H$24,MATCH($E6,'Rules & Lists'!$A$5:$A$24,0)),"Rule not found"))) | H6: Yes | I6: 46252 | J6: A- | L6: Meets | M6: Avery Brooks | N6: Complete | O6: 46254 | P6: =IF(OR($A6="",$I6="",$E6=""),"",IFERROR(IF(INDEX('Rules & Lists'!$G$5:$G$24,MATCH($E6,'Rules & Lists'!$A$5:$A$24,0))=0,"",EDATE($I6,INDEX('Rules & Lists'!$G$5:$G$24,MATCH($E6,'Rules & Lists'!$A$5:$A$24,0)))),"")) | Q6: =IF(OR($A6="",$C6=""),"",MAX(0,IF($O6<>"",$O6-$C6,TODAY()-$C6))) | R6: =IF($A6="","",IF($E6="","Route Needed",IF($H6<>"Yes","Evidence Needed",IF($N6="On Hold","On Hold",IF(AND($P6<>"",$P6<TODAY()),"Expired",IF($N6<>"Complete","Pending Review",IF($L6="Meets","Cleared",IF($L6="Does Not Meet","Not Cleared","Pending Review")))))))) | T6: Transcript copy reviewed | U6: =IF($A6="","",TEXTJOIN(", ",TRUE,IF(COUNTIF($A$6:$A$205,$A6)>1,"Duplicate Request ID",""),IF($B6="","Missing learner alias",""),IF($C6="","Missing request date",""),IF($D6="","Missing term",""),IF($E6="","Missing route",""),IF($F6="Unknown Route","Route not found",""),IF($H6="","Missing evidence received value",""),IF(AND($H6="Yes",$I6=""),"Missing evidence date",""),IF(AND($H6="No",$I6<>""),"Evidence date entered when evidence is No",""),IF(AND($H6="Yes",$L6=""),"Missing evidence assessment",""),IF(AND($N6="Complete",$O6=""),"Missing decision date",""),IF(AND($O6<>"",$N6<>"Complete"),"Decision date entered before review is Complete",""),IF(AND($L6="Meets",$H6<>"Yes"),"Meets assessment requires received evidence",""),IF(AND($L6="Does Not Meet",$H6<>"Yes"),"Does Not Meet assessment requires received evidence",""),IF(AND($N6="Complete",$L6="Pending"),"Complete review cannot have Pending assessment",""),IF(AND($C6<>"",$I6<>"",$I6<$C6),"Evidence date precedes request date",""),IF(AND($C6<>"",$O6<>"",$O6<$C6),"Decision date precedes request date",""),IF(AND($S6<>"",$S6<$C6),"Follow-up date precedes request date",""),IF(AND($E6<>"",$H6="Yes",IFERROR(INDEX('Rules & Lists'!$D$5:$D$24,MATCH($E6,'Rules & Lists'!$A$5:$A$24,0)),"")="Grade",$J6=""),"Missing evidence grade",""),IF(AND($E6<>"",$H6="Yes",IFERROR(INDEX('Rules & Lists'!$D$5:$D$24,MATCH($E6,'Rules & Lists'!$A$5:$A$24,0)),"")="Score",$K6=""),"Missing evidence score","")))
A7: PC-260902 | B7: Harbor Kite | C7: 46254 | D7: Fall 2026 | E7: MAT210-PLACEMENT | F7: =IF($A7="","",IF($E7="","",IFERROR(INDEX('Rules & Lists'!$B$5:$B$24,MATCH($E7,'Rules & Lists'!$A$5:$A$24,0)),"Unknown Route"))) | G7: =IF($A7="","",IF($E7="","",IFERROR(INDEX('Rules & Lists'!$H$5:$H$24,MATCH($E7,'Rules & Lists'!$A$5:$A$24,0)),"Rule not found"))) | H7: Yes | I7: 46254 | K7: 82 | L7: Meets | M7: Jordan Lee | N7: Complete | O7: 46255 | P7: =IF(OR($A7="",$I7="",$E7=""),"",IFERROR(IF(INDEX('Rules & Lists'!$G$5:$G$24,MATCH($E7,'Rules & Lists'!$A$5:$A$24,0))=0,"",EDATE($I7,INDEX('Rules & Lists'!$G$5:$G$24,MATCH($E7,'Rules & Lists'!$A$5:$A$24,0)))),"")) | Q7: =IF(OR($A7="",$C7=""),"",MAX(0,IF($O7<>"",$O7-$C7,TODAY()-$C7))) | R7: =IF($A7="","",IF($E7="","Route Needed",IF($H7<>"Yes","Evidence Needed",IF($N7="On Hold","On Hold",IF(AND($P7<>"",$P7<TODAY()),"Expired",IF($N7<>"Complete","Pending Review",IF($L7="Meets","Cleared",IF($L7="Does Not Meet","Not Cleared","Pending Review")))))))) | T7: Placement result verified | U7: =IF($A7="","",TEXTJOIN(", ",TRUE,IF(COUNTIF($A$6:$A$205,$A7)>1,"Duplicate Request ID",""),IF($B7="","Missing learner alias",""),IF($C7="","Missing request date",""),IF($D7="","Missing term",""),IF($E7="","Missing route",""),IF($F7="Unknown Route","Route not found",""),IF($H7="","Missing evidence received value",""),IF(AND($H7="Yes",$I7=""),"Missing evidence date",""),IF(AND($H7="No",$I7<>""),"Evidence date entered when evidence is No",""),IF(AND($H7="Yes",$L7=""),"Missing evidence assessment",""),IF(AND($N7="Complete",$O7=""),"Missing decision date",""),IF(AND($O7<>"",$N7<>"Complete"),"Decision date entered before review is Complete",""),IF(AND($L7="Meets",$H7<>"Yes"),"Meets assessment requires received evidence",""),IF(AND($L7="Does Not Meet",$H7<>"Yes"),"Does Not Meet assessment requires received evidence",""),IF(AND($N7="Complete",$L7="Pending"),"Complete review cannot have Pending assessment",""),IF(AND($C7<>"",$I7<>"",$I7<$C7),"Evidence date precedes request date",""),IF(AND($C7<>"",$O7<>"",$O7<$C7),"Decision date precedes request date",""),IF(AND($S7<>"",$S7<$C7),"Follow-up date precedes request date",""),IF(AND($E7<>"",$H7="Yes",IFERROR(INDEX('Rules & Lists'!$D$5:$D$24,MATCH($E7,'Rules & Lists'!$A$5:$A$24,0)),"")="Grade",$J7=""),"Missing evidence grade",""),IF(AND($E7<>"",$H7="Yes",IFERROR(INDEX('Rules & Lists'!$D$5:$D$24,MATCH($E7,'Rules & Lists'!$A$5:$A$24,0)),"")="Score",$K7=""),"Missing evidence score","")))
A8: PC-260903 | B8: Maple Finch | C8: 46258 | D8: Fall 2026 | E8: ENG201-GRADE | F8: =IF($A8="","",IF($E8="","",IFERROR(INDEX('Rules & Lists'!$B$5:$B$24,MATCH($E8,'Rules & Lists'!$A$5:$A$24,0)),"Unknown Route"))) | G8: =IF($A8="","",IF($E8="","",IFERROR(INDEX('Rules & Lists'!$H$5:$H$24,MATCH($E8,'Rules & Lists'!$A$5:$A$24,0)),"Rule not found"))) | H8: No | L8: Pending | M8: Unassigned | N8: Not Started | P8: =IF(OR($A8="",$I8="",$E8=""),"",IFERROR(IF(INDEX('Rules & Lists'!$G$5:$G$24,MATCH($E8,'Rules & Lists'!$A$5:$A$24,0))=0,"",EDATE($I8,INDEX('Rules & Lists'!$G$5:$G$24,MATCH($E8,'Rules & Lists'!$A$5:$A$24,0)))),"")) | Q8: =IF(OR($A8="",$C8=""),"",MAX(0,IF($O8<>"",$O8-$C8,TODAY()-$C8))) | R8: =IF($A8="","",IF($E8="","Route Needed",IF($H8<>"Yes","Evidence Needed",IF($N8="On Hold","On Hold",IF(AND($P8<>"",$P8<TODAY()),"Expired",IF($N8<>"Complete","Pending Review",IF($L8="Meets","Cleared",IF($L8="Does Not Meet","Not Cleared","Pending Review")))))))) | S8: 46273 | T8: Waiting for course record | U8: =IF($A8="","",TEXTJOIN(", ",TRUE,IF(COUNTIF($A$6:$A$205,$A8)>1,"Duplicate Request ID",""),IF($B8="","Missing learner alias",""),IF($C8="","Missing request date",""),IF($D8="","Missing term",""),IF($E8="","Missing route",""),IF($F8="Unknown Route","Route not found",""),IF($H8="","Missing evidence received value",""),IF(AND($H8="Yes",$I8=""),"Missing evidence date",""),IF(AND($H8="No",$I8<>""),"Evidence date entered when evidence is No",""),IF(AND($H8="Yes",$L8=""),"Missing evidence assessment",""),IF(AND($N8="Complete",$O8=""),"Missing decision date",""),IF(AND($O8<>"",$N8<>"Complete"),"Decision date entered before review is Complete",""),IF(AND($L8="Meets",$H8<>"Yes"),"Meets assessment requires received evidence",""),IF(AND($L8="Does Not Meet",$H8<>"Yes"),"Does Not Meet assessment requires received evidence",""),IF(AND($N8="Complete",$L8="Pending"),"Complete review cannot have Pending assessment",""),IF(AND($C8<>"",$I8<>"",$I8<$C8),"Evidence date precedes request date",""),IF(AND($C8<>"",$O8<>"",$O8<$C8),"Decision date precedes request date",""),IF(AND($S8<>"",$S8<$C8),"Follow-up date precedes request date",""),IF(AND($E8<>"",$H8="Yes",IFERROR(INDEX('Rules & Lists'!$D$5:$D$24,MATCH($E8,'Rules & Lists'!$A$5:$A$24,0)),"")="Grade",$J8=""),"Missing evidence grade",""),IF(AND($E8<>"",$H8="Yes",IFERROR(INDEX('Rules & Lists'!$D$5:$D$24,MATCH($E8,'Rules & Lists'!$A$5:$A$24,0)),"")="Score",$K8=""),"Missing evidence score","")))
A9: PC-260904 | B9: Silver Otter | C9: 46259 | D9: Fall 2026 | E9: CIS240-GRADE | F9: =IF($A9="","",IF($E9="","",IFERROR(INDEX('Rules & Lists'!$B$5:$B$24,MATCH($E9,'Rules & Lists'!$A$5:$A$24,0)),"Unknown Route"))) | G9: =IF($A9="","",IF($E9="","",IFERROR(INDEX('Rules & Lists'!$H$5:$H$24,MATCH($E9,'Rules & Lists'!$A$5:$A$24,0)),"Rule not found"))) | H9: Yes | I9: 46259 | J9: B | L9: Meets | M9: Morgan Patel | N9: In Review | P9: =IF(OR($A9="",$I9="",$E9=""),"",IFERROR(IF(INDEX('Rules & Lists'!$G$5:$G$24,MATCH($E9,'Rules & Lists'!$A$5:$A$24,0))=0,"",EDATE($I9,INDEX('Rules & Lists'!$G$5:$G$24,MATCH($E9,'Rules & Lists'!$A$5:$A$24,0)))),"")) | Q9: =IF(OR($A9="",$C9=""),"",MAX(0,IF($O9<>"",$O9-$C9,TODAY()-$C9))) | R9: =IF($A9="","",IF($E9="","Route Needed",IF($H9<>"Yes","Evidence Needed",IF($N9="On Hold","On Hold",IF(AND($P9<>"",$P9<TODAY()),"Expired",IF($N9<>"Complete","Pending Review",IF($L9="Meets","Cleared",IF($L9="Does Not Meet","Not Cleared","Pending Review")))))))) | S9: 46274 | T9: Reviewer assigned | U9: =IF($A9="","",TEXTJOIN(", ",TRUE,IF(COUNTIF($A$6:$A$205,$A9)>1,"Duplicate Request ID",""),IF($B9="","Missing learner alias",""),IF($C9="","Missing request date",""),IF($D9="","Missing term",""),IF($E9="","Missing route",""),IF($F9="Unknown Route","Route not found",""),IF($H9="","Missing evidence received value",""),IF(AND($H9="Yes",$I9=""),"Missing evidence date",""),IF(AND($H9="No",$I9<>""),"Evidence date entered when evidence is No",""),IF(AND($H9="Yes",$L9=""),"Missing evidence assessment",""),IF(AND($N9="Complete",$O9=""),"Missing decision date",""),IF(AND($O9<>"",$N9<>"Complete"),"Decision date entered before review is Complete",""),IF(AND($L9="Meets",$H9<>"Yes"),"Meets assessment requires received evidence",""),IF(AND($L9="Does Not Meet",$H9<>"Yes"),"Does Not Meet assessment requires received evidence",""),IF(AND($N9="Complete",$L9="Pending"),"Complete review cannot have Pending assessment",""),IF(AND($C9<>"",$I9<>"",$I9<$C9),"Evidence date precedes request date",""),IF(AND($C9<>"",$O9<>"",$O9<$C9),"Decision date precedes request date",""),IF(AND($S9<>"",$S9<$C9),"Follow-up date precedes request date",""),IF(AND($E9<>"",$H9="Yes",IFERROR(INDEX('Rules & Lists'!$D$5:$D$24,MATCH($E9,'Rules & Lists'!$A$5:$A$24,0)),"")="Grade",$J9=""),"Missing evidence grade",""),IF(AND($E9<>"",$H9="Yes",IFERROR(INDEX('Rules & Lists'!$D$5:$D$24,MATCH($E9,'Rules & Lists'!$A$5:$A$24,0)),"")="Score",$K9=""),"Missing evidence score","")))
A10: PC-260905 | B10: Amber Wren | C10: 46260 | D10: Fall 2026 | E10: BIO220-TRANSFER | F10: =IF($A10="","",IF($E10="","",IFERROR(INDEX('Rules & Lists'!$B$5:$B$24,MATCH($E10,'Rules & Lists'!$A$5:$A$24,0)),"Unknown Route"))) | G10: =IF($A10="","",IF($E10="","",IFERROR(INDEX('Rules & Lists'!$H$5:$H$24,MATCH($E10,'Rules & Lists'!$A$5:$A$24,0)),"Rule not found"))) | H10: Yes | I10: 46260 | L10: Does Not Meet | M10: Riley Chen | N10: Complete | O10: 46263 | P10: =IF(OR($A10="",$I10="",$E10=""),"",IFERROR(IF(INDEX('Rules & Lists'!$G$5:$G$24,MATCH($E10,'Rules & Lists'!$A$5:$A$24,0))=0,"",EDATE($I10,INDEX('Rules & Lists'!$G$5:$G$24,MATCH($E10,'Rules & Lists'!$A$5:$A$24,0)))),"")) | Q10: =IF(OR($A10="",$C10=""),"",MAX(0,IF($O10<>"",$O10-$C10,TODAY()-$C10))) | R10: =IF($A10="","",IF($E10="","Route Needed",IF($H10<>"Yes","Evidence Needed",IF($N10="On Hold","On Hold",IF(AND($P10<>"",$P10<TODAY()),"Expired",IF($N10<>"Complete","Pending Review",IF($L10="Meets","Cleared",IF($L10="Does Not Meet","Not Cleared","Pending Review")))))))) | T10: Submitted course was not equivalent | U10: =IF($A10="","",TEXTJOIN(", ",TRUE,IF(COUNTIF($A$6:$A$205,$A10)>1,"Duplicate Request ID",""),IF($B10="","Missing learner alias",""),IF($C10="","Missing request date",""),IF($D10="","Missing term",""),IF($E10="","Missing route",""),IF($F10="Unknown Route","Route not found",""),IF($H10="","Missing evidence received value",""),IF(AND($H10="Yes",$I10=""),"Missing evidence date",""),IF(AND($H10="No",$I10<>""),"Evidence date entered when evidence is No",""),IF(AND($H10="Yes",$L10=""),"Missing evidence assessment",""),IF(AND($N10="Complete",$O10=""),"Missing decision date",""),IF(AND($O10<>"",$N10<>"Complete"),"Decision date entered before review is Complete",""),IF(AND($L10="Meets",$H10<>"Yes"),"Meets assessment requires received evidence",""),IF(AND($L10="Does Not Meet",$H10<>"Yes"),"Does Not Meet assessment requires received evidence",""),IF(AND($N10="Complete",$L10="Pending"),"Complete review cannot have Pending assessment",""),IF(AND($C10<>"",$I10<>"",$I10<$C10),"Evidence date precedes request date",""),IF(AND($C10<>"",$O10<>"",$O10<$C10),"Decision date precedes request date",""),IF(AND($S10<>"",$S10<$C10),"Follow-up date precedes request date",""),IF(AND($E10<>"",$H10="Yes",IFERROR(INDEX('Rules & Lists'!$D$5:$D$24,MATCH($E10,'Rules & Lists'!$A$5:$A$24,0)),"")="Grade",$J10=""),"Missing evidence grade",""),IF(AND($E10<>"",$H10="Yes",IFERROR(INDEX('Rules & Lists'!$D$5:$D$24,MATCH($E10,'Rules & Lists'!$A$5:$A$24,0)),"")="Score",$K10=""),"Missing evidence score","")))
A11: PC-260906 | B11: Prairie Lynx | C11: 46261 | D11: Fall 2026 | E11: ENG201-PLACEMENT | F11: =IF($A11="","",IF($E11="","",IFERROR(INDEX('Rules & Lists'!$B$5:$B$24,MATCH($E11,'Rules & Lists'!$A$5:$A$24,0)),"Unknown Route"))) | G11: =IF($A11="","",IF($E11="","",IFERROR(INDEX('Rules & Lists'!$H$5:$H$24,MATCH($E11,'Rules & Lists'!$A$5:$A$24,0)),"Rule not found"))) | H11: Yes | I11: 46261 | K11: 79 | L11: Meets | M11: Taylor Monroe | N11: Complete | O11: 46262 | P11: =IF(OR($A11="",$I11="",$E11=""),"",IFERROR(IF(INDEX('Rules & Lists'!$G$5:$G$24,MATCH($E11,'Rules & Lists'!$A$5:$A$24,0))=0,"",EDATE($I11,INDEX('Rules & Lists'!$G$5:$G$24,MATCH($E11,'Rules & Lists'!$A$5:$A$24,0)))),"")) | Q11: =IF(OR($A11="",$C11=""),"",MAX(0,IF($O11<>"",$O11-$C11,TODAY()-$C11))) | R11: =IF($A11="","",IF($E11="","Route Needed",IF($H11<>"Yes","Evidence Needed",IF($N11="On Hold","On Hold",IF(AND($P11<>"",$P11<TODAY()),"Expired",IF($N11<>"Complete","Pending Review",IF($L11="Meets","Cleared",IF($L11="Does Not Meet","Not Cleared","Pending Review")))))))) | T11: Placement route completed | U11: =IF($A11="","",TEXTJOIN(", ",TRUE,IF(COUNTIF($A$6:$A$205,$A11)>1,"Duplicate Request ID",""),IF($B11="","Missing learner alias",""),IF($C11="","Missing request date",""),IF($D11="","Missing term",""),IF($E11="","Missing route",""),IF($F11="Unknown Route","Route not found",""),IF($H11="","Missing evidence received value",""),IF(AND($H11="Yes",$I11=""),"Missing evidence date",""),IF(AND($H11="No",$I11<>""),"Evidence date entered when evidence is No",""),IF(AND($H11="Yes",$L11=""),"Missing evidence assessment",""),IF(AND($N11="Complete",$O11=""),"Missing decision date",""),IF(AND($O11<>"",$N11<>"Complete"),"Decision date entered before review is Complete",""),IF(AND($L11="Meets",$H11<>"Yes"),"Meets assessment requires received evidence",""),IF(AND($L11="Does Not Meet",$H11<>"Yes"),"Does Not Meet assessment requires received evidence",""),IF(AND($N11="Complete",$L11="Pending"),"Complete review cannot have Pending assessment",""),IF(AND($C11<>"",$I11<>"",$I11<$C11),"Evidence date precedes request date",""),IF(AND($C11<>"",$O11<>"",$O11<$C11),"Decision date precedes request date",""),IF(AND($S11<>"",$S11<$C11),"Follow-up date precedes request date",""),IF(AND($E11<>"",$H11="Yes",IFERROR(INDEX('Rules & Lists'!$D$5:$D$24,MATCH($E11,'Rules & Lists'!$A$5:$A$24,0)),"")="Grade",$J11=""),"Missing evidence grade",""),IF(AND($E11<>"",$H11="Yes",IFERROR(INDEX('Rules & Lists'!$D$5:$D$24,MATCH($E11,'Rules & Lists'!$A$5:$A$24,0)),"")="Score",$K11=""),"Missing evidence score","")))
A12: PC-260907 | B12: Blue Heron | C12: 46262 | D12: Fall 2026 | E12: CIS240-PRIOR | F12: =IF($A12="","",IF($E12="","",IFERROR(INDEX('Rules & Lists'!$B$5:$B$24,MATCH($E12,'Rules & Lists'!$A$5:$A$24,0)),"Unknown Route"))) | G12: =IF($A12="","",IF($E12="","",IFERROR(INDEX('Rules & Lists'!$H$5:$H$24,MATCH($E12,'Rules & Lists'!$A$5:$A$24,0)),"Rule not found"))) | H12: Yes | I12: 46262 | L12: Pending | M12: Morgan Patel | N12: On Hold | P12: =IF(OR($A12="",$I12="",$E12=""),"",IFERROR(IF(INDEX('Rules & Lists'!$G$5:$G$24,MATCH($E12,'Rules & Lists'!$A$5:$A$24,0))=0,"",EDATE($I12,INDEX('Rules & Lists'!$G$5:$G$24,MATCH($E12,'Rules & Lists'!$A$5:$A$24,0)))),"")) | Q12: =IF(OR($A12="",$C12=""),"",MAX(0,IF($O12<>"",$O12-$C12,TODAY()-$C12))) | R12: =IF($A12="","",IF($E12="","Route Needed",IF($H12<>"Yes","Evidence Needed",IF($N12="On Hold","On Hold",IF(AND($P12<>"",$P12<TODAY()),"Expired",IF($N12<>"Complete","Pending Review",IF($L12="Meets","Cleared",IF($L12="Does Not Meet","Not Cleared","Pending Review")))))))) | S12: 46275 | T12: Additional work sample requested | U12: =IF($A12="","",TEXTJOIN(", ",TRUE,IF(COUNTIF($A$6:$A$205,$A12)>1,"Duplicate Request ID",""),IF($B12="","Missing learner alias",""),IF($C12="","Missing request date",""),IF($D12="","Missing term",""),IF($E12="","Missing route",""),IF($F12="Unknown Route","Route not found",""),IF($H12="","Missing evidence received value",""),IF(AND($H12="Yes",$I12=""),"Missing evidence date",""),IF(AND($H12="No",$I12<>""),"Evidence date entered when evidence is No",""),IF(AND($H12="Yes",$L12=""),"Missing evidence assessment",""),IF(AND($N12="Complete",$O12=""),"Missing decision date",""),IF(AND($O12<>"",$N12<>"Complete"),"Decision date entered before review is Complete",""),IF(AND($L12="Meets",$H12<>"Yes"),"Meets assessment requires received evidence",""),IF(AND($L12="Does Not Meet",$H12<>"Yes"),"Does Not Meet assessment requires received evidence",""),IF(AND($N12="Complete",$L12="Pending"),"Complete review cannot have Pending assessment",""),IF(AND($C12<>"",$I12<>"",$I12<$C12),"Evidence date precedes request date",""),IF(AND($C12<>"",$O12<>"",$O12<$C12),"Decision date precedes request date",""),IF(AND($S12<>"",$S12<$C12),"Follow-up date precedes request date",""),IF(AND($E12<>"",$H12="Yes",IFERROR(INDEX('Rules & Lists'!$D$5:$D$24,MATCH($E12,'Rules & Lists'!$A$5:$A$24,0)),"")="Grade",$J12=""),"Missing evidence grade",""),IF(AND($E12<>"",$H12="Yes",IFERROR(INDEX('Rules & Lists'!$D$5:$D$24,MATCH($E12,'Rules & Lists'!$A$5:$A$24,0)),"")="Score",$K12=""),"Missing evidence score","")))
A13: PC-260908 | B13: Copper Elm | C13: 46266 | D13: Fall 2026 | E13: MAT210-GRADE | F13: =IF($A13="","",IF($E13="","",IFERROR(INDEX('Rules & Lists'!$B$5:$B$24,MATCH($E13,'Rules & Lists'!$A$5:$A$24,0)),"Unknown Route"))) | G13: =IF($A13="","",IF($E13="","",IFERROR(INDEX('Rules & Lists'!$H$5:$H$24,MATCH($E13,'Rules & Lists'!$A$5:$A$24,0)),"Rule not found"))) | H13: Yes | I13: 46266 | J13: C+ | L13: Meets | M13: Avery Brooks | N13: Complete | O13: 46268 | P13: =IF(OR($A13="",$I13="",$E13=""),"",IFERROR(IF(INDEX('Rules & Lists'!$G$5:$G$24,MATCH($E13,'Rules & Lists'!$A$5:$A$24,0))=0,"",EDATE($I13,INDEX('Rules & Lists'!$G$5:$G$24,MATCH($E13,'Rules & Lists'!$A$5:$A$24,0)))),"")) | Q13: =IF(OR($A13="",$C13=""),"",MAX(0,IF($O13<>"",$O13-$C13,TODAY()-$C13))) | R13: =IF($A13="","",IF($E13="","Route Needed",IF($H13<>"Yes","Evidence Needed",IF($N13="On Hold","On Hold",IF(AND($P13<>"",$P13<TODAY()),"Expired",IF($N13<>"Complete","Pending Review",IF($L13="Meets","Cleared",IF($L13="Does Not Meet","Not Cleared","Pending Review")))))))) | T13: Course grade reviewed | U13: =IF($A13="","",TEXTJOIN(", ",TRUE,IF(COUNTIF($A$6:$A$205,$A13)>1,"Duplicate Request ID",""),IF($B13="","Missing learner alias",""),IF($C13="","Missing request date",""),IF($D13="","Missing term",""),IF($E13="","Missing route",""),IF($F13="Unknown Route","Route not found",""),IF($H13="","Missing evidence received value",""),IF(AND($H13="Yes",$I13=""),"Missing evidence date",""),IF(AND($H13="No",$I13<>""),"Evidence date entered when evidence is No",""),IF(AND($H13="Yes",$L13=""),"Missing evidence assessment",""),IF(AND($N13="Complete",$O13=""),"Missing decision date",""),IF(AND($O13<>"",$N13<>"Complete"),"Decision date entered before review is Complete",""),IF(AND($L13="Meets",$H13<>"Yes"),"Meets assessment requires received evidence",""),IF(AND($L13="Does Not Meet",$H13<>"Yes"),"Does Not Meet assessment requires received evidence",""),IF(AND($N13="Complete",$L13="Pending"),"Complete review cannot have Pending assessment",""),IF(AND($C13<>"",$I13<>"",$I13<$C13),"Evidence date precedes request date",""),IF(AND($C13<>"",$O13<>"",$O13<$C13),"Decision date precedes request date",""),IF(AND($S13<>"",$S13<$C13),"Follow-up date precedes request date",""),IF(AND($E13<>"",$H13="Yes",IFERROR(INDEX('Rules & Lists'!$D$5:$D$24,MATCH($E13,'Rules & Lists'!$A$5:$A$24,0)),"")="Grade",$J13=""),"Missing evidence grade",""),IF(AND($E13<>"",$H13="Yes",IFERROR(INDEX('Rules & Lists'!$D$5:$D$24,MATCH($E13,'Rules & Lists'!$A$5:$A$24,0)),"")="Score",$K13=""),"Missing evidence score","")))
A14: PC-260909 | B14: Canyon Lark | C14: 46267 | D14: Fall 2026 | F14: =IF($A14="","",IF($E14="","",IFERROR(INDEX('Rules & Lists'!$B$5:$B$24,MATCH($E14,'Rules & Lists'!$A$5:$A$24,0)),"Unknown Route"))) | G14: =IF($A14="","",IF($E14="","",IFERROR(INDEX('Rules & Lists'!$H$5:$H$24,MATCH($E14,'Rules & Lists'!$A$5:$A$24,0)),"Rule not found"))) | H14: No | L14: Pending | M14: Unassigned | N14: Not Started | P14: =IF(OR($A14="",$I14="",$E14=""),"",IFERROR(IF(INDEX('Rules & Lists'!$G$5:$G$24,MATCH($E14,'Rules & Lists'!$A$5:$A$24,0))=0,"",EDATE($I14,INDEX('Rules & Lists'!$G$5:$G$24,MATCH($E14,'Rules & Lists'!$A$5:$A$24,0)))),"")) | Q14: =IF(OR($A14="",$C14=""),"",MAX(0,IF($O14<>"",$O14-$C14,TODAY()-$C14))) | R14: =IF($A14="","",IF($E14="","Route Needed",IF($H14<>"Yes","Evidence Needed",IF($N14="On Hold","On Hold",IF(AND($P14<>"",$P14<TODAY()),"Expired",IF($N14<>"Complete","Pending Review",IF($L14="Meets","Cleared",IF($L14="Does Not Meet","Not Cleared","Pending Review")))))))) | S14: 46276 | T14: Target route still being identified | U14: =IF($A14="","",TEXTJOIN(", ",TRUE,IF(COUNTIF($A$6:$A$205,$A14)>1,"Duplicate Request ID",""),IF($B14="","Missing learner alias",""),IF($C14="","Missing request date",""),IF($D14="","Missing term",""),IF($E14="","Missing route",""),IF($F14="Unknown Route","Route not found",""),IF($H14="","Missing evidence received value",""),IF(AND($H14="Yes",$I14=""),"Missing evidence date",""),IF(AND($H14="No",$I14<>""),"Evidence date entered when evidence is No",""),IF(AND($H14="Yes",$L14=""),"Missing evidence assessment",""),IF(AND($N14="Complete",$O14=""),"Missing decision date",""),IF(AND($O14<>"",$N14<>"Complete"),"Decision date entered before review is Complete",""),IF(AND($L14="Meets",$H14<>"Yes"),"Meets assessment requires received evidence",""),IF(AND($L14="Does Not Meet",$H14<>"Yes"),"Does Not Meet assessment requires received evidence",""),IF(AND($N14="Complete",$L14="Pending"),"Complete review cannot have Pending assessment",""),IF(AND($C14<>"",$I14<>"",$I14<$C14),"Evidence date precedes request date",""),IF(AND($C14<>"",$O14<>"",$O14<$C14),"Decision date precedes request date",""),IF(AND($S14<>"",$S14<$C14),"Follow-up date precedes request date",""),IF(AND($E14<>"",$H14="Yes",IFERROR(INDEX('Rules & Lists'!$D$5:$D$24,MATCH($E14,'Rules & Lists'!$A$5:$A$24,0)),"")="Grade",$J14=""),"Missing evidence grade",""),IF(AND($E14<>"",$H14="Yes",IFERROR(INDEX('Rules & Lists'!$D$5:$D$24,MATCH($E14,'Rules & Lists'!$A$5:$A$24,0)),"")="Score",$K14=""),"Missing evidence score","")))
A15: PC-260910 | B15: Meadow Pike | C15: 46268 | D15: Fall 2026 | E15: BIO220-GRADE | F15: =IF($A15="","",IF($E15="","",IFERROR(INDEX('Rules & Lists'!$B$5:$B$24,MATCH($E15,'Rules & Lists'!$A$5:$A$24,0)),"Unknown Route"))) | G15: =IF($A15="","",IF($E15="","",IFERROR(INDEX('Rules & Lists'!$H$5:$H$24,MATCH($E15,'Rules & Lists'!$A$5:$A$24,0)),"Rule not found"))) | H15: Yes | I15: 46268 | J15: C+ | L15: Does Not Meet | M15: Jordan Lee | N15: Complete | O15: 46270 | P15: =IF(OR($A15="",$I15="",$E15=""),"",IFERROR(IF(INDEX('Rules & Lists'!$G$5:$G$24,MATCH($E15,'Rules & Lists'!$A$5:$A$24,0))=0,"",EDATE($I15,INDEX('Rules & Lists'!$G$5:$G$24,MATCH($E15,'Rules & Lists'!$A$5:$A$24,0)))),"")) | Q15: =IF(OR($A15="",$C15=""),"",MAX(0,IF($O15<>"",$O15-$C15,TODAY()-$C15))) | R15: =IF($A15="","",IF($E15="","Route Needed",IF($H15<>"Yes","Evidence Needed",IF($N15="On Hold","On Hold",IF(AND($P15<>"",$P15<TODAY()),"Expired",IF($N15<>"Complete","Pending Review",IF($L15="Meets","Cleared",IF($L15="Does Not Meet","Not Cleared","Pending Review")))))))) | T15: Grade was below the listed minimum | U15: =IF($A15="","",TEXTJOIN(", ",TRUE,IF(COUNTIF($A$6:$A$205,$A15)>1,"Duplicate Request ID",""),IF($B15="","Missing learner alias",""),IF($C15="","Missing request date",""),IF($D15="","Missing term",""),IF($E15="","Missing route",""),IF($F15="Unknown Route","Route not found",""),IF($H15="","Missing evidence received value",""),IF(AND($H15="Yes",$I15=""),"Missing evidence date",""),IF(AND($H15="No",$I15<>""),"Evidence date entered when evidence is No",""),IF(AND($H15="Yes",$L15=""),"Missing evidence assessment",""),IF(AND($N15="Complete",$O15=""),"Missing decision date",""),IF(AND($O15<>"",$N15<>"Complete"),"Decision date entered before review is Complete",""),IF(AND($L15="Meets",$H15<>"Yes"),"Meets assessment requires received evidence",""),IF(AND($L15="Does Not Meet",$H15<>"Yes"),"Does Not Meet assessment requires received evidence",""),IF(AND($N15="Complete",$L15="Pending"),"Complete review cannot have Pending assessment",""),IF(AND($C15<>"",$I15<>"",$I15<$C15),"Evidence date precedes request date",""),IF(AND($C15<>"",$O15<>"",$O15<$C15),"Decision date precedes request date",""),IF(AND($S15<>"",$S15<$C15),"Follow-up date precedes request date",""),IF(AND($E15<>"",$H15="Yes",IFERROR(INDEX('Rules & Lists'!$D$5:$D$24,MATCH($E15,'Rules & Lists'!$A$5:$A$24,0)),"")="Grade",$J15=""),"Missing evidence grade",""),IF(AND($E15<>"",$H15="Yes",IFERROR(INDEX('Rules & Lists'!$D$5:$D$24,MATCH($E15,'Rules & Lists'!$A$5:$A$24,0)),"")="Score",$K15=""),"Missing evidence score","")))
F16: =IF($A16="","",IF($E16="","",IFERROR(INDEX('Rules & Lists'!$B$5:$B$24,MATCH($E16,'Rules & Lists'!$A$5:$A$24,0)),"Unknown Route"))) | G16: =IF($A16="","",IF($E16="","",IFERROR(INDEX('Rules & Lists'!$H$5:$H$24,MATCH($E16,'Rules & Lists'!$A$5:$A$24,0)),"Rule not found"))) | P16: =IF(OR($A16="",$I16="",$E16=""),"",IFERROR(IF(INDEX('Rules & Lists'!$G$5:$G$24,MATCH($E16,'Rules & Lists'!$A$5:$A$24,0))=0,"",EDATE($I16,INDEX('Rules & Lists'!$G$5:$G$24,MATCH($E16,'Rules & Lists'!$A$5:$A$24,0)))),"")) | Q16: =IF(OR($A16="",$C16=""),"",MAX(0,IF($O16<>"",$O16-$C16,TODAY()-$C16))) | R16: =IF($A16="","",IF($E16="","Route Needed",IF($H16<>"Yes","Evidence Needed",IF($N16="On Hold","On Hold",IF(AND($P16<>"",$P16<TODAY()),"Expired",IF($N16<>"Complete","Pending Review",IF($L16="Meets","Cleared",IF($L16="Does Not Meet","Not Cleared","Pending Review")))))))) | U16: =IF($A16="","",TEXTJOIN(", ",TRUE,IF(COUNTIF($A$6:$A$205,$A16)>1,"Duplicate Request ID",""),IF($B16="","Missing learner alias",""),IF($C16="","Missing request date",""),IF($D16="","Missing term",""),IF($E16="","Missing route",""),IF($F16="Unknown Route","Route not found",""),IF($H16="","Missing evidence received value",""),IF(AND($H16="Yes",$I16=""),"Missing evidence date",""),IF(AND($H16="No",$I16<>""),"Evidence date entered when evidence is No",""),IF(AND($H16="Yes",$L16=""),"Missing evidence assessment",""),IF(AND($N16="Complete",$O16=""),"Missing decision date",""),IF(AND($O16<>"",$N16<>"Complete"),"Decision date entered before review is Complete",""),IF(AND($L16="Meets",$H16<>"Yes"),"Meets assessment requires received evidence",""),IF(AND($L16="Does Not Meet",$H16<>"Yes"),"Does Not Meet assessment requires received evidence",""),IF(AND($N16="Complete",$L16="Pending"),"Complete review cannot have Pending assessment",""),IF(AND($C16<>"",$I16<>"",$I16<$C16),"Evidence date precedes request date",""),IF(AND($C16<>"",$O16<>"",$O16<$C16),"Decision date precedes request date",""),IF(AND($S16<>"",$S16<$C16),"Follow-up date precedes request date",""),IF(AND($E16<>"",$H16="Yes",IFERROR(INDEX('Rules & Lists'!$D$5:$D$24,MATCH($E16,'Rules & Lists'!$A$5:$A$24,0)),"")="Grade",$J16=""),"Missing evidence grade",""),IF(AND($E16<>"",$H16="Yes",IFERROR(INDEX('Rules & Lists'!$D$5:$D$24,MATCH($E16,'Rules & Lists'!$A$5:$A$24,0)),"")="Score",$K16=""),"Missing evidence score","")))
F17: =IF($A17="","",IF($E17="","",IFERROR(INDEX('Rules & Lists'!$B$5:$B$24,MATCH($E17,'Rules & Lists'!$A$5:$A$24,0)),"Unknown Route"))) | G17: =IF($A17="","",IF($E17="","",IFERROR(INDEX('Rules & Lists'!$H$5:$H$24,MATCH($E17,'Rules & Lists'!$A$5:$A$24,0)),"Rule not found"))) | P17: =IF(OR($A17="",$I17="",$E17=""),"",IFERROR(IF(INDEX('Rules & Lists'!$G$5:$G$24,MATCH($E17,'Rules & Lists'!$A$5:$A$24,0))=0,"",EDATE($I17,INDEX('Rules & Lists'!$G$5:$G$24,MATCH($E17,'Rules & Lists'!$A$5:$A$24,0)))),"")) | Q17: =IF(OR($A17="",$C17=""),"",MAX(0,IF($O17<>"",$O17-$C17,TODAY()-$C17))) | R17: =IF($A17="","",IF($E17="","Route Needed",IF($H17<>"Yes","Evidence Needed",IF($N17="On Hold","On Hold",IF(AND($P17<>"",$P17<TODAY()),"Expired",IF($N17<>"Complete","Pending Review",IF($L17="Meets","Cleared",IF($L17="Does Not Meet","Not Cleared","Pending Review")))))))) | U17: =IF($A17="","",TEXTJOIN(", ",TRUE,IF(COUNTIF($A$6:$A$205,$A17)>1,"Duplicate Request ID",""),IF($B17="","Missing learner alias",""),IF($C17="","Missing request date",""),IF($D17="","Missing term",""),IF($E17="","Missing route",""),IF($F17="Unknown Route","Route not found",""),IF($H17="","Missing evidence received value",""),IF(AND($H17="Yes",$I17=""),"Missing evidence date",""),IF(AND($H17="No",$I17<>""),"Evidence date entered when evidence is No",""),IF(AND($H17="Yes",$L17=""),"Missing evidence assessment",""),IF(AND($N17="Complete",$O17=""),"Missing decision date",""),IF(AND($O17<>"",$N17<>"Complete"),"Decision date entered before review is Complete",""),IF(AND($L17="Meets",$H17<>"Yes"),"Meets assessment requires received evidence",""),IF(AND($L17="Does Not Meet",$H17<>"Yes"),"Does Not Meet assessment requires received evidence",""),IF(AND($N17="Complete",$L17="Pending"),"Complete review cannot have Pending assessment",""),IF(AND($C17<>"",$I17<>"",$I17<$C17),"Evidence date precedes request date",""),IF(AND($C17<>"",$O17<>"",$O17<$C17),"Decision date precedes request date",""),IF(AND($S17<>"",$S17<$C17),"Follow-up date precedes request date",""),IF(AND($E17<>"",$H17="Yes",IFERROR(INDEX('Rules & Lists'!$D$5:$D$24,MATCH($E17,'Rules & Lists'!$A$5:$A$24,0)),"")="Grade",$J17=""),"Missing evidence grade",""),IF(AND($E17<>"",$H17="Yes",IFERROR(INDEX('Rules & Lists'!$D$5:$D$24,MATCH($E17,'Rules & Lists'!$A$5:$A$24,0)),"")="Score",$K17=""),"Missing evidence score","")))
F18: =IF($A18="","",IF($E18="","",IFERROR(INDEX('Rules & Lists'!$B$5:$B$24,MATCH($E18,'Rules & Lists'!$A$5:$A$24,0)),"Unknown Route"))) | G18: =IF($A18="","",IF($E18="","",IFERROR(INDEX('Rules & Lists'!$H$5:$H$24,MATCH($E18,'Rules & Lists'!$A$5:$A$24,0)),"Rule not found"))) | P18: =IF(OR($A18="",$I18="",$E18=""),"",IFERROR(IF(INDEX('Rules & Lists'!$G$5:$G$24,MATCH($E18,'Rules & Lists'!$A$5:$A$24,0))=0,"",EDATE($I18,INDEX('Rules & Lists'!$G$5:$G$24,MATCH($E18,'Rules & Lists'!$A$5:$A$24,0)))),"")) | Q18: =IF(OR($A18="",$C18=""),"",MAX(0,IF($O18<>"",$O18-$C18,TODAY()-$C18))) | R18: =IF($A18="","",IF($E18="","Route Needed",IF($H18<>"Yes","Evidence Needed",IF($N18="On Hold","On Hold",IF(AND($P18<>"",$P18<TODAY()),"Expired",IF($N18<>"Complete","Pending Review",IF($L18="Meets","Cleared",IF($L18="Does Not Meet","Not Cleared","Pending Review")))))))) | U18: =IF($A18="","",TEXTJOIN(", ",TRUE,IF(COUNTIF($A$6:$A$205,$A18)>1,"Duplicate Request ID",""),IF($B18="","Missing learner alias",""),IF($C18="","Missing request date",""),IF($D18="","Missing term",""),IF($E18="","Missing route",""),IF($F18="Unknown Route","Route not found",""),IF($H18="","Missing evidence received value",""),IF(AND($H18="Yes",$I18=""),"Missing evidence date",""),IF(AND($H18="No",$I18<>""),"Evidence date entered when evidence is No",""),IF(AND($H18="Yes",$L18=""),"Missing evidence assessment",""),IF(AND($N18="Complete",$O18=""),"Missing decision date",""),IF(AND($O18<>"",$N18<>"Complete"),"Decision date entered before review is Complete",""),IF(AND($L18="Meets",$H18<>"Yes"),"Meets assessment requires received evidence",""),IF(AND($L18="Does Not Meet",$H18<>"Yes"),"Does Not Meet assessment requires received evidence",""),IF(AND($N18="Complete",$L18="Pending"),"Complete review cannot have Pending assessment",""),IF(AND($C18<>"",$I18<>"",$I18<$C18),"Evidence date precedes request date",""),IF(AND($C18<>"",$O18<>"",$O18<$C18),"Decision date precedes request date",""),IF(AND($S18<>"",$S18<$C18),"Follow-up date precedes request date",""),IF(AND($E18<>"",$H18="Yes",IFERROR(INDEX('Rules & Lists'!$D$5:$D$24,MATCH($E18,'Rules & Lists'!$A$5:$A$24,0)),"")="Grade",$J18=""),"Missing evidence grade",""),IF(AND($E18<>"",$H18="Yes",IFERROR(INDEX('Rules & Lists'!$D$5:$D$24,MATCH($E18,'Rules & Lists'!$A$5:$A$24,0)),"")="Score",$K18=""),"Missing evidence score","")))
F19: =IF($A19="","",IF($E19="","",IFERROR(INDEX('Rules & Lists'!$B$5:$B$24,MATCH($E19,'Rules & Lists'!$A$5:$A$24,0)),"Unknown Route"))) | G19: =IF($A19="","",IF($E19="","",IFERROR(INDEX('Rules & Lists'!$H$5:$H$24,MATCH($E19,'Rules & Lists'!$A$5:$A$24,0)),"Rule not found"))) | P19: =IF(OR($A19="",$I19="",$E19=""),"",IFERROR(IF(INDEX('Rules & Lists'!$G$5:$G$24,MATCH($E19,'Rules & Lists'!$A$5:$A$24,0))=0,"",EDATE($I19,INDEX('Rules & Lists'!$G$5:$G$24,MATCH($E19,'Rules & Lists'!$A$5:$A$24,0)))),"")) | Q19: =IF(OR($A19="",$C19=""),"",MAX(0,IF($O19<>"",$O19-$C19,TODAY()-$C19))) | R19: =IF($A19="","",IF($E19="","Route Needed",IF($H19<>"Yes","Evidence Needed",IF($N19="On Hold","On Hold",IF(AND($P19<>"",$P19<TODAY()),"Expired",IF($N19<>"Complete","Pending Review",IF($L19="Meets","Cleared",IF($L19="Does Not Meet","Not Cleared","Pending Review")))))))) | U19: =IF($A19="","",TEXTJOIN(", ",TRUE,IF(COUNTIF($A$6:$A$205,$A19)>1,"Duplicate Request ID",""),IF($B19="","Missing learner alias",""),IF($C19="","Missing request date",""),IF($D19="","Missing term",""),IF($E19="","Missing route",""),IF($F19="Unknown Route","Route not found",""),IF($H19="","Missing evidence received value",""),IF(AND($H19="Yes",$I19=""),"Missing evidence date",""),IF(AND($H19="No",$I19<>""),"Evidence date entered when evidence is No",""),IF(AND($H19="Yes",$L19=""),"Missing evidence assessment",""),IF(AND($N19="Complete",$O19=""),"Missing decision date",""),IF(AND($O19<>"",$N19<>"Complete"),"Decision date entered before review is Complete",""),IF(AND($L19="Meets",$H19<>"Yes"),"Meets assessment requires received evidence",""),IF(AND($L19="Does Not Meet",$H19<>"Yes"),"Does Not Meet assessment requires received evidence",""),IF(AND($N19="Complete",$L19="Pending"),"Complete review cannot have Pending assessment",""),IF(AND($C19<>"",$I19<>"",$I19<$C19),"Evidence date precedes request date",""),IF(AND($C19<>"",$O19<>"",$O19<$C19),"Decision date precedes request date",""),IF(AND($S19<>"",$S19<$C19),"Follow-up date precedes request date",""),IF(AND($E19<>"",$H19="Yes",IFERROR(INDEX('Rules & Lists'!$D$5:$D$24,MATCH($E19,'Rules & Lists'!$A$5:$A$24,0)),"")="Grade",$J19=""),"Missing evidence grade",""),IF(AND($E19<>"",$H19="Yes",IFERROR(INDEX('Rules & Lists'!$D$5:$D$24,MATCH($E19,'Rules & Lists'!$A$5:$A$24,0)),"")="Score",$K19=""),"Missing evidence score","")))
F20: =IF($A20="","",IF($E20="","",IFERROR(INDEX('Rules & Lists'!$B$5:$B$24,MATCH($E20,'Rules & Lists'!$A$5:$A$24,0)),"Unknown Route"))) | G20: =IF($A20="","",IF($E20="","",IFERROR(INDEX('Rules & Lists'!$H$5:$H$24,MATCH($E20,'Rules & Lists'!$A$5:$A$24,0)),"Rule not found"))) | P20: =IF(OR($A20="",$I20="",$E20=""),"",IFERROR(IF(INDEX('Rules & Lists'!$G$5:$G$24,MATCH($E20,'Rules & Lists'!$A$5:$A$24,0))=0,"",EDATE($I20,INDEX('Rules & Lists'!$G$5:$G$24,MATCH($E20,'Rules & Lists'!$A$5:$A$24,0)))),"")) | Q20: =IF(OR($A20="",$C20=""),"",MAX(0,IF($O20<>"",$O20-$C20,TODAY()-$C20))) | R20: =IF($A20="","",IF($E20="","Route Needed",IF($H20<>"Yes","Evidence Needed",IF($N20="On Hold","On Hold",IF(AND($P20<>"",$P20<TODAY()),"Expired",IF($N20<>"Complete","Pending Review",IF($L20="Meets","Cleared",IF($L20="Does Not Meet","Not Cleared","Pending Review")))))))) | U20: =IF($A20="","",TEXTJOIN(", ",TRUE,IF(COUNTIF($A$6:$A$205,$A20)>1,"Duplicate Request ID",""),IF($B20="","Missing learner alias",""),IF($C20="","Missing request date",""),IF($D20="","Missing term",""),IF($E20="","Missing route",""),IF($F20="Unknown Route","Route not found",""),IF($H20="","Missing evidence received value",""),IF(AND($H20="Yes",$I20=""),"Missing evidence date",""),IF(AND($H20="No",$I20<>""),"Evidence date entered when evidence is No",""),IF(AND($H20="Yes",$L20=""),"Missing evidence assessment",""),IF(AND($N20="Complete",$O20=""),"Missing decision date",""),IF(AND($O20<>"",$N20<>"Complete"),"Decision date entered before review is Complete",""),IF(AND($L20="Meets",$H20<>"Yes"),"Meets assessment requires received evidence",""),IF(AND($L20="Does Not Meet",$H20<>"Yes"),"Does Not Meet assessment requires received evidence",""),IF(AND($N20="Complete",$L20="Pending"),"Complete review cannot have Pending assessment",""),IF(AND($C20<>"",$I20<>"",$I20<$C20),"Evidence date precedes request date",""),IF(AND($C20<>"",$O20<>"",$O20<$C20),"Decision date precedes request date",""),IF(AND($S20<>"",$S20<$C20),"Follow-up date precedes request date",""),IF(AND($E20<>"",$H20="Yes",IFERROR(INDEX('Rules & Lists'!$D$5:$D$24,MATCH($E20,'Rules & Lists'!$A$5:$A$24,0)),"")="Grade",$J20=""),"Missing evidence grade",""),IF(AND($E20<>"",$H20="Yes",IFERROR(INDEX('Rules & Lists'!$D$5:$D$24,MATCH($E20,'Rules & Lists'!$A$5:$A$24,0)),"")="Score",$K20=""),"Missing evidence score","")))
F21: =IF($A21="","",IF($E21="","",IFERROR(INDEX('Rules & Lists'!$B$5:$B$24,MATCH($E21,'Rules & Lists'!$A$5:$A$24,0)),"Unknown Route"))) | G21: =IF($A21="","",IF($E21="","",IFERROR(INDEX('Rules & Lists'!$H$5:$H$24,MATCH($E21,'Rules & Lists'!$A$5:$A$24,0)),"Rule not found"))) | P21: =IF(OR($A21="",$I21="",$E21=""),"",IFERROR(IF(INDEX('Rules & Lists'!$G$5:$G$24,MATCH($E21,'Rules & Lists'!$A$5:$A$24,0))=0,"",EDATE($I21,INDEX('Rules & Lists'!$G$5:$G$24,MATCH($E21,'Rules & Lists'!$A$5:$A$24,0)))),"")) | Q21: =IF(OR($A21="",$C21=""),"",MAX(0,IF($O21<>"",$O21-$C21,TODAY()-$C21))) | R21: =IF($A21="","",IF($E21="","Route Needed",IF($H21<>"Yes","Evidence Needed",IF($N21="On Hold","On Hold",IF(AND($P21<>"",$P21<TODAY()),"Expired",IF($N21<>"Complete","Pending Review",IF($L21="Meets","Cleared",IF($L21="Does Not Meet","Not Cleared","Pending Review")))))))) | U21: =IF($A21="","",TEXTJOIN(", ",TRUE,IF(COUNTIF($A$6:$A$205,$A21)>1,"Duplicate Request ID",""),IF($B21="","Missing learner alias",""),IF($C21="","Missing request date",""),IF($D21="","Missing term",""),IF($E21="","Missing route",""),IF($F21="Unknown Route","Route not found",""),IF($H21="","Missing evidence received value",""),IF(AND($H21="Yes",$I21=""),"Missing evidence date",""),IF(AND($H21="No",$I21<>""),"Evidence date entered when evidence is No",""),IF(AND($H21="Yes",$L21=""),"Missing evidence assessment",""),IF(AND($N21="Complete",$O21=""),"Missing decision date",""),IF(AND($O21<>"",$N21<>"Complete"),"Decision date entered before review is Complete",""),IF(AND($L21="Meets",$H21<>"Yes"),"Meets assessment requires received evidence",""),IF(AND($L21="Does Not Meet",$H21<>"Yes"),"Does Not Meet assessment requires received evidence",""),IF(AND($N21="Complete",$L21="Pending"),"Complete review cannot have Pending assessment",""),IF(AND($C21<>"",$I21<>"",$I21<$C21),"Evidence date precedes request date",""),IF(AND($C21<>"",$O21<>"",$O21<$C21),"Decision date precedes request date",""),IF(AND($S21<>"",$S21<$C21),"Follow-up date precedes request date",""),IF(AND($E21<>"",$H21="Yes",IFERROR(INDEX('Rules & Lists'!$D$5:$D$24,MATCH($E21,'Rules & Lists'!$A$5:$A$24,0)),"")="Grade",$J21=""),"Missing evidence grade",""),IF(AND($E21<>"",$H21="Yes",IFERROR(INDEX('Rules & Lists'!$D$5:$D$24,MATCH($E21,'Rules & Lists'!$A$5:$A$24,0)),"")="Score",$K21=""),"Missing evidence score","")))
F22: =IF($A22="","",IF($E22="","",IFERROR(INDEX('Rules & Lists'!$B$5:$B$24,MATCH($E22,'Rules & Lists'!$A$5:$A$24,0)),"Unknown Route"))) | G22: =IF($A22="","",IF($E22="","",IFERROR(INDEX('Rules & Lists'!$H$5:$H$24,MATCH($E22,'Rules & Lists'!$A$5:$A$24,0)),"Rule not found"))) | P22: =IF(OR($A22="",$I22="",$E22=""),"",IFERROR(IF(INDEX('Rules & Lists'!$G$5:$G$24,MATCH($E22,'Rules & Lists'!$A$5:$A$24,0))=0,"",EDATE($I22,INDEX('Rules & Lists'!$G$5:$G$24,MATCH($E22,'Rules & Lists'!$A$5:$A$24,0)))),"")) | Q22: =IF(OR($A22="",$C22=""),"",MAX(0,IF($O22<>"",$O22-$C22,TODAY()-$C22))) | R22: =IF($A22="","",IF($E22="","Route Needed",IF($H22<>"Yes","Evidence Needed",IF($N22="On Hold","On Hold",IF(AND($P22<>"",$P22<TODAY()),"Expired",IF($N22<>"Complete","Pending Review",IF($L22="Meets","Cleared",IF($L22="Does Not Meet","Not Cleared","Pending Review")))))))) | U22: =IF($A22="","",TEXTJOIN(", ",TRUE,IF(COUNTIF($A$6:$A$205,$A22)>1,"Duplicate Request ID",""),IF($B22="","Missing learner alias",""),IF($C22="","Missing request date",""),IF($D22="","Missing term",""),IF($E22="","Missing route",""),IF($F22="Unknown Route","Route not found",""),IF($H22="","Missing evidence received value",""),IF(AND($H22="Yes",$I22=""),"Missing evidence date",""),IF(AND($H22="No",$I22<>""),"Evidence date entered when evidence is No",""),IF(AND($H22="Yes",$L22=""),"Missing evidence assessment",""),IF(AND($N22="Complete",$O22=""),"Missing decision date",""),IF(AND($O22<>"",$N22<>"Complete"),"Decision date entered before review is Complete",""),IF(AND($L22="Meets",$H22<>"Yes"),"Meets assessment requires received evidence",""),IF(AND($L22="Does Not Meet",$H22<>"Yes"),"Does Not Meet assessment requires received evidence",""),IF(AND($N22="Complete",$L22="Pending"),"Complete review cannot have Pending assessment",""),IF(AND($C22<>"",$I22<>"",$I22<$C22),"Evidence date precedes request date",""),IF(AND($C22<>"",$O22<>"",$O22<$C22),"Decision date precedes request date",""),IF(AND($S22<>"",$S22<$C22),"Follow-up date precedes request date",""),IF(AND($E22<>"",$H22="Yes",IFERROR(INDEX('Rules & Lists'!$D$5:$D$24,MATCH($E22,'Rules & Lists'!$A$5:$A$24,0)),"")="Grade",$J22=""),"Missing evidence grade",""),IF(AND($E22<>"",$H22="Yes",IFERROR(INDEX('Rules & Lists'!$D$5:$D$24,MATCH($E22,'Rules & Lists'!$A$5:$A$24,0)),"")="Score",$K22=""),"Missing evidence score","")))
F23: =IF($A23="","",IF($E23="","",IFERROR(INDEX('Rules & Lists'!$B$5:$B$24,MATCH($E23,'Rules & Lists'!$A$5:$A$24,0)),"Unknown Route"))) | G23: =IF($A23="","",IF($E23="","",IFERROR(INDEX('Rules & Lists'!$H$5:$H$24,MATCH($E23,'Rules & Lists'!$A$5:$A$24,0)),"Rule not found"))) | P23: =IF(OR($A23="",$I23="",$E23=""),"",IFERROR(IF(INDEX('Rules & Lists'!$G$5:$G$24,MATCH($E23,'Rules & Lists'!$A$5:$A$24,0))=0,"",EDATE($I23,INDEX('Rules & Lists'!$G$5:$G$24,MATCH($E23,'Rules & Lists'!$A$5:$A$24,0)))),"")) | Q23: =IF(OR($A23="",$C23=""),"",MAX(0,IF($O23<>"",$O23-$C23,TODAY()-$C23))) | R23: =IF($A23="","",IF($E23="","Route Needed",IF($H23<>"Yes","Evidence Needed",IF($N23="On Hold","On Hold",IF(AND($P23<>"",$P23<TODAY()),"Expired",IF($N23<>"Complete","Pending Review",IF($L23="Meets","Cleared",IF($L23="Does Not Meet","Not Cleared","Pending Review")))))))) | U23: =IF($A23="","",TEXTJOIN(", ",TRUE,IF(COUNTIF($A$6:$A$205,$A23)>1,"Duplicate Request ID",""),IF($B23="","Missing learner alias",""),IF($C23="","Missing request date",""),IF($D23="","Missing term",""),IF($E23="","Missing route",""),IF($F23="Unknown Route","Route not found",""),IF($H23="","Missing evidence received value",""),IF(AND($H23="Yes",$I23=""),"Missing evidence date",""),IF(AND($H23="No",$I23<>""),"Evidence date entered when evidence is No",""),IF(AND($H23="Yes",$L23=""),"Missing evidence assessment",""),IF(AND($N23="Complete",$O23=""),"Missing decision date",""),IF(AND($O23<>"",$N23<>"Complete"),"Decision date entered before review is Complete",""),IF(AND($L23="Meets",$H23<>"Yes"),"Meets assessment requires received evidence",""),IF(AND($L23="Does Not Meet",$H23<>"Yes"),"Does Not Meet assessment requires received evidence",""),IF(AND($N23="Complete",$L23="Pending"),"Complete review cannot have Pending assessment",""),IF(AND($C23<>"",$I23<>"",$I23<$C23),"Evidence date precedes request date",""),IF(AND($C23<>"",$O23<>"",$O23<$C23),"Decision date precedes request date",""),IF(AND($S23<>"",$S23<$C23),"Follow-up date precedes request date",""),IF(AND($E23<>"",$H23="Yes",IFERROR(INDEX('Rules & Lists'!$D$5:$D$24,MATCH($E23,'Rules & Lists'!$A$5:$A$24,0)),"")="Grade",$J23=""),"Missing evidence grade",""),IF(AND($E23<>"",$H23="Yes",IFERROR(INDEX('Rules & Lists'!$D$5:$D$24,MATCH($E23,'Rules & Lists'!$A$5:$A$24,0)),"")="Score",$K23=""),"Missing evidence score","")))
F24: =IF($A24="","",IF($E24="","",IFERROR(INDEX('Rules & Lists'!$B$5:$B$24,MATCH($E24,'Rules & Lists'!$A$5:$A$24,0)),"Unknown Route"))) | G24: =IF($A24="","",IF($E24="","",IFERROR(INDEX('Rules & Lists'!$H$5:$H$24,MATCH($E24,'Rules & Lists'!$A$5:$A$24,0)),"Rule not found"))) | P24: =IF(OR($A24="",$I24="",$E24=""),"",IFERROR(IF(INDEX('Rules & Lists'!$G$5:$G$24,MATCH($E24,'Rules & Lists'!$A$5:$A$24,0))=0,"",EDATE($I24,INDEX('Rules & Lists'!$G$5:$G$24,MATCH($E24,'Rules & Lists'!$A$5:$A$24,0)))),"")) | Q24: =IF(OR($A24="",$C24=""),"",MAX(0,IF($O24<>"",$O24-$C24,TODAY()-$C24))) | R24: =IF($A24="","",IF($E24="","Route Needed",IF($H24<>"Yes","Evidence Needed",IF($N24="On Hold","On Hold",IF(AND($P24<>"",$P24<TODAY()),"Expired",IF($N24<>"Complete","Pending Review",IF($L24="Meets","Cleared",IF($L24="Does Not Meet","Not Cleared","Pending Review")))))))) | U24: =IF($A24="","",TEXTJOIN(", ",TRUE,IF(COUNTIF($A$6:$A$205,$A24)>1,"Duplicate Request ID",""),IF($B24="","Missing learner alias",""),IF($C24="","Missing request date",""),IF($D24="","Missing term",""),IF($E24="","Missing route",""),IF($F24="Unknown Route","Route not found",""),IF($H24="","Missing evidence received value",""),IF(AND($H24="Yes",$I24=""),"Missing evidence date",""),IF(AND($H24="No",$I24<>""),"Evidence date entered when evidence is No",""),IF(AND($H24="Yes",$L24=""),"Missing evidence assessment",""),IF(AND($N24="Complete",$O24=""),"Missing decision date",""),IF(AND($O24<>"",$N24<>"Complete"),"Decision date entered before review is Complete",""),IF(AND($L24="Meets",$H24<>"Yes"),"Meets assessment requires received evidence",""),IF(AND($L24="Does Not Meet",$H24<>"Yes"),"Does Not Meet assessment requires received evidence",""),IF(AND($N24="Complete",$L24="Pending"),"Complete review cannot have Pending assessment",""),IF(AND($C24<>"",$I24<>"",$I24<$C24),"Evidence date precedes request date",""),IF(AND($C24<>"",$O24<>"",$O24<$C24),"Decision date precedes request date",""),IF(AND($S24<>"",$S24<$C24),"Follow-up date precedes request date",""),IF(AND($E24<>"",$H24="Yes",IFERROR(INDEX('Rules & Lists'!$D$5:$D$24,MATCH($E24,'Rules & Lists'!$A$5:$A$24,0)),"")="Grade",$J24=""),"Missing evidence grade",""),IF(AND($E24<>"",$H24="Yes",IFERROR(INDEX('Rules & Lists'!$D$5:$D$24,MATCH($E24,'Rules & Lists'!$A$5:$A$24,0)),"")="Score",$K24=""),"Missing evidence score","")))
F25: =IF($A25="","",IF($E25="","",IFERROR(INDEX('Rules & Lists'!$B$5:$B$24,MATCH($E25,'Rules & Lists'!$A$5:$A$24,0)),"Unknown Route"))) | G25: =IF($A25="","",IF($E25="","",IFERROR(INDEX('Rules & Lists'!$H$5:$H$24,MATCH($E25,'Rules & Lists'!$A$5:$A$24,0)),"Rule not found"))) | P25: =IF(OR($A25="",$I25="",$E25=""),"",IFERROR(IF(INDEX('Rules & Lists'!$G$5:$G$24,MATCH($E25,'Rules & Lists'!$A$5:$A$24,0))=0,"",EDATE($I25,INDEX('Rules & Lists'!$G$5:$G$24,MATCH($E25,'Rules & Lists'!$A$5:$A$24,0)))),"")) | Q25: =IF(OR($A25="",$C25=""),"",MAX(0,IF($O25<>"",$O25-$C25,TODAY()-$C25))) | R25: =IF($A25="","",IF($E25="","Route Needed",IF($H25<>"Yes","Evidence Needed",IF($N25="On Hold","On Hold",IF(AND($P25<>"",$P25<TODAY()),"Expired",IF($N25<>"Complete","Pending Review",IF($L25="Meets","Cleared",IF($L25="Does Not Meet","Not Cleared","Pending Review")))))))) | U25: =IF($A25="","",TEXTJOIN(", ",TRUE,IF(COUNTIF($A$6:$A$205,$A25)>1,"Duplicate Request ID",""),IF($B25="","Missing learner alias",""),IF($C25="","Missing request date",""),IF($D25="","Missing term",""),IF($E25="","Missing route",""),IF($F25="Unknown Route","Route not found",""),IF($H25="","Missing evidence received value",""),IF(AND($H25="Yes",$I25=""),"Missing evidence date",""),IF(AND($H25="No",$I25<>""),"Evidence date entered when evidence is No",""),IF(AND($H25="Yes",$L25=""),"Missing evidence assessment",""),IF(AND($N25="Complete",$O25=""),"Missing decision date",""),IF(AND($O25<>"",$N25<>"Complete"),"Decision date entered before review is Complete",""),IF(AND($L25="Meets",$H25<>"Yes"),"Meets assessment requires received evidence",""),IF(AND($L25="Does Not Meet",$H25<>"Yes"),"Does Not Meet assessment requires received evidence",""),IF(AND($N25="Complete",$L25="Pending"),"Complete review cannot have Pending assessment",""),IF(AND($C25<>"",$I25<>"",$I25<$C25),"Evidence date precedes request date",""),IF(AND($C25<>"",$O25<>"",$O25<$C25),"Decision date precedes request date",""),IF(AND($S25<>"",$S25<$C25),"Follow-up date precedes request date",""),IF(AND($E25<>"",$H25="Yes",IFERROR(INDEX('Rules & Lists'!$D$5:$D$24,MATCH($E25,'Rules & Lists'!$A$5:$A$24,0)),"")="Grade",$J25=""),"Missing evidence grade",""),IF(AND($E25<>"",$H25="Yes",IFERROR(INDEX('Rules & Lists'!$D$5:$D$24,MATCH($E25,'Rules & Lists'!$A$5:$A$24,0)),"")="Score",$K25=""),"Missing evidence score","")))
F26: =IF($A26="","",IF($E26="","",IFERROR(INDEX('Rules & Lists'!$B$5:$B$24,MATCH($E26,'Rules & Lists'!$A$5:$A$24,0)),"Unknown Route"))) | G26: =IF($A26="","",IF($E26="","",IFERROR(INDEX('Rules & Lists'!$H$5:$H$24,MATCH($E26,'Rules & Lists'!$A$5:$A$24,0)),"Rule not found"))) | P26: =IF(OR($A26="",$I26="",$E26=""),"",IFERROR(IF(INDEX('Rules & Lists'!$G$5:$G$24,MATCH($E26,'Rules & Lists'!$A$5:$A$24,0))=0,"",EDATE($I26,INDEX('Rules & Lists'!$G$5:$G$24,MATCH($E26,'Rules & Lists'!$A$5:$A$24,0)))),"")) | Q26: =IF(OR($A26="",$C26=""),"",MAX(0,IF($O26<>"",$O26-$C26,TODAY()-$C26))) | R26: =IF($A26="","",IF($E26="","Route Needed",IF($H26<>"Yes","Evidence Needed",IF($N26="On Hold","On Hold",IF(AND($P26<>"",$P26<TODAY()),"Expired",IF($N26<>"Complete","Pending Review",IF($L26="Meets","Cleared",IF($L26="Does Not Meet","Not Cleared","Pending Review")))))))) | U26: =IF($A26="","",TEXTJOIN(", ",TRUE,IF(COUNTIF($A$6:$A$205,$A26)>1,"Duplicate Request ID",""),IF($B26="","Missing learner alias",""),IF($C26="","Missing request date",""),IF($D26="","Missing term",""),IF($E26="","Missing route",""),IF($F26="Unknown Route","Route not found",""),IF($H26="","Missing evidence received value",""),IF(AND($H26="Yes",$I26=""),"Missing evidence date",""),IF(AND($H26="No",$I26<>""),"Evidence date entered when evidence is No",""),IF(AND($H26="Yes",$L26=""),"Missing evidence assessment",""),IF(AND($N26="Complete",$O26=""),"Missing decision date",""),IF(AND($O26<>"",$N26<>"Complete"),"Decision date entered before review is Complete",""),IF(AND($L26="Meets",$H26<>"Yes"),"Meets assessment requires received evidence",""),IF(AND($L26="Does Not Meet",$H26<>"Yes"),"Does Not Meet assessment requires received evidence",""),IF(AND($N26="Complete",$L26="Pending"),"Complete review cannot have Pending assessment",""),IF(AND($C26<>"",$I26<>"",$I26<$C26),"Evidence date precedes request date",""),IF(AND($C26<>"",$O26<>"",$O26<$C26),"Decision date precedes request date",""),IF(AND($S26<>"",$S26<$C26),"Follow-up date precedes request date",""),IF(AND($E26<>"",$H26="Yes",IFERROR(INDEX('Rules & Lists'!$D$5:$D$24,MATCH($E26,'Rules & Lists'!$A$5:$A$24,0)),"")="Grade",$J26=""),"Missing evidence grade",""),IF(AND($E26<>"",$H26="Yes",IFERROR(INDEX('Rules & Lists'!$D$5:$D$24,MATCH($E26,'Rules & Lists'!$A$5:$A$24,0)),"")="Score",$K26=""),"Missing evidence score","")))
F27: =IF($A27="","",IF($E27="","",IFERROR(INDEX('Rules & Lists'!$B$5:$B$24,MATCH($E27,'Rules & Lists'!$A$5:$A$24,0)),"Unknown Route"))) | G27: =IF($A27="","",IF($E27="","",IFERROR(INDEX('Rules & Lists'!$H$5:$H$24,MATCH($E27,'Rules & Lists'!$A$5:$A$24,0)),"Rule not found"))) | P27: =IF(OR($A27="",$I27="",$E27=""),"",IFERROR(IF(INDEX('Rules & Lists'!$G$5:$G$24,MATCH($E27,'Rules & Lists'!$A$5:$A$24,0))=0,"",EDATE($I27,INDEX('Rules & Lists'!$G$5:$G$24,MATCH($E27,'Rules & Lists'!$A$5:$A$24,0)))),"")) | Q27: =IF(OR($A27="",$C27=""),"",MAX(0,IF($O27<>"",$O27-$C27,TODAY()-$C27))) | R27: =IF($A27="","",IF($E27="","Route Needed",IF($H27<>"Yes","Evidence Needed",IF($N27="On Hold","On Hold",IF(AND($P27<>"",$P27<TODAY()),"Expired",IF($N27<>"Complete","Pending Review",IF($L27="Meets","Cleared",IF($L27="Does Not Meet","Not Cleared","Pending Review")))))))) | U27: =IF($A27="","",TEXTJOIN(", ",TRUE,IF(COUNTIF($A$6:$A$205,$A27)>1,"Duplicate Request ID",""),IF($B27="","Missing learner alias",""),IF($C27="","Missing request date",""),IF($D27="","Missing term",""),IF($E27="","Missing route",""),IF($F27="Unknown Route","Route not found",""),IF($H27="","Missing evidence received value",""),IF(AND($H27="Yes",$I27=""),"Missing evidence date",""),IF(AND($H27="No",$I27<>""),"Evidence date entered when evidence is No",""),IF(AND($H27="Yes",$L27=""),"Missing evidence assessment",""),IF(AND($N27="Complete",$O27=""),"Missing decision date",""),IF(AND($O27<>"",$N27<>"Complete"),"Decision date entered before review is Complete",""),IF(AND($L27="Meets",$H27<>"Yes"),"Meets assessment requires received evidence",""),IF(AND($L27="Does Not Meet",$H27<>"Yes"),"Does Not Meet assessment requires received evidence",""),IF(AND($N27="Complete",$L27="Pending"),"Complete review cannot have Pending assessment",""),IF(AND($C27<>"",$I27<>"",$I27<$C27),"Evidence date precedes request date",""),IF(AND($C27<>"",$O27<>"",$O27<$C27),"Decision date precedes request date",""),IF(AND($S27<>"",$S27<$C27),"Follow-up date precedes request date",""),IF(AND($E27<>"",$H27="Yes",IFERROR(INDEX('Rules & Lists'!$D$5:$D$24,MATCH($E27,'Rules & Lists'!$A$5:$A$24,0)),"")="Grade",$J27=""),"Missing evidence grade",""),IF(AND($E27<>"",$H27="Yes",IFERROR(INDEX('Rules & Lists'!$D$5:$D$24,MATCH($E27,'Rules & Lists'!$A$5:$A$24,0)),"")="Score",$K27=""),"Missing evidence score","")))
... F205: =IF($A205="","",IF($E205="","",IFERROR(INDEX('Rules & Lists'!$B$5:$B$24,MATCH($E205,'Rules & Lists'!$A$5:$A$24,0)),"Unknown Route"))) | G205: =IF($A205="","",IF($E205="","",IFERROR(INDEX('Rules & Lists'!$H$5:$H$24,MATCH($E205,'Rules & Lists'!$A$5:$A$24,0)),"Rule not found"))) | P205: =IF(OR($A205="",$I205="",$E205=""),"",IFERROR(IF(INDEX('Rules & Lists'!$G$5:$G$24,MATCH($E205,'Rules & Lists'!$A$5:$A$24,0))=0,"",EDATE($I205,INDEX('Rules & Lists'!$G$5:$G$24,MATCH($E205,'Rules & Lists'!$A$5:$A$24,0)))),"")) | Q205: =IF(OR($A205="",$C205=""),"",MAX(0,IF($O205<>"",$O205-$C205,TODAY()-$C205))) | R205: =IF($A205="","",IF($E205="","Route Needed",IF($H205<>"Yes","Evidence Needed",IF($N205="On Hold","On Hold",IF(AND($P205<>"",$P205<TODAY()),"Expired",IF($N205<>"Complete","Pending Review",IF($L205="Meets","Cleared",IF($L205="Does Not Meet","Not Cleared","Pending Review")))))))) | U205: =IF($A205="","",TEXTJOIN(", ",TRUE,IF(COUNTIF($A$6:$A$205,$A205)>1,"Duplicate Request ID",""),IF($B205="","Missing learner alias",""),IF($C205="","Missing request date",""),IF($D205="","Missing term",""),IF($E205="","Missing route",""),IF($F205="Unknown Route","Route not found",""),IF($H205="","Missing evidence received value",""),IF(AND($H205="Yes",$I205=""),"Missing evidence date",""),IF(AND($H205="No",$I205<>""),"Evidence date entered when evidence is No",""),IF(AND($H205="Yes",$L205=""),"Missing evidence assessment",""),IF(AND($N205="Complete",$O205=""),"Missing decision date",""),IF(AND($O205<>"",$N205<>"Complete"),"Decision date entered before review is Complete",""),IF(AND($L205="Meets",$H205<>"Yes"),"Meets assessment requires received evidence",""),IF(AND($L205="Does Not Meet",$H205<>"Yes"),"Does Not Meet assessment requires received evidence",""),IF(AND($N205="Complete",$L205="Pending"),"Complete review cannot have Pending assessment",""),IF(AND($C205<>"",$I205<>"",$I205<$C205),"Evidence date precedes request date",""),IF(AND($C205<>"",$O205<>"",$O205<$C205),"Decision date precedes request date",""),IF(AND($S205<>"",$S205<$C205),"Follow-up date precedes request date",""),IF(AND($E205<>"",$H205="Yes",IFERROR(INDEX('Rules & Lists'!$D$5:$D$24,MATCH($E205,'Rules & Lists'!$A$5:$A$24,0)),"")="Grade",$J205=""),"Missing evidence grade",""),IF(AND($E205<>"",$H205="Yes",IFERROR(INDEX('Rules & Lists'!$D$5:$D$24,MATCH($E205,'Rules & Lists'!$A$5:$A$24,0)),"")="Score",$K205=""),"Missing evidence score","")))

Sheet Rules & Lists
A1: Prerequisite Routes
A2: Each Route Code must be unique. Set Active to No before retiring a route; do not reuse a prior Route Code. | K2: Validation Lists
A4: Route Code | B4: Target Course | C4: Evidence Route | D4: Criterion Type | E4: Minimum Grade | F4: Minimum Score | G4: Validity Months | H4: Requirement Summary | I4: Active | K4: Term List | L4: Grade List | M4: Reviewer List | N4: Yes or No | O4: Assessment List | P4: Review Status List | Q4: Criterion Type List
