Workbook

Sheet Dashboard
A1: Seat Time Compliance Calculator
A2: As of Date | B2: ='Course Setup'!B2 | D2: Last Workbook Review
A3: Active Courses | C3: Requirements Met | E3: Projected to Meet | G3: Courses at Risk | I3: Open Data Issues | K3: Total Remaining Minutes
A4: =COUNTIF('Course Setup'!$I$7:$I$106,"Yes") | C4: =COUNTIF($I$7:$I$106,"Met") | E4: =COUNTIF($I$7:$I$106,"Projected to Meet") | G4: =COUNTIF($I$7:$I$106,"Near Target")+COUNTIF($I$7:$I$106,"Shortfall") | I4: =COUNTIF($I$7:$I$106,"Data Issue") | K4: =SUM($G$7:$G$106)
A6: Course ID | B6: Course or Section | C6: Required Minutes | D6: Completed Minutes | E6: Upcoming Scheduled Minutes | F6: Projected Total Minutes | G6: Remaining Minutes | H6: Percent Complete | I6: Status | J6: Last Completed Session | K6: Next Scheduled Session | L6: Review Notes | N6: Status | O6: Course Count
A7: =IF(OR('Course Setup'!A7="",'Course Setup'!I7<>"Yes"),"",'Course Setup'!A7) | B7: =IF($A7="","",'Course Setup'!B7) | C7: =IF($A7="","",'Course Setup'!F7) | D7: =IF($A7="","",SUMIFS('Session Log'!$L$7:$L$506,'Session Log'!$B$7:$B$506,$A7)) | E7: =IF($A7="","",SUMIFS('Session Log'!$K$7:$K$506,'Session Log'!$B$7:$B$506,$A7,'Session Log'!$H$7:$H$506,"Scheduled",'Session Log'!$C$7:$C$506,">="&$B$2)) | F7: =IF($A7="","",$D7+$E7) | G7: =IF($A7="","",MAX(0,$C7-$D7)) | H7: =IF(OR($A7="",$C7<=0),"",$D7/$C7) | I7: =IF($A7="","",IF($L7<>"","Data Issue",IF($D7>=$C7,"Met",IF($F7>=$C7,"Projected to Meet",IF(AND($D7=0,$E7=0),"Not Started",IF(($C7-$F7)<=IF('Course Setup'!G7="",'Course Setup'!$B$3,'Course Setup'!G7),"Near Target","Shortfall")))))) | J7: =IF($A7="","",IFERROR(AGGREGATE(14,6,'Session Log'!$C$7:$C$506/(('Session Log'!$B$7:$B$506=$A7)*('Session Log'!$H$7:$H$506="Completed")),1),"")) | K7: =IF($A7="","",IFERROR(AGGREGATE(15,6,'Session Log'!$C$7:$C$506/(('Session Log'!$B$7:$B$506=$A7)*('Session Log'!$H$7:$H$506="Scheduled")*('Session Log'!$C$7:$C$506>=$B$2)),1),"")) | L7: =IF($A7="","",IF(OR('Course Setup'!J7<>"",COUNTIFS('Session Log'!$B$7:$B$506,$A7,'Session Log'!$N$7:$N$506,"<>")>0),"Review setup or session alerts","")) | N7: Met | O7: =COUNTIF($I$7:$I$106,N7)
A8: =IF(OR('Course Setup'!A8="",'Course Setup'!I8<>"Yes"),"",'Course Setup'!A8) | B8: =IF($A8="","",'Course Setup'!B8) | C8: =IF($A8="","",'Course Setup'!F8) | D8: =IF($A8="","",SUMIFS('Session Log'!$L$7:$L$506,'Session Log'!$B$7:$B$506,$A8)) | E8: =IF($A8="","",SUMIFS('Session Log'!$K$7:$K$506,'Session Log'!$B$7:$B$506,$A8,'Session Log'!$H$7:$H$506,"Scheduled",'Session Log'!$C$7:$C$506,">="&$B$2)) | F8: =IF($A8="","",$D8+$E8) | G8: =IF($A8="","",MAX(0,$C8-$D8)) | H8: =IF(OR($A8="",$C8<=0),"",$D8/$C8) | I8: =IF($A8="","",IF($L8<>"","Data Issue",IF($D8>=$C8,"Met",IF($F8>=$C8,"Projected to Meet",IF(AND($D8=0,$E8=0),"Not Started",IF(($C8-$F8)<=IF('Course Setup'!G8="",'Course Setup'!$B$3,'Course Setup'!G8),"Near Target","Shortfall")))))) | J8: =IF($A8="","",IFERROR(AGGREGATE(14,6,'Session Log'!$C$7:$C$506/(('Session Log'!$B$7:$B$506=$A8)*('Session Log'!$H$7:$H$506="Completed")),1),"")) | K8: =IF($A8="","",IFERROR(AGGREGATE(15,6,'Session Log'!$C$7:$C$506/(('Session Log'!$B$7:$B$506=$A8)*('Session Log'!$H$7:$H$506="Scheduled")*('Session Log'!$C$7:$C$506>=$B$2)),1),"")) | L8: =IF($A8="","",IF(OR('Course Setup'!J8<>"",COUNTIFS('Session Log'!$B$7:$B$506,$A8,'Session Log'!$N$7:$N$506,"<>")>0),"Review setup or session alerts","")) | N8: Projected to Meet | O8: =COUNTIF($I$7:$I$106,N8)
A9: =IF(OR('Course Setup'!A9="",'Course Setup'!I9<>"Yes"),"",'Course Setup'!A9) | B9: =IF($A9="","",'Course Setup'!B9) | C9: =IF($A9="","",'Course Setup'!F9) | D9: =IF($A9="","",SUMIFS('Session Log'!$L$7:$L$506,'Session Log'!$B$7:$B$506,$A9)) | E9: =IF($A9="","",SUMIFS('Session Log'!$K$7:$K$506,'Session Log'!$B$7:$B$506,$A9,'Session Log'!$H$7:$H$506,"Scheduled",'Session Log'!$C$7:$C$506,">="&$B$2)) | F9: =IF($A9="","",$D9+$E9) | G9: =IF($A9="","",MAX(0,$C9-$D9)) | H9: =IF(OR($A9="",$C9<=0),"",$D9/$C9) | I9: =IF($A9="","",IF($L9<>"","Data Issue",IF($D9>=$C9,"Met",IF($F9>=$C9,"Projected to Meet",IF(AND($D9=0,$E9=0),"Not Started",IF(($C9-$F9)<=IF('Course Setup'!G9="",'Course Setup'!$B$3,'Course Setup'!G9),"Near Target","Shortfall")))))) | J9: =IF($A9="","",IFERROR(AGGREGATE(14,6,'Session Log'!$C$7:$C$506/(('Session Log'!$B$7:$B$506=$A9)*('Session Log'!$H$7:$H$506="Completed")),1),"")) | K9: =IF($A9="","",IFERROR(AGGREGATE(15,6,'Session Log'!$C$7:$C$506/(('Session Log'!$B$7:$B$506=$A9)*('Session Log'!$H$7:$H$506="Scheduled")*('Session Log'!$C$7:$C$506>=$B$2)),1),"")) | L9: =IF($A9="","",IF(OR('Course Setup'!J9<>"",COUNTIFS('Session Log'!$B$7:$B$506,$A9,'Session Log'!$N$7:$N$506,"<>")>0),"Review setup or session alerts","")) | N9: Near Target | O9: =COUNTIF($I$7:$I$106,N9)
A10: =IF(OR('Course Setup'!A10="",'Course Setup'!I10<>"Yes"),"",'Course Setup'!A10) | B10: =IF($A10="","",'Course Setup'!B10) | C10: =IF($A10="","",'Course Setup'!F10) | D10: =IF($A10="","",SUMIFS('Session Log'!$L$7:$L$506,'Session Log'!$B$7:$B$506,$A10)) | E10: =IF($A10="","",SUMIFS('Session Log'!$K$7:$K$506,'Session Log'!$B$7:$B$506,$A10,'Session Log'!$H$7:$H$506,"Scheduled",'Session Log'!$C$7:$C$506,">="&$B$2)) | F10: =IF($A10="","",$D10+$E10) | G10: =IF($A10="","",MAX(0,$C10-$D10)) | H10: =IF(OR($A10="",$C10<=0),"",$D10/$C10) | I10: =IF($A10="","",IF($L10<>"","Data Issue",IF($D10>=$C10,"Met",IF($F10>=$C10,"Projected to Meet",IF(AND($D10=0,$E10=0),"Not Started",IF(($C10-$F10)<=IF('Course Setup'!G10="",'Course Setup'!$B$3,'Course Setup'!G10),"Near Target","Shortfall")))))) | J10: =IF($A10="","",IFERROR(AGGREGATE(14,6,'Session Log'!$C$7:$C$506/(('Session Log'!$B$7:$B$506=$A10)*('Session Log'!$H$7:$H$506="Completed")),1),"")) | K10: =IF($A10="","",IFERROR(AGGREGATE(15,6,'Session Log'!$C$7:$C$506/(('Session Log'!$B$7:$B$506=$A10)*('Session Log'!$H$7:$H$506="Scheduled")*('Session Log'!$C$7:$C$506>=$B$2)),1),"")) | L10: =IF($A10="","",IF(OR('Course Setup'!J10<>"",COUNTIFS('Session Log'!$B$7:$B$506,$A10,'Session Log'!$N$7:$N$506,"<>")>0),"Review setup or session alerts","")) | N10: Shortfall | O10: =COUNTIF($I$7:$I$106,N10)
A11: =IF(OR('Course Setup'!A11="",'Course Setup'!I11<>"Yes"),"",'Course Setup'!A11) | B11: =IF($A11="","",'Course Setup'!B11) | C11: =IF($A11="","",'Course Setup'!F11) | D11: =IF($A11="","",SUMIFS('Session Log'!$L$7:$L$506,'Session Log'!$B$7:$B$506,$A11)) | E11: =IF($A11="","",SUMIFS('Session Log'!$K$7:$K$506,'Session Log'!$B$7:$B$506,$A11,'Session Log'!$H$7:$H$506,"Scheduled",'Session Log'!$C$7:$C$506,">="&$B$2)) | F11: =IF($A11="","",$D11+$E11) | G11: =IF($A11="","",MAX(0,$C11-$D11)) | H11: =IF(OR($A11="",$C11<=0),"",$D11/$C11) | I11: =IF($A11="","",IF($L11<>"","Data Issue",IF($D11>=$C11,"Met",IF($F11>=$C11,"Projected to Meet",IF(AND($D11=0,$E11=0),"Not Started",IF(($C11-$F11)<=IF('Course Setup'!G11="",'Course Setup'!$B$3,'Course Setup'!G11),"Near Target","Shortfall")))))) | J11: =IF($A11="","",IFERROR(AGGREGATE(14,6,'Session Log'!$C$7:$C$506/(('Session Log'!$B$7:$B$506=$A11)*('Session Log'!$H$7:$H$506="Completed")),1),"")) | K11: =IF($A11="","",IFERROR(AGGREGATE(15,6,'Session Log'!$C$7:$C$506/(('Session Log'!$B$7:$B$506=$A11)*('Session Log'!$H$7:$H$506="Scheduled")*('Session Log'!$C$7:$C$506>=$B$2)),1),"")) | L11: =IF($A11="","",IF(OR('Course Setup'!J11<>"",COUNTIFS('Session Log'!$B$7:$B$506,$A11,'Session Log'!$N$7:$N$506,"<>")>0),"Review setup or session alerts","")) | N11: Not Started | O11: =COUNTIF($I$7:$I$106,N11)
A12: =IF(OR('Course Setup'!A12="",'Course Setup'!I12<>"Yes"),"",'Course Setup'!A12) | B12: =IF($A12="","",'Course Setup'!B12) | C12: =IF($A12="","",'Course Setup'!F12) | D12: =IF($A12="","",SUMIFS('Session Log'!$L$7:$L$506,'Session Log'!$B$7:$B$506,$A12)) | E12: =IF($A12="","",SUMIFS('Session Log'!$K$7:$K$506,'Session Log'!$B$7:$B$506,$A12,'Session Log'!$H$7:$H$506,"Scheduled",'Session Log'!$C$7:$C$506,">="&$B$2)) | F12: =IF($A12="","",$D12+$E12) | G12: =IF($A12="","",MAX(0,$C12-$D12)) | H12: =IF(OR($A12="",$C12<=0),"",$D12/$C12) | I12: =IF($A12="","",IF($L12<>"","Data Issue",IF($D12>=$C12,"Met",IF($F12>=$C12,"Projected to Meet",IF(AND($D12=0,$E12=0),"Not Started",IF(($C12-$F12)<=IF('Course Setup'!G12="",'Course Setup'!$B$3,'Course Setup'!G12),"Near Target","Shortfall")))))) | J12: =IF($A12="","",IFERROR(AGGREGATE(14,6,'Session Log'!$C$7:$C$506/(('Session Log'!$B$7:$B$506=$A12)*('Session Log'!$H$7:$H$506="Completed")),1),"")) | K12: =IF($A12="","",IFERROR(AGGREGATE(15,6,'Session Log'!$C$7:$C$506/(('Session Log'!$B$7:$B$506=$A12)*('Session Log'!$H$7:$H$506="Scheduled")*('Session Log'!$C$7:$C$506>=$B$2)),1),"")) | L12: =IF($A12="","",IF(OR('Course Setup'!J12<>"",COUNTIFS('Session Log'!$B$7:$B$506,$A12,'Session Log'!$N$7:$N$506,"<>")>0),"Review setup or session alerts","")) | N12: Data Issue | O12: =COUNTIF($I$7:$I$106,N12)
A13: =IF(OR('Course Setup'!A13="",'Course Setup'!I13<>"Yes"),"",'Course Setup'!A13) | B13: =IF($A13="","",'Course Setup'!B13) | C13: =IF($A13="","",'Course Setup'!F13) | D13: =IF($A13="","",SUMIFS('Session Log'!$L$7:$L$506,'Session Log'!$B$7:$B$506,$A13)) | E13: =IF($A13="","",SUMIFS('Session Log'!$K$7:$K$506,'Session Log'!$B$7:$B$506,$A13,'Session Log'!$H$7:$H$506,"Scheduled",'Session Log'!$C$7:$C$506,">="&$B$2)) | F13: =IF($A13="","",$D13+$E13) | G13: =IF($A13="","",MAX(0,$C13-$D13)) | H13: =IF(OR($A13="",$C13<=0),"",$D13/$C13) | I13: =IF($A13="","",IF($L13<>"","Data Issue",IF($D13>=$C13,"Met",IF($F13>=$C13,"Projected to Meet",IF(AND($D13=0,$E13=0),"Not Started",IF(($C13-$F13)<=IF('Course Setup'!G13="",'Course Setup'!$B$3,'Course Setup'!G13),"Near Target","Shortfall")))))) | J13: =IF($A13="","",IFERROR(AGGREGATE(14,6,'Session Log'!$C$7:$C$506/(('Session Log'!$B$7:$B$506=$A13)*('Session Log'!$H$7:$H$506="Completed")),1),"")) | K13: =IF($A13="","",IFERROR(AGGREGATE(15,6,'Session Log'!$C$7:$C$506/(('Session Log'!$B$7:$B$506=$A13)*('Session Log'!$H$7:$H$506="Scheduled")*('Session Log'!$C$7:$C$506>=$B$2)),1),"")) | L13: =IF($A13="","",IF(OR('Course Setup'!J13<>"",COUNTIFS('Session Log'!$B$7:$B$506,$A13,'Session Log'!$N$7:$N$506,"<>")>0),"Review setup or session alerts","")) | O13: =""
A14: =IF(OR('Course Setup'!A14="",'Course Setup'!I14<>"Yes"),"",'Course Setup'!A14) | B14: =IF($A14="","",'Course Setup'!B14) | C14: =IF($A14="","",'Course Setup'!F14) | D14: =IF($A14="","",SUMIFS('Session Log'!$L$7:$L$506,'Session Log'!$B$7:$B$506,$A14)) | E14: =IF($A14="","",SUMIFS('Session Log'!$K$7:$K$506,'Session Log'!$B$7:$B$506,$A14,'Session Log'!$H$7:$H$506,"Scheduled",'Session Log'!$C$7:$C$506,">="&$B$2)) | F14: =IF($A14="","",$D14+$E14) | G14: =IF($A14="","",MAX(0,$C14-$D14)) | H14: =IF(OR($A14="",$C14<=0),"",$D14/$C14) | I14: =IF($A14="","",IF($L14<>"","Data Issue",IF($D14>=$C14,"Met",IF($F14>=$C14,"Projected to Meet",IF(AND($D14=0,$E14=0),"Not Started",IF(($C14-$F14)<=IF('Course Setup'!G14="",'Course Setup'!$B$3,'Course Setup'!G14),"Near Target","Shortfall")))))) | J14: =IF($A14="","",IFERROR(AGGREGATE(14,6,'Session Log'!$C$7:$C$506/(('Session Log'!$B$7:$B$506=$A14)*('Session Log'!$H$7:$H$506="Completed")),1),"")) | K14: =IF($A14="","",IFERROR(AGGREGATE(15,6,'Session Log'!$C$7:$C$506/(('Session Log'!$B$7:$B$506=$A14)*('Session Log'!$H$7:$H$506="Scheduled")*('Session Log'!$C$7:$C$506>=$B$2)),1),"")) | L14: =IF($A14="","",IF(OR('Course Setup'!J14<>"",COUNTIFS('Session Log'!$B$7:$B$506,$A14,'Session Log'!$N$7:$N$506,"<>")>0),"Review setup or session alerts","")) | O14: =""
A15: =IF(OR('Course Setup'!A15="",'Course Setup'!I15<>"Yes"),"",'Course Setup'!A15) | B15: =IF($A15="","",'Course Setup'!B15) | C15: =IF($A15="","",'Course Setup'!F15) | D15: =IF($A15="","",SUMIFS('Session Log'!$L$7:$L$506,'Session Log'!$B$7:$B$506,$A15)) | E15: =IF($A15="","",SUMIFS('Session Log'!$K$7:$K$506,'Session Log'!$B$7:$B$506,$A15,'Session Log'!$H$7:$H$506,"Scheduled",'Session Log'!$C$7:$C$506,">="&$B$2)) | F15: =IF($A15="","",$D15+$E15) | G15: =IF($A15="","",MAX(0,$C15-$D15)) | H15: =IF(OR($A15="",$C15<=0),"",$D15/$C15) | I15: =IF($A15="","",IF($L15<>"","Data Issue",IF($D15>=$C15,"Met",IF($F15>=$C15,"Projected to Meet",IF(AND($D15=0,$E15=0),"Not Started",IF(($C15-$F15)<=IF('Course Setup'!G15="",'Course Setup'!$B$3,'Course Setup'!G15),"Near Target","Shortfall")))))) | J15: =IF($A15="","",IFERROR(AGGREGATE(14,6,'Session Log'!$C$7:$C$506/(('Session Log'!$B$7:$B$506=$A15)*('Session Log'!$H$7:$H$506="Completed")),1),"")) | K15: =IF($A15="","",IFERROR(AGGREGATE(15,6,'Session Log'!$C$7:$C$506/(('Session Log'!$B$7:$B$506=$A15)*('Session Log'!$H$7:$H$506="Scheduled")*('Session Log'!$C$7:$C$506>=$B$2)),1),"")) | L15: =IF($A15="","",IF(OR('Course Setup'!J15<>"",COUNTIFS('Session Log'!$B$7:$B$506,$A15,'Session Log'!$N$7:$N$506,"<>")>0),"Review setup or session alerts","")) | O15: =""
A16: =IF(OR('Course Setup'!A16="",'Course Setup'!I16<>"Yes"),"",'Course Setup'!A16) | B16: =IF($A16="","",'Course Setup'!B16) | C16: =IF($A16="","",'Course Setup'!F16) | D16: =IF($A16="","",SUMIFS('Session Log'!$L$7:$L$506,'Session Log'!$B$7:$B$506,$A16)) | E16: =IF($A16="","",SUMIFS('Session Log'!$K$7:$K$506,'Session Log'!$B$7:$B$506,$A16,'Session Log'!$H$7:$H$506,"Scheduled",'Session Log'!$C$7:$C$506,">="&$B$2)) | F16: =IF($A16="","",$D16+$E16) | G16: =IF($A16="","",MAX(0,$C16-$D16)) | H16: =IF(OR($A16="",$C16<=0),"",$D16/$C16) | I16: =IF($A16="","",IF($L16<>"","Data Issue",IF($D16>=$C16,"Met",IF($F16>=$C16,"Projected to Meet",IF(AND($D16=0,$E16=0),"Not Started",IF(($C16-$F16)<=IF('Course Setup'!G16="",'Course Setup'!$B$3,'Course Setup'!G16),"Near Target","Shortfall")))))) | J16: =IF($A16="","",IFERROR(AGGREGATE(14,6,'Session Log'!$C$7:$C$506/(('Session Log'!$B$7:$B$506=$A16)*('Session Log'!$H$7:$H$506="Completed")),1),"")) | K16: =IF($A16="","",IFERROR(AGGREGATE(15,6,'Session Log'!$C$7:$C$506/(('Session Log'!$B$7:$B$506=$A16)*('Session Log'!$H$7:$H$506="Scheduled")*('Session Log'!$C$7:$C$506>=$B$2)),1),"")) | L16: =IF($A16="","",IF(OR('Course Setup'!J16<>"",COUNTIFS('Session Log'!$B$7:$B$506,$A16,'Session Log'!$N$7:$N$506,"<>")>0),"Review setup or session alerts","")) | O16: =""
A17: =IF(OR('Course Setup'!A17="",'Course Setup'!I17<>"Yes"),"",'Course Setup'!A17) | B17: =IF($A17="","",'Course Setup'!B17) | C17: =IF($A17="","",'Course Setup'!F17) | D17: =IF($A17="","",SUMIFS('Session Log'!$L$7:$L$506,'Session Log'!$B$7:$B$506,$A17)) | E17: =IF($A17="","",SUMIFS('Session Log'!$K$7:$K$506,'Session Log'!$B$7:$B$506,$A17,'Session Log'!$H$7:$H$506,"Scheduled",'Session Log'!$C$7:$C$506,">="&$B$2)) | F17: =IF($A17="","",$D17+$E17) | G17: =IF($A17="","",MAX(0,$C17-$D17)) | H17: =IF(OR($A17="",$C17<=0),"",$D17/$C17) | I17: =IF($A17="","",IF($L17<>"","Data Issue",IF($D17>=$C17,"Met",IF($F17>=$C17,"Projected to Meet",IF(AND($D17=0,$E17=0),"Not Started",IF(($C17-$F17)<=IF('Course Setup'!G17="",'Course Setup'!$B$3,'Course Setup'!G17),"Near Target","Shortfall")))))) | J17: =IF($A17="","",IFERROR(AGGREGATE(14,6,'Session Log'!$C$7:$C$506/(('Session Log'!$B$7:$B$506=$A17)*('Session Log'!$H$7:$H$506="Completed")),1),"")) | K17: =IF($A17="","",IFERROR(AGGREGATE(15,6,'Session Log'!$C$7:$C$506/(('Session Log'!$B$7:$B$506=$A17)*('Session Log'!$H$7:$H$506="Scheduled")*('Session Log'!$C$7:$C$506>=$B$2)),1),"")) | L17: =IF($A17="","",IF(OR('Course Setup'!J17<>"",COUNTIFS('Session Log'!$B$7:$B$506,$A17,'Session Log'!$N$7:$N$506,"<>")>0),"Review setup or session alerts","")) | O17: =""
A18: =IF(OR('Course Setup'!A18="",'Course Setup'!I18<>"Yes"),"",'Course Setup'!A18) | B18: =IF($A18="","",'Course Setup'!B18) | C18: =IF($A18="","",'Course Setup'!F18) | D18: =IF($A18="","",SUMIFS('Session Log'!$L$7:$L$506,'Session Log'!$B$7:$B$506,$A18)) | E18: =IF($A18="","",SUMIFS('Session Log'!$K$7:$K$506,'Session Log'!$B$7:$B$506,$A18,'Session Log'!$H$7:$H$506,"Scheduled",'Session Log'!$C$7:$C$506,">="&$B$2)) | F18: =IF($A18="","",$D18+$E18) | G18: =IF($A18="","",MAX(0,$C18-$D18)) | H18: =IF(OR($A18="",$C18<=0),"",$D18/$C18) | I18: =IF($A18="","",IF($L18<>"","Data Issue",IF($D18>=$C18,"Met",IF($F18>=$C18,"Projected to Meet",IF(AND($D18=0,$E18=0),"Not Started",IF(($C18-$F18)<=IF('Course Setup'!G18="",'Course Setup'!$B$3,'Course Setup'!G18),"Near Target","Shortfall")))))) | J18: =IF($A18="","",IFERROR(AGGREGATE(14,6,'Session Log'!$C$7:$C$506/(('Session Log'!$B$7:$B$506=$A18)*('Session Log'!$H$7:$H$506="Completed")),1),"")) | K18: =IF($A18="","",IFERROR(AGGREGATE(15,6,'Session Log'!$C$7:$C$506/(('Session Log'!$B$7:$B$506=$A18)*('Session Log'!$H$7:$H$506="Scheduled")*('Session Log'!$C$7:$C$506>=$B$2)),1),"")) | L18: =IF($A18="","",IF(OR('Course Setup'!J18<>"",COUNTIFS('Session Log'!$B$7:$B$506,$A18,'Session Log'!$N$7:$N$506,"<>")>0),"Review setup or session alerts","")) | O18: =""
A19: =IF(OR('Course Setup'!A19="",'Course Setup'!I19<>"Yes"),"",'Course Setup'!A19) | B19: =IF($A19="","",'Course Setup'!B19) | C19: =IF($A19="","",'Course Setup'!F19) | D19: =IF($A19="","",SUMIFS('Session Log'!$L$7:$L$506,'Session Log'!$B$7:$B$506,$A19)) | E19: =IF($A19="","",SUMIFS('Session Log'!$K$7:$K$506,'Session Log'!$B$7:$B$506,$A19,'Session Log'!$H$7:$H$506,"Scheduled",'Session Log'!$C$7:$C$506,">="&$B$2)) | F19: =IF($A19="","",$D19+$E19) | G19: =IF($A19="","",MAX(0,$C19-$D19)) | H19: =IF(OR($A19="",$C19<=0),"",$D19/$C19) | I19: =IF($A19="","",IF($L19<>"","Data Issue",IF($D19>=$C19,"Met",IF($F19>=$C19,"Projected to Meet",IF(AND($D19=0,$E19=0),"Not Started",IF(($C19-$F19)<=IF('Course Setup'!G19="",'Course Setup'!$B$3,'Course Setup'!G19),"Near Target","Shortfall")))))) | J19: =IF($A19="","",IFERROR(AGGREGATE(14,6,'Session Log'!$C$7:$C$506/(('Session Log'!$B$7:$B$506=$A19)*('Session Log'!$H$7:$H$506="Completed")),1),"")) | K19: =IF($A19="","",IFERROR(AGGREGATE(15,6,'Session Log'!$C$7:$C$506/(('Session Log'!$B$7:$B$506=$A19)*('Session Log'!$H$7:$H$506="Scheduled")*('Session Log'!$C$7:$C$506>=$B$2)),1),"")) | L19: =IF($A19="","",IF(OR('Course Setup'!J19<>"",COUNTIFS('Session Log'!$B$7:$B$506,$A19,'Session Log'!$N$7:$N$506,"<>")>0),"Review setup or session alerts","")) | O19: =""
A20: =IF(OR('Course Setup'!A20="",'Course Setup'!I20<>"Yes"),"",'Course Setup'!A20) | B20: =IF($A20="","",'Course Setup'!B20) | C20: =IF($A20="","",'Course Setup'!F20) | D20: =IF($A20="","",SUMIFS('Session Log'!$L$7:$L$506,'Session Log'!$B$7:$B$506,$A20)) | E20: =IF($A20="","",SUMIFS('Session Log'!$K$7:$K$506,'Session Log'!$B$7:$B$506,$A20,'Session Log'!$H$7:$H$506,"Scheduled",'Session Log'!$C$7:$C$506,">="&$B$2)) | F20: =IF($A20="","",$D20+$E20) | G20: =IF($A20="","",MAX(0,$C20-$D20)) | H20: =IF(OR($A20="",$C20<=0),"",$D20/$C20) | I20: =IF($A20="","",IF($L20<>"","Data Issue",IF($D20>=$C20,"Met",IF($F20>=$C20,"Projected to Meet",IF(AND($D20=0,$E20=0),"Not Started",IF(($C20-$F20)<=IF('Course Setup'!G20="",'Course Setup'!$B$3,'Course Setup'!G20),"Near Target","Shortfall")))))) | J20: =IF($A20="","",IFERROR(AGGREGATE(14,6,'Session Log'!$C$7:$C$506/(('Session Log'!$B$7:$B$506=$A20)*('Session Log'!$H$7:$H$506="Completed")),1),"")) | K20: =IF($A20="","",IFERROR(AGGREGATE(15,6,'Session Log'!$C$7:$C$506/(('Session Log'!$B$7:$B$506=$A20)*('Session Log'!$H$7:$H$506="Scheduled")*('Session Log'!$C$7:$C$506>=$B$2)),1),"")) | L20: =IF($A20="","",IF(OR('Course Setup'!J20<>"",COUNTIFS('Session Log'!$B$7:$B$506,$A20,'Session Log'!$N$7:$N$506,"<>")>0),"Review setup or session alerts","")) | O20: =""
A21: =IF(OR('Course Setup'!A21="",'Course Setup'!I21<>"Yes"),"",'Course Setup'!A21) | B21: =IF($A21="","",'Course Setup'!B21) | C21: =IF($A21="","",'Course Setup'!F21) | D21: =IF($A21="","",SUMIFS('Session Log'!$L$7:$L$506,'Session Log'!$B$7:$B$506,$A21)) | E21: =IF($A21="","",SUMIFS('Session Log'!$K$7:$K$506,'Session Log'!$B$7:$B$506,$A21,'Session Log'!$H$7:$H$506,"Scheduled",'Session Log'!$C$7:$C$506,">="&$B$2)) | F21: =IF($A21="","",$D21+$E21) | G21: =IF($A21="","",MAX(0,$C21-$D21)) | H21: =IF(OR($A21="",$C21<=0),"",$D21/$C21) | I21: =IF($A21="","",IF($L21<>"","Data Issue",IF($D21>=$C21,"Met",IF($F21>=$C21,"Projected to Meet",IF(AND($D21=0,$E21=0),"Not Started",IF(($C21-$F21)<=IF('Course Setup'!G21="",'Course Setup'!$B$3,'Course Setup'!G21),"Near Target","Shortfall")))))) | J21: =IF($A21="","",IFERROR(AGGREGATE(14,6,'Session Log'!$C$7:$C$506/(('Session Log'!$B$7:$B$506=$A21)*('Session Log'!$H$7:$H$506="Completed")),1),"")) | K21: =IF($A21="","",IFERROR(AGGREGATE(15,6,'Session Log'!$C$7:$C$506/(('Session Log'!$B$7:$B$506=$A21)*('Session Log'!$H$7:$H$506="Scheduled")*('Session Log'!$C$7:$C$506>=$B$2)),1),"")) | L21: =IF($A21="","",IF(OR('Course Setup'!J21<>"",COUNTIFS('Session Log'!$B$7:$B$506,$A21,'Session Log'!$N$7:$N$506,"<>")>0),"Review setup or session alerts","")) | O21: =""
A22: =IF(OR('Course Setup'!A22="",'Course Setup'!I22<>"Yes"),"",'Course Setup'!A22) | B22: =IF($A22="","",'Course Setup'!B22) | C22: =IF($A22="","",'Course Setup'!F22) | D22: =IF($A22="","",SUMIFS('Session Log'!$L$7:$L$506,'Session Log'!$B$7:$B$506,$A22)) | E22: =IF($A22="","",SUMIFS('Session Log'!$K$7:$K$506,'Session Log'!$B$7:$B$506,$A22,'Session Log'!$H$7:$H$506,"Scheduled",'Session Log'!$C$7:$C$506,">="&$B$2)) | F22: =IF($A22="","",$D22+$E22) | G22: =IF($A22="","",MAX(0,$C22-$D22)) | H22: =IF(OR($A22="",$C22<=0),"",$D22/$C22) | I22: =IF($A22="","",IF($L22<>"","Data Issue",IF($D22>=$C22,"Met",IF($F22>=$C22,"Projected to Meet",IF(AND($D22=0,$E22=0),"Not Started",IF(($C22-$F22)<=IF('Course Setup'!G22="",'Course Setup'!$B$3,'Course Setup'!G22),"Near Target","Shortfall")))))) | J22: =IF($A22="","",IFERROR(AGGREGATE(14,6,'Session Log'!$C$7:$C$506/(('Session Log'!$B$7:$B$506=$A22)*('Session Log'!$H$7:$H$506="Completed")),1),"")) | K22: =IF($A22="","",IFERROR(AGGREGATE(15,6,'Session Log'!$C$7:$C$506/(('Session Log'!$B$7:$B$506=$A22)*('Session Log'!$H$7:$H$506="Scheduled")*('Session Log'!$C$7:$C$506>=$B$2)),1),"")) | L22: =IF($A22="","",IF(OR('Course Setup'!J22<>"",COUNTIFS('Session Log'!$B$7:$B$506,$A22,'Session Log'!$N$7:$N$506,"<>")>0),"Review setup or session alerts","")) | O22: =""
A23: =IF(OR('Course Setup'!A23="",'Course Setup'!I23<>"Yes"),"",'Course Setup'!A23) | B23: =IF($A23="","",'Course Setup'!B23) | C23: =IF($A23="","",'Course Setup'!F23) | D23: =IF($A23="","",SUMIFS('Session Log'!$L$7:$L$506,'Session Log'!$B$7:$B$506,$A23)) | E23: =IF($A23="","",SUMIFS('Session Log'!$K$7:$K$506,'Session Log'!$B$7:$B$506,$A23,'Session Log'!$H$7:$H$506,"Scheduled",'Session Log'!$C$7:$C$506,">="&$B$2)) | F23: =IF($A23="","",$D23+$E23) | G23: =IF($A23="","",MAX(0,$C23-$D23)) | H23: =IF(OR($A23="",$C23<=0),"",$D23/$C23) | I23: =IF($A23="","",IF($L23<>"","Data Issue",IF($D23>=$C23,"Met",IF($F23>=$C23,"Projected to Meet",IF(AND($D23=0,$E23=0),"Not Started",IF(($C23-$F23)<=IF('Course Setup'!G23="",'Course Setup'!$B$3,'Course Setup'!G23),"Near Target","Shortfall")))))) | J23: =IF($A23="","",IFERROR(AGGREGATE(14,6,'Session Log'!$C$7:$C$506/(('Session Log'!$B$7:$B$506=$A23)*('Session Log'!$H$7:$H$506="Completed")),1),"")) | K23: =IF($A23="","",IFERROR(AGGREGATE(15,6,'Session Log'!$C$7:$C$506/(('Session Log'!$B$7:$B$506=$A23)*('Session Log'!$H$7:$H$506="Scheduled")*('Session Log'!$C$7:$C$506>=$B$2)),1),"")) | L23: =IF($A23="","",IF(OR('Course Setup'!J23<>"",COUNTIFS('Session Log'!$B$7:$B$506,$A23,'Session Log'!$N$7:$N$506,"<>")>0),"Review setup or session alerts","")) | O23: =""
A24: =IF(OR('Course Setup'!A24="",'Course Setup'!I24<>"Yes"),"",'Course Setup'!A24) | B24: =IF($A24="","",'Course Setup'!B24) | C24: =IF($A24="","",'Course Setup'!F24) | D24: =IF($A24="","",SUMIFS('Session Log'!$L$7:$L$506,'Session Log'!$B$7:$B$506,$A24)) | E24: =IF($A24="","",SUMIFS('Session Log'!$K$7:$K$506,'Session Log'!$B$7:$B$506,$A24,'Session Log'!$H$7:$H$506,"Scheduled",'Session Log'!$C$7:$C$506,">="&$B$2)) | F24: =IF($A24="","",$D24+$E24) | G24: =IF($A24="","",MAX(0,$C24-$D24)) | H24: =IF(OR($A24="",$C24<=0),"",$D24/$C24) | I24: =IF($A24="","",IF($L24<>"","Data Issue",IF($D24>=$C24,"Met",IF($F24>=$C24,"Projected to Meet",IF(AND($D24=0,$E24=0),"Not Started",IF(($C24-$F24)<=IF('Course Setup'!G24="",'Course Setup'!$B$3,'Course Setup'!G24),"Near Target","Shortfall")))))) | J24: =IF($A24="","",IFERROR(AGGREGATE(14,6,'Session Log'!$C$7:$C$506/(('Session Log'!$B$7:$B$506=$A24)*('Session Log'!$H$7:$H$506="Completed")),1),"")) | K24: =IF($A24="","",IFERROR(AGGREGATE(15,6,'Session Log'!$C$7:$C$506/(('Session Log'!$B$7:$B$506=$A24)*('Session Log'!$H$7:$H$506="Scheduled")*('Session Log'!$C$7:$C$506>=$B$2)),1),"")) | L24: =IF($A24="","",IF(OR('Course Setup'!J24<>"",COUNTIFS('Session Log'!$B$7:$B$506,$A24,'Session Log'!$N$7:$N$506,"<>")>0),"Review setup or session alerts","")) | O24: =""
... A101: =IF(OR('Course Setup'!A101="",'Course Setup'!I101<>"Yes"),"",'Course Setup'!A101) | B101: =IF($A101="","",'Course Setup'!B101) | C101: =IF($A101="","",'Course Setup'!F101) | D101: =IF($A101="","",SUMIFS('Session Log'!$L$7:$L$506,'Session Log'!$B$7:$B$506,$A101)) | E101: =IF($A101="","",SUMIFS('Session Log'!$K$7:$K$506,'Session Log'!$B$7:$B$506,$A101,'Session Log'!$H$7:$H$506,"Scheduled",'Session Log'!$C$7:$C$506,">="&$B$2)) | F101: =IF($A101="","",$D101+$E101) | G101: =IF($A101="","",MAX(0,$C101-$D101)) | H101: =IF(OR($A101="",$C101<=0),"",$D101/$C101) | I101: =IF($A101="","",IF($L101<>"","Data Issue",IF($D101>=$C101,"Met",IF($F101>=$C101,"Projected to Meet",IF(AND($D101=0,$E101=0),"Not Started",IF(($C101-$F101)<=IF('Course Setup'!G101="",'Course Setup'!$B$3,'Course Setup'!G101),"Near Target","Shortfall")))))) | J101: =IF($A101="","",IFERROR(AGGREGATE(14,6,'Session Log'!$C$7:$C$506/(('Session Log'!$B$7:$B$506=$A101)*('Session Log'!$H$7:$H$506="Completed")),1),"")) | K101: =IF($A101="","",IFERROR(AGGREGATE(15,6,'Session Log'!$C$7:$C$506/(('Session Log'!$B$7:$B$506=$A101)*('Session Log'!$H$7:$H$506="Scheduled")*('Session Log'!$C$7:$C$506>=$B$2)),1),"")) | L101: =IF($A101="","",IF(OR('Course Setup'!J101<>"",COUNTIFS('Session Log'!$B$7:$B$506,$A101,'Session Log'!$N$7:$N$506,"<>")>0),"Review setup or session alerts","")) | O101: =""
A102: =IF(OR('Course Setup'!A102="",'Course Setup'!I102<>"Yes"),"",'Course Setup'!A102) | B102: =IF($A102="","",'Course Setup'!B102) | C102: =IF($A102="","",'Course Setup'!F102) | D102: =IF($A102="","",SUMIFS('Session Log'!$L$7:$L$506,'Session Log'!$B$7:$B$506,$A102)) | E102: =IF($A102="","",SUMIFS('Session Log'!$K$7:$K$506,'Session Log'!$B$7:$B$506,$A102,'Session Log'!$H$7:$H$506,"Scheduled",'Session Log'!$C$7:$C$506,">="&$B$2)) | F102: =IF($A102="","",$D102+$E102) | G102: =IF($A102="","",MAX(0,$C102-$D102)) | H102: =IF(OR($A102="",$C102<=0),"",$D102/$C102) | I102: =IF($A102="","",IF($L102<>"","Data Issue",IF($D102>=$C102,"Met",IF($F102>=$C102,"Projected to Meet",IF(AND($D102=0,$E102=0),"Not Started",IF(($C102-$F102)<=IF('Course Setup'!G102="",'Course Setup'!$B$3,'Course Setup'!G102),"Near Target","Shortfall")))))) | J102: =IF($A102="","",IFERROR(AGGREGATE(14,6,'Session Log'!$C$7:$C$506/(('Session Log'!$B$7:$B$506=$A102)*('Session Log'!$H$7:$H$506="Completed")),1),"")) | K102: =IF($A102="","",IFERROR(AGGREGATE(15,6,'Session Log'!$C$7:$C$506/(('Session Log'!$B$7:$B$506=$A102)*('Session Log'!$H$7:$H$506="Scheduled")*('Session Log'!$C$7:$C$506>=$B$2)),1),"")) | L102: =IF($A102="","",IF(OR('Course Setup'!J102<>"",COUNTIFS('Session Log'!$B$7:$B$506,$A102,'Session Log'!$N$7:$N$506,"<>")>0),"Review setup or session alerts",""))
A103: =IF(OR('Course Setup'!A103="",'Course Setup'!I103<>"Yes"),"",'Course Setup'!A103) | B103: =IF($A103="","",'Course Setup'!B103) | C103: =IF($A103="","",'Course Setup'!F103) | D103: =IF($A103="","",SUMIFS('Session Log'!$L$7:$L$506,'Session Log'!$B$7:$B$506,$A103)) | E103: =IF($A103="","",SUMIFS('Session Log'!$K$7:$K$506,'Session Log'!$B$7:$B$506,$A103,'Session Log'!$H$7:$H$506,"Scheduled",'Session Log'!$C$7:$C$506,">="&$B$2)) | F103: =IF($A103="","",$D103+$E103) | G103: =IF($A103="","",MAX(0,$C103-$D103)) | H103: =IF(OR($A103="",$C103<=0),"",$D103/$C103) | I103: =IF($A103="","",IF($L103<>"","Data Issue",IF($D103>=$C103,"Met",IF($F103>=$C103,"Projected to Meet",IF(AND($D103=0,$E103=0),"Not Started",IF(($C103-$F103)<=IF('Course Setup'!G103="",'Course Setup'!$B$3,'Course Setup'!G103),"Near Target","Shortfall")))))) | J103: =IF($A103="","",IFERROR(AGGREGATE(14,6,'Session Log'!$C$7:$C$506/(('Session Log'!$B$7:$B$506=$A103)*('Session Log'!$H$7:$H$506="Completed")),1),"")) | K103: =IF($A103="","",IFERROR(AGGREGATE(15,6,'Session Log'!$C$7:$C$506/(('Session Log'!$B$7:$B$506=$A103)*('Session Log'!$H$7:$H$506="Scheduled")*('Session Log'!$C$7:$C$506>=$B$2)),1),"")) | L103: =IF($A103="","",IF(OR('Course Setup'!J103<>"",COUNTIFS('Session Log'!$B$7:$B$506,$A103,'Session Log'!$N$7:$N$506,"<>")>0),"Review setup or session alerts",""))
A104: =IF(OR('Course Setup'!A104="",'Course Setup'!I104<>"Yes"),"",'Course Setup'!A104) | B104: =IF($A104="","",'Course Setup'!B104) | C104: =IF($A104="","",'Course Setup'!F104) | D104: =IF($A104="","",SUMIFS('Session Log'!$L$7:$L$506,'Session Log'!$B$7:$B$506,$A104)) | E104: =IF($A104="","",SUMIFS('Session Log'!$K$7:$K$506,'Session Log'!$B$7:$B$506,$A104,'Session Log'!$H$7:$H$506,"Scheduled",'Session Log'!$C$7:$C$506,">="&$B$2)) | F104: =IF($A104="","",$D104+$E104) | G104: =IF($A104="","",MAX(0,$C104-$D104)) | H104: =IF(OR($A104="",$C104<=0),"",$D104/$C104) | I104: =IF($A104="","",IF($L104<>"","Data Issue",IF($D104>=$C104,"Met",IF($F104>=$C104,"Projected to Meet",IF(AND($D104=0,$E104=0),"Not Started",IF(($C104-$F104)<=IF('Course Setup'!G104="",'Course Setup'!$B$3,'Course Setup'!G104),"Near Target","Shortfall")))))) | J104: =IF($A104="","",IFERROR(AGGREGATE(14,6,'Session Log'!$C$7:$C$506/(('Session Log'!$B$7:$B$506=$A104)*('Session Log'!$H$7:$H$506="Completed")),1),"")) | K104: =IF($A104="","",IFERROR(AGGREGATE(15,6,'Session Log'!$C$7:$C$506/(('Session Log'!$B$7:$B$506=$A104)*('Session Log'!$H$7:$H$506="Scheduled")*('Session Log'!$C$7:$C$506>=$B$2)),1),"")) | L104: =IF($A104="","",IF(OR('Course Setup'!J104<>"",COUNTIFS('Session Log'!$B$7:$B$506,$A104,'Session Log'!$N$7:$N$506,"<>")>0),"Review setup or session alerts",""))
A105: =IF(OR('Course Setup'!A105="",'Course Setup'!I105<>"Yes"),"",'Course Setup'!A105) | B105: =IF($A105="","",'Course Setup'!B105) | C105: =IF($A105="","",'Course Setup'!F105) | D105: =IF($A105="","",SUMIFS('Session Log'!$L$7:$L$506,'Session Log'!$B$7:$B$506,$A105)) | E105: =IF($A105="","",SUMIFS('Session Log'!$K$7:$K$506,'Session Log'!$B$7:$B$506,$A105,'Session Log'!$H$7:$H$506,"Scheduled",'Session Log'!$C$7:$C$506,">="&$B$2)) | F105: =IF($A105="","",$D105+$E105) | G105: =IF($A105="","",MAX(0,$C105-$D105)) | H105: =IF(OR($A105="",$C105<=0),"",$D105/$C105) | I105: =IF($A105="","",IF($L105<>"","Data Issue",IF($D105>=$C105,"Met",IF($F105>=$C105,"Projected to Meet",IF(AND($D105=0,$E105=0),"Not Started",IF(($C105-$F105)<=IF('Course Setup'!G105="",'Course Setup'!$B$3,'Course Setup'!G105),"Near Target","Shortfall")))))) | J105: =IF($A105="","",IFERROR(AGGREGATE(14,6,'Session Log'!$C$7:$C$506/(('Session Log'!$B$7:$B$506=$A105)*('Session Log'!$H$7:$H$506="Completed")),1),"")) | K105: =IF($A105="","",IFERROR(AGGREGATE(15,6,'Session Log'!$C$7:$C$506/(('Session Log'!$B$7:$B$506=$A105)*('Session Log'!$H$7:$H$506="Scheduled")*('Session Log'!$C$7:$C$506>=$B$2)),1),"")) | L105: =IF($A105="","",IF(OR('Course Setup'!J105<>"",COUNTIFS('Session Log'!$B$7:$B$506,$A105,'Session Log'!$N$7:$N$506,"<>")>0),"Review setup or session alerts",""))
A106: =IF(OR('Course Setup'!A106="",'Course Setup'!I106<>"Yes"),"",'Course Setup'!A106) | B106: =IF($A106="","",'Course Setup'!B106) | C106: =IF($A106="","",'Course Setup'!F106) | D106: =IF($A106="","",SUMIFS('Session Log'!$L$7:$L$506,'Session Log'!$B$7:$B$506,$A106)) | E106: =IF($A106="","",SUMIFS('Session Log'!$K$7:$K$506,'Session Log'!$B$7:$B$506,$A106,'Session Log'!$H$7:$H$506,"Scheduled",'Session Log'!$C$7:$C$506,">="&$B$2)) | F106: =IF($A106="","",$D106+$E106) | G106: =IF($A106="","",MAX(0,$C106-$D106)) | H106: =IF(OR($A106="",$C106<=0),"",$D106/$C106) | I106: =IF($A106="","",IF($L106<>"","Data Issue",IF($D106>=$C106,"Met",IF($F106>=$C106,"Projected to Meet",IF(AND($D106=0,$E106=0),"Not Started",IF(($C106-$F106)<=IF('Course Setup'!G106="",'Course Setup'!$B$3,'Course Setup'!G106),"Near Target","Shortfall")))))) | J106: =IF($A106="","",IFERROR(AGGREGATE(14,6,'Session Log'!$C$7:$C$506/(('Session Log'!$B$7:$B$506=$A106)*('Session Log'!$H$7:$H$506="Completed")),1),"")) | K106: =IF($A106="","",IFERROR(AGGREGATE(15,6,'Session Log'!$C$7:$C$506/(('Session Log'!$B$7:$B$506=$A106)*('Session Log'!$H$7:$H$506="Scheduled")*('Session Log'!$C$7:$C$506>=$B$2)),1),"")) | L106: =IF($A106="","",IF(OR('Course Setup'!J106<>"",COUNTIFS('Session Log'!$B$7:$B$506,$A106,'Session Log'!$N$7:$N$506,"<>")>0),"Review setup or session alerts",""))

Sheet Course Setup
A1: Course Setup and Calculator Settings
A2: As of Date | B2: 46272
A3: Default Warning Margin | B3: 60 | C3: minutes
A4: Planning Note | B4: Enter the instructional-minute requirement that applies to each course or section.
A6: Course ID | B6: Course or Section | C6: Program or Organization | D6: Start Date | E6: End Date | F6: Required Minutes | G6: Warning Margin Override | H6: Course Owner | I6: Active? | J6: Setup Alert
A7: FCL-101 | B7: Facilitation Foundations | C7: Northstar Learning Lab | D7: 46251 | E7: 46283 | F7: 600 | G7: 60 | H7: Jordan Lee | I7: Yes | J7: =IF(A7="","",TEXTJOIN(", ",TRUE,IF(COUNTIF($A$7:$A$106,A7)>1,"Duplicate Course ID",""),IF(B7="","Course or Section is missing",""),IF(D7="","Start Date is missing",""),IF(E7="","End Date is missing",""),IF(AND(D7<>"",E7<>"",E7<D7),"End Date is before Start Date",""),IF(OR(F7="",F7<=0),"Required Minutes must be greater than zero",""),IF(AND(G7<>"",G7<0),"Warning Margin cannot be negative",""),IF(I7="","Active status is missing","")))
A8: DSP-204 | B8: Digital Skills Practicum | C8: Blue Mesa Training Center | D8: 46266 | E8: 46295 | F8: 480 | G8: 60 | H8: Avery Brooks | I8: Yes | J8: =IF(A8="","",TEXTJOIN(", ",TRUE,IF(COUNTIF($A$7:$A$106,A8)>1,"Duplicate Course ID",""),IF(B8="","Course or Section is missing",""),IF(D8="","Start Date is missing",""),IF(E8="","End Date is missing",""),IF(AND(D8<>"",E8<>"",E8<D8),"End Date is before Start Date",""),IF(OR(F8="",F8<=0),"Required Minutes must be greater than zero",""),IF(AND(G8<>"",G8<0),"Warning Margin cannot be negative",""),IF(I8="","Active status is missing","")))
A9: SVC-110 | B9: Service Essentials | C9: Harbor Point Learning Group | D9: 46258 | E9: 46276 | F9: 360 | G9: 45 | H9: Morgan Reed | I9: Yes | J9: =IF(A9="","",TEXTJOIN(", ",TRUE,IF(COUNTIF($A$7:$A$106,A9)>1,"Duplicate Course ID",""),IF(B9="","Course or Section is missing",""),IF(D9="","Start Date is missing",""),IF(E9="","End Date is missing",""),IF(AND(D9<>"",E9<>"",E9<D9),"End Date is before Start Date",""),IF(OR(F9="",F9<=0),"Required Minutes must be greater than zero",""),IF(AND(G9<>"",G9<0),"Warning Margin cannot be negative",""),IF(I9="","Active status is missing","")))
J10: =IF(A10="","",TEXTJOIN(", ",TRUE,IF(COUNTIF($A$7:$A$106,A10)>1,"Duplicate Course ID",""),IF(B10="","Course or Section is missing",""),IF(D10="","Start Date is missing",""),IF(E10="","End Date is missing",""),IF(AND(D10<>"",E10<>"",E10<D10),"End Date is before Start Date",""),IF(OR(F10="",F10<=0),"Required Minutes must be greater than zero",""),IF(AND(G10<>"",G10<0),"Warning Margin cannot be negative",""),IF(I10="","Active status is missing","")))
J11: =IF(A11="","",TEXTJOIN(", ",TRUE,IF(COUNTIF($A$7:$A$106,A11)>1,"Duplicate Course ID",""),IF(B11="","Course or Section is missing",""),IF(D11="","Start Date is missing",""),IF(E11="","End Date is missing",""),IF(AND(D11<>"",E11<>"",E11<D11),"End Date is before Start Date",""),IF(OR(F11="",F11<=0),"Required Minutes must be greater than zero",""),IF(AND(G11<>"",G11<0),"Warning Margin cannot be negative",""),IF(I11="","Active status is missing","")))
J12: =IF(A12="","",TEXTJOIN(", ",TRUE,IF(COUNTIF($A$7:$A$106,A12)>1,"Duplicate Course ID",""),IF(B12="","Course or Section is missing",""),IF(D12="","Start Date is missing",""),IF(E12="","End Date is missing",""),IF(AND(D12<>"",E12<>"",E12<D12),"End Date is before Start Date",""),IF(OR(F12="",F12<=0),"Required Minutes must be greater than zero",""),IF(AND(G12<>"",G12<0),"Warning Margin cannot be negative",""),IF(I12="","Active status is missing","")))
J13: =IF(A13="","",TEXTJOIN(", ",TRUE,IF(COUNTIF($A$7:$A$106,A13)>1,"Duplicate Course ID",""),IF(B13="","Course or Section is missing",""),IF(D13="","Start Date is missing",""),IF(E13="","End Date is missing",""),IF(AND(D13<>"",E13<>"",E13<D13),"End Date is before Start Date",""),IF(OR(F13="",F13<=0),"Required Minutes must be greater than zero",""),IF(AND(G13<>"",G13<0),"Warning Margin cannot be negative",""),IF(I13="","Active status is missing","")))
J14: =IF(A14="","",TEXTJOIN(", ",TRUE,IF(COUNTIF($A$7:$A$106,A14)>1,"Duplicate Course ID",""),IF(B14="","Course or Section is missing",""),IF(D14="","Start Date is missing",""),IF(E14="","End Date is missing",""),IF(AND(D14<>"",E14<>"",E14<D14),"End Date is before Start Date",""),IF(OR(F14="",F14<=0),"Required Minutes must be greater than zero",""),IF(AND(G14<>"",G14<0),"Warning Margin cannot be negative",""),IF(I14="","Active status is missing","")))
J15: =IF(A15="","",TEXTJOIN(", ",TRUE,IF(COUNTIF($A$7:$A$106,A15)>1,"Duplicate Course ID",""),IF(B15="","Course or Section is missing",""),IF(D15="","Start Date is missing",""),IF(E15="","End Date is missing",""),IF(AND(D15<>"",E15<>"",E15<D15),"End Date is before Start Date",""),IF(OR(F15="",F15<=0),"Required Minutes must be greater than zero",""),IF(AND(G15<>"",G15<0),"Warning Margin cannot be negative",""),IF(I15="","Active status is missing","")))
J16: =IF(A16="","",TEXTJOIN(", ",TRUE,IF(COUNTIF($A$7:$A$106,A16)>1,"Duplicate Course ID",""),IF(B16="","Course or Section is missing",""),IF(D16="","Start Date is missing",""),IF(E16="","End Date is missing",""),IF(AND(D16<>"",E16<>"",E16<D16),"End Date is before Start Date",""),IF(OR(F16="",F16<=0),"Required Minutes must be greater than zero",""),IF(AND(G16<>"",G16<0),"Warning Margin cannot be negative",""),IF(I16="","Active status is missing","")))
J17: =IF(A17="","",TEXTJOIN(", ",TRUE,IF(COUNTIF($A$7:$A$106,A17)>1,"Duplicate Course ID",""),IF(B17="","Course or Section is missing",""),IF(D17="","Start Date is missing",""),IF(E17="","End Date is missing",""),IF(AND(D17<>"",E17<>"",E17<D17),"End Date is before Start Date",""),IF(OR(F17="",F17<=0),"Required Minutes must be greater than zero",""),IF(AND(G17<>"",G17<0),"Warning Margin cannot be negative",""),IF(I17="","Active status is missing","")))
J18: =IF(A18="","",TEXTJOIN(", ",TRUE,IF(COUNTIF($A$7:$A$106,A18)>1,"Duplicate Course ID",""),IF(B18="","Course or Section is missing",""),IF(D18="","Start Date is missing",""),IF(E18="","End Date is missing",""),IF(AND(D18<>"",E18<>"",E18<D18),"End Date is before Start Date",""),IF(OR(F18="",F18<=0),"Required Minutes must be greater than zero",""),IF(AND(G18<>"",G18<0),"Warning Margin cannot be negative",""),IF(I18="","Active status is missing","")))
J19: =IF(A19="","",TEXTJOIN(", ",TRUE,IF(COUNTIF($A$7:$A$106,A19)>1,"Duplicate Course ID",""),IF(B19="","Course or Section is missing",""),IF(D19="","Start Date is missing",""),IF(E19="","End Date is missing",""),IF(AND(D19<>"",E19<>"",E19<D19),"End Date is before Start Date",""),IF(OR(F19="",F19<=0),"Required Minutes must be greater than zero",""),IF(AND(G19<>"",G19<0),"Warning Margin cannot be negative",""),IF(I19="","Active status is missing","")))
J20: =IF(A20="","",TEXTJOIN(", ",TRUE,IF(COUNTIF($A$7:$A$106,A20)>1,"Duplicate Course ID",""),IF(B20="","Course or Section is missing",""),IF(D20="","Start Date is missing",""),IF(E20="","End Date is missing",""),IF(AND(D20<>"",E20<>"",E20<D20),"End Date is before Start Date",""),IF(OR(F20="",F20<=0),"Required Minutes must be greater than zero",""),IF(AND(G20<>"",G20<0),"Warning Margin cannot be negative",""),IF(I20="","Active status is missing","")))
J21: =IF(A21="","",TEXTJOIN(", ",TRUE,IF(COUNTIF($A$7:$A$106,A21)>1,"Duplicate Course ID",""),IF(B21="","Course or Section is missing",""),IF(D21="","Start Date is missing",""),IF(E21="","End Date is missing",""),IF(AND(D21<>"",E21<>"",E21<D21),"End Date is before Start Date",""),IF(OR(F21="",F21<=0),"Required Minutes must be greater than zero",""),IF(AND(G21<>"",G21<0),"Warning Margin cannot be negative",""),IF(I21="","Active status is missing","")))
... J106: =IF(A106="","",TEXTJOIN(", ",TRUE,IF(COUNTIF($A$7:$A$106,A106)>1,"Duplicate Course ID",""),IF(B106="","Course or Section is missing",""),IF(D106="","Start Date is missing",""),IF(E106="","End Date is missing",""),IF(AND(D106<>"",E106<>"",E106<D106),"End Date is before Start Date",""),IF(OR(F106="",F106<=0),"Required Minutes must be greater than zero",""),IF(AND(G106<>"",G106<0),"Warning Margin cannot be negative",""),IF(I106="","Active status is missing","")))

Sheet Session Log
A1: Session Log
A2: Enter one row for each completed, scheduled, or canceled course session.
A3: As of Date | B3: ='Course Setup'!B2
A6: Session ID | B6: Course ID | C6: Session Date | D6: Start Time | E6: End Time | F6: Break Minutes | G6: Excluded Minutes | H6: Session Status | I6: Delivery Mode | J6: Gross Minutes | K6: Net Instructional Minutes | L6: Earned Minutes | M6: Session Notes | N6: Session Alert
A7: SES-1001 | B7: FCL-101 | C7: 46252 | D7: 0.375 | E7: 0.5 | F7: 15 | G7: 0 | H7: Completed | I7: In Person | J7: =IF(OR(A7="",C7="",D7="",E7=""),"",IF(E7<=D7,"",ROUND((E7-D7)*1440,0))) | K7: =IF(J7="","",MAX(0,J7-N(F7)-N(G7))) | L7: =IF(A7="","",IF(H7="Completed",N(K7),0)) | M7: Opening workshop | N7: =IF(A7="","",TEXTJOIN(", ",TRUE,IF(COUNTIF($A$7:$A$506,A7)>1,"Duplicate Session ID",""),IF(B7="","Course ID is missing",""),IF(AND(B7<>"",COUNTIF('Course Setup'!$A$7:$A$106,B7)=0),"Course ID not found",""),IF(C7="","Session Date is missing",""),IF(D7="","Start Time is missing",""),IF(E7="","End Time is missing",""),IF(AND(D7<>"",E7<>"",E7<=D7),"End Time must be later than Start Time",""),IF(AND(J7<>"",N(F7)+N(G7)>J7),"Break and excluded minutes exceed gross minutes",""),IF(H7="","Session Status is missing",""),IF(I7="","Delivery Mode is missing",""),IF(AND(H7="Completed",C7>'Course Setup'!$B$2),"Completed session is after the As of Date",""),IF(AND(H7="Scheduled",C7<'Course Setup'!$B$2),"Scheduled session is before the As of Date",""),IF(AND(B7<>"",C7<>"",IFERROR(C7<INDEX('Course Setup'!$D$7:$D$106,MATCH(B7,'Course Setup'!$A$7:$A$106,0)),FALSE)),"Session is before the course start date",""),IF(AND(B7<>"",C7<>"",IFERROR(C7>INDEX('Course Setup'!$E$7:$E$106,MATCH(B7,'Course Setup'!$A$7:$A$106,0)),FALSE)),"Session is after the course end date","")))
A8: SES-1002 | B8: FCL-101 | C8: 46259 | D8: 0.375 | E8: 0.5 | F8: 15 | G8: 0 | H8: Completed | I8: In Person | J8: =IF(OR(A8="",C8="",D8="",E8=""),"",IF(E8<=D8,"",ROUND((E8-D8)*1440,0))) | K8: =IF(J8="","",MAX(0,J8-N(F8)-N(G8))) | L8: =IF(A8="","",IF(H8="Completed",N(K8),0)) | M8: In-person practice | N8: =IF(A8="","",TEXTJOIN(", ",TRUE,IF(COUNTIF($A$7:$A$506,A8)>1,"Duplicate Session ID",""),IF(B8="","Course ID is missing",""),IF(AND(B8<>"",COUNTIF('Course Setup'!$A$7:$A$106,B8)=0),"Course ID not found",""),IF(C8="","Session Date is missing",""),IF(D8="","Start Time is missing",""),IF(E8="","End Time is missing",""),IF(AND(D8<>"",E8<>"",E8<=D8),"End Time must be later than Start Time",""),IF(AND(J8<>"",N(F8)+N(G8)>J8),"Break and excluded minutes exceed gross minutes",""),IF(H8="","Session Status is missing",""),IF(I8="","Delivery Mode is missing",""),IF(AND(H8="Completed",C8>'Course Setup'!$B$2),"Completed session is after the As of Date",""),IF(AND(H8="Scheduled",C8<'Course Setup'!$B$2),"Scheduled session is before the As of Date",""),IF(AND(B8<>"",C8<>"",IFERROR(C8<INDEX('Course Setup'!$D$7:$D$106,MATCH(B8,'Course Setup'!$A$7:$A$106,0)),FALSE)),"Session is before the course start date",""),IF(AND(B8<>"",C8<>"",IFERROR(C8>INDEX('Course Setup'!$E$7:$E$106,MATCH(B8,'Course Setup'!$A$7:$A$106,0)),FALSE)),"Session is after the course end date","")))
A9: SES-1003 | B9: FCL-101 | C9: 46273 | D9: 0.375 | E9: 0.5 | F9: 15 | G9: 0 | H9: Scheduled | I9: In Person | J9: =IF(OR(A9="",C9="",D9="",E9=""),"",IF(E9<=D9,"",ROUND((E9-D9)*1440,0))) | K9: =IF(J9="","",MAX(0,J9-N(F9)-N(G9))) | L9: =IF(A9="","",IF(H9="Completed",N(K9),0)) | M9: Practice session | N9: =IF(A9="","",TEXTJOIN(", ",TRUE,IF(COUNTIF($A$7:$A$506,A9)>1,"Duplicate Session ID",""),IF(B9="","Course ID is missing",""),IF(AND(B9<>"",COUNTIF('Course Setup'!$A$7:$A$106,B9)=0),"Course ID not found",""),IF(C9="","Session Date is missing",""),IF(D9="","Start Time is missing",""),IF(E9="","End Time is missing",""),IF(AND(D9<>"",E9<>"",E9<=D9),"End Time must be later than Start Time",""),IF(AND(J9<>"",N(F9)+N(G9)>J9),"Break and excluded minutes exceed gross minutes",""),IF(H9="","Session Status is missing",""),IF(I9="","Delivery Mode is missing",""),IF(AND(H9="Completed",C9>'Course Setup'!$B$2),"Completed session is after the As of Date",""),IF(AND(H9="Scheduled",C9<'Course Setup'!$B$2),"Scheduled session is before the As of Date",""),IF(AND(B9<>"",C9<>"",IFERROR(C9<INDEX('Course Setup'!$D$7:$D$106,MATCH(B9,'Course Setup'!$A$7:$A$106,0)),FALSE)),"Session is before the course start date",""),IF(AND(B9<>"",C9<>"",IFERROR(C9>INDEX('Course Setup'!$E$7:$E$106,MATCH(B9,'Course Setup'!$A$7:$A$106,0)),FALSE)),"Session is after the course end date","")))
A10: SES-1004 | B10: FCL-101 | C10: 46280 | D10: 0.375 | E10: 0.45833333 | F10: 0 | G10: 0 | H10: Scheduled | I10: Live Online | J10: =IF(OR(A10="",C10="",D10="",E10=""),"",IF(E10<=D10,"",ROUND((E10-D10)*1440,0))) | K10: =IF(J10="","",MAX(0,J10-N(F10)-N(G10))) | L10: =IF(A10="","",IF(H10="Completed",N(K10),0)) | M10: Final discussion | N10: =IF(A10="","",TEXTJOIN(", ",TRUE,IF(COUNTIF($A$7:$A$506,A10)>1,"Duplicate Session ID",""),IF(B10="","Course ID is missing",""),IF(AND(B10<>"",COUNTIF('Course Setup'!$A$7:$A$106,B10)=0),"Course ID not found",""),IF(C10="","Session Date is missing",""),IF(D10="","Start Time is missing",""),IF(E10="","End Time is missing",""),IF(AND(D10<>"",E10<>"",E10<=D10),"End Time must be later than Start Time",""),IF(AND(J10<>"",N(F10)+N(G10)>J10),"Break and excluded minutes exceed gross minutes",""),IF(H10="","Session Status is missing",""),IF(I10="","Delivery Mode is missing",""),IF(AND(H10="Completed",C10>'Course Setup'!$B$2),"Completed session is after the As of Date",""),IF(AND(H10="Scheduled",C10<'Course Setup'!$B$2),"Scheduled session is before the As of Date",""),IF(AND(B10<>"",C10<>"",IFERROR(C10<INDEX('Course Setup'!$D$7:$D$106,MATCH(B10,'Course Setup'!$A$7:$A$106,0)),FALSE)),"Session is before the course start date",""),IF(AND(B10<>"",C10<>"",IFERROR(C10>INDEX('Course Setup'!$E$7:$E$106,MATCH(B10,'Course Setup'!$A$7:$A$106,0)),FALSE)),"Session is after the course end date","")))
A11: SES-1005 | B11: DSP-204 | C11: 46267 | D11: 0.54166667 | E11: 0.66666667 | F11: 15 | G11: 0 | H11: Completed | I11: Live Online | J11: =IF(OR(A11="",C11="",D11="",E11=""),"",IF(E11<=D11,"",ROUND((E11-D11)*1440,0))) | K11: =IF(J11="","",MAX(0,J11-N(F11)-N(G11))) | L11: =IF(A11="","",IF(H11="Completed",N(K11),0)) | M11: Core tools | N11: =IF(A11="","",TEXTJOIN(", ",TRUE,IF(COUNTIF($A$7:$A$506,A11)>1,"Duplicate Session ID",""),IF(B11="","Course ID is missing",""),IF(AND(B11<>"",COUNTIF('Course Setup'!$A$7:$A$106,B11)=0),"Course ID not found",""),IF(C11="","Session Date is missing",""),IF(D11="","Start Time is missing",""),IF(E11="","End Time is missing",""),IF(AND(D11<>"",E11<>"",E11<=D11),"End Time must be later than Start Time",""),IF(AND(J11<>"",N(F11)+N(G11)>J11),"Break and excluded minutes exceed gross minutes",""),IF(H11="","Session Status is missing",""),IF(I11="","Delivery Mode is missing",""),IF(AND(H11="Completed",C11>'Course Setup'!$B$2),"Completed session is after the As of Date",""),IF(AND(H11="Scheduled",C11<'Course Setup'!$B$2),"Scheduled session is before the As of Date",""),IF(AND(B11<>"",C11<>"",IFERROR(C11<INDEX('Course Setup'!$D$7:$D$106,MATCH(B11,'Course Setup'!$A$7:$A$106,0)),FALSE)),"Session is before the course start date",""),IF(AND(B11<>"",C11<>"",IFERROR(C11>INDEX('Course Setup'!$E$7:$E$106,MATCH(B11,'Course Setup'!$A$7:$A$106,0)),FALSE)),"Session is after the course end date","")))
A12: SES-1006 | B12: DSP-204 | C12: 46269 | D12: 0.54166667 | E12: 0.625 | F12: 0 | G12: 0 | H12: Completed | I12: Live Online | J12: =IF(OR(A12="",C12="",D12="",E12=""),"",IF(E12<=D12,"",ROUND((E12-D12)*1440,0))) | K12: =IF(J12="","",MAX(0,J12-N(F12)-N(G12))) | L12: =IF(A12="","",IF(H12="Completed",N(K12),0)) | M12: Guided practice | N12: =IF(A12="","",TEXTJOIN(", ",TRUE,IF(COUNTIF($A$7:$A$506,A12)>1,"Duplicate Session ID",""),IF(B12="","Course ID is missing",""),IF(AND(B12<>"",COUNTIF('Course Setup'!$A$7:$A$106,B12)=0),"Course ID not found",""),IF(C12="","Session Date is missing",""),IF(D12="","Start Time is missing",""),IF(E12="","End Time is missing",""),IF(AND(D12<>"",E12<>"",E12<=D12),"End Time must be later than Start Time",""),IF(AND(J12<>"",N(F12)+N(G12)>J12),"Break and excluded minutes exceed gross minutes",""),IF(H12="","Session Status is missing",""),IF(I12="","Delivery Mode is missing",""),IF(AND(H12="Completed",C12>'Course Setup'!$B$2),"Completed session is after the As of Date",""),IF(AND(H12="Scheduled",C12<'Course Setup'!$B$2),"Scheduled session is before the As of Date",""),IF(AND(B12<>"",C12<>"",IFERROR(C12<INDEX('Course Setup'!$D$7:$D$106,MATCH(B12,'Course Setup'!$A$7:$A$106,0)),FALSE)),"Session is before the course start date",""),IF(AND(B12<>"",C12<>"",IFERROR(C12>INDEX('Course Setup'!$E$7:$E$106,MATCH(B12,'Course Setup'!$A$7:$A$106,0)),FALSE)),"Session is after the course end date","")))
A13: SES-1007 | B13: DSP-204 | C13: 46274 | D13: 0.54166667 | E13: 0.66666667 | F13: 15 | G13: 0 | H13: Scheduled | I13: Live Online | J13: =IF(OR(A13="",C13="",D13="",E13=""),"",IF(E13<=D13,"",ROUND((E13-D13)*1440,0))) | K13: =IF(J13="","",MAX(0,J13-N(F13)-N(G13))) | L13: =IF(A13="","",IF(H13="Completed",N(K13),0)) | M13: Applied exercise | N13: =IF(A13="","",TEXTJOIN(", ",TRUE,IF(COUNTIF($A$7:$A$506,A13)>1,"Duplicate Session ID",""),IF(B13="","Course ID is missing",""),IF(AND(B13<>"",COUNTIF('Course Setup'!$A$7:$A$106,B13)=0),"Course ID not found",""),IF(C13="","Session Date is missing",""),IF(D13="","Start Time is missing",""),IF(E13="","End Time is missing",""),IF(AND(D13<>"",E13<>"",E13<=D13),"End Time must be later than Start Time",""),IF(AND(J13<>"",N(F13)+N(G13)>J13),"Break and excluded minutes exceed gross minutes",""),IF(H13="","Session Status is missing",""),IF(I13="","Delivery Mode is missing",""),IF(AND(H13="Completed",C13>'Course Setup'!$B$2),"Completed session is after the As of Date",""),IF(AND(H13="Scheduled",C13<'Course Setup'!$B$2),"Scheduled session is before the As of Date",""),IF(AND(B13<>"",C13<>"",IFERROR(C13<INDEX('Course Setup'!$D$7:$D$106,MATCH(B13,'Course Setup'!$A$7:$A$106,0)),FALSE)),"Session is before the course start date",""),IF(AND(B13<>"",C13<>"",IFERROR(C13>INDEX('Course Setup'!$E$7:$E$106,MATCH(B13,'Course Setup'!$A$7:$A$106,0)),FALSE)),"Session is after the course end date","")))
A14: SES-1008 | B14: DSP-204 | C14: 46281 | D14: 0.54166667 | E14: 0.58333333 | F14: 0 | G14: 0 | H14: Scheduled | I14: Live Online | J14: =IF(OR(A14="",C14="",D14="",E14=""),"",IF(E14<=D14,"",ROUND((E14-D14)*1440,0))) | K14: =IF(J14="","",MAX(0,J14-N(F14)-N(G14))) | L14: =IF(A14="","",IF(H14="Completed",N(K14),0)) | M14: Review session | N14: =IF(A14="","",TEXTJOIN(", ",TRUE,IF(COUNTIF($A$7:$A$506,A14)>1,"Duplicate Session ID",""),IF(B14="","Course ID is missing",""),IF(AND(B14<>"",COUNTIF('Course Setup'!$A$7:$A$106,B14)=0),"Course ID not found",""),IF(C14="","Session Date is missing",""),IF(D14="","Start Time is missing",""),IF(E14="","End Time is missing",""),IF(AND(D14<>"",E14<>"",E14<=D14),"End Time must be later than Start Time",""),IF(AND(J14<>"",N(F14)+N(G14)>J14),"Break and excluded minutes exceed gross minutes",""),IF(H14="","Session Status is missing",""),IF(I14="","Delivery Mode is missing",""),IF(AND(H14="Completed",C14>'Course Setup'!$B$2),"Completed session is after the As of Date",""),IF(AND(H14="Scheduled",C14<'Course Setup'!$B$2),"Scheduled session is before the As of Date",""),IF(AND(B14<>"",C14<>"",IFERROR(C14<INDEX('Course Setup'!$D$7:$D$106,MATCH(B14,'Course Setup'!$A$7:$A$106,0)),FALSE)),"Session is before the course start date",""),IF(AND(B14<>"",C14<>"",IFERROR(C14>INDEX('Course Setup'!$E$7:$E$106,MATCH(B14,'Course Setup'!$A$7:$A$106,0)),FALSE)),"Session is after the course end date","")))
A15: SES-1009 | B15: SVC-110 | C15: 46259 | D15: 0.375 | E15: 0.45833333 | F15: 0 | G15: 0 | H15: Completed | I15: Hybrid | J15: =IF(OR(A15="",C15="",D15="",E15=""),"",IF(E15<=D15,"",ROUND((E15-D15)*1440,0))) | K15: =IF(J15="","",MAX(0,J15-N(F15)-N(G15))) | L15: =IF(A15="","",IF(H15="Completed",N(K15),0)) | M15: Service scenarios | N15: =IF(A15="","",TEXTJOIN(", ",TRUE,IF(COUNTIF($A$7:$A$506,A15)>1,"Duplicate Session ID",""),IF(B15="","Course ID is missing",""),IF(AND(B15<>"",COUNTIF('Course Setup'!$A$7:$A$106,B15)=0),"Course ID not found",""),IF(C15="","Session Date is missing",""),IF(D15="","Start Time is missing",""),IF(E15="","End Time is missing",""),IF(AND(D15<>"",E15<>"",E15<=D15),"End Time must be later than Start Time",""),IF(AND(J15<>"",N(F15)+N(G15)>J15),"Break and excluded minutes exceed gross minutes",""),IF(H15="","Session Status is missing",""),IF(I15="","Delivery Mode is missing",""),IF(AND(H15="Completed",C15>'Course Setup'!$B$2),"Completed session is after the As of Date",""),IF(AND(H15="Scheduled",C15<'Course Setup'!$B$2),"Scheduled session is before the As of Date",""),IF(AND(B15<>"",C15<>"",IFERROR(C15<INDEX('Course Setup'!$D$7:$D$106,MATCH(B15,'Course Setup'!$A$7:$A$106,0)),FALSE)),"Session is before the course start date",""),IF(AND(B15<>"",C15<>"",IFERROR(C15>INDEX('Course Setup'!$E$7:$E$106,MATCH(B15,'Course Setup'!$A$7:$A$106,0)),FALSE)),"Session is after the course end date","")))
A16: SES-1010 | B16: SVC-110 | C16: 46266 | D16: 0.375 | E16: 0.45833333 | F16: 0 | G16: 0 | H16: Completed | I16: Hybrid | J16: =IF(OR(A16="",C16="",D16="",E16=""),"",IF(E16<=D16,"",ROUND((E16-D16)*1440,0))) | K16: =IF(J16="","",MAX(0,J16-N(F16)-N(G16))) | L16: =IF(A16="","",IF(H16="Completed",N(K16),0)) | M16: Practice and feedback | N16: =IF(A16="","",TEXTJOIN(", ",TRUE,IF(COUNTIF($A$7:$A$506,A16)>1,"Duplicate Session ID",""),IF(B16="","Course ID is missing",""),IF(AND(B16<>"",COUNTIF('Course Setup'!$A$7:$A$106,B16)=0),"Course ID not found",""),IF(C16="","Session Date is missing",""),IF(D16="","Start Time is missing",""),IF(E16="","End Time is missing",""),IF(AND(D16<>"",E16<>"",E16<=D16),"End Time must be later than Start Time",""),IF(AND(J16<>"",N(F16)+N(G16)>J16),"Break and excluded minutes exceed gross minutes",""),IF(H16="","Session Status is missing",""),IF(I16="","Delivery Mode is missing",""),IF(AND(H16="Completed",C16>'Course Setup'!$B$2),"Completed session is after the As of Date",""),IF(AND(H16="Scheduled",C16<'Course Setup'!$B$2),"Scheduled session is before the As of Date",""),IF(AND(B16<>"",C16<>"",IFERROR(C16<INDEX('Course Setup'!$D$7:$D$106,MATCH(B16,'Course Setup'!$A$7:$A$106,0)),FALSE)),"Session is before the course start date",""),IF(AND(B16<>"",C16<>"",IFERROR(C16>INDEX('Course Setup'!$E$7:$E$106,MATCH(B16,'Course Setup'!$A$7:$A$106,0)),FALSE)),"Session is after the course end date","")))
J17: =IF(OR(A17="",C17="",D17="",E17=""),"",IF(E17<=D17,"",ROUND((E17-D17)*1440,0))) | K17: =IF(J17="","",MAX(0,J17-N(F17)-N(G17))) | L17: =IF(A17="","",IF(H17="Completed",N(K17),0)) | N17: =IF(A17="","",TEXTJOIN(", ",TRUE,IF(COUNTIF($A$7:$A$506,A17)>1,"Duplicate Session ID",""),IF(B17="","Course ID is missing",""),IF(AND(B17<>"",COUNTIF('Course Setup'!$A$7:$A$106,B17)=0),"Course ID not found",""),IF(C17="","Session Date is missing",""),IF(D17="","Start Time is missing",""),IF(E17="","End Time is missing",""),IF(AND(D17<>"",E17<>"",E17<=D17),"End Time must be later than Start Time",""),IF(AND(J17<>"",N(F17)+N(G17)>J17),"Break and excluded minutes exceed gross minutes",""),IF(H17="","Session Status is missing",""),IF(I17="","Delivery Mode is missing",""),IF(AND(H17="Completed",C17>'Course Setup'!$B$2),"Completed session is after the As of Date",""),IF(AND(H17="Scheduled",C17<'Course Setup'!$B$2),"Scheduled session is before the As of Date",""),IF(AND(B17<>"",C17<>"",IFERROR(C17<INDEX('Course Setup'!$D$7:$D$106,MATCH(B17,'Course Setup'!$A$7:$A$106,0)),FALSE)),"Session is before the course start date",""),IF(AND(B17<>"",C17<>"",IFERROR(C17>INDEX('Course Setup'!$E$7:$E$106,MATCH(B17,'Course Setup'!$A$7:$A$106,0)),FALSE)),"Session is after the course end date","")))
J18: =IF(OR(A18="",C18="",D18="",E18=""),"",IF(E18<=D18,"",ROUND((E18-D18)*1440,0))) | K18: =IF(J18="","",MAX(0,J18-N(F18)-N(G18))) | L18: =IF(A18="","",IF(H18="Completed",N(K18),0)) | N18: =IF(A18="","",TEXTJOIN(", ",TRUE,IF(COUNTIF($A$7:$A$506,A18)>1,"Duplicate Session ID",""),IF(B18="","Course ID is missing",""),IF(AND(B18<>"",COUNTIF('Course Setup'!$A$7:$A$106,B18)=0),"Course ID not found",""),IF(C18="","Session Date is missing",""),IF(D18="","Start Time is missing",""),IF(E18="","End Time is missing",""),IF(AND(D18<>"",E18<>"",E18<=D18),"End Time must be later than Start Time",""),IF(AND(J18<>"",N(F18)+N(G18)>J18),"Break and excluded minutes exceed gross minutes",""),IF(H18="","Session Status is missing",""),IF(I18="","Delivery Mode is missing",""),IF(AND(H18="Completed",C18>'Course Setup'!$B$2),"Completed session is after the As of Date",""),IF(AND(H18="Scheduled",C18<'Course Setup'!$B$2),"Scheduled session is before the As of Date",""),IF(AND(B18<>"",C18<>"",IFERROR(C18<INDEX('Course Setup'!$D$7:$D$106,MATCH(B18,'Course Setup'!$A$7:$A$106,0)),FALSE)),"Session is before the course start date",""),IF(AND(B18<>"",C18<>"",IFERROR(C18>INDEX('Course Setup'!$E$7:$E$106,MATCH(B18,'Course Setup'!$A$7:$A$106,0)),FALSE)),"Session is after the course end date","")))
J19: =IF(OR(A19="",C19="",D19="",E19=""),"",IF(E19<=D19,"",ROUND((E19-D19)*1440,0))) | K19: =IF(J19="","",MAX(0,J19-N(F19)-N(G19))) | L19: =IF(A19="","",IF(H19="Completed",N(K19),0)) | N19: =IF(A19="","",TEXTJOIN(", ",TRUE,IF(COUNTIF($A$7:$A$506,A19)>1,"Duplicate Session ID",""),IF(B19="","Course ID is missing",""),IF(AND(B19<>"",COUNTIF('Course Setup'!$A$7:$A$106,B19)=0),"Course ID not found",""),IF(C19="","Session Date is missing",""),IF(D19="","Start Time is missing",""),IF(E19="","End Time is missing",""),IF(AND(D19<>"",E19<>"",E19<=D19),"End Time must be later than Start Time",""),IF(AND(J19<>"",N(F19)+N(G19)>J19),"Break and excluded minutes exceed gross minutes",""),IF(H19="","Session Status is missing",""),IF(I19="","Delivery Mode is missing",""),IF(AND(H19="Completed",C19>'Course Setup'!$B$2),"Completed session is after the As of Date",""),IF(AND(H19="Scheduled",C19<'Course Setup'!$B$2),"Scheduled session is before the As of Date",""),IF(AND(B19<>"",C19<>"",IFERROR(C19<INDEX('Course Setup'!$D$7:$D$106,MATCH(B19,'Course Setup'!$A$7:$A$106,0)),FALSE)),"Session is before the course start date",""),IF(AND(B19<>"",C19<>"",IFERROR(C19>INDEX('Course Setup'!$E$7:$E$106,MATCH(B19,'Course Setup'!$A$7:$A$106,0)),FALSE)),"Session is after the course end date","")))
